{"text_format":"3","workbook":"xlsx","n_sheets":66,"sheets":["START","Instructions","Template names","Lookup and lists","Org structure","Contacts","A1-Sum","A2-FinPerf SC","A2A","A3-FinPerf V","A3A","A4-FinPerf RE","A4 Funding","A5-Capex","A5A","A6-FinPos","A6 Inventory","A7-CFlow","A8-ResRecon","A9-Asset","A10-SerDel","SA1","SA2","SA3","SA4","SA5","SA6","SA7","SA8","SA9","SA10","SA11","SA12a","SA12b","SA13a","SA13b","SA14","SA15","SA16","SA17","SA18","SA19","SA20","SA21","SA22","SA23","SA24","SA25","SA26","SA27","SA28","SA29","SA30","SA31","SA32","SA33","SA34a","SA34b","SA34c","SA34d","SA34e","SA35","SA36","SA37","SA38","LGDB_EXPORT"],"not_rendered":{"images":18,"macros":1,"external_links":3,"defined_names":1919},"read":"whole","date_system":"1900"}

{"sheet":"START","index":0,"n_rows":1,"n_cols":1,"rows_kept":1}
["j"]

{"sheet":"Instructions","index":1,"n_rows":77,"n_cols":24,"rows_kept":77}
[]
[{"$nulls":3},2020]
[]
[{"$nulls":23},"Yes"]
[{"$nulls":23},"No"]
[]
[{"$nulls":22},"Type of Entities Range:"]
[{"$nulls":23},"Parent Municipality"]
[{"$nulls":23},"Consolidated Information"]
[]
[]
[]
[]
[{"$nulls":5},"START"]
[{"$nulls":5},"Instructions"]
[{"$nulls":5},"Template names"]
[{"$nulls":5},"Lookup and lists",{"$nulls":16},"MTREF Range:",2013]
[{"$nulls":5},"Org structure",{"$nulls":17},2014]
[{"$nulls":5},"Contacts",{"$nulls":17},2015]
[{"$nulls":5},"A1-Sum",{"$nulls":17},2016]
[{"$nulls":5},"A2-FinPerf SC",{"$nulls":17},2017]
[{"$nulls":5},"A2A",{"$nulls":17},2018]
[{"$nulls":5},"A3-FinPerf V",{"$nulls":17},2019]
[{"$nulls":5},"A3A",{"$nulls":17},2020]
[{"$nulls":5},"A4-FinPerf RE",{"$nulls":17},2021]
[{"$nulls":5},"A5-Capex",{"$nulls":17},2022]
[{"$nulls":5},"A5A",{"$nulls":17},2023]
[{"$nulls":5},"A6-FinPos",{"$nulls":17},2024]
[{"$nulls":5},"A7-CFlow",{"$nulls":17},2025]
[{"$nulls":5},"A8-ResRecon",{"$nulls":17},2026]
[{"$nulls":5},"A9-Asset",{"$nulls":17},2027]
[{"$nulls":5},"A10-SerDel",{"$nulls":17},2028]
[{"$nulls":5},"SA1",{"$nulls":16},"MTREF Linked:",14]
[{"$nulls":5},"SA2",{"$nulls":16},"MTREF:",{"$f":"INDEX(X17:X31,X33,1)","v":2026}]
[{"$nulls":5},"SA3"]
[{"$nulls":5},"SA4",{"$nulls":16},"Fin Year:",{"$f":"MTREF&\"/\"&RIGHT(MTREF,2)+1","v":"2026/27"}]
[{"$nulls":5},"SA5"]
[{"$nulls":5},"SA6"]
[{"$nulls":5},"SA7"]
[{"$nulls":5},"SA8"]
[{"$nulls":5},"SA9"]
[{"$nulls":5},"SA10"]
[{"$nulls":5},"SA11"]
[{"$nulls":5},"SA12a"]
[{"$nulls":5},"SA12b"]
[{"$nulls":5},"SA13a"]
[{"$nulls":5},"SA13b"]
[{"$nulls":5},"SA14"]
[{"$nulls":5},"SA15"]
[{"$nulls":5},"SA16"]
[{"$nulls":5},"SA17"]
[{"$nulls":5},"SA18"]
[{"$nulls":5},"SA19"]
[{"$nulls":5},"SA20"]
[{"$nulls":5},"SA21"]
[{"$nulls":5},"SA22"]
[{"$nulls":5},"SA23"]
[{"$nulls":5},"SA24"]
[{"$nulls":5},"SA25"]
[{"$nulls":5},"SA26"]
[{"$nulls":5},"SA27"]
[{"$nulls":5},"SA28"]
[{"$nulls":5},"SA29"]
[{"$nulls":5},"SA30"]
[{"$nulls":5},"SA31"]
[{"$nulls":5},"SA32"]
[{"$nulls":5},"SA33"]
[{"$nulls":5},"SA34a"]
[{"$nulls":5},"SA34b"]
[{"$nulls":5},"SA34c"]
[{"$nulls":5},"SA34d"]
[{"$nulls":5},"SA34e"]
[{"$nulls":5},"SA35"]
[{"$nulls":5},"SA36"]
[{"$nulls":5},"SA37"]
[{"$nulls":5},"SA38"]
[{"$nulls":5},"LGDB_EXPORT"]

{"sheet":"Template names","index":2,"n_rows":179,"n_cols":6,"rows_kept":179,"hidden":true,"merged":[[0,0,0,3],[86,0,86,1],[91,0,91,3],[98,0,98,1],[109,0,109,1]]}
["Common sheet headings"]
["Head1",{"$f":"HLOOKUP(MTREF,Headings,2)","v":"2024/25"},"Prior year -1"]
["Head1A",{"$f":"HLOOKUP(MTREF,Headings,3)","v":"2023/24"},"Prior year -2"]
["Head1B",{"$f":"HLOOKUP(MTREF,Headings,4)","v":"2022/23"},"Prior year -3"]
["Head2",{"$f":"HLOOKUP(MTREF,Headings,5)","v":"Current Year 2025/26"},"Year in which budget is being prepared"]
["Head2A",{"$f":"HLOOKUP(MTREF,Headings,6)","v":"2025/26"},"Year in which budget is being prepared"]
["Head3",{"$f":"HLOOKUP(MTREF,Headings,7)","v":"2026/27 Medium Term Revenue & Expenditure Framework"},"MTREF name"]
["Head4","LTFS","Long term financial strategy"]
["Head5","Audited Outcome"]
["Head5A","Outcome"]
["Head5B","Pre-audit outcome"]
["Head6","Original Budget"]
["Head7","Adjusted Budget"]
["Head8","Full Year Forecast"]
["Head9",{"$f":"HLOOKUP(MTREF,Headings,8)","v":"Budget Year 2026/27"},"1st year of MTREF","Year1"]
["Head10",{"$f":"HLOOKUP(MTREF,Headings,9)","v":"Budget Year +1 2027/28"},"2nd year of MTREF","Year2"]
["Head11",{"$f":"HLOOKUP(MTREF,Headings,10)","v":"Budget Year +2 2028/29"},"3rd year of MTREF","Year3"]
["Head12",{"$f":"HLOOKUP(MTREF,Headings,11)","v":"Forecast 2029/30"},"1st yr of long term forecast","Year4"]
["Head13",{"$f":"HLOOKUP(MTREF,Headings,12)","v":"Forecast 2030/31"},"Next yr of long term forecast","Year5"]
["Head14",{"$f":"HLOOKUP(MTREF,Headings,13)","v":"Forecast 2031/32"},"Next yr of long term forecast","Year6"]
["Head15",{"$f":"HLOOKUP(MTREF,Headings,14)","v":"Forecast 2032/33"},"Next yr of long term forecast","Year7"]
["Head16",{"$f":"HLOOKUP(MTREF,Headings,15)","v":"Forecast 2033/34"},"Next yr of long term forecast","Year8"]
["Head17",{"$f":"HLOOKUP(MTREF,Headings,16)","v":"Forecast 2034/35"},"Next yr of long term forecast","Year9"]
["Head18",{"$f":"HLOOKUP(MTREF,Headings,17)","v":"Forecast 2035/36"},"Next yr of long term forecast","Year10"]
["Head19",{"$f":"HLOOKUP(MTREF,Headings,18)","v":"Forecast 2036/37"},"Next yr of long term forecast","Year11"]
["Head20",{"$f":"HLOOKUP(MTREF,Headings,19)","v":"Forecast 2037/38"},"Next yr of long term forecast","Year12"]
["Head21",{"$f":"HLOOKUP(MTREF,Headings,20)","v":"Forecast 2038/39"},"Next yr of long term forecast","Year13"]
["Head22",{"$f":"HLOOKUP(MTREF,Headings,21)","v":"Forecast 2039/40"},"Next yr of long term forecast","Year14"]
["Head23",{"$f":"HLOOKUP(MTREF,Headings,22)","v":"Forecast 2040/41"},"Next yr of long term forecast","Year15"]
["Head24","Description"]
["Head25"]
["Head26","Vote Description"]
["Head27","Ref"]
["Head27a","References"]
["Head28","Surplus/(Deficit) for the year",null,"Result"]
["Head29",{"$f":"HLOOKUP(MTREF,Headings,23)","v":"Annual target 2026/27"}]
["Head30",{"$f":"HLOOKUP(MTREF,Headings,24)","v":"Revised target 2026/27"}]
["Head31","Quarter ended 30 September"]
["Head32","Quarter ended 31 December"]
["Head33","Quarter ended 31 March"]
["Head34","Quarter ended 30 June"]
["Head35","Variance explanation"]
["Head36","YTD  Actual 31 Dec"]
["Head37","YTD  Budget 31 Dec"]
["Head38","Monthly actual"]
["Head39","YTD actual"]
["Head40","YTD budget"]
["Head41","YTD variance"]
["Head42","Surplus/ (Deficit) for the yr/period"]
["Head43",{"$f":"Head3&\" Summary\"","v":"2026/27 Medium Term Revenue & Expenditure Framework Summary"}]
["Head44","2001 Census"]
["Head45","2011 Census"]
["Head46"," - Adjustments Budget - January 2007"]
["Head47","Previous target year to complete"]
["Head48","Present value"]
["Head49"]
["Head50","Other Adjusts."]
["Head51","Accum. Funds"]
["Head52","Multi-year capital"]
["Head53","Unfore. Unavoid."]
["Head54","Prior Adjusted"]
["Head55","Nat. or Prov. Govt"]
["Head56","Total Adjusts."]
["SFPerf1","Budgeted Financial Performance"]
["SFPerf2","Forecast Financial Performance"]
["SFPos1","Budgeted Financial Position"]
["SFPos2","Forecast Financial Position"]
["Cash1","Budget Cash Flow"]
["Cash2","Forecast Cash Flow"]
["RandM","Expenditure includes repairs & maintenance of R'000"]
["Depart1","Department 1 - ",null,"DEP1"]
["Depart2","Department 2 - ",null,"DEP2"]
["Depart3","Department 3 - ",null,"DEP3"]
["Depart4","Department 4 - ",null,"DEP4"]
["Depart5","Department 5 - ",null,"DEP5"]
["Depart6","Department 6 - ",null,"DEP6"]
["Depart7","Department 7 - ",null,"DEP7"]
["Depart8","Department 8 - ",null,"DEP8"]
["Depart9","Department 9 - ",null,"DEP9"]
["Depart10","Department 10 - ",null,"DEP10"]
["Depart11","Department 11 - ",null,"DEP11"]
["Depart12","Department 12 - ",null,"DEP12"]
["Depart13","Department 13 - ",null,"DEP13"]
["Depart14","Department 14 - ",null,"DEP14"]
[]
[]
["Base year of forecast column selection names"]
["Choose","ACT"]
[null,"APP"]
[null,"ADJ"]
[]
["Standard nomenclature"]
["Muni",{"$f":"'Lookup and lists'!B28","v":"DC43 Harry Gwala"}]
["Municipal Entities",1,"Type of report:",2]
[{"$f":"IF((MuniEntities=1)*(MuniType=2),\"YES\",\"NO\")","v":"YES"},"Does this municipality have entities (consolidated budget and entity budgets required)? YES/NO"]
["Entity 1","(Pty) Ltd Example 1 - Municipal entity - ",null,"Ent1"]
["Entity 2","(Pty) Ltd Example 2 - Municipal entity - ",null,"Ent2"]
["Entity 3","Municipal Entity Example 3",null,"Ent3"]
["Budget approval tables",null,"Chart x-ref","Sch/Tab/Ch","Alternative for municipalities without entities","Alternative for municipalities without entities"]
[null,{"$f":"IF(Consolques=\"YES\",E100,F100)","v":"Table A1 Consolidated Budget Summary"},null,"Table A1 ",{"$f":"D100&\"Consolidated Budget Summary\"","v":"Table A1 Consolidated Budget Summary"},{"$f":"D100&\"Budget Summary\"","v":"Table A1 Budget Summary"}]
[null,"Table A2 Consolidated Budgeted Financial Performance (revenue and expenditure by functional classification)","Charts 5, 6","Table A2 ",{"$f":"D101&\"Consolidated Budgeted Financial Performance (revenue and expenditure by functional classification)\"","v":"Table A2 Consolidated Budgeted Financial Performance (revenue and expenditure by functional classification)"},{"$f":"D101&\"Budgeted Financial Performance (revenue and expenditure by functional classification)\"","v":"Table A2 Budgeted Financial Performance (revenue and expenditure by functional classification)"}]
[null,"Table A3 Consolidated Budgeted Financial Performance (revenue and expenditure by municipal vote)",null,"Table A3 ",{"$f":"D102&\"Consolidated Budgeted Financial Performance (revenue and expenditure by municipal vote)\"","v":"Table A3 Consolidated Budgeted Financial Performance (revenue and expenditure by municipal vote)"},{"$f":"D102&\"Budgeted Financial Performance (revenue and expenditure by municipal vote)\"","v":"Table A3 Budgeted Financial Performance (revenue and expenditure by municipal vote)"}]
[null,"Table A4 Consolidated Budgeted Financial Performance (revenue and expenditure)","Charts 1, 2, 3, 4","Table A4 ",{"$f":"D103&\"Consolidated Budgeted Financial Performance (revenue and expenditure)\"","v":"Table A4 Consolidated Budgeted Financial Performance (revenue and expenditure)"},{"$f":"D103&\"Budgeted Financial Performance (revenue and expenditure)\"","v":"Table A4 Budgeted Financial Performance (revenue and expenditure)"}]
[null,"Table A5 Consolidated Budgeted Capital Expenditure by vote, functional classification and funding","Charts 7, 8, 9, 10, 20","Table A5 ",{"$f":"D104&\"Consolidated Budgeted Capital Expenditure by vote, functional classification and funding\"","v":"Table A5 Consolidated Budgeted Capital Expenditure by vote, functional classification and funding"},{"$f":"D104&\"Budgeted Capital Expenditure by vote, functional classification and funding\"","v":"Table A5 Budgeted Capital Expenditure by vote, functional classification and funding"}]
[null,"Table A6 Consolidated Budgeted Financial Position",null,"Table A6 ",{"$f":"D105&\"Consolidated Budgeted Financial Position\"","v":"Table A6 Consolidated Budgeted Financial Position"},{"$f":"D105&\"Budgeted Financial Position\"","v":"Table A6 Budgeted Financial Position"}]
[null,"Table A7 Consolidated Budgeted Cash Flows",null,"Table A7 ",{"$f":"D106&\"Consolidated Budgeted Cash Flows\"","v":"Table A7 Consolidated Budgeted Cash Flows"},{"$f":"D106&\"Budgeted Cash Flows\"","v":"Table A7 Budgeted Cash Flows"}]
[null,"Table A8 Consolidated Cash backed reserves/accumulated surplus reconciliation",null,"Table A8 ",{"$f":"D107&\"Consolidated Cash backed reserves/accumulated surplus reconciliation\"","v":"Table A8 Consolidated Cash backed reserves/accumulated surplus reconciliation"},{"$f":"D107&\"Cash backed reserves/accumulated surplus reconciliation\"","v":"Table A8 Cash backed reserves/accumulated surplus reconciliation"}]
[null,"Table A9 Consolidated Asset Management",null,"Table A9 ",{"$f":"D108&\"Consolidated Asset Management\"","v":"Table A9 Consolidated Asset Management"},{"$f":"D108&\"Asset Management\"","v":"Table A9 Asset Management"}]
[null,"Table A10 Consolidated basic service delivery measurement",null,"Table A10 ",{"$f":"D109&\"Consolidated basic service delivery measurement\"","v":"Table A10 Consolidated basic service delivery measurement"},{"$f":"D109&\"Basic service delivery measurement\"","v":"Table A10 Basic service delivery measurement"}]
["Supportinging Tables to the Budget Approval Tables",null,{"$f":"$C$99","v":"Chart x-ref"},{"$f":"$D$99","v":"Sch/Tab/Ch"}]
["Supporting Table SA1",{"$f":"A111&\" Supportinging detail to 'Budgeted Financial Performance'\"","v":"Supporting Table SA1 Supportinging detail to 'Budgeted Financial Performance'"}]
["Supporting Table SA2 ",{"$f":"IF(Consolques=\"YES\",E112,F112)","v":"Supporting Table SA2 Consolidated Matrix Financial Performance Budget (revenue source/expenditure type & dept.)"},null,null,{"$f":"A112&\"Consolidated Matrix Financial Performance Budget (revenue source/expenditure type & dept.)\"","v":"Supporting Table SA2 Consolidated Matrix Financial Performance Budget (revenue source/expenditure type & dept.)"},{"$f":"A112&\"Matrix Financial Performance Budget (revenue source/expenditure type and dept.)\"","v":"Supporting Table SA2 Matrix Financial Performance Budget (revenue source/expenditure type and dept.)"}]
["Supporting Table SA3 ",{"$f":"A113&\"Supportinging detail to 'Budgeted Financial Position'\"","v":"Supporting Table SA3 Supportinging detail to 'Budgeted Financial Position'"}]
["Supporting Table SA4 ",{"$f":"A114&\"Reconciliation of IDP strategic objectives and budget (revenue)\"","v":"Supporting Table SA4 Reconciliation of IDP strategic objectives and budget (revenue)"},"Chart 11"]
["Supporting Table SA5 ",{"$f":"A115&\"Reconciliation of IDP strategic objectives and budget (operating expenditure)\"","v":"Supporting Table SA5 Reconciliation of IDP strategic objectives and budget (operating expenditure)"},"Chart 12"]
["Supporting Table SA6 ",{"$f":"A116&\"Reconciliation of IDP strategic objectives and budget (capital expenditure)\"","v":"Supporting Table SA6 Reconciliation of IDP strategic objectives and budget (capital expenditure)"},"Chart 13"]
["Supporting Table SA7",{"$f":"A117&\" Measureable performance objectives\"","v":"Supporting Table SA7 Measureable performance objectives"}]
["Supporting Table SA8",{"$f":"A118&\" Performance indicators and benchmarks\"","v":"Supporting Table SA8 Performance indicators and benchmarks"},"Chts 15-19"]
["Supporting Table SA9",{"$f":"A119&\" Social, economic and demographic statistics and assumptions\"","v":"Supporting Table SA9 Social, economic and demographic statistics and assumptions"}]
["Supporting Table SA10",{"$f":"A120&\" Funding measurement\"","v":"Supporting Table SA10 Funding measurement"},"Chart 14"]
["Supporting Table SA11",{"$f":"A121&\" Property rates summary\"","v":"Supporting Table SA11 Property rates summary"}]
["Supporting Table SA12a",{"$f":"A122&\" Property rates by category (current year)\"","v":"Supporting Table SA12a Property rates by category (current year)"}]
["Supporting Table SA12b",{"$f":"A123&\" Property rates by category (budget year)\"","v":"Supporting Table SA12b Property rates by category (budget year)"}]
["Supporting Table SA13a",{"$f":"A124&\" Service Tariffs by category\"","v":"Supporting Table SA13a Service Tariffs by category"}]
["Supporting Table SA13b",{"$f":"A125&\" Service Tariffs by category - explanatory\"","v":"Supporting Table SA13b Service Tariffs by category - explanatory"}]
["Supporting Table SA14",{"$f":"A126&\" Household bills\"","v":"Supporting Table SA14 Household bills"}]
["Supporting Table SA15",{"$f":"A127&\" Investment particulars by type\"","v":"Supporting Table SA15 Investment particulars by type"}]
["Supporting Table SA16",{"$f":"A128&\" Investment particulars by maturity\"","v":"Supporting Table SA16 Investment particulars by maturity"}]
["Supporting Table SA17",{"$f":"A129&\" Borrowing\"","v":"Supporting Table SA17 Borrowing"}]
["Supporting Table SA18",{"$f":"A130&\" Transfers and grant receipts\"","v":"Supporting Table SA18 Transfers and grant receipts"}]
["Supporting Table SA19",{"$f":"A131&\" Expenditure on transfers and grant programme\"","v":"Supporting Table SA19 Expenditure on transfers and grant programme"}]
["Supporting Table SA20",{"$f":"A132&\" Reconciliation of transfers, grant receipts and unspent funds\"","v":"Supporting Table SA20 Reconciliation of transfers, grant receipts and unspent funds"}]
["Supporting Table SA21",{"$f":"A133&\" Transfers and grants made by the municipality\"","v":"Supporting Table SA21 Transfers and grants made by the municipality"}]
["Supporting Table SA22",{"$f":"A134&\" Summary councillor and staff benefits\"","v":"Supporting Table SA22 Summary councillor and staff benefits"}]
["Supporting Table SA23",{"$f":"A135&\" Salaries, allowances & benefits (political office bearers/councillors/senior managers)\"","v":"Supporting Table SA23 Salaries, allowances & benefits (political office bearers/councillors/senior managers)"}]
["Supporting Table SA24",{"$f":"A136&\" Summary of personnel numbers\"","v":"Supporting Table SA24 Summary of personnel numbers"}]
["Supporting Table SA25",{"$f":"IF(Consolques=\"YES\",E137,F137)","v":"Supporting Table SA25 Consolidated budgeted monthly revenue and expenditure"},null,null,{"$f":"A137&\" Consolidated budgeted monthly revenue and expenditure\"","v":"Supporting Table SA25 Consolidated budgeted monthly revenue and expenditure"},{"$f":"A137&\" Budgeted monthly revenue and expenditure\"","v":"Supporting Table SA25 Budgeted monthly revenue and expenditure"}]
["Supporting Table SA26","Supporting Table SA26 Consolidated budgeted monthly revenue and expenditure (municipal vote)",null,null,{"$f":"A138&\" Consolidated budgeted monthly revenue and expenditure (municipal vote)\"","v":"Supporting Table SA26 Consolidated budgeted monthly revenue and expenditure (municipal vote)"},{"$f":"A138&\" Budgeted monthly revenue and expenditure (municipal vote)\"","v":"Supporting Table SA26 Budgeted monthly revenue and expenditure (municipal vote)"}]
["Supporting Table SA27","Supporting Table SA27 Consolidated budgeted monthly revenue and expenditure (functional classification)",null,null,{"$f":"A139&\" Consolidated budgeted monthly revenue and expenditure (functional classification)\"","v":"Supporting Table SA27 Consolidated budgeted monthly revenue and expenditure (functional classification)"},{"$f":"A139&\" Budgeted monthly revenue and expenditure (functional classification)\"","v":"Supporting Table SA27 Budgeted monthly revenue and expenditure (functional classification)"}]
["Supporting Table SA28","Supporting Table SA28 Consolidated budgeted monthly capital expenditure (municipal vote)",null,null,{"$f":"A140&\" Consolidated budgeted monthly capital expenditure (municipal vote)\"","v":"Supporting Table SA28 Consolidated budgeted monthly capital expenditure (municipal vote)"},{"$f":"A140&\" Budgeted monthly capital expenditure (municipal vote)\"","v":"Supporting Table SA28 Budgeted monthly capital expenditure (municipal vote)"}]
["Supporting Table SA29","Supporting Table SA29 Consolidated budgeted monthly capital expenditure (functional classification)",null,null,{"$f":"A141&\" Consolidated budgeted monthly capital expenditure (functional classification)\"","v":"Supporting Table SA29 Consolidated budgeted monthly capital expenditure (functional classification)"},{"$f":"A141&\" Budgeted monthly capital expenditure (functional classification)\"","v":"Supporting Table SA29 Budgeted monthly capital expenditure (functional classification)"}]
["Supporting Table SA30","Supporting Table SA30 Consolidated budgeted monthly cash flow",null,null,{"$f":"A142&\" Consolidated budgeted monthly cash flow\"","v":"Supporting Table SA30 Consolidated budgeted monthly cash flow"},{"$f":"A142&\" Budgeted monthly cash flow\"","v":"Supporting Table SA30 Budgeted monthly cash flow"}]
["Supporting Table SA31","Supporting Table SA31 Aggregated entity budget",null,null,{"$f":"A143&\" Aggregated entity budget\"","v":"Supporting Table SA31 Aggregated entity budget"},"NOT REQUIRED - municipality does not have entities"]
["Supporting Table SA32",{"$f":"A144&\" List of external mechanisms\"","v":"Supporting Table SA32 List of external mechanisms"}]
["Supporting Table SA33",{"$f":"A145&\" Contracts having future budgetary implications\"","v":"Supporting Table SA33 Contracts having future budgetary implications"}]
["Supporting Table SA34a",{"$f":"IF(Consolques=\"YES\",E146,F146)","v":"Supporting Table SA34a Consolidated capital expenditure on new assets by asset class"},null,null,{"$f":"A146&\" Consolidated capital expenditure on new assets by asset class\"","v":"Supporting Table SA34a Consolidated capital expenditure on new assets by asset class"},{"$f":"A146&\" Capital expenditure on new assets by asset class\"","v":"Supporting Table SA34a Capital expenditure on new assets by asset class"}]
["Supporting Table SA34b","Supporting Table SA34b Consolidated capital expenditure on the renewal of existing assets by asset class",null,null,{"$f":"A147&\" Consolidated capital expenditure on the renewal of existing assets by asset class\"","v":"Supporting Table SA34b Consolidated capital expenditure on the renewal of existing assets by asset class"},{"$f":"A147&\" Capital expenditure on the renewal of existing assets by asset class\"","v":"Supporting Table SA34b Capital expenditure on the renewal of existing assets by asset class"}]
["Supporting Table SA34c","Supporting Table SA34c Consolidated repairs and maintenance by asset class",null,null,{"$f":"A148&\" Consolidated repairs and maintenance by asset class\"","v":"Supporting Table SA34c Consolidated repairs and maintenance by asset class"},{"$f":"A148&\" Repairs and maintenance expenditure by asset class\"","v":"Supporting Table SA34c Repairs and maintenance expenditure by asset class"}]
["Supporting Table SA34d",{"$f":"IF(Consolques=\"YES\",E149,F149)","v":"Supporting Table SA34d Consolidated Depreciation by asset class"},null,null,{"$f":"A149&\" Consolidated Depreciation by asset class\"","v":"Supporting Table SA34d Consolidated Depreciation by asset class"},{"$f":"A149&\" Depreciation by asset class\"","v":"Supporting Table SA34d Depreciation by asset class"}]
["Supporting Table SA34e",{"$f":"IF(Consolques=\"YES\",E150,F150)","v":"Supporting Table SA34e Consolidated capital expenditure on the upgrading of existing assets by asset class"},null,null,{"$f":"A150&\" Consolidated capital expenditure on the upgrading of existing assets by asset class\"","v":"Supporting Table SA34e Consolidated capital expenditure on the upgrading of existing assets by asset class"},{"$f":"A150&\" Capital expenditure on the upgrading of existing assets by asset class\"","v":"Supporting Table SA34e Capital expenditure on the upgrading of existing assets by asset class"}]
["Supporting Table SA35","Supporting Table SA35 Consolidated future financial implications of the capital budget",null,null,{"$f":"A151&\" Consolidated future financial implications of the capital budget\"","v":"Supporting Table SA35 Consolidated future financial implications of the capital budget"},{"$f":"A151& \" Future financial implications of the capital budget\"","v":"Supporting Table SA35 Future financial implications of the capital budget"}]
["Supporting Table SA36","Supporting Table SA36 Consolidated detailed capital budget",null,null,{"$f":"A152&\" Consolidated detailed capital budget\"","v":"Supporting Table SA36 Consolidated detailed capital budget"},{"$f":"A152& \" Detailed capital budget\"","v":"Supporting Table SA36 Detailed capital budget"}]
["Supporting Table SA37","Supporting Table SA37 Consolidated projects delayed from previous financial year/s",null,null,{"$f":"A153&\" Consolidated projects delayed from previous financial year/s\"","v":"Supporting Table SA37 Consolidated projects delayed from previous financial year/s"},{"$f":"A153& \" Projects delayed from previous financial year/s\"","v":"Supporting Table SA37 Projects delayed from previous financial year/s"}]
["Supporting Table SA38",{"$f":"IF(Consolques=\"YES\",E154,F154)","v":"Supporting Table SA38 Consolidated detailed operational projects"},null,null,{"$f":"A154&\" Consolidated detailed operational projects\"","v":"Supporting Table SA38 Consolidated detailed operational projects"},{"$f":"A154& \" Detailed operational projects\"","v":"Supporting Table SA38 Detailed operational projects"}]
[]
["Budget Charts","Charts","Cross reference"]
["Chart A1 ",{"$f":"A157&\"Revenue by Municipal Vote\"","v":"Chart A1 Revenue by Municipal Vote"}]
["Chart A2 ",{"$f":"A158&\"Expenditure by Municipal Vote\"","v":"Chart A2 Expenditure by Municipal Vote"}]
["Chart A3 ",{"$f":"A159&\"Revenue by Standard Classification\"","v":"Chart A3 Revenue by Standard Classification"},"A2"]
["Chart A4 ",{"$f":"A160&\"Expenditure by Standard Classification\"","v":"Chart A4 Expenditure by Standard Classification"},"A2"]
["Chart A5 ",{"$f":"A161&\"Revenue by Major Source (refer 'Minor' source for 'Other Revenue' allocation\"","v":"Chart A5 Revenue by Major Source (refer 'Minor' source for 'Other Revenue' allocation"},"A3"]
["Chart A6 ",{"$f":"A162&\"Revenue by Minor Source (Other)\"","v":"Chart A6 Revenue by Minor Source (Other)"},"A3"]
["Chart A7 ",{"$f":"A163&\"Expenditure by Major Type\"","v":"Chart A7 Expenditure by Major Type"},"A3"]
["Chart A8 ",{"$f":"A164&\"Expenditure by Minor Type (Other)\"","v":"Chart A8 Expenditure by Minor Type (Other)"},"A3"]
["Chart A9 ",{"$f":"A165&\"Capital Expenditure by Municipal Vote/Appropriation (Major)\"","v":"Chart A9 Capital Expenditure by Municipal Vote/Appropriation (Major)"},"A5"]
["Chart A10 ",{"$f":"A166&\"Capital Expenditure by Municipal Vote/Appropriation (Minor)\"","v":"Chart A10 Capital Expenditure by Municipal Vote/Appropriation (Minor)"},"A5"]
["Chart A11 ",{"$f":"A166&\"Capital Expenditure by Standard Classification\"","v":"Chart A10 Capital Expenditure by Standard Classification"},"A5"]
["Chart A12 ",{"$f":"A168&\"Capital expenditure performance trend\"","v":"Chart A12 Capital expenditure performance trend"},"A5"]
["Chart A13 ",{"$f":"A169&\"Capital funding by Source\"","v":"Chart A13 Capital funding by Source"},"A5"]
["Chart A14 ",{"$f":"A170&\"Cash flow trend\"","v":"Chart A14 Cash flow trend"},"A7"]
["Chart A15 ",{"$f":"A171&\"IDP Strategic Objective - Revenue\"","v":"Chart A15 IDP Strategic Objective - Revenue"},"Table A4"]
["Chart A16 ",{"$f":"A172&\"IDP Strategic Objective - Expenditure\"","v":"Chart A16 IDP Strategic Objective - Expenditure"},"Table A5"]
["Chart A17 ",{"$f":"A173&\"IDP Strategic Objective - Capital Expenditure\"","v":"Chart A17 IDP Strategic Objective - Capital Expenditure"},"Table A6"]
["Chart A18 ",{"$f":"A174&\"Debt (borrowing to Total Revenue)\"","v":"Chart A18 Debt (borrowing to Total Revenue)"},"Table A8"]
["Chart A19 ",{"$f":"A175&\"Debtors' trend analysis\"","v":"Chart A19 Debtors' trend analysis"},"Table A8"]
["Chart A20 ",{"$f":"A176&\"Distribution losses\"","v":"Chart A20 Distribution losses"},"Table A8"]
["Chart A21 ",{"$f":"A177&\"Borrowed funding of capital expenditure\"","v":"Chart A21 Borrowed funding of capital expenditure"},"Table A8"]
["Chart A22 ",{"$f":"A178&\"Expenditure analysis (% of Revenue)\"","v":"Chart A22 Expenditure analysis (% of Revenue)"},"Table A8"]
["Chart A23 ",{"$f":"A179&\"Increases in service charges\"","v":"Chart A23 Increases in service charges"},"Table A10"]

{"sheet":"Lookup and lists","index":3,"n_rows":308,"n_cols":30,"rows_kept":308,"hidden":true}
["Description",2013,2014,2015,2016,2017,2018,2019,2020,2021,2022,2023,2024,2025,2026,2027,"Lists",{"$nulls":7},"Grants:","National - opex","Provincial - opex","National - capex","Provincial - capex"]
[{"$f":"'Template names'!C2","v":"Prior year -1"},{"$f":"B1-2&\"/\"&RIGHT(B1,2)-1","v":"2011/12"},"2012/13","2013/14","2014/15","2015/16","2016/17","2017/18","2018/19",{"$f":"J1-2&\"/\"&RIGHT(J1,2)-1","v":"2019/20"},"2020/21","2021/22","2022/23","2023/24","2024/25",{"$f":"P1-2&\"/\"&RIGHT(P1,2)-1","v":"2025/26"},"Yes","<1","<4","Market","Land & impr.","Yes","Uniform","Yrs",null,"Local Government Equitable Share","Health subsidy"," Municipal Infrastructure Grant (MIG)","Agriculture"]
[{"$f":"'Template names'!C3","v":"Prior year -2"},{"$f":"B1-3&\"/\"&RIGHT(B1,2)-2","v":"2010/11"},"2011/12","2012/13","2013/14","2014/15","2015/16","2016/17","2017/18",{"$f":"J1-3&\"/\"&RIGHT(J1,2)-2","v":"2018/19"},"2019/20","2020/21","2021/22","2022/23","2023/24",{"$f":"P1-3&\"/\"&RIGHT(P1,2)-2","v":"2024/25"},"No",1,4,"Dep.Replace","Land only","No","Variable","Mths",null,"RSC Levy Replacement ","Ambulance subsidy"," Public Transport and Systems","Education"]
[{"$f":"'Template names'!C4","v":"Prior year -3"},{"$f":"B1-4&\"/\"&RIGHT(B1,2)-3","v":"2009/10"},"2010/11","2011/12","2012/13","2013/14","2014/15","2015/16","2016/17",{"$f":"J1-4&\"/\"&RIGHT(J1,2)-3","v":"2017/18"},"2018/19","2019/20","2020/21","2021/22","2022/23",{"$f":"P1-4&\"/\"&RIGHT(P1,2)-3","v":"2023/24"},null,2,5,"Other","Other",{"$nulls":4},"Finance Management ","Housing","Rural Transport Services and Infrastructure","Health"]
[{"$f":"'Template names'!C5","v":"Year in which budget is being prepared"},{"$f":"\"Current Year \"& B1-1&\"/\"&RIGHT(B1,2)","v":"Current Year 2012/13"},"Current Year 2013/14","Current Year 2014/15","Current Year 2015/16","Current Year 2016/17","Current Year 2017/18","Current Year 2018/19","Current Year 2019/20",{"$f":"\"Current Year \"& J1-1&\"/\"&RIGHT(J1,2)","v":"Current Year 2020/21"},"Current Year 2021/22","Current Year 2022/23","Current Year 2023/24","Current Year 2024/25","Current Year 2025/26",{"$f":"\"Current Year \"& P1-1&\"/\"&RIGHT(P1,2)","v":"Current Year 2026/27"},null,3,6,{"$nulls":6},"Municipal Systems Improvement","Sport and Recreation","Regional Bulk Infrastructure","Housing and Local Government "]
[{"$f":"'Template names'!C6","v":"Year in which budget is being prepared"},{"$f":"B1-1&\"/\"&RIGHT(B1,2)","v":"2012/13"},"2013/14","2014/15","2015/16","2016/17","2017/18","2018/19","2019/20",{"$f":"J1-1&\"/\"&RIGHT(J1,2)","v":"2020/21"},"2021/22","2022/23","2023/24","2024/25","2025/26",{"$f":"P1-1&\"/\"&RIGHT(P1,2)","v":"2026/27"},null,4,"6-10",{"$nulls":6},"Water Services Operating Subsidy ",null,"Rural Households Infrastructure ","Other Departments"]
[{"$f":"'Template names'!C7","v":"MTREF name"},{"$f":"B1&\"/\"&RIGHT(B1,2)+1&\" Medium Term Revenue & Expenditure Framework\"","v":"2013/14 Medium Term Revenue & Expenditure Framework"},"2014/15 Medium Term Revenue & Expenditure Framework","2015/16 Medium Term Revenue & Expenditure Framework","2016/17 Medium Term Revenue & Expenditure Framework","2017/18 Medium Term Revenue & Expenditure Framework","2018/19 Medium Term Revenue & Expenditure Framework","2019/20 Medium Term Revenue & Expenditure Framework","2020/21 Medium Term Revenue & Expenditure Framework",{"$f":"J1&\"/\"&RIGHT(J1,2)+1&\" Medium Term Revenue & Expenditure Framework\"","v":"2021/22 Medium Term Revenue & Expenditure Framework"},"2022/23 Medium Term Revenue & Expenditure Framework","2023/24 Medium Term Revenue & Expenditure Framework","2024/25 Medium Term Revenue & Expenditure Framework","2025/26 Medium Term Revenue & Expenditure Framework","2026/27 Medium Term Revenue & Expenditure Framework",{"$f":"P1&\"/\"&RIGHT(P1,2)+1&\" Medium Term Revenue & Expenditure Framework\"","v":"2027/28 Medium Term Revenue & Expenditure Framework"},null,5,">10",{"$nulls":6},"Energy Efficiency  and Demand Management",null,"Neighbourhood Development Partnership","Public Works, Roads, Transport "]
[{"$f":"'Template names'!C15","v":"1st year of MTREF"},{"$f":"\"Budget Year \"&B1&\"/\"&RIGHT(B1,2)+1","v":"Budget Year 2013/14"},"Budget Year 2014/15","Budget Year 2015/16","Budget Year 2016/17","Budget Year 2017/18","Budget Year 2018/19","Budget Year 2019/20","Budget Year 2020/21",{"$f":"\"Budget Year \"&J1&\"/\"&RIGHT(J1,2)+1","v":"Budget Year 2021/22"},"Budget Year 2022/23","Budget Year 2023/24","Budget Year 2024/25","Budget Year 2025/26","Budget Year 2026/27",{"$f":"\"Budget Year \"&P1&\"/\"&RIGHT(P1,2)+1","v":"Budget Year 2027/28"},null,">5",{"$nulls":7},"Integrated National Electrification Programme",null,"2010 FIFA World Cup Stadiums Development","Sport and Recreation"]
[{"$f":"'Template names'!C16","v":"2nd year of MTREF"},{"$f":"\"Budget Year +1 \"&B1+1&\"/\"&RIGHT(B1,2)+2","v":"Budget Year +1 2014/15"},"Budget Year +1 2015/16","Budget Year +1 2016/17","Budget Year +1 2017/18","Budget Year +1 2018/19","Budget Year +1 2019/20","Budget Year +1 2020/21","Budget Year +1 2021/22",{"$f":"\"Budget Year +1 \"&J1+1&\"/\"&RIGHT(J1,2)+2","v":"Budget Year +1 2022/23"},"Budget Year +1 2023/24","Budget Year +1 2024/25","Budget Year +1 2025/26","Budget Year +1 2026/27","Budget Year +1 2027/28",{"$f":"\"Budget Year +1 \"&P1+1&\"/\"&RIGHT(P1,2)+2","v":"Budget Year +1 2028/29"},{"$nulls":9},"Municipal Drought Relief "]
[{"$f":"'Template names'!C17","v":"3rd year of MTREF"},{"$f":"\"Budget Year +2 \"&B1+2&\"/\"&RIGHT(B1,2)+3","v":"Budget Year +2 2015/16"},"Budget Year +2 2016/17","Budget Year +2 2017/18","Budget Year +2 2018/19","Budget Year +2 2019/20","Budget Year +2 2020/21","Budget Year +2 2021/22","Budget Year +2 2022/23",{"$f":"\"Budget Year +2 \"&J1+2&\"/\"&RIGHT(J1,2)+3","v":"Budget Year +2 2023/24"},"Budget Year +2 2024/25","Budget Year +2 2025/26","Budget Year +2 2026/27","Budget Year +2 2027/28","Budget Year +2 2028/29",{"$f":"\"Budget Year +2 \"&P1+2&\"/\"&RIGHT(P1,2)+3","v":"Budget Year +2 2029/30"},{"$nulls":9},"2010 FIFA World Cup Operating"]
[{"$f":"'Template names'!C18","v":"1st yr of long term forecast"},{"$f":"\"Forecast \"&B1+3&\"/\"&RIGHT(B1,2)+4","v":"Forecast 2016/17"},"Forecast 2017/18","Forecast 2018/19","Forecast 2019/20","Forecast 2020/21","Forecast 2021/22","Forecast 2022/23","Forecast 2023/24",{"$f":"\"Forecast \"&J1+3&\"/\"&RIGHT(J1,2)+4","v":"Forecast 2024/25"},"Forecast 2025/26","Forecast 2026/27","Forecast 2027/28","Forecast 2028/29","Forecast 2029/30",{"$f":"\"Forecast \"&P1+3&\"/\"&RIGHT(P1,2)+4","v":"Forecast 2030/31"},{"$nulls":9},"Electricity Demand Side Management"]
[{"$f":"'Template names'!C19","v":"Next yr of long term forecast"},{"$f":"\"Forecast \"&B1+4&\"/\"&RIGHT(B1,2)+5","v":"Forecast 2017/18"},"Forecast 2018/19","Forecast 2019/20","Forecast 2020/21","Forecast 2021/22","Forecast 2022/23","Forecast 2023/24","Forecast 2024/25",{"$f":"\"Forecast \"&J1+4&\"/\"&RIGHT(J1,2)+5","v":"Forecast 2025/26"},"Forecast 2026/27","Forecast 2027/28","Forecast 2028/29","Forecast 2029/30","Forecast 2030/31",{"$f":"\"Forecast \"&P1+4&\"/\"&RIGHT(P1,2)+5","v":"Forecast 2031/32"},{"$nulls":9},"EPWP Incentive"]
[{"$f":"'Template names'!C20","v":"Next yr of long term forecast"},{"$f":"\"Forecast \"&B1+5&\"/\"&RIGHT(B1,2)+6","v":"Forecast 2018/19"},"Forecast 2019/20","Forecast 2020/21","Forecast 2021/22","Forecast 2022/23","Forecast 2023/24","Forecast 2024/25","Forecast 2025/26",{"$f":"\"Forecast \"&J1+5&\"/\"&RIGHT(J1,2)+6","v":"Forecast 2026/27"},"Forecast 2027/28","Forecast 2028/29","Forecast 2029/30","Forecast 2030/31","Forecast 2031/32",{"$f":"\"Forecast \"&P1+5&\"/\"&RIGHT(P1,2)+6","v":"Forecast 2032/33"}]
[{"$f":"'Template names'!C21","v":"Next yr of long term forecast"},{"$f":"\"Forecast \"&B1+6&\"/\"&RIGHT(B1,2)+7","v":"Forecast 2019/20"},"Forecast 2020/21","Forecast 2021/22","Forecast 2022/23","Forecast 2023/24","Forecast 2024/25","Forecast 2025/26","Forecast 2026/27",{"$f":"\"Forecast \"&J1+6&\"/\"&RIGHT(J1,2)+7","v":"Forecast 2027/28"},"Forecast 2028/29","Forecast 2029/30","Forecast 2030/31","Forecast 2031/32","Forecast 2032/33",{"$f":"\"Forecast \"&P1+6&\"/\"&RIGHT(P1,2)+7","v":"Forecast 2033/34"},{"$nulls":9},"Asset Class","Asset sub-class old","Asset sub-class","IUDF","MTSF"]
[{"$f":"'Template names'!C22","v":"Next yr of long term forecast"},{"$f":"\"Forecast \"&B1+7&\"/\"&RIGHT(B1,2)+8","v":"Forecast 2020/21"},"Forecast 2021/22","Forecast 2022/23","Forecast 2023/24","Forecast 2024/25","Forecast 2025/26","Forecast 2026/27","Forecast 2027/28",{"$f":"\"Forecast \"&J1+7&\"/\"&RIGHT(J1,2)+8","v":"Forecast 2028/29"},"Forecast 2029/30","Forecast 2030/31","Forecast 2031/32","Forecast 2032/33","Forecast 2033/34",{"$f":"\"Forecast \"&P1+7&\"/\"&RIGHT(P1,2)+8","v":"Forecast 2034/35"}]
[{"$f":"'Template names'!C23","v":"Next yr of long term forecast"},{"$f":"\"Forecast \"&B1+8&\"/\"&RIGHT(B1,2)+9","v":"Forecast 2021/22"},"Forecast 2022/23","Forecast 2023/24","Forecast 2024/25","Forecast 2025/26","Forecast 2026/27","Forecast 2027/28","Forecast 2028/29",{"$f":"\"Forecast \"&J1+8&\"/\"&RIGHT(J1,2)+9","v":"Forecast 2029/30"},"Forecast 2030/31","Forecast 2031/32","Forecast 2032/33","Forecast 2033/34","Forecast 2034/35",{"$f":"\"Forecast \"&P1+8&\"/\"&RIGHT(P1,2)+9","v":"Forecast 2035/36"},{"$nulls":9},"Roads Infrastructure","Roads, Pavements & Bridges","Roads","Spatial integration","Quality basic education"]
[{"$f":"'Template names'!C24","v":"Next yr of long term forecast"},{"$f":"\"Forecast \"&B1+9&\"/\"&RIGHT(B1,2)+10","v":"Forecast 2022/23"},"Forecast 2023/24","Forecast 2024/25","Forecast 2025/26","Forecast 2026/27","Forecast 2027/28","Forecast 2028/29","Forecast 2029/30",{"$f":"\"Forecast \"&J1+9&\"/\"&RIGHT(J1,2)+10","v":"Forecast 2030/31"},"Forecast 2031/32","Forecast 2032/33","Forecast 2033/34","Forecast 2034/35","Forecast 2035/36",{"$f":"\"Forecast \"&P1+9&\"/\"&RIGHT(P1,2)+10","v":"Forecast 2036/37"},{"$nulls":9},"Storm water Infrastructure","Storm water","Road Structures","Inclusion and access","A long and healthy life for all South Africans"]
[{"$f":"'Template names'!C25","v":"Next yr of long term forecast"},{"$f":"\"Forecast \"&B1+10&\"/\"&RIGHT(B1,2)+11","v":"Forecast 2023/24"},"Forecast 2024/25","Forecast 2025/26","Forecast 2026/27","Forecast 2027/28","Forecast 2028/29","Forecast 2029/30","Forecast 2030/31",{"$f":"\"Forecast \"&J1+10&\"/\"&RIGHT(J1,2)+11","v":"Forecast 2031/32"},"Forecast 2032/33","Forecast 2033/34","Forecast 2034/35","Forecast 2035/36","Forecast 2036/37",{"$f":"\"Forecast \"&P1+10&\"/\"&RIGHT(P1,2)+11","v":"Forecast 2037/38"},{"$nulls":9},"Electrical Infrastructure","Generation","Road Furniture","Growth","All people in South Africa are and feel safe"]
[{"$f":"'Template names'!C26","v":"Next yr of long term forecast"},{"$f":"\"Forecast \"&B1+11&\"/\"&RIGHT(B1,2)+12","v":"Forecast 2024/25"},"Forecast 2025/26","Forecast 2026/27","Forecast 2027/28","Forecast 2028/29","Forecast 2029/30","Forecast 2030/31","Forecast 2031/32",{"$f":"\"Forecast \"&J1+11&\"/\"&RIGHT(J1,2)+12","v":"Forecast 2032/33"},"Forecast 2033/34","Forecast 2034/35","Forecast 2035/36","Forecast 2036/37","Forecast 2037/38",{"$f":"\"Forecast \"&P1+11&\"/\"&RIGHT(P1,2)+12","v":"Forecast 2038/39"},{"$nulls":9},"Water Supply Infrastructure","Transmission & Reticulation","Capital Spares","Governance","Decent employment through inclusive growth"]
[{"$f":"'Template names'!C27","v":"Next yr of long term forecast"},{"$f":"\"Forecast \"&B1+12&\"/\"&RIGHT(B1,2)+13","v":"Forecast 2025/26"},"Forecast 2026/27","Forecast 2027/28","Forecast 2028/29","Forecast 2029/30","Forecast 2030/31","Forecast 2031/32","Forecast 2032/33",{"$f":"\"Forecast \"&J1+12&\"/\"&RIGHT(J1,2)+13","v":"Forecast 2033/34"},"Forecast 2034/35","Forecast 2035/36","Forecast 2036/37","Forecast 2037/38","Forecast 2038/39",{"$f":"\"Forecast \"&P1+12&\"/\"&RIGHT(P1,2)+13","v":"Forecast 2039/40"},{"$nulls":9},"Sanitation Infrastructure","Street Lighting","Drainage Collection",null,"A skilled and capable workforce to support an inclusive growth path"]
[{"$f":"'Template names'!C28","v":"Next yr of long term forecast"},{"$f":"\"Forecast \"&B1+13&\"/\"&RIGHT(B1,2)+14","v":"Forecast 2026/27"},"Forecast 2027/28","Forecast 2028/29","Forecast 2029/30","Forecast 2030/31","Forecast 2031/32","Forecast 2032/33","Forecast 2033/34",{"$f":"\"Forecast \"&J1+13&\"/\"&RIGHT(J1,2)+14","v":"Forecast 2034/35"},"Forecast 2035/36","Forecast 2036/37","Forecast 2037/38","Forecast 2038/39","Forecast 2039/40",{"$f":"\"Forecast \"&P1+13&\"/\"&RIGHT(P1,2)+14","v":"Forecast 2040/41"},{"$nulls":9},"Solid Waste Infrastructure","Dams & Reservoirs","Storm water Conveyance",null,"An efficient, competitive and responsive economic infrastructure network"]
[{"$f":"'Template names'!C29","v":"Next yr of long term forecast"},{"$f":"\"Forecast \"&B1+14&\"/\"&RIGHT(B1,2)+15","v":"Forecast 2027/28"},"Forecast 2028/29","Forecast 2029/30","Forecast 2030/31","Forecast 2031/32","Forecast 2032/33","Forecast 2033/34","Forecast 2034/35",{"$f":"\"Forecast \"&J1+14&\"/\"&RIGHT(J1,2)+15","v":"Forecast 2035/36"},"Forecast 2036/37","Forecast 2037/38","Forecast 2038/39","Forecast 2039/40","Forecast 2040/41",{"$f":"\"Forecast \"&P1+14&\"/\"&RIGHT(P1,2)+15","v":"Forecast 2041/42"},{"$nulls":9},"Rail Infrastructure","Water purification","Attenuation",null,"Vibrant, equitable, sustainable rural communities contributing towards food security for all"]
["Adjustments Budget",{"$f":"\"Annual target \" & B1&\"/\"&RIGHT(B1,2)+1","v":"Annual target 2013/14"},"Annual target 2014/15","Annual target 2015/16","Annual target 2016/17","Annual target 2017/18","Annual target 2018/19","Annual target 2019/20","Annual target 2020/21",{"$f":"\"Annual target \" & J1&\"/\"&RIGHT(J1,2)+1","v":"Annual target 2021/22"},"Annual target 2022/23","Annual target 2023/24","Annual target 2024/25","Annual target 2025/26","Annual target 2026/27",{"$f":"\"Annual target \" & P1&\"/\"&RIGHT(P1,2)+1","v":"Annual target 2027/28"},{"$nulls":9},"Coastal Infrastructure","Reticulation","Power Plants",null,"Sustainable human settlements and improved quality of household life"]
[{"$f":"A23","v":"Adjustments Budget"},{"$f":"\"Revised target \"& B1&\"/\"&RIGHT(B1,2)+1","v":"Revised target 2013/14"},"Revised target 2014/15","Revised target 2015/16","Revised target 2016/17","Revised target 2017/18","Revised target 2018/19","Revised target 2019/20","Revised target 2020/21",{"$f":"\"Revised target \"& J1&\"/\"&RIGHT(J1,2)+1","v":"Revised target 2021/22"},"Revised target 2022/23","Revised target 2023/24","Revised target 2024/25","Revised target 2025/26","Revised target 2026/27",{"$f":"\"Revised target \"& P1&\"/\"&RIGHT(P1,2)+1","v":"Revised target 2027/28"},{"$nulls":9},"Information and Communication Infrastructure","Sewerage purification","HV Substations",null,"Responsive, accountable, effective and efficient local government"]
["NOTE: This sheet should not be directly amended - select headings from sheet 'S'",{"$nulls":24},"Community Facilities","Waste Management","HV Switching Station",null,"Protect and enhance our environmental assets and natural resources"]
[{"$nulls":25},"Sport and Recreation Facilities","Transportation","HV Transmission Conductors",null,"Create a better South Africa and contribute to a better Africa and a better world"]
["Name link",128,{"$nulls":23},"Heritage assets","Gas","MV Substations",null,"An efficient, effective and development-oriented public service"]
["Name of Muni",{"$f":"INDEX(B29:B307,B27,1)","v":"DC43 Harry Gwala"},{"$nulls":23},"Revenue Generating","Parks & gardens","MV Switching Stations",null,"A comprehensive, responsive and sustainable social protection system"]
[null,"Choose name from list","Set name on 'Instructions' sheet",{"$nulls":22},"Non-revenue Generating","Sportsfields & stadia","MV Networks",null,"A diverse, socially cohesive society with a common national identity"]
[null,"BUF Buffalo City","EC EASTERN CAPE",{"$nulls":22},"Operational Buildings","Swimming pools","LV Networks"]
[null,"NMA Nelson Mandela Bay","EC EASTERN CAPE",{"$nulls":22},"Housing","Community halls","Capital Spares"]
[null,"EC101 Dr Beyers Naude","EC EASTERN CAPE",{"$nulls":22},"Biological or Cultivated Assets","Libraries","Dams and Weirs"]
[null,"EC102 Blue Crane Route","EC EASTERN CAPE",{"$nulls":22},"Servitudes","Recreational facilities","Boreholes"]
[null,"EC104 Makana","EC EASTERN CAPE",{"$nulls":22},"Licences and Rights","Fire, safety & emergency","Reservoirs"]
[null,"EC105 Ndlambe","EC EASTERN CAPE",{"$nulls":22},"Computer Equipment","Security and policing","Pump Stations"]
[null,"EC106 Sundays River Valley","EC EASTERN CAPE",{"$nulls":22},"Furniture and Office Equipment","Buses","Water Treatment Works"]
[null,"EC108 Kouga","EC EASTERN CAPE",{"$nulls":22},"Machinery and Equipment","Clinics","Bulk Mains"]
[null,"EC109 Kou-Kamma","EC EASTERN CAPE",{"$nulls":22},"Transport Assets","Museums & Art Galleries","Distribution"]
[null,"DC10 Sarah Baartman","EC EASTERN CAPE",{"$nulls":22},"Land","Cemeteries","Distribution Points"]
[null,"EC121 Mbhashe","EC EASTERN CAPE",{"$nulls":22},"Zoo's, Marine and Non-biological Animals","Social rental housing","PRV Stations"]
[null,"EC122 Mnquma","EC EASTERN CAPE",{"$nulls":23},"Buildings","Capital Spares"]
[null,"EC123 Great Kei","EC EASTERN CAPE",{"$nulls":23},"Housing development","Pump Station"]
[null,"EC124 Amahlathi","EC EASTERN CAPE",{"$nulls":23},"General vehicles","Reticulation"]
[null,"EC126 Ngqushwa","EC EASTERN CAPE",{"$nulls":23},"Specialised vehicles - Refuse","Waste Water Treatment Works"]
[null,"EC129 Raymond Mhlaba","EC EASTERN CAPE",{"$nulls":23},"Specialised vehicles - Fire","Outfall Sewers"]
[null,"DC12 Amathole","EC EASTERN CAPE",{"$nulls":23},"Specialised vehicles - Conservancy","Toilet Facilities"]
[null,"EC131 Inxuba Yethemba","EC EASTERN CAPE",{"$nulls":23},"Specialised vehicles - Ambulances","Capital Spares"]
[null,"EC135 Intsika Yethu","EC EASTERN CAPE",{"$nulls":23},"Plant & equipment","Landfill Sites"]
[null,"EC136 Emalahleni (Ec)","EC EASTERN CAPE",{"$nulls":23},"Computers - hardware/equipment","Waste Transfer Stations"]
[null,"EC137 Dr. A.B Xuma","EC EASTERN CAPE",{"$nulls":23},"Furniture and other office equipment","Waste Processing Facilities"]
[null,"EC138 Sakhisizwe","EC EASTERN CAPE",{"$nulls":23},"Abattoirs","Waste Drop-off Points"]
[null,"EC139 Enoch Mgijima","EC EASTERN CAPE",{"$nulls":23},"Markets","Waste Separation Facilities"]
[null,"DC13 Chris Hani","EC EASTERN CAPE",{"$nulls":23},"Civic Land and Buildings","Electricity Generation Facilities"]
[null,"EC141 Elundini","EC EASTERN CAPE",{"$nulls":23},"Other Buildings","Capital Spares"]
[null,"EC142 Senqu","EC EASTERN CAPE",{"$nulls":23},"Other Land","Rail Lines"]
[null,"EC145 Walter Sisulu","EC EASTERN CAPE",{"$nulls":23},"Surplus Assets - (Investment or Inventory)","Rail Structures"]
[null,"DC14 Joe Gqabi","EC EASTERN CAPE",{"$nulls":23},"Computers - software & programming","Rail Furniture"]
[null,"EC153 Ngquza Hills","EC EASTERN CAPE",{"$nulls":23},"Other","Drainage Collection"]
[null,"EC154 Port St Johns","EC EASTERN CAPE",{"$nulls":24},"Storm water Conveyance"]
[null,"EC155 Nyandeni","EC EASTERN CAPE",{"$nulls":22},"SA16 - Investments",null,"Attenuation"]
[null,"EC156 Mhlontlo","EC EASTERN CAPE",{"$nulls":22},"Security","Interest rate","MV Substations"]
[null,"EC157 King Sabata Dalindyebo","EC EASTERN CAPE",{"$nulls":22},"Yes","Fixed","LV Networks"]
[null,"DC15 O .R. Tambo","EC EASTERN CAPE",{"$nulls":22},"No","Variable","Capital Spares"]
[null,"EC441 Matatiele","EC EASTERN CAPE",{"$nulls":24},"Sand Pumps"]
[null,"EC442 Umzimvubu","EC EASTERN CAPE",{"$nulls":24},"Piers"]
[null,"EC443 Winnie Madikizela Mandela","EC EASTERN CAPE",{"$nulls":22},"SA36, SA37 - Capital projects",null,"Revetments"]
[null,"EC444 Ntabankulu","EC EASTERN CAPE",{"$nulls":22},"Yes",null,"Promenades"]
[null,"DC44 Alfred Nzo","EC EASTERN CAPE",{"$nulls":22},"No",null,"Capital Spares"]
[null,"MAN Mangaung","FS FREE STATE",{"$nulls":24},"Data Centres"]
[null,"FS161 Letsemeng","FS FREE STATE",{"$nulls":24},"Core Layers"]
[null,"FS162 Kopanong","FS FREE STATE",{"$nulls":24},"Distribution Layers"]
[null,"FS163 Mohokare","FS FREE STATE",{"$nulls":24},"Capital Spares"]
[null,"DC16 Xhariep","FS FREE STATE",{"$nulls":24},"Halls"]
[null,"FS181 Masilonyana","FS FREE STATE",{"$nulls":24},"Centres"]
[null,"FS182 Tokologo","FS FREE STATE",{"$nulls":24},"Crèches"]
[null,"FS183 Tswelopele","FS FREE STATE",{"$nulls":24},"Clinics/Care Centres"]
[null,"FS184 Matjhabeng","FS FREE STATE",{"$nulls":24},"Fire/Ambulance Stations"]
[null,"FS185 Nala","FS FREE STATE",{"$nulls":24},"Testing Stations"]
[null,"DC18 Lejweleputswa","FS FREE STATE",{"$nulls":24},"Museums"]
[null,"FS191 Setsoto","FS FREE STATE",{"$nulls":24},"Galleries"]
[null,"FS192 Dihlabeng","FS FREE STATE",{"$nulls":24},"Theatres"]
[null,"FS193 Nketoana","FS FREE STATE",{"$nulls":24},"Libraries"]
[null,"FS194 Maluti-a-Phofung","FS FREE STATE",{"$nulls":24},"Cemeteries/Crematoria"]
[null,"FS195 Phumelela","FS FREE STATE",{"$nulls":24},"Police"]
[null,"FS196 Mantsopa","FS FREE STATE",{"$nulls":24},"Purls"]
[null,"DC19 Thabo Mofutsanyana","FS FREE STATE",{"$nulls":24},"Public Open Space"]
[null,"FS201 Moqhaka","FS FREE STATE",{"$nulls":24},"Nature Reserves"]
[null,"FS203 Ngwathe","FS FREE STATE",{"$nulls":24},"Public Ablution Facilities"]
[null,"FS204 Metsimaholo","FS FREE STATE",{"$nulls":24},"Markets"]
[null,"FS205 Mafube","FS FREE STATE",{"$nulls":24},"Stalls"]
[null,"DC20 Fezile Dabi","FS FREE STATE",{"$nulls":24},"Abattoirs"]
[null,"EKU City of Ekurhuleni","GT GAUTENG",{"$nulls":24},"Airports"]
[null,"JHB City Of Johannesburg","GT GAUTENG",{"$nulls":24},"Taxi Ranks/Bus Terminals"]
[null,"TSH City Of Tshwane","GT GAUTENG",{"$nulls":24},"Capital Spares"]
[null,"GT421 Emfuleni","GT GAUTENG",{"$nulls":24},"Indoor Facilities"]
[null,"GT422 Midvaal","GT GAUTENG",{"$nulls":24},"Outdoor Facilities"]
[null,"GT423 Lesedi","GT GAUTENG",{"$nulls":24},"Capital Spares"]
[null,"DC42 Sedibeng","GT GAUTENG",{"$nulls":24},"Monuments"]
[null,"GT481 Mogale City","GT GAUTENG",{"$nulls":24},"Historic Buildings"]
[null,"GT484 Merafong City","GT GAUTENG",{"$nulls":24},"Works of Art"]
[null,"GT485 Rand West City","GT GAUTENG",{"$nulls":24},"Conservation Areas"]
[null,"DC48 West Rand","GT GAUTENG",{"$nulls":24},"Other Heritage"]
[null,"ETH eThekwini","KZN KWAZULU-NATAL",{"$nulls":24},"Improved Property"]
[null,"KZN212 Umdoni","KZN KWAZULU-NATAL",{"$nulls":24},"Unimproved Property"]
[null,"KZN213 Umzumbe","KZN KWAZULU-NATAL",{"$nulls":24},"Municipal Offices"]
[null,"KZN214 uMuziwabantu","KZN KWAZULU-NATAL",{"$nulls":24},"Pay/Enquiry Points"]
[null,"KZN216 Ray Nkonyeni","KZN KWAZULU-NATAL",{"$nulls":24},"Building Plan Offices"]
[null,"DC21 Ugu","KZN KWAZULU-NATAL",{"$nulls":24},"Workshops"]
[null,"KZN221 uMshwathi","KZN KWAZULU-NATAL",{"$nulls":24},"Yards"]
[null,"KZN222 uMngeni","KZN KWAZULU-NATAL",{"$nulls":24},"Stores"]
[null,"KZN223 Mpofana","KZN KWAZULU-NATAL",{"$nulls":24},"Laboratories"]
[null,"KZN224 Impendle","KZN KWAZULU-NATAL",{"$nulls":24},"Training Centres"]
[null,"KZN225 Msunduzi","KZN KWAZULU-NATAL",{"$nulls":24},"Manufacturing Plant"]
[null,"KZN226 Mkhambathini","KZN KWAZULU-NATAL",{"$nulls":24},"Depots"]
[null,"KZN227 Richmond","KZN KWAZULU-NATAL",{"$nulls":24},"Capital Spares"]
[null,"DC22 uMgungundlovu","KZN KWAZULU-NATAL",{"$nulls":24},"Staff Housing"]
[null,"KZN235 Okhahlamba","KZN KWAZULU-NATAL",{"$nulls":24},"Social Housing"]
[null,"KZN237 Inkosi Langalibalele","KZN KWAZULU-NATAL",{"$nulls":24},"Capital Spares"]
[null,"KZN238 Alfred Duma","KZN KWAZULU-NATAL",{"$nulls":24},"Water Rights"]
[null,"DC23 Uthukela","KZN KWAZULU-NATAL",{"$nulls":24},"Effluent Licenses"]
[null,"KZN241 Endumeni","KZN KWAZULU-NATAL",{"$nulls":24},"Solid Waste Licenses"]
[null,"KZN242 Nquthu","KZN KWAZULU-NATAL",{"$nulls":24},"Computer Software and Applications"]
[null,"KZN244 Msinga","KZN KWAZULU-NATAL",{"$nulls":24},"Load Settlement Software Applications"]
[null,"KZN245 Umvoti","KZN KWAZULU-NATAL",{"$nulls":24},"Unspecified"]
[null,"DC24 Umzinyathi","KZN KWAZULU-NATAL"]
[null,"KZN252 Newcastle","KZN KWAZULU-NATAL"]
[null,"KZN253 Emadlangeni","KZN KWAZULU-NATAL"]
[null,"KZN254 Dannhauser","KZN KWAZULU-NATAL"]
[null,"DC25 Amajuba","KZN KWAZULU-NATAL"]
[null,"KZN261 eDumbe","KZN KWAZULU-NATAL"]
[null,"KZN262 uPhongolo","KZN KWAZULU-NATAL"]
[null,"KZN263 Abaqulusi","KZN KWAZULU-NATAL"]
[null,"KZN265 Nongoma","KZN KWAZULU-NATAL"]
[null,"KZN266 Ulundi","KZN KWAZULU-NATAL"]
[null,"DC26 Zululand","KZN KWAZULU-NATAL"]
[null,"KZN271 Umhlabuyalingana","KZN KWAZULU-NATAL"]
[null,"KZN272 Jozini","KZN KWAZULU-NATAL"]
[null,"KZN275 Mtubatuba","KZN KWAZULU-NATAL"]
[null,"KZN276 Hlabisa Big Five","KZN KWAZULU-NATAL"]
[null,"DC27 Umkhanyakude","KZN KWAZULU-NATAL"]
[null,"KZN281 Mfolozi","KZN KWAZULU-NATAL"]
[null,"KZN282 uMhlathuze","KZN KWAZULU-NATAL"]
[null,"KZN284 uMlalazi","KZN KWAZULU-NATAL"]
[null,"KZN285 Mthonjaneni","KZN KWAZULU-NATAL"]
[null,"KZN286 Nkandla","KZN KWAZULU-NATAL"]
[null,"DC28 King Cetshwayo","KZN KWAZULU-NATAL"]
[null,"KZN291 Mandeni","KZN KWAZULU-NATAL"]
[null,"KZN292 KwaDukuza","KZN KWAZULU-NATAL"]
[null,"KZN293 Ndwedwe","KZN KWAZULU-NATAL"]
[null,"KZN294 Maphumulo","KZN KWAZULU-NATAL"]
[null,"DC29 iLembe","KZN KWAZULU-NATAL"]
[null,"KZN433 Greater Kokstad","KZN KWAZULU-NATAL"]
[null,"KZN434 Johannes Phumani Phungula","KZN KWAZULU-NATAL"]
[null,"KZN435 Umzimkhulu","KZN KWAZULU-NATAL"]
[null,"KZN436 Dr Nkosazana Dlamini Zuma","KZN KWAZULU-NATAL"]
[null,"DC43 Harry Gwala","KZN KWAZULU-NATAL"]
[null,"LIM331 Greater Giyani","LIM LIMPOPO"]
[null,"LIM332 Greater Letaba","LIM LIMPOPO"]
[null,"LIM333 Greater Tzaneen","LIM LIMPOPO"]
[null,"LIM334 Ba-Phalaborwa","LIM LIMPOPO"]
[null,"LIM335 Maruleng","LIM LIMPOPO"]
[null,"DC33 Mopani","LIM LIMPOPO"]
[null,"LIM341 Musina","LIM LIMPOPO"]
[null,"LIM343 Thulamela","LIM LIMPOPO"]
[null,"LIM344 Makhado","LIM LIMPOPO"]
[null,"LIM345 Collins Chabane","LIM LIMPOPO"]
[null,"DC34 Vhembe","LIM LIMPOPO"]
[null,"LIM351 Blouberg","LIM LIMPOPO"]
[null,"LIM353 Molemole","LIM LIMPOPO"]
[null,"LIM354 Polokwane","LIM LIMPOPO"]
[null,"LIM355 Lepelle-Nkumpi","LIM LIMPOPO"]
[null,"DC35 Capricorn","LIM LIMPOPO"]
[null,"LIM361 Thabazimbi","LIM LIMPOPO"]
[null,"LIM362 Lephalale","LIM LIMPOPO"]
[null,"LIM366 Bela Bela","LIM LIMPOPO"]
[null,"LIM367 Mogalakwena","LIM LIMPOPO"]
[null,"LIM368 Modimolle-Mookgopong","LIM LIMPOPO"]
[null,"DC36 Waterberg","LIM LIMPOPO"]
[null,"LIM471 Ephraim Mogale","LIM LIMPOPO"]
[null,"LIM472 Elias Motsoaledi","LIM LIMPOPO"]
[null,"LIM473 Makhuduthamaga","LIM LIMPOPO"]
[null,"LIM476 Tubatse Fetakgomo","LIM LIMPOPO"]
[null,"DC47 Sekhukhune","LIM LIMPOPO"]
[null,"MP301 Albert Luthuli","MP MPUMALANGA"]
[null,"MP302 Msukaligwa","MP MPUMALANGA"]
[null,"MP303 Mkhondo","MP MPUMALANGA"]
[null,"MP304 Pixley Ka Seme (MP)","MP MPUMALANGA"]
[null,"MP305 Lekwa","MP MPUMALANGA"]
[null,"MP306 Dipaleseng","MP MPUMALANGA"]
[null,"MP307 Govan Mbeki","MP MPUMALANGA"]
[null,"DC30 Gert Sibande","MP MPUMALANGA"]
[null,"MP311 Victor Khanye","MP MPUMALANGA"]
[null,"MP312 Emalahleni (Mp)","MP MPUMALANGA"]
[null,"MP313 Steve Tshwete","MP MPUMALANGA"]
[null,"MP314 Emakhazeni","MP MPUMALANGA"]
[null,"MP315 Thembisile Hani","MP MPUMALANGA"]
[null,"MP316 Dr J.S. Moroka","MP MPUMALANGA"]
[null,"DC31 Nkangala","MP MPUMALANGA"]
[null,"MP321 Thaba Chweu","MP MPUMALANGA"]
[null,"MP324 Nkomazi","MP MPUMALANGA"]
[null,"MP325 Bushbuckridge","MP MPUMALANGA"]
[null,"MP326 City of Mbombela","MP MPUMALANGA"]
[null,"DC32 Ehlanzeni","MP MPUMALANGA"]
[null,"NC451 Joe Morolong","NC NORTHERN CAPE"]
[null,"NC452 Ga-Segonyana","NC NORTHERN CAPE"]
[null,"NC453 Gamagara","NC NORTHERN CAPE"]
[null,"DC45 John Taolo Gaetsewe","NC NORTHERN CAPE"]
[null,"NC061 Richtersveld","NC NORTHERN CAPE"]
[null,"NC062 Nama Khoi","NC NORTHERN CAPE"]
[null,"NC064 Kamiesberg","NC NORTHERN CAPE"]
[null,"NC065 Hantam","NC NORTHERN CAPE"]
[null,"NC066 Karoo Hoogland","NC NORTHERN CAPE"]
[null,"NC067 Khai-Ma","NC NORTHERN CAPE"]
[null,"DC6 Namakwa","NC NORTHERN CAPE"]
[null,"NC071 Ubuntu","NC NORTHERN CAPE"]
[null,"NC072 Umsobomvu","NC NORTHERN CAPE"]
[null,"NC073 Emthanjeni","NC NORTHERN CAPE"]
[null,"NC074 Kareeberg","NC NORTHERN CAPE"]
[null,"NC075 Renosterberg","NC NORTHERN CAPE"]
[null,"NC076 Thembelihle","NC NORTHERN CAPE"]
[null,"NC077 Siyathemba","NC NORTHERN CAPE"]
[null,"NC078 Siyancuma","NC NORTHERN CAPE"]
[null,"DC7 Pixley Ka Seme (Nc)","NC NORTHERN CAPE"]
[null,"NC082 !Kai! Garib","NC NORTHERN CAPE"]
[null,"NC084 !Kheis","NC NORTHERN CAPE"]
[null,"NC085 Tsantsabane","NC NORTHERN CAPE"]
[null,"NC086 Kgatelopele","NC NORTHERN CAPE"]
[null,"NC087 Dawid Kruiper","NC NORTHERN CAPE"]
[null,"DC8 Z F Mgcawu","NC NORTHERN CAPE"]
[null,"NC091 Sol Plaatje","NC NORTHERN CAPE"]
[null,"NC092 Dikgatlong","NC NORTHERN CAPE"]
[null,"NC093 Magareng","NC NORTHERN CAPE"]
[null,"NC094 Phokwane","NC NORTHERN CAPE"]
[null,"DC9 Frances Baard","NC NORTHERN CAPE"]
[null,"NW371 Moretele","NW NORTH WEST"]
[null,"NW372 Madibeng","NW NORTH WEST"]
[null,"NW373 Rustenburg","NW NORTH WEST"]
[null,"NW374 Kgetlengrivier","NW NORTH WEST"]
[null,"NW375 Moses Kotane","NW NORTH WEST"]
[null,"DC37 Bojanala Platinum","NW NORTH WEST"]
[null,"NW381 Ratlou","NW NORTH WEST"]
[null,"NW382 Tswaing","NW NORTH WEST"]
[null,"NW383 Mafikeng","NW NORTH WEST"]
[null,"NW384 Ditsobotla","NW NORTH WEST"]
[null,"NW385 Ramotshere Moiloa","NW NORTH WEST"]
[null,"DC38 Ngaka Modiri Molema","NW NORTH WEST"]
[null,"NW392 Naledi (Nw)","NW NORTH WEST"]
[null,"NW393 Mamusa","NW NORTH WEST"]
[null,"NW394 Greater Taung","NW NORTH WEST"]
[null,"NW396 Lekwa-Teemane","NW NORTH WEST"]
[null,"NW397 Kagisano-Molopo","NW NORTH WEST"]
[null,"DC39 Dr Ruth Segomotsi Mompati","NW NORTH WEST"]
[null,"NW403 City Of Matlosana","NW NORTH WEST"]
[null,"NW404 Maquassi Hills","NW NORTH WEST"]
[null,"NW405 J B Marks","NW NORTH WEST"]
[null,"DC40 Dr Kenneth Kaunda","NW NORTH WEST"]
[null,"CPT Cape Town","WC WESTERN CAPE"]
[null,"WC011 Matzikama","WC WESTERN CAPE"]
[null,"WC012 Cederberg","WC WESTERN CAPE"]
[null,"WC013 Bergrivier","WC WESTERN CAPE"]
[null,"WC014 Saldanha Bay","WC WESTERN CAPE"]
[null,"WC015 Swartland","WC WESTERN CAPE"]
[null,"DC1 West Coast","WC WESTERN CAPE"]
[null,"WC022 Witzenberg","WC WESTERN CAPE"]
[null,"WC023 Drakenstein","WC WESTERN CAPE"]
[null,"WC024 Stellenbosch","WC WESTERN CAPE"]
[null,"WC025 Breede Valley","WC WESTERN CAPE"]
[null,"WC026 Langeberg","WC WESTERN CAPE"]
[null,"DC2 Cape Winelands DM","WC WESTERN CAPE"]
[null,"WC031 Theewaterskloof","WC WESTERN CAPE"]
[null,"WC032 Overstrand","WC WESTERN CAPE"]
[null,"WC033 Cape Agulhas","WC WESTERN CAPE"]
[null,"WC034 Swellendam","WC WESTERN CAPE"]
[null,"DC3 Overberg","WC WESTERN CAPE"]
[null,"WC041 Kannaland","WC WESTERN CAPE"]
[null,"WC042 Hessequa","WC WESTERN CAPE"]
[null,"WC043 Mossel Bay","WC WESTERN CAPE"]
[null,"WC044 George","WC WESTERN CAPE"]
[null,"WC045 Oudtshoorn","WC WESTERN CAPE"]
[null,"WC047 Bitou","WC WESTERN CAPE"]
[null,"WC048 Knysna","WC WESTERN CAPE"]
[null,"DC4 Garden Route","WC WESTERN CAPE"]
[null,"WC051 Laingsburg","WC WESTERN CAPE"]
[null,"WC052 Prince Albert","WC WESTERN CAPE"]
[null,"WC053 Beaufort West","WC WESTERN CAPE"]
[null,"DC5 Central Karoo","WC WESTERN CAPE"]
{"$rows_empty":21}
[null,{"$f":"COUNTA(B30:B307)","v":257}]

{"sheet":"Org structure","index":4,"n_rows":61,"n_cols":5,"rows_kept":61}
["Organisational Structure Votes",null,"Organisational Structure Sub-Votes",null,"Display Sub-Votes"]
[{"$f":"B2&\" - \"&C2","v":"Vote 01 - Summary Council"},"Vote 01","Summary Council"]
[{"$f":"B8&\" - \"&C8","v":"Vote 02 - Summary Municipal Manager"},"01.1","Mayor",{"$f":"CONCATENATE(B3, \" - \", C3)","v":"01.1 - Mayor"},"01.1 - Mayor"]
[{"$f":"B13&\" - \"&C13","v":"Vote 03 - Summary Budget And Treasury Office"},"01.2","Deputy Mayor",{"$f":"CONCATENATE(B4, \" - \", C4)","v":"01.2 - Deputy Mayor"},"01.2 - Deputy Mayor"]
[{"$f":"B17&\" - \"&C17","v":"Vote 04 - Summary Corporate Services"},"01.3","Speaker",{"$f":"CONCATENATE(B5, \" - \", C5)","v":"01.3 - Speaker"},"01.3 - Speaker"]
[{"$f":"B23&\" - \"&C23","v":"Vote 05 - Summary Social Services & Development Planing"},"01.4","Exco",{"$f":"CONCATENATE(B6, \" - \", C6)","v":"01.4 - Exco"},"01.4 - Exco"]
[{"$f":"B35&\" - \"&C35","v":"Vote 06 - Summary Infrastructure Services"},"01.5","Council General",{"$f":"CONCATENATE(B7, \" - \", C7)","v":"01.5 - Council General"},"01.5 - Council General"]
[{"$f":"B42&\" - \"&C42","v":"Vote 07 - Summary Water Services"},"Vote 02","Summary Municipal Manager"]
[{"$f":"B54&\" - \"&C54","v":"Vote 08 - "},"02.1","Municipal Manager Administration",{"$f":"CONCATENATE(B9, \" - \", C9)","v":"02.1 - Municipal Manager Administration"},"02.1 - Municipal Manager Administration"]
["Vote 09 - ","02.2","Internal Audit Unit",{"$f":"CONCATENATE(B10, \" - \", C10)","v":"02.2 - Internal Audit Unit"},"02.2 - Internal Audit Unit"]
["Vote 10 - ","02.3","Monitoring And Evaluation( Pob) Support Services",{"$f":"CONCATENATE(B11, \" - \", C11)","v":"02.3 - Monitoring And Evaluation( Pob) Support Services"},"02.3 - Monitoring And Evaluation( Pob) Support Services"]
["Vote 11 - ","02.4","Idp & Pms",{"$f":"CONCATENATE(B12, \" - \", C12)","v":"02.4 - Idp & Pms"},"02.4 - Idp & Pms"]
["Vote 12 - ","Vote 03","Summary Budget And Treasury Office"]
["Vote 13 - ","03.1","Budget & Treasury Administration",{"$f":"CONCATENATE(B14, \" - \", C14)","v":"03.1 - Budget & Treasury Administration"},"03.1 - Budget & Treasury Administration"]
["Vote 14 - ","03.2","Income Expenditure & Accounting Support",{"$f":"CONCATENATE(B15, \" - \", C15)","v":"03.2 - Income Expenditure & Accounting Support"},"03.2 - Income Expenditure & Accounting Support"]
["Vote 15 - Other","03.3","Budgeting & Supply Chain Management",{"$f":"CONCATENATE(B16, \" - \", C16)","v":"03.3 - Budgeting & Supply Chain Management"},"03.3 - Budgeting & Supply Chain Management"]
[null,"Vote 04","Summary Corporate Services"]
[null,"04.1","Corporate Services Administration",{"$f":"CONCATENATE(B18, \" - \", C18)","v":"04.1 - Corporate Services Administration"},"04.1 - Corporate Services Administration"]
[null,"04.2","Human Resources & Labour Relations",{"$f":"CONCATENATE(B19, \" - \", C19)","v":"04.2 - Human Resources & Labour Relations"},"04.2 - Human Resources & Labour Relations"]
[null,"04.3","Administration & Ict",{"$f":"CONCATENATE(B20, \" - \", C20)","v":"04.3 - Administration & Ict"},"04.3 - Administration & Ict"]
[null,"04.4","Communication & Legal Support",{"$f":"CONCATENATE(B21, \" - \", C21)","v":"04.4 - Communication & Legal Support"},"04.4 - Communication & Legal Support"]
[null,"04.5","Learnerships And Internships",{"$f":"CONCATENATE(B22, \" - \", C22)","v":"04.5 - Learnerships And Internships"},"04.5 - Learnerships And Internships"]
[null,"Vote 05","Summary Social Services & Development Planing"]
[null,"05.1","Social Econ & Develop Planning Admin.",{"$f":"CONCATENATE(B24, \" - \", C24)","v":"05.1 - Social Econ & Develop Planning Admin."},"05.1 - Social Econ & Develop Planning Admin."]
[null,"05.2","Special Programmes","05.2 - Special Programmes","05.2 - Special Programmes"]
[null,"05.3","Social Services","05.3 - Social Services","05.3 - Social Services"]
[null,"05.4","Strategic Planning; Idp & Pms","05.4 - Strategic Planning; Idp & Pms","05.4 - Strategic Planning; Idp & Pms"]
[null,"05.5","Development Planning","05.5 - Development Planning","05.5 - Development Planning"]
[null,"05.6","Office Of The Ceo","05.6 - Office Of The Ceo","05.6 - Office Of The Ceo"]
[null,"05.7","Corporate Services","05.7 - Corporate Services","05.7 - Corporate Services"]
[null,"05.8","Chief Financial Officer","05.8 - Chief Financial Officer","05.8 - Chief Financial Officer"]
[null,"05.9","Tourism","05.9 - Tourism","05.9 - Tourism"]
[null,"05.10","Local Economic Development","05.10 - Local Economic Development","05.10 - Local Economic Development"]
[null,"05.11","Local Economic Development (Rep Fx)","05.11 - Local Economic Development (Rep Fx)","05.11 - Local Economic Development (Rep Fx)"]
[null,"Vote 06","Summary Infrastructure Services"]
[null,"06.1","Infrastructure Services Administration",{"$f":"CONCATENATE(B36, \" - \", C36)","v":"06.1 - Infrastructure Services Administration"},"06.1 - Infrastructure Services Administration"]
[null,"06.2","Municipal Works & Professional Services","06.2 - Municipal Works & Professional Services","06.2 - Municipal Works & Professional Services"]
[null,"06.3","Project & Infra Grant Management","06.3 - Project & Infra Grant Management","06.3 - Project & Infra Grant Management"]
[null,"06.4","Reporting Function","06.4 - Reporting Function","06.4 - Reporting Function"]
[null,"06.5","Reporting Function","06.5 - Reporting Function","06.5 - Reporting Function"]
[null,"06.6","Reporting Function","06.6 - Reporting Function","06.6 - Reporting Function"]
[null,"Vote 07","Summary Water Services"]
[null,"07.1","Water Services Administration",{"$f":"CONCATENATE(B43, \" - \", C43)","v":"07.1 - Water Services Administration"},"07.1 - Water Services Administration"]
[null,"07.2","Water Infrastructure Planning & Design","07.2 - Water Infrastructure Planning & Design","07.2 - Water Infrastructure Planning & Design"]
[null,"07.3","Water Operations & Maintenance","07.3 - Water Operations & Maintenance","07.3 - Water Operations & Maintenance"]
[null,"07.4","Sanitation Operations & Maintenance","07.4 - Sanitation Operations & Maintenance","07.4 - Sanitation Operations & Maintenance"]
[null,"07.5","Customer Care Services","07.5 - Customer Care Services","07.5 - Customer Care Services"]
[null,"07.6","Water Regulation/Governance","07.6 - Water Regulation/Governance","07.6 - Water Regulation/Governance"]
[null,"07.7","Dr Nkosozana Dlamini Zuma Lm","07.7 - Dr Nkosozana Dlamini Zuma Lm","07.7 - Dr Nkosozana Dlamini Zuma Lm"]
[null,"07.8","Umzimkhulu","07.8 - Umzimkhulu","07.8 - Umzimkhulu"]
[null,"07.9","Kokstad","07.9 - Kokstad","07.9 - Kokstad"]
[null,"07.10","Ubuhlebezwe","07.10 - Ubuhlebezwe","07.10 - Ubuhlebezwe"]
[null,"07.11","Reporting Function","07.11 - Reporting Function","07.11 - Reporting Function"]
[null,"Vote 08"]
[null,"Vote 09"]
[null,"Vote 10"]
[null,"Vote 11"]
[null,"Vote 12"]
[null,"Vote 13"]
[null,"Vote 14"]
[null,"Vote 15","Other"]

{"sheet":"Contacts","index":5,"n_rows":140,"n_cols":4,"rows_kept":140,"merged":[[7,2,7,3],[10,2,10,3],[12,2,12,3],[13,0,13,1],[29,0,29,1],[29,2,29,3],[30,2,30,3],[39,0,39,1],[39,2,39,3],[48,0,48,1],[48,2,48,3],[57,0,57,1],[57,2,57,3],[58,2,58,3],[67,2,67,3],[76,0,76,1],[76,2,76,3],[84,0,84,1],[84,2,84,3],[92,0,92,1],[92,2,92,3],[100,0,100,1],[100,2,100,3],[108,0,108,1],[108,2,108,3],[116,0,116,1],[116,2,116,3],[124,0,124,1],[124,2,124,3],[132,0,132,1],[132,2,132,3]]}
[{"$f":"muni&\" - \"&\" Contact Information\"","v":"DC43 Harry Gwala -  Contact Information"}]
[]
["A. GENERAL INFORMATION"]
["Municipality",{"$f":"muni","v":"DC43 Harry Gwala"},{"$f":"IF(B4=\"Choose name from List\",\"Set name on 'Instructions' sheet\", \"\")","v":""}]
[]
["Grade"," 4","1 Grade in terms of the Remuneration of Public Office Bearers Act."]
[]
["Province",{"$f":"IF(B4>\" \",VLOOKUP(B4,'Lookup and lists'!B29:C307,2, FALSE),\" \")","v":"KZN KWAZULU-NATAL"}]
[]
["Web Address","www.harrygwala.gov.za"]
[]
["e-mail Address",""]
[]
["B. CONTACT INFORMATION"]
["Postal address:"]
["P.O. Box","Private Bag x 501"]
["City / Town","Ixopo"]
["Postal Code","3276"]
[]
["Street address"]
["Building","Harry Gwala District Municipality "]
["Street No. & Name","40 Main street"]
["City / Town","Ixopo"]
["Postal Code","3276"]
[]
["General Contacts"]
["Telephone number","039 834 8700"]
["Fax number","039 834 1701"]
[]
["C. POLITICAL LEADERSHIP"]
["Speaker:",null,"Secretary/PA to the Speaker:"]
["ID Number","","ID Number",""]
["Title","Mr","Title","Ms"]
["Name","Cllr M.S.D Mdunge","Name","Bongekile Msiya"]
["Telephone number","039 834 8769 ","Telephone number","039 834 8769"]
["Cell number","083 758 0035","Cell number","076 515 2717"]
["Fax number","039 834 1701","Fax number","039 834 1701"]
["E-mail address","Mdungem@harrygwaladm.gov.za","E-mail address","msiyab@harrygwaladm.gov.za"]
[]
["Mayor/Executive Mayor:",null,"Secretary/PA to the Mayor/Executive Mayor:"]
["ID Number","","ID Number",""]
["Title","Mr.","Title","Ms"]
["Name","Cllr  Z.D Nxumalo","Name","Asande Nkomo"]
["Telephone number","039 834 1701","Telephone number","039 834 8736"]
["Cell number","083 464 3726","Cell number","062 770 3920"]
["Fax number","039 834 1701","Fax number","039 834 1701"]
["E-mail address","NxumaloZ@harrygwaladm.gov.za","E-mail address","nkomoa@harrygwaladm.gov.za"]
[]
["Deputy Mayor/Executive Mayor:",null,"Secretary/PA to the Deputy Mayor/Executive Mayor:"]
["ID Number","","ID Number",""]
["Title","Ms","Title","Ms"]
["Name","Cllr N.T. Jojozi ","Name","Yonela Ludidi"]
["Telephone number","039 834 8781","Telephone number","039 834 8781"]
["Cell number","06 0501 8649","Cell number","061 065 0690"]
["Fax number","039 834 1701","Fax number","039 834 1701"]
["E-mail address","JojoziT@harrygwaladm.gov.za","E-mail address","ludidiy@harrygwaladm.gov.za"]
[]
["D. MANAGEMENT LEADERSHIP"]
["Municipal Manager:",null,"Secretary/PA to the Municipal Manager:"]
["ID Number","","ID Number",""]
["Title","Mr","Title","Ms."]
["Name","GM SINEKE","Name","NELLY MADOLO"]
["Telephone number","039 834 8707","Telephone number","039 834 8707"]
["Cell number","076 794 7046","Cell number","074 437 4356"]
["Fax number","039 834 1701/1750 ","Fax number","039 834 1701/1750"]
["E-mail address","SinekeG@harrygwaladm.gov.za","E-mail address","madolon@harrygwaladm.gov.za"]
[]
["Chief Financial Officer",null,"Secretary/PA to the Chief Financial Officer"]
["ID Number","","ID Number",""]
["Title","Mr.","Title","Ms."]
["Name","Themba B Mnguni","Name","Samkelisiwe Pearl Mzindle "]
["Telephone number","039 834 8702","Telephone number","039 834 8701"]
["Cell number","083 567 5681","Cell number","076 494 2607"]
["Fax number","039 834 1701","Fax number","039 834 1701"]
["E-mail address","MnguniT@harrygwaladm.gov.za","E-mail address","MzindleS@harrygwaladm.gov.za"]
[]
["Official responsible for submitting financial information",null,"Official responsible for submitting financial information"]
["ID Number","","ID Number"]
["Title","Ms. ","Title"]
["Name","AMANDA NONGALO","Name"]
["Telephone number","039 834 8738","Telephone number"]
["Cell number","072 203 1724","Cell number"]
["Fax number","039 834 1701","Fax number"]
["E-mail address","NongaloA@harrygwaladm.gov.za","E-mail address"]
["Official responsible for submitting financial information",null,"Official responsible for submitting financial information"]
["ID Number",null,"ID Number"]
["Title",null,"Title"]
["Name",null,"Name"]
["Telephone number",null,"Telephone number"]
["Cell number",null,"Cell number"]
["Fax number",null,"Fax number"]
["E-mail address",null,"E-mail address"]
["Official responsible for submitting financial information",null,"Official responsible for submitting financial information"]
["ID Number",null,"ID Number"]
["Title",null,"Title"]
["Name",null,"Name"]
["Telephone number",null,"Telephone number"]
["Cell number",null,"Cell number"]
["Fax number",null,"Fax number"]
["E-mail address",null,"E-mail address"]
["Official responsible for submitting financial information",null,"Official responsible for submitting financial information"]
["ID Number",null,"ID Number"]
["Title",null,"Title"]
["Name",null,"Name"]
["Telephone number",null,"Telephone number"]
["Cell number",null,"Cell number"]
["Fax number",null,"Fax number"]
["E-mail address",null,"E-mail address"]
["Official responsible for submitting financial information",null,"Official responsible for submitting financial information"]
["ID Number",null,"ID Number"]
["Title",null,"Title"]
["Name",null,"Name"]
["Telephone number",null,"Telephone number"]
["Cell number",null,"Cell number"]
["Fax number",null,"Fax number"]
["E-mail address",null,"E-mail address"]
["Official responsible for submitting financial information",null,"Official responsible for submitting financial information"]
["ID Number",null,"ID Number"]
["Title",null,"Title"]
["Name",null,"Name"]
["Telephone number",null,"Telephone number"]
["Cell number",null,"Cell number"]
["Fax number",null,"Fax number"]
["E-mail address",null,"E-mail address"]
["Official responsible for submitting financial information",null,"Official responsible for submitting financial information"]
["ID Number",null,"ID Number"]
["Title",null,"Title"]
["Name",null,"Name"]
["Telephone number",null,"Telephone number"]
["Cell number",null,"Cell number"]
["Fax number",null,"Fax number"]
["E-mail address",null,"E-mail address"]
["Official responsible for submitting financial information"]
["ID Number"]
["Title"]
["Name"]
["Telephone number"]
["Cell number"]
["Fax number"]
["E-mail address"]

{"sheet":"A1-Sum","index":6,"n_rows":61,"n_cols":11,"rows_kept":61,"merged":[[0,0,0,2],[1,4,1,7],[1,8,1,10]]}
[{"$f":"muni&\" - \"&Approve1","v":"DC43 Harry Gwala - Table A1 Consolidated Budget Summary"}]
[{"$f":"desc","v":"Description"},{"$f":"head1b","v":"2022/23"},{"$f":"head1A","v":"2023/24"},{"$f":"Head1","v":"2024/25"},{"$f":"Head2","v":"Current Year 2025/26"},{"$nulls":3},{"$f":"Head3","v":"2026/27 Medium Term Revenue & Expenditure Framework"}]
["R thousands",{"$f":"Head5","v":"Audited Outcome"},{"$f":"Head5","v":"Audited Outcome"},{"$f":"Head5","v":"Audited Outcome"},{"$f":"Head6","v":"Original Budget"},{"$f":"Head7","v":"Adjusted Budget"},{"$f":"Head8","v":"Full Year Forecast"},{"$f":"Head5b","v":"Pre-audit outcome"},{"$f":"Head9","v":"Budget Year 2026/27"},{"$f":"Head10","v":"Budget Year +1 2027/28"},{"$f":"Head11","v":"Budget Year +2 2028/29"}]
["Financial Performance"]
["Property rates",{"$f":"'A4-FinPerf RE'!C24","v":0},{"$f":"'A4-FinPerf RE'!D24","v":0},{"$f":"'A4-FinPerf RE'!E24","v":0},{"$f":"'A4-FinPerf RE'!F24","v":0},{"$f":"'A4-FinPerf RE'!G24","v":0},{"$f":"'A4-FinPerf RE'!H24","v":0},{"$f":"'A4-FinPerf RE'!I24","v":0},{"$f":"'A4-FinPerf RE'!J24","v":0},{"$f":"'A4-FinPerf RE'!K24","v":0},{"$f":"'A4-FinPerf RE'!L24","v":0}]
["Service charges",{"$f":"SUM('A4-FinPerf RE'!C6:C9)","v":{"v":77673822.67,"d":"77,674"}},{"$f":"SUM('A4-FinPerf RE'!D6:D9)","v":{"v":72558093.99,"d":"72,558"}},{"$f":"SUM('A4-FinPerf RE'!E6:E9)","v":{"v":76533104.86,"d":"76,533"}},{"$f":"SUM('A4-FinPerf RE'!F6:F9)","v":{"v":81588901,"d":"81,589"}},{"$f":"SUM('A4-FinPerf RE'!G6:G9)","v":{"v":86639218,"d":"86,639"}},{"$f":"SUM('A4-FinPerf RE'!H6:H9)","v":{"v":86639218,"d":"86,639"}},{"$f":"SUM('A4-FinPerf RE'!I6:I9)","v":{"v":56279498.57,"d":"56,279"}},{"$f":"SUM('A4-FinPerf RE'!J6:J9)","v":{"v":91837587,"d":"91,838"}},{"$f":"SUM('A4-FinPerf RE'!K6:K9)","v":{"v":97347842,"d":"97,348"}},{"$f":"SUM('A4-FinPerf RE'!L6:L9)","v":{"v":103188711,"d":"103,189"}}]
["Investment revenue",{"$f":"'A4-FinPerf RE'!C14","v":{"v":10858253.34,"d":"10,858"}},{"$f":"'A4-FinPerf RE'!D14","v":{"v":21988023.31,"d":"21,988"}},{"$f":"'A4-FinPerf RE'!E14","v":{"v":28011808.150000002,"d":"28,012"}},{"$f":"'A4-FinPerf RE'!F14","v":{"v":26042867,"d":"26,043"}},{"$f":"'A4-FinPerf RE'!G14","v":{"v":26042867,"d":"26,043"}},{"$f":"'A4-FinPerf RE'!H14","v":{"v":26042867,"d":"26,043"}},{"$f":"'A4-FinPerf RE'!I14","v":{"v":15867564.62,"d":"15,868"}},{"$f":"'A4-FinPerf RE'!J14","v":{"v":27571824,"d":"27,572"}},{"$f":"'A4-FinPerf RE'!K14","v":{"v":29185209,"d":"29,185"}},{"$f":"'A4-FinPerf RE'!L14","v":{"v":30889351,"d":"30,889"}}]
["Transfer and subsidies - Operational",{"$f":"'A4-FinPerf RE'!C28","v":{"v":452459742.36,"d":"452,460"}},{"$f":"'A4-FinPerf RE'!D28","v":{"v":477532217.37,"d":"477,532"}},{"$f":"'A4-FinPerf RE'!E28","v":{"v":534708189.8,"d":"534,708"}},{"$f":"'A4-FinPerf RE'!F28","v":{"v":596988820,"d":"596,989"}},{"$f":"'A4-FinPerf RE'!G28","v":{"v":596988820,"d":"596,989"}},{"$f":"'A4-FinPerf RE'!H28","v":{"v":596988820,"d":"596,989"}},{"$f":"'A4-FinPerf RE'!I28","v":{"v":417013030.18,"d":"417,013"}},{"$f":"'A4-FinPerf RE'!J28","v":{"v":607089120,"d":"607,089"}},{"$f":"'A4-FinPerf RE'!K28","v":{"v":639342032,"d":"639,342"}},{"$f":"'A4-FinPerf RE'!L28","v":{"v":654930589,"d":"654,931"}}]
["Other own revenue",{"$f":"'A4-FinPerf RE'!C35-SUM(B5:B8)","v":{"v":19422331.53999996,"d":"19,422"}},{"$f":"'A4-FinPerf RE'!D35-SUM(C5:C8)","v":{"v":19806776.129999995,"d":"19,807"}},{"$f":"'A4-FinPerf RE'!E35-SUM(D5:D8)","v":{"v":16989134.689999938,"d":"16,989"}},{"$f":"'A4-FinPerf RE'!F35-SUM(E5:E8)","v":{"v":19194058,"d":"19,194"}},{"$f":"'A4-FinPerf RE'!G35-SUM(F5:F8)","v":{"v":13891289,"d":"13,891"}},{"$f":"'A4-FinPerf RE'!H35-SUM(G5:G8)","v":{"v":13891289,"d":"13,891"}},{"$f":"'A4-FinPerf RE'!I35-SUM(H5:H8)","v":{"v":9716012.030000031,"d":"9,716"}},{"$f":"'A4-FinPerf RE'!J35-SUM(I5:I8)","v":{"v":14721967,"d":"14,722"}},{"$f":"'A4-FinPerf RE'!K35-SUM(J5:J8)","v":{"v":15598103,"d":"15,598"}},{"$f":"'A4-FinPerf RE'!L35-SUM(K5:K8)","v":{"v":16526515,"d":"16,527"}}]
[{"$f":"'A4-FinPerf RE'!A35","v":"Total Revenue (excluding capital transfers and contributions)"},{"$f":"SUM(B5:B9)","v":{"v":560414149.91,"d":"560,414"}},{"$f":"SUM(C5:C9)","v":{"v":591885110.8,"d":"591,885"}},{"v":656242237.5,"d":"656,242"},{"v":723814646,"d":"723,815"},{"v":723562194,"d":"723,562"},{"v":723562194,"d":"723,562"},{"v":498876105.40000004,"d":"498,876"},{"v":741220498,"d":"741,220"},{"v":781473186,"d":"781,473"},{"v":805535166,"d":"805,535"}]
["Employee costs",{"$f":"'A4-FinPerf RE'!C37","v":{"v":244160947.18,"d":"244,161"}},{"$f":"'A4-FinPerf RE'!D37","v":{"v":254726975.38,"d":"254,727"}},{"$f":"'A4-FinPerf RE'!E37","v":{"v":261114160.99,"d":"261,114"}},{"$f":"'A4-FinPerf RE'!F37","v":{"v":291721201,"d":"291,721"}},{"$f":"'A4-FinPerf RE'!G37","v":{"v":310807293,"d":"310,807"}},{"$f":"'A4-FinPerf RE'!H37","v":{"v":310807293,"d":"310,807"}},{"$f":"'A4-FinPerf RE'!I37","v":{"v":181170183.87,"d":"181,170"}},{"$f":"'A4-FinPerf RE'!J37","v":{"v":323261199,"d":"323,261"}},{"$f":"'A4-FinPerf RE'!K37","v":{"v":336115239,"d":"336,115"}},{"$f":"'A4-FinPerf RE'!L37","v":{"v":349456055,"d":"349,456"}}]
["Remuneration of councillors",{"$f":"'A4-FinPerf RE'!C38","v":{"v":6987876.07,"d":"6,988"}},{"$f":"'A4-FinPerf RE'!D38","v":{"v":6931900.21,"d":"6,932"}},{"$f":"'A4-FinPerf RE'!E38","v":{"v":7581269.24,"d":"7,581"}},{"$f":"'A4-FinPerf RE'!F38","v":{"v":8059321,"d":"8,059"}},{"$f":"'A4-FinPerf RE'!G38","v":{"v":8101439,"d":"8,101"}},{"$f":"'A4-FinPerf RE'!H38","v":{"v":8101439,"d":"8,101"}},{"$f":"'A4-FinPerf RE'!I38","v":{"v":5239608.220000001,"d":"5,240"}},{"$f":"'A4-FinPerf RE'!J38","v":{"v":8425509,"d":"8,426"}},{"$f":"'A4-FinPerf RE'!K38","v":{"v":8762535,"d":"8,763"}},{"$f":"'A4-FinPerf RE'!L38","v":{"v":9113031,"d":"9,113"}}]
["Depreciation, amortisation and impairment",{"$f":"'A4-FinPerf RE'!C42","v":{"v":92786769.25999999,"d":"92,787"}},{"$f":"'A4-FinPerf RE'!D42","v":{"v":236930110.17,"d":"236,930"}},{"$f":"'A4-FinPerf RE'!E42","v":{"v":116317072.97,"d":"116,317"}},{"$f":"'A4-FinPerf RE'!F42","v":{"v":107788020,"d":"107,788"}},{"$f":"'A4-FinPerf RE'!G42","v":{"v":107788020,"d":"107,788"}},{"$f":"'A4-FinPerf RE'!H42","v":{"v":107788020,"d":"107,788"}},{"$f":"'A4-FinPerf RE'!I42","v":{"v":89508026.82,"d":"89,508"}},{"$f":"'A4-FinPerf RE'!J42","v":{"v":114839336,"d":"114,839"}},{"$f":"'A4-FinPerf RE'!K42","v":{"v":118634451,"d":"118,634"}},{"$f":"'A4-FinPerf RE'!L42","v":{"v":122437196,"d":"122,437"}}]
["Interest, Dividends and Rent on Land",{"$f":"'A4-FinPerf RE'!C43","v":{"v":112875.21,"d":"113"}},{"$f":"'A4-FinPerf RE'!D43","v":{"v":2152.72,"d":"2"}},{"$f":"'A4-FinPerf RE'!E43","v":0},{"$f":"'A4-FinPerf RE'!F43","v":{"v":54200,"d":"54"}},{"$f":"'A4-FinPerf RE'!G43","v":{"v":54200,"d":"54"}},{"$f":"'A4-FinPerf RE'!H43","v":{"v":54200,"d":"54"}},{"$f":"'A4-FinPerf RE'!I43","v":0},{"$f":"'A4-FinPerf RE'!J43","v":{"v":56327,"d":"56"}},{"$f":"'A4-FinPerf RE'!K43","v":{"v":58477,"d":"58"}},{"$f":"'A4-FinPerf RE'!L43","v":{"v":60694,"d":"61"}}]
["Inventory consumed and bulk purchases",{"$f":"'A4-FinPerf RE'!C39+'A4-FinPerf RE'!C40","v":{"v":33421199.1,"d":"33,421"}},{"$f":"'A4-FinPerf RE'!D39+'A4-FinPerf RE'!D40","v":{"v":33597928.150000006,"d":"33,598"}},{"$f":"'A4-FinPerf RE'!E39+'A4-FinPerf RE'!E40","v":{"v":58826849.44,"d":"58,827"}},{"$f":"'A4-FinPerf RE'!F39+'A4-FinPerf RE'!F40","v":{"v":39635122,"d":"39,635"}},{"$f":"'A4-FinPerf RE'!G39+'A4-FinPerf RE'!G40","v":{"v":46029909,"d":"46,030"}},{"$f":"'A4-FinPerf RE'!H39+'A4-FinPerf RE'!H40","v":{"v":46029909,"d":"46,030"}},{"$f":"'A4-FinPerf RE'!I39+'A4-FinPerf RE'!I40","v":{"v":33735967.86,"d":"33,736"}},{"$f":"'A4-FinPerf RE'!J39+'A4-FinPerf RE'!J40","v":{"v":39696308,"d":"39,696"}},{"$f":"'A4-FinPerf RE'!K39+'A4-FinPerf RE'!K40","v":{"v":41006795,"d":"41,007"}},{"$f":"'A4-FinPerf RE'!L39+'A4-FinPerf RE'!L40","v":{"v":42319624,"d":"42,320"}}]
["Transfers and subsidies",{"$f":"'A4-FinPerf RE'!C45","v":{"v":15290000,"d":"15,290"}},{"$f":"'A4-FinPerf RE'!D45","v":0},{"$f":"'A4-FinPerf RE'!E45","v":0},{"$f":"'A4-FinPerf RE'!F45","v":{"v":23360014,"d":"23,360"}},{"$f":"'A4-FinPerf RE'!G45","v":{"v":23360014,"d":"23,360"}},{"$f":"'A4-FinPerf RE'!H45","v":{"v":23360014,"d":"23,360"}},{"$f":"'A4-FinPerf RE'!I45","v":{"v":14000000,"d":"14,000"}},{"$f":"'A4-FinPerf RE'!J45","v":{"v":23374415,"d":"23,374"}},{"$f":"'A4-FinPerf RE'!K45","v":{"v":25889392,"d":"25,889"}},{"$f":"'A4-FinPerf RE'!L45","v":{"v":25404968,"d":"25,405"}}]
["Other expenditure",{"$f":"'A4-FinPerf RE'!C50-SUM(B11:B16)","v":{"v":205057982.42000002,"d":"205,058"}},{"$f":"'A4-FinPerf RE'!D50-SUM(C11:C16)","v":{"v":208963333.11000013,"d":"208,963"}},{"$f":"'A4-FinPerf RE'!E50-SUM(D11:D16)","v":{"v":267651733.62999994,"d":"267,652"}},{"$f":"'A4-FinPerf RE'!F50-SUM(E11:E16)","v":{"v":348556433,"d":"348,556"}},{"$f":"'A4-FinPerf RE'!G50-SUM(F11:F16)","v":{"v":394279810,"d":"394,280"}},{"$f":"'A4-FinPerf RE'!H50-SUM(G11:G16)","v":{"v":394279810,"d":"394,280"}},{"$f":"'A4-FinPerf RE'!I50-SUM(H11:H16)","v":{"v":195101865.05,"d":"195,102"}},{"$f":"'A4-FinPerf RE'!J50-SUM(I11:I16)","v":{"v":360993540,"d":"360,994"}},{"$f":"'A4-FinPerf RE'!K50-SUM(J11:J16)","v":{"v":375246904,"d":"375,247"}},{"$f":"'A4-FinPerf RE'!L50-SUM(K11:K16)","v":{"v":387304045,"d":"387,304"}}]
[{"$f":"'A4-FinPerf RE'!A50","v":"Total Expenditure"},{"$f":"SUM(B11:B17)","v":{"v":597817649.24,"d":"597,818"}},{"$f":"SUM(C11:C17)","v":{"v":741152399.7400001,"d":"741,152"}},{"$f":"SUM(D11:D17)","v":{"v":711491086.27,"d":"711,491"}},{"v":819174311,"d":"819,174"},{"v":890420685,"d":"890,421"},{"v":890420685,"d":"890,421"},{"v":518755651.82,"d":"518,756"},{"v":870646634,"d":"870,647"},{"v":905713793,"d":"905,714"},{"v":936095613,"d":"936,096"}]
[{"$f":"'A4-FinPerf RE'!A51","v":"Surplus/(Deficit)"},{"$f":"B10-B18","v":{"v":-37403499.33000004,"d":"(37,403)"}},{"$f":"C10-C18","v":{"v":-149267288.94000018,"d":"(149,267)"}},{"$f":"D10-D18","v":{"v":-55248848.76999998,"d":"(55,249)"}},{"v":-95359665,"d":"(95,360)"},{"v":-166858491,"d":"(166,858)"},{"v":-166858491,"d":"(166,858)"},{"v":-19879546.419999957,"d":"(19,880)"},{"v":-129426136,"d":"(129,426)"},{"v":-124240607,"d":"(124,241)"},{"v":-130560447,"d":"(130,560)"}]
[{"$f":"'A4-FinPerf RE'!A52","v":"Transfers and subsidies - capital (monetary allocations)"},{"$f":"'A4-FinPerf RE'!C52","v":{"v":283337677.17,"d":"283,338"}},{"$f":"'A4-FinPerf RE'!D52","v":{"v":332319363.1,"d":"332,319"}},{"$f":"'A4-FinPerf RE'!E52","v":{"v":317693135.22,"d":"317,693"}},{"$f":"'A4-FinPerf RE'!F52","v":{"v":293458180,"d":"293,458"}},{"$f":"'A4-FinPerf RE'!G52","v":{"v":293458180,"d":"293,458"}},{"$f":"'A4-FinPerf RE'!H52","v":{"v":293458180,"d":"293,458"}},{"$f":"'A4-FinPerf RE'!I52","v":{"v":174463971.68,"d":"174,464"}},{"$f":"'A4-FinPerf RE'!J52","v":{"v":328866880,"d":"328,867"}},{"$f":"'A4-FinPerf RE'!K52","v":{"v":389425968,"d":"389,426"}},{"$f":"'A4-FinPerf RE'!L52","v":{"v":373731412,"d":"373,731"}}]
[{"$f":"'A4-FinPerf RE'!A53","v":"Transfers and subsidies - capital (in-kind)"},{"$f":"'A4-FinPerf RE'!C53","v":{"v":3887850,"d":"3,888"}},{"$f":"'A4-FinPerf RE'!D53","v":0},{"$f":"'A4-FinPerf RE'!E53","v":0},{"$f":"'A4-FinPerf RE'!F53","v":0},{"$f":"'A4-FinPerf RE'!G53","v":0},{"$f":"'A4-FinPerf RE'!H53","v":0},{"$f":"'A4-FinPerf RE'!I53","v":0},{"$f":"'A4-FinPerf RE'!J53","v":0},{"$f":"'A4-FinPerf RE'!K53","v":0},{"$f":"'A4-FinPerf RE'!L53","v":0}]
[{"$f":"'A4-FinPerf RE'!A54","v":"Surplus/(Deficit) after capital transfers & contributions"},{"$f":"B19+SUM(B20:B21)","v":{"v":249822027.83999997,"d":"249,822"}},{"$f":"C19+SUM(C20:C21)","v":{"v":183052074.15999985,"d":"183,052"}},{"v":262444286.45000005,"d":"262,444"},{"v":198098515,"d":"198,099"},{"v":126599689,"d":"126,600"},{"v":126599689,"d":"126,600"},{"v":154584425.26000005,"d":"154,584"},{"v":199440744,"d":"199,441"},{"v":265185361,"d":"265,185"},{"v":243170965,"d":"243,171"}]
[{"$f":"'A4-FinPerf RE'!A60","v":"Share of Surplus/Deficit attributable to Associate"},{"$f":"'A4-FinPerf RE'!C60","v":0},{"$f":"'A4-FinPerf RE'!D60","v":0},{"$f":"'A4-FinPerf RE'!E60","v":0},{"$f":"'A4-FinPerf RE'!F60","v":0},{"$f":"'A4-FinPerf RE'!G60","v":0},{"$f":"'A4-FinPerf RE'!H60","v":0},{"$f":"'A4-FinPerf RE'!I60","v":0},{"$f":"'A4-FinPerf RE'!J60","v":0},{"$f":"'A4-FinPerf RE'!K60","v":0},{"$f":"'A4-FinPerf RE'!L60","v":0}]
[{"$f":"'A4-FinPerf RE'!A62","v":"Surplus/(Deficit) for the year"},{"$f":"B22+B23","v":{"v":249822027.83999997,"d":"249,822"}},{"$f":"C22+C23","v":{"v":183052074.15999985,"d":"183,052"}},{"v":262444286.45000005,"d":"262,444"},{"v":198098515,"d":"198,099"},{"v":126599689,"d":"126,600"},{"v":126599689,"d":"126,600"},{"v":154584425.26000005,"d":"154,584"},{"v":199440744,"d":"199,441"},{"v":265185361,"d":"265,185"},{"v":243170965,"d":"243,171"}]
["Capital expenditure & funds sources"]
["Capital expenditure",{"$f":"'A5-Capex'!C63","v":{"v":269117647.1,"d":"269,118"}},{"$f":"'A5-Capex'!D63","v":{"v":309603501.53999996,"d":"309,604"}},{"$f":"'A5-Capex'!E63","v":{"v":349074824.24,"d":"349,075"}},{"$f":"'A5-Capex'!F63","v":{"v":302059735,"d":"302,060"}},{"$f":"'A5-Capex'!G63","v":{"v":331597210,"d":"331,597"}},{"$f":"'A5-Capex'!H63","v":{"v":331597210,"d":"331,597"}},{"$f":"'A5-Capex'!I63","v":{"v":189598986.28,"d":"189,599"}},{"$f":"'A5-Capex'!J63","v":{"v":329348915,"d":"329,349"}},{"$f":"'A5-Capex'!K63","v":{"v":383718534,"d":"383,719"}},{"$f":"'A5-Capex'!L63","v":{"v":383591807,"d":"383,592"}}]
["Transfers recognised - capital",{"$f":"'A5-Capex'!C70","v":{"v":251308879.83,"d":"251,309"}},{"$f":"'A5-Capex'!D70","v":{"v":298048454.06,"d":"298,048"}},{"$f":"'A5-Capex'!E70","v":{"v":276004756.74,"d":"276,005"}},{"$f":"'A5-Capex'!F70","v":{"v":260147379,"d":"260,147"}},{"$f":"'A5-Capex'!G70","v":{"v":255511023,"d":"255,511"}},{"$f":"'A5-Capex'!H70","v":{"v":255511023,"d":"255,511"}},{"$f":"'A5-Capex'!I70","v":{"v":165850313.28,"d":"165,850"}},{"$f":"'A5-Capex'!J70","v":{"v":286126160,"d":"286,126"}},{"$f":"'A5-Capex'!K70","v":{"v":338790881,"d":"338,791"}},{"$f":"'A5-Capex'!L70","v":{"v":332975916,"d":"332,976"}}]
[]
[{"$f":"'A5-Capex'!A72","v":"Borrowing"},{"$f":"'A5-Capex'!C72","v":0},{"$f":"'A5-Capex'!D72","v":0},{"$f":"'A5-Capex'!E72","v":0},{"$f":"'A5-Capex'!F72","v":0},{"$f":"'A5-Capex'!G72","v":0},{"$f":"'A5-Capex'!H72","v":0},{"$f":"'A5-Capex'!I72","v":0},{"$f":"'A5-Capex'!J72","v":0},{"$f":"'A5-Capex'!K72","v":0},{"$f":"'A5-Capex'!L72","v":0}]
[{"$f":"'A5-Capex'!A73","v":"Internally generated funds"},{"$f":"'A5-Capex'!C73","v":{"v":17808767.27,"d":"17,809"}},{"$f":"'A5-Capex'!D73","v":{"v":11555047.48,"d":"11,555"}},{"$f":"'A5-Capex'!E73","v":{"v":73070067.5,"d":"73,070"}},{"$f":"'A5-Capex'!F73","v":{"v":41912356,"d":"41,912"}},{"$f":"'A5-Capex'!G73","v":{"v":76086187,"d":"76,086"}},{"$f":"'A5-Capex'!H73","v":{"v":76086187,"d":"76,086"}},{"$f":"'A5-Capex'!I73","v":{"v":23748673,"d":"23,749"}},{"$f":"'A5-Capex'!J73","v":{"v":43222755,"d":"43,223"}},{"$f":"'A5-Capex'!K73","v":{"v":44927653,"d":"44,928"}},{"$f":"'A5-Capex'!L73","v":{"v":50615891,"d":"50,616"}}]
["Total sources of capital funds",{"$f":"+B27+B29+B30","v":{"v":269117647.1,"d":"269,118"}},{"$f":"+C27+C29+C30","v":{"v":309603501.54,"d":"309,604"}},{"v":349074824.24,"d":"349,075"},{"v":302059735,"d":"302,060"},{"v":331597210,"d":"331,597"},{"v":331597210,"d":"331,597"},{"v":189598986.28,"d":"189,599"},{"v":329348915,"d":"329,349"},{"v":383718534,"d":"383,719"},{"v":383591807,"d":"383,592"}]
["Financial position"]
[{"$f":"'A6-FinPos'!A14","v":"Total current assets"},{"$f":"'A6-FinPos'!C14","v":{"v":194401651.39000002,"d":"194,402"}},{"$f":"'A6-FinPos'!D14","v":{"v":243572451.48999998,"d":"243,572"}},{"$f":"'A6-FinPos'!E14","v":{"v":308794267.25999993,"d":"308,794"}},{"$f":"'A6-FinPos'!F14","v":{"v":219491944,"d":"219,492"}},{"$f":"'A6-FinPos'!G14","v":{"v":250110042,"d":"250,110"}},{"$f":"'A6-FinPos'!H14","v":{"v":250110042,"d":"250,110"}},{"$f":"'A6-FinPos'!I14","v":{"v":32523913.81,"d":"32,524"}},{"$f":"'A6-FinPos'!J14","v":{"v":266546878,"d":"266,547"}},{"$f":"'A6-FinPos'!K14","v":{"v":297468795,"d":"297,469"}},{"$f":"'A6-FinPos'!L14","v":{"v":309214182,"d":"309,214"}}]
[{"$f":"'A6-FinPos'!A26","v":"Total non current assets"},{"$f":"'A6-FinPos'!C26","v":{"v":2890916614.15,"d":"2,890,917"}},{"$f":"'A6-FinPos'!D26","v":{"v":2961999439.82,"d":"2,961,999"}},{"$f":"'A6-FinPos'!E26","v":{"v":3184996042.4400005,"d":"3,184,996"}},{"$f":"'A6-FinPos'!F26","v":{"v":3446442889,"d":"3,446,443"}},{"$f":"'A6-FinPos'!G26","v":{"v":3444535775,"d":"3,444,536"}},{"$f":"'A6-FinPos'!H26","v":{"v":3444535775,"d":"3,444,536"}},{"$f":"'A6-FinPos'!I26","v":{"v":99023536.74,"d":"99,024"}},{"$f":"'A6-FinPos'!J26","v":{"v":3706037247,"d":"3,706,037"}},{"$f":"'A6-FinPos'!K26","v":{"v":4007709605,"d":"4,007,710"}},{"$f":"'A6-FinPos'!L26","v":{"v":4309334114,"d":"4,309,334"}}]
[{"$f":"'A6-FinPos'!A38","v":"Total current liabilities"},{"$f":"'A6-FinPos'!C38","v":{"v":151971873.44,"d":"151,972"}},{"$f":"'A6-FinPos'!D38","v":{"v":135087354.40000007,"d":"135,087"}},{"$f":"'A6-FinPos'!E38","v":{"v":187568612.96,"d":"187,569"}},{"$f":"'A6-FinPos'!F38","v":{"v":121260946,"d":"121,261"}},{"$f":"'A6-FinPos'!G38","v":{"v":192338274,"d":"192,338"}},{"$f":"'A6-FinPos'!H38","v":{"v":192338274,"d":"192,338"}},{"$f":"'A6-FinPos'!I38","v":{"v":-24264679.190000013,"d":"(24,265)"}},{"$f":"'A6-FinPos'!J38","v":{"v":226914274,"d":"226,914"}},{"$f":"'A6-FinPos'!K38","v":{"v":226514274,"d":"226,514"}},{"$f":"'A6-FinPos'!L38","v":{"v":226114274,"d":"226,114"}}]
[{"$f":"'A6-FinPos'!A44","v":"Total non current liabilities"},{"$f":"'A6-FinPos'!C44","v":{"v":-0.02,"d":"(0)"}},{"$f":"'A6-FinPos'!D44","v":{"v":-0.02,"d":"(0)"}},{"$f":"'A6-FinPos'!E44","v":{"v":-0.02,"d":"(0)"}},{"$f":"'A6-FinPos'!F44","v":0},{"$f":"'A6-FinPos'!G44","v":0},{"$f":"'A6-FinPos'!H44","v":0},{"$f":"'A6-FinPos'!I44","v":0},{"$f":"'A6-FinPos'!J44","v":0},{"$f":"'A6-FinPos'!K44","v":0},{"$f":"'A6-FinPos'!L44","v":0}]
["Community wealth/Equity",{"$f":"'A6-FinPos'!C51","v":{"v":2941982926.86,"d":"2,941,983"}},{"$f":"'A6-FinPos'!D51","v":{"v":3262761989.6,"d":"3,262,762"}},{"$f":"'A6-FinPos'!E51","v":{"v":3305230732.3,"d":"3,305,231"}},{"$f":"'A6-FinPos'!F51","v":{"v":3514683341,"d":"3,514,683"}},{"$f":"'A6-FinPos'!G51","v":{"v":3539375823,"d":"3,539,376"}},{"$f":"'A6-FinPos'!H51","v":{"v":3539375823,"d":"3,539,376"}},{"$f":"'A6-FinPos'!I51","v":{"v":184726763.22,"d":"184,727"}},{"$f":"'A6-FinPos'!J51","v":{"v":3746345975,"d":"3,746,346"}},{"$f":"'A6-FinPos'!K51","v":{"v":4091526531,"d":"4,091,527"}},{"$f":"'A6-FinPos'!L51","v":{"v":4405713218,"d":"4,405,713"}}]
["Cash flows"]
["Net cash from (used) operating",{"$f":"'A7-CFlow'!C17","v":{"v":1524476979.05,"d":"1,524,477"}},{"$f":"'A7-CFlow'!D17","v":{"v":1810098893.02,"d":"1,810,099"}},{"$f":"'A7-CFlow'!E17","v":{"v":1491140049.28,"d":"1,491,140"}},{"$f":"'A7-CFlow'!F17","v":{"v":367947266,"d":"367,947"}},{"$f":"'A7-CFlow'!G17","v":{"v":304038542,"d":"304,039"}},{"$f":"'A7-CFlow'!H17","v":{"v":304038542,"d":"304,039"}},{"$f":"'A7-CFlow'!I17","v":{"v":1401657336.9499998,"d":"1,401,657"}},{"$f":"'A7-CFlow'!J17","v":{"v":317551778,"d":"317,552"}},{"$f":"'A7-CFlow'!K17","v":{"v":410354033,"d":"410,354"}},{"$f":"'A7-CFlow'!L17","v":{"v":396646954,"d":"396,647"}}]
["Net cash from (used) investing",{"$f":"'A7-CFlow'!C30","v":{"v":-269117647.1,"d":"(269,118)"}},{"$f":"'A7-CFlow'!D30","v":{"v":-309603501.54,"d":"(309,604)"}},{"$f":"'A7-CFlow'!E30","v":{"v":-350552986.12,"d":"(350,553)"}},{"$f":"'A7-CFlow'!F30","v":{"v":-346011671,"d":"(346,012)"}},{"$f":"'A7-CFlow'!G30","v":{"v":-375549146,"d":"(375,549)"}},{"$f":"'A7-CFlow'!H30","v":{"v":-375549146,"d":"(375,549)"}},{"$f":"'A7-CFlow'!I30","v":{"v":-184864315.83,"d":"(184,864)"}},{"$f":"'A7-CFlow'!J30","v":{"v":-328191915,"d":"(328,192)"}},{"$f":"'A7-CFlow'!K30","v":{"v":-382640054,"d":"(382,640)"}},{"$f":"'A7-CFlow'!L30","v":{"v":-382551807,"d":"(382,552)"}}]
["Net cash from (used) financing",{"$f":"'A7-CFlow'!C39","v":0},{"$f":"'A7-CFlow'!D39","v":{"v":-434226.6,"d":"(434)"}},{"$f":"'A7-CFlow'!E39","v":{"v":-15361.99,"d":"(15)"}},{"$f":"'A7-CFlow'!F39","v":{"v":-1830501,"d":"(1,831)"}},{"$f":"'A7-CFlow'!G39","v":{"v":-1830501,"d":"(1,831)"}},{"$f":"'A7-CFlow'!H39","v":{"v":-1830501,"d":"(1,831)"}},{"$f":"'A7-CFlow'!I39","v":{"v":-978759.25,"d":"(979)"}},{"$f":"'A7-CFlow'!J39","v":{"v":-1830501,"d":"(1,831)"}},{"$f":"'A7-CFlow'!K39","v":{"v":-1830501,"d":"(1,831)"}},{"$f":"'A7-CFlow'!L39","v":{"v":-1830501,"d":"(1,831)"}}]
[{"$f":"LEFT('A7-CFlow'!A43,37)","v":"Cash/cash equivalents at the year end"},{"$f":"'A7-CFlow'!C43","v":{"v":1305585583.4899998,"d":"1,305,586"}},{"$f":"'A7-CFlow'!D43","v":{"v":1624701724.3300002,"d":"1,624,702"}},{"$f":"'A7-CFlow'!E43","v":{"v":1350001970.1299999,"d":"1,350,002"}},{"$f":"'A7-CFlow'!F43","v":{"v":183681749,"d":"183,682"}},{"$f":"'A7-CFlow'!G43","v":{"v":223121187,"d":"223,121"}},{"$f":"'A7-CFlow'!H43","v":{"v":223121187,"d":"223,121"}},{"$f":"'A7-CFlow'!I43","v":{"v":1215814261.87,"d":"1,215,814"}},{"$f":"'A7-CFlow'!J43","v":{"v":220880254,"d":"220,880"}},{"$f":"'A7-CFlow'!K43","v":{"v":246763732,"d":"246,764"}},{"$f":"'A7-CFlow'!L43","v":{"v":259028378,"d":"259,028"}}]
[]
["Cash backing/surplus reconciliation"]
[{"$f":"'A8-ResRecon'!A4","v":"Cash and investments available"},{"$f":"'A8-ResRecon'!C8","v":{"v":1305585583.4899998,"d":"1,305,586"}},{"$f":"'A8-ResRecon'!D8","v":{"v":1624701724.3300002,"d":"1,624,702"}},{"$f":"'A8-ResRecon'!E8","v":{"v":1350001970.1299999,"d":"1,350,002"}},{"$f":"'A8-ResRecon'!F8","v":{"v":183681749,"d":"183,682"}},{"$f":"'A8-ResRecon'!G8","v":{"v":223121187,"d":"223,121"}},{"$f":"'A8-ResRecon'!H8","v":{"v":223121187,"d":"223,121"}},{"$f":"'A8-ResRecon'!I8","v":{"v":1215814261.87,"d":"1,215,814"}},{"$f":"'A8-ResRecon'!J8","v":{"v":220880254,"d":"220,880"}},{"$f":"'A8-ResRecon'!K8","v":{"v":246763732,"d":"246,764"}},{"$f":"'A8-ResRecon'!L8","v":{"v":259028378,"d":"259,028"}}]
[{"$f":"'A8-ResRecon'!A10","v":"Application of cash and investments"},{"$f":"'A8-ResRecon'!C18","v":{"v":-646212251.53,"d":"(646,212)"}},{"$f":"'A8-ResRecon'!D18","v":{"v":-208917424.07999992,"d":"(208,917)"}},{"$f":"'A8-ResRecon'!E18","v":{"v":-100027894.53999999,"d":"(100,028)"}},{"$f":"'A8-ResRecon'!F18","v":{"v":65944668,"d":"65,945"}},{"$f":"'A8-ResRecon'!G18","v":{"v":164698267,"d":"164,698"}},{"$f":"'A8-ResRecon'!H18","v":{"v":164698267,"d":"164,698"}},{"$f":"'A8-ResRecon'!I18","v":{"v":81979562.49,"d":"81,980"}},{"$f":"'A8-ResRecon'!J18","v":{"v":192150267,"d":"192,150"}},{"$f":"'A8-ResRecon'!K18","v":{"v":188044267,"d":"188,044"}},{"$f":"'A8-ResRecon'!L18","v":{"v":189890267,"d":"189,890"}}]
["Balance - surplus (shortfall)",{"$f":"B45-B46","v":{"v":1951797835.0199997,"d":"1,951,798"}},{"$f":"C45-C46","v":{"v":1833619148.41,"d":"1,833,619"}},{"v":1450029864.6699998,"d":"1,450,030"},{"v":117737081,"d":"117,737"},{"v":58422920,"d":"58,423"},{"v":58422920,"d":"58,423"},{"v":1133834699.3799999,"d":"1,133,835"},{"v":28729987,"d":"28,730"},{"v":58719465,"d":"58,719"},{"v":69138111,"d":"69,138"}]
["Asset management"]
["Asset register summary (WDV)",{"$f":"'A9-Asset'!C180","v":{"v":2209283035.5499997,"d":"2,209,283"}},{"$f":"'A9-Asset'!D180","v":{"v":2357653720.1200004,"d":"2,357,654"}},{"$f":"'A9-Asset'!E180","v":{"v":2562533921.4700007,"d":"2,562,534"}},{"$f":"'A9-Asset'!F180","v":{"v":2806918884,"d":"2,806,919"}},{"$f":"'A9-Asset'!G180","v":{"v":2788088619,"d":"2,788,089"}},{"$f":"'A9-Asset'!H180","v":{"v":2788088619,"d":"2,788,089"}},null,{"$f":"'A9-Asset'!I180","v":{"v":3049590091,"d":"3,049,590"}},{"$f":"'A9-Asset'!J180","v":{"v":3351262449,"d":"3,351,262"}},{"$f":"'A9-Asset'!K180","v":{"v":3652886958,"d":"3,652,887"}}]
[{"$f":"'A9-Asset'!A183","v":"Depreciation"},{"$f":"'A9-Asset'!C183","v":{"v":93063085.03000003,"d":"93,063"}},{"$f":"'A9-Asset'!D183","v":{"v":236930110.17000005,"d":"236,930"}},{"$f":"'A9-Asset'!E183","v":{"v":116317072.97,"d":"116,317"}},{"$f":"'A9-Asset'!F183","v":{"v":107788020,"d":"107,788"}},{"$f":"'A9-Asset'!G183","v":{"v":107788020,"d":"107,788"}},{"$f":"'A9-Asset'!H183","v":{"v":107788020,"d":"107,788"}},null,{"$f":"'A9-Asset'!I183","v":{"v":114839336,"d":"114,839"}},{"$f":"'A9-Asset'!J183","v":{"v":118634451,"d":"118,634"}},{"$f":"'A9-Asset'!K183","v":{"v":122437196,"d":"122,437"}}]
["Renewal and Upgrading of Existing Assets",{"$f":"'A9-Asset'!C40+'A9-Asset'!C75","v":{"v":11852610.879999999,"d":"11,853"}},{"$f":"'A9-Asset'!D40+'A9-Asset'!D75","v":{"v":19933122.65,"d":"19,933"}},{"$f":"'A9-Asset'!E40+'A9-Asset'!E75","v":{"v":38005098.14,"d":"38,005"}},{"$f":"'A9-Asset'!F40+'A9-Asset'!F75","v":{"v":41525724,"d":"41,526"}},{"$f":"'A9-Asset'!G40+'A9-Asset'!G75","v":{"v":35688377,"d":"35,688"}},{"$f":"'A9-Asset'!H40+'A9-Asset'!H75","v":{"v":35688377,"d":"35,688"}},null,{"$f":"'A9-Asset'!I40+'A9-Asset'!I75","v":{"v":88864822,"d":"88,865"}},{"$f":"'A9-Asset'!J40+'A9-Asset'!J75","v":{"v":160290245,"d":"160,290"}},{"$f":"'A9-Asset'!K40+'A9-Asset'!K75","v":{"v":190165684,"d":"190,166"}}]
["Repairs and Maintenance",{"$f":"'A9-Asset'!C184","v":{"v":52467513.120000005,"d":"52,468"}},{"$f":"'A9-Asset'!D184","v":{"v":43781491.78999999,"d":"43,781"}},{"$f":"'A9-Asset'!E184","v":{"v":40466352.67999999,"d":"40,466"}},{"$f":"'A9-Asset'!F184","v":{"v":45191844,"d":"45,192"}},{"$f":"'A9-Asset'!G184","v":{"v":47245892,"d":"47,246"}},{"$f":"'A9-Asset'!H184","v":{"v":47245892,"d":"47,246"}},null,{"$f":"'A9-Asset'!I184","v":{"v":30805280,"d":"30,805"}},{"$f":"'A9-Asset'!J184","v":{"v":31821894,"d":"31,822"}},{"$f":"'A9-Asset'!K184","v":{"v":32840238,"d":"32,840"}}]
[]
["Free services"]
["Cost of Free Basic Services provided",{"$f":"'A10-SerDel'!C60","v":{"v":1775224.79,"d":"1,775"}},{"$f":"'A10-SerDel'!D60","v":{"v":1827745.36,"d":"1,828"}},{"$f":"'A10-SerDel'!E60","v":{"v":3314889.92,"d":"3,315"}},{"$f":"'A10-SerDel'!F60","v":{"v":-767622,"d":"(768)"}},{"$f":"'A10-SerDel'!G60","v":0},{"$f":"'A10-SerDel'!H60","v":0},null,{"$f":"'A10-SerDel'!I60","v":0},{"$f":"'A10-SerDel'!J60","v":0},{"$f":"'A10-SerDel'!K60","v":0}]
["Revenue cost of free services provided",{"$f":"'A10-SerDel'!C79","v":0},{"$f":"'A10-SerDel'!D79","v":0},{"$f":"'A10-SerDel'!E79","v":0},{"$f":"'A10-SerDel'!F79","v":0},{"$f":"'A10-SerDel'!G79","v":0},{"$f":"'A10-SerDel'!H79","v":0},null,{"$f":"'A10-SerDel'!I79","v":0},{"$f":"'A10-SerDel'!J79","v":0},{"$f":"'A10-SerDel'!K79","v":0}]
["Households below minimum service level"]
[{"$f":"'A10-SerDel'!A5","v":"Water:"},{"$f":"'A10-SerDel'!C14","v":0},{"$f":"'A10-SerDel'!D14","v":0},{"$f":"'A10-SerDel'!E14","v":0},{"$f":"'A10-SerDel'!F14","v":{"v":87773,"d":"88"}},{"$f":"'A10-SerDel'!G14","v":{"v":87773,"d":"88"}},{"$f":"'A10-SerDel'!H14","v":{"v":87773,"d":"88"}},null,{"$f":"'A10-SerDel'!I14","v":{"v":93040,"d":"93"}},{"$f":"'A10-SerDel'!J14","v":{"v":98622,"d":"99"}},{"$f":"'A10-SerDel'!K14","v":{"v":104539,"d":"105"}}]
[{"$f":"'A10-SerDel'!A16","v":"Sanitation/sewerage:"},{"$f":"'A10-SerDel'!C26","v":0},{"$f":"'A10-SerDel'!D26","v":0},{"$f":"'A10-SerDel'!E26","v":0},{"$f":"'A10-SerDel'!F26","v":0},{"$f":"'A10-SerDel'!G26","v":0},{"$f":"'A10-SerDel'!H26","v":0},null,{"$f":"'A10-SerDel'!I26","v":0},{"$f":"'A10-SerDel'!J26","v":0},{"$f":"'A10-SerDel'!K26","v":0}]
[{"$f":"'A10-SerDel'!A28","v":"Energy:"},{"$f":"'A10-SerDel'!C35","v":0},{"$f":"'A10-SerDel'!D35","v":0},{"$f":"'A10-SerDel'!E35","v":0},{"$f":"'A10-SerDel'!F35","v":0},{"$f":"'A10-SerDel'!G35","v":0},{"$f":"'A10-SerDel'!H35","v":0},null,{"$f":"'A10-SerDel'!I35","v":0},{"$f":"'A10-SerDel'!J35","v":0},{"$f":"'A10-SerDel'!K35","v":0}]
[{"$f":"'A10-SerDel'!A37","v":"Refuse:"},{"$f":"'A10-SerDel'!C45","v":0},{"$f":"'A10-SerDel'!D45","v":0},{"$f":"'A10-SerDel'!E45","v":0},{"$f":"'A10-SerDel'!F45","v":0},{"$f":"'A10-SerDel'!G45","v":0},{"$f":"'A10-SerDel'!H45","v":0},null,{"$f":"'A10-SerDel'!I45","v":0},{"$f":"'A10-SerDel'!J45","v":0},{"$f":"'A10-SerDel'!K45","v":0}]

{"sheet":"A2-FinPerf SC","index":7,"n_rows":54,"n_cols":11,"rows_kept":54,"merged":[[1,5,1,7],[1,8,1,10],[53,0,53,10]]}
[{"$f":"muni&\" - \"&Approve3","v":"DC43 Harry Gwala - Table A2 Consolidated Budgeted Financial Performance (revenue and expenditure by functional classification)"}]
[{"$f":"\"Functional Classification \"&desc","v":"Functional Classification Description"},{"$f":"head27","v":"Ref"},{"$f":"head1b","v":"2022/23"},{"$f":"head1A","v":"2023/24"},{"$f":"Head1","v":"2024/25"},{"$f":"Head2","v":"Current Year 2025/26"},null,null,{"$f":"Head3","v":"2026/27 Medium Term Revenue & Expenditure Framework"}]
["R thousand",1,{"$f":"Head5","v":"Audited Outcome"},{"$f":"Head5","v":"Audited Outcome"},{"$f":"Head5","v":"Audited Outcome"},{"$f":"Head6","v":"Original Budget"},{"$f":"Head7","v":"Adjusted Budget"},{"$f":"Head8","v":"Full Year Forecast"},{"$f":"Head9","v":"Budget Year 2026/27"},{"$f":"Head10","v":"Budget Year +1 2027/28"},{"$f":"Head11","v":"Budget Year +2 2028/29"}]
["Revenue - Functional"]
["Governance and administration",null,{"$f":"SUM(C6:C8)","v":{"v":449557850.40000004,"d":"449,558"}},{"$f":"SUM(D6:D8)","v":{"v":490122771.39,"d":"490,123"}},{"v":523673305.88,"d":"523,673"},{"v":551432904,"d":"551,433"},{"v":549438427,"d":"549,438"},{"v":549438427,"d":"549,438"},{"v":578951058,"d":"578,951"},{"v":610005975,"d":"610,006"},{"v":626742590,"d":"626,743"}]
["Executive and council",null,{"$f":"A2A!C6","v":0},{"$f":"A2A!D6","v":0},{"$f":"A2A!E6","v":0},{"$f":"A2A!F6","v":0},{"$f":"A2A!G6","v":0},{"$f":"A2A!H6","v":0},{"$f":"A2A!I6","v":0},{"$f":"A2A!J6","v":0},{"$f":"A2A!K6","v":0}]
["Finance and administration",null,{"$f":"A2A!C9","v":{"v":449557850.40000004,"d":"449,558"}},{"$f":"A2A!D9","v":{"v":490122771.39,"d":"490,123"}},{"$f":"A2A!E9","v":{"v":523673305.88,"d":"523,673"}},{"$f":"A2A!F9","v":{"v":551432904,"d":"551,433"}},{"$f":"A2A!G9","v":{"v":549438427,"d":"549,438"}},{"$f":"A2A!H9","v":{"v":549438427,"d":"549,438"}},{"$f":"A2A!I9","v":{"v":578951058,"d":"578,951"}},{"$f":"A2A!J9","v":{"v":610005975,"d":"610,006"}},{"$f":"A2A!K9","v":{"v":626742590,"d":"626,743"}}]
["Internal audit",null,{"$f":"A2A!C23","v":0},{"$f":"A2A!D23","v":0},{"$f":"A2A!E23","v":0},{"$f":"A2A!F23","v":0},{"$f":"A2A!G23","v":0},{"$f":"A2A!H23","v":0},{"$f":"A2A!I23","v":0},{"$f":"A2A!J23","v":0},{"$f":"A2A!K23","v":0}]
["Community and public safety",null,{"$f":"SUM(C10:C14)","v":{"v":31997.94,"d":"32"}},{"$f":"SUM(D10:D14)","v":{"v":41954.52,"d":"42"}},{"v":37521.92,"d":"38"},{"v":17691,"d":"18"},{"v":83814,"d":"84"},{"v":83814,"d":"84"},{"v":88843,"d":"89"},{"v":94174,"d":"94"},{"v":99824,"d":"100"}]
["Community and social services",null,{"$f":"A2A!C26","v":{"v":31997.94,"d":"32"}},{"$f":"A2A!D26","v":{"v":41954.52,"d":"42"}},{"$f":"A2A!E26","v":{"v":37521.92,"d":"38"}},{"$f":"A2A!F26","v":{"v":17691,"d":"18"}},{"$f":"A2A!G26","v":{"v":83814,"d":"84"}},{"$f":"A2A!H26","v":{"v":83814,"d":"84"}},{"$f":"A2A!I26","v":{"v":88843,"d":"89"}},{"$f":"A2A!J26","v":{"v":94174,"d":"94"}},{"$f":"A2A!K26","v":{"v":99824,"d":"100"}}]
["Sport and recreation",null,{"$f":"A2A!C48","v":0},{"$f":"A2A!D48","v":0},{"$f":"A2A!E48","v":0},{"$f":"A2A!F48","v":0},{"$f":"A2A!G48","v":0},{"$f":"A2A!H48","v":0},{"$f":"A2A!I48","v":0},{"$f":"A2A!J48","v":0},{"$f":"A2A!K48","v":0}]
["Public safety",null,{"$f":"A2A!C54","v":0},{"$f":"A2A!D54","v":0},{"$f":"A2A!E54","v":0},{"$f":"A2A!F54","v":0},{"$f":"A2A!G54","v":0},{"$f":"A2A!H54","v":0},{"$f":"A2A!I54","v":0},{"$f":"A2A!J54","v":0},{"$f":"A2A!K54","v":0}]
["Housing",null,{"$f":"A2A!C63","v":0},{"$f":"A2A!D63","v":0},{"$f":"A2A!E63","v":0},{"$f":"A2A!F63","v":0},{"$f":"A2A!G63","v":0},{"$f":"A2A!H63","v":0},{"$f":"A2A!I63","v":0},{"$f":"A2A!J63","v":0},{"$f":"A2A!K63","v":0}]
["Health",null,{"$f":"A2A!C66","v":0},{"$f":"A2A!D66","v":0},{"$f":"A2A!E66","v":0},{"$f":"A2A!F66","v":0},{"$f":"A2A!G66","v":0},{"$f":"A2A!H66","v":0},{"$f":"A2A!I66","v":0},{"$f":"A2A!J66","v":0},{"$f":"A2A!K66","v":0}]
["Economic and environmental services",null,{"$f":"SUM(C16:C18)","v":{"v":3887850,"d":"3,888"}},{"$f":"SUM(D16:D18)","v":0},{"v":24064325,"d":"24,064"},{"v":23000000,"d":"23,000"},{"v":23000000,"d":"23,000"},{"v":23000000,"d":"23,000"},{"v":23000000,"d":"23,000"},{"v":25500000,"d":"25,500"},{"v":25000000,"d":"25,000"}]
["Planning and development",null,{"$f":"A2A!C75","v":{"v":3887850,"d":"3,888"}},{"$f":"A2A!D75","v":0},{"$f":"A2A!E75","v":{"v":24064325,"d":"24,064"}},{"$f":"A2A!F75","v":{"v":23000000,"d":"23,000"}},{"$f":"A2A!G75","v":{"v":23000000,"d":"23,000"}},{"$f":"A2A!H75","v":{"v":23000000,"d":"23,000"}},{"$f":"A2A!I75","v":{"v":23000000,"d":"23,000"}},{"$f":"A2A!J75","v":{"v":25500000,"d":"25,500"}},{"$f":"A2A!K75","v":{"v":25000000,"d":"25,000"}}]
["Road transport",null,{"$f":"A2A!C86","v":0},{"$f":"A2A!D86","v":0},{"$f":"A2A!E86","v":0},{"$f":"A2A!F86","v":0},{"$f":"A2A!G86","v":0},{"$f":"A2A!H86","v":0},{"$f":"A2A!I86","v":0},{"$f":"A2A!J86","v":0},{"$f":"A2A!K86","v":0}]
["Environmental protection",null,{"$f":"A2A!C91","v":0},{"$f":"A2A!D91","v":0},{"$f":"A2A!E91","v":0},{"$f":"A2A!F91","v":0},{"$f":"A2A!G91","v":0},{"$f":"A2A!H91","v":0},{"$f":"A2A!I91","v":0},{"$f":"A2A!J91","v":0},{"$f":"A2A!K91","v":0}]
["Trading services",null,{"$f":"SUM(C20:C23)","v":{"v":394161978.74000007,"d":"394,162"}},{"$f":"SUM(D20:D23)","v":{"v":434039747.99,"d":"434,040"}},{"v":426160219.92,"d":"426,160"},{"v":442822231,"d":"442,822"},{"v":444498133,"d":"444,498"},{"v":444498133,"d":"444,498"},{"v":468047477,"d":"468,047"},{"$f":"SUM(J20:J23)","v":{"v":535299005,"d":"535,299"}},{"v":527424164,"d":"527,424"}]
["Energy sources",null,{"$f":"A2A!C99","v":0},{"$f":"A2A!D99","v":0},{"$f":"A2A!E99","v":0},{"$f":"A2A!F99","v":0},{"$f":"A2A!G99","v":0},{"$f":"A2A!H99","v":0},{"$f":"A2A!I99","v":0},{"$f":"A2A!J99","v":0},{"$f":"A2A!K99","v":0}]
["Water management",null,{"$f":"A2A!C103","v":{"v":381035494.45000005,"d":"381,035"}},{"$f":"A2A!D103","v":{"v":420226244.93,"d":"420,226"}},{"$f":"A2A!E103","v":{"v":412843074.94,"d":"412,843"}},{"$f":"A2A!F103","v":{"v":426870152,"d":"426,870"}},{"$f":"A2A!G103","v":{"v":430633401,"d":"430,633"}},{"$f":"A2A!H103","v":{"v":430633401,"d":"430,633"}},{"$f":"A2A!I103","v":{"v":453350854,"d":"453,351"}},{"$f":"A2A!J103","v":{"v":519720585,"d":"519,721"}},{"$f":"A2A!K103","v":{"v":510911040,"d":"510,911"}}]
["Waste water management",null,{"$f":"A2A!C107","v":{"v":13126484.29,"d":"13,126"}},{"$f":"A2A!D107","v":{"v":13813503.06,"d":"13,814"}},{"$f":"A2A!E107","v":{"v":13317144.98,"d":"13,317"}},{"$f":"A2A!F107","v":{"v":15952079,"d":"15,952"}},{"$f":"A2A!G107","v":{"v":13864732,"d":"13,865"}},{"$f":"A2A!H107","v":{"v":13864732,"d":"13,865"}},{"$f":"A2A!I107","v":{"v":14696623,"d":"14,697"}},{"$f":"A2A!J107","v":{"v":15578420,"d":"15,578"}},{"$f":"A2A!K107","v":{"v":16513124,"d":"16,513"}}]
["Waste management",null,{"$f":"A2A!C112","v":0},{"$f":"A2A!D112","v":0},{"$f":"A2A!E112","v":0},{"$f":"A2A!F112","v":0},{"$f":"A2A!G112","v":0},{"$f":"A2A!H112","v":0},{"$f":"A2A!I112","v":0},{"$f":"A2A!J112","v":0},{"$f":"A2A!K112","v":0}]
["Other",4,{"$f":"A2A!C117","v":0},{"$f":"A2A!D117","v":0},{"$f":"A2A!E117","v":0},{"$f":"A2A!F117","v":0},{"$f":"A2A!G117","v":0},{"$f":"A2A!H117","v":0},{"$f":"A2A!I117","v":0},{"$f":"A2A!J117","v":0},{"$f":"A2A!K117","v":0}]
[{"$f":"\"Total \"&A4","v":"Total Revenue - Functional"},2,{"$f":"C5+C9+C15+C19+C24","v":{"v":847639677.0800002,"d":"847,640"}},{"$f":"D5+D9+D15+D19+D24","v":{"v":924204473.9,"d":"924,204"}},{"$f":"E5+E9+E15+E19+E24","v":{"v":973935372.72,"d":"973,935"}},{"v":1017272826,"d":"1,017,273"},{"v":1017020374,"d":"1,017,020"},{"v":1017020374,"d":"1,017,020"},{"$f":"I5+I9+I15+I19+I24","v":{"v":1070087378,"d":"1,070,087"}},{"v":1170899154,"d":"1,170,899"},{"v":1179266578,"d":"1,179,267"}]
[]
["Expenditure - Functional"]
["Governance and administration",null,{"$f":"SUM(C29:C31)","v":{"v":284782307.14,"d":"284,782"}},{"$f":"SUM(D29:D31)","v":{"v":282513020.19000006,"d":"282,513"}},{"v":268495420.94,"d":"268,495"},{"v":308802545,"d":"308,803"},{"v":359881509,"d":"359,882"},{"v":359881509,"d":"359,882"},{"v":358231844,"d":"358,232"},{"v":371039255,"d":"371,039"},{"v":384119793,"d":"384,120"}]
["Executive and council",null,{"$f":"A2A!C128","v":{"v":29054001.119999997,"d":"29,054"}},{"$f":"A2A!D128","v":{"v":30252177.29,"d":"30,252"}},{"$f":"A2A!E128","v":{"v":35024145.62,"d":"35,024"}},{"$f":"A2A!F128","v":{"v":52194798,"d":"52,195"}},{"$f":"A2A!G128","v":{"v":53470803,"d":"53,471"}},{"$f":"A2A!H128","v":{"v":53470803,"d":"53,471"}},{"$f":"A2A!I128","v":{"v":47982788,"d":"47,983"}},{"$f":"A2A!J128","v":{"v":49713307,"d":"49,713"}},{"$f":"A2A!K128","v":{"v":51481692,"d":"51,482"}}]
["Finance and administration",null,{"$f":"A2A!C131","v":{"v":244498169.53999996,"d":"244,498"}},{"$f":"A2A!D131","v":{"v":243702341.74,"d":"243,702"}},{"$f":"A2A!E131","v":{"v":225154968.23000002,"d":"225,155"}},{"$f":"A2A!F131","v":{"v":246715854,"d":"246,716"}},{"$f":"A2A!G131","v":{"v":296424846,"d":"296,425"}},{"$f":"A2A!H131","v":{"v":296424846,"d":"296,425"}},{"$f":"A2A!I131","v":{"v":299764447,"d":"299,764"}},{"$f":"A2A!J131","v":{"v":310428671,"d":"310,429"}},{"$f":"A2A!K131","v":{"v":321312861,"d":"321,313"}}]
["Internal audit",null,{"$f":"A2A!C145","v":{"v":11230136.48,"d":"11,230"}},{"$f":"A2A!D145","v":{"v":8558501.16,"d":"8,559"}},{"$f":"A2A!E145","v":{"v":8316307.09,"d":"8,316"}},{"$f":"A2A!F145","v":{"v":9891893,"d":"9,892"}},{"$f":"A2A!G145","v":{"v":9985860,"d":"9,986"}},{"$f":"A2A!H145","v":{"v":9985860,"d":"9,986"}},{"$f":"A2A!I145","v":{"v":10484609,"d":"10,485"}},{"$f":"A2A!J145","v":{"v":10897277,"d":"10,897"}},{"$f":"A2A!K145","v":{"v":11325240,"d":"11,325"}}]
["Community and public safety",null,{"$f":"SUM(C33:C37)","v":{"v":17993059.87,"d":"17,993"}},{"$f":"SUM(D33:D37)","v":{"v":19285064.98,"d":"19,285"}},{"v":18203769.21,"d":"18,204"},{"v":22764931,"d":"22,765"},{"v":20654202,"d":"20,654"},{"v":20654202,"d":"20,654"},{"v":20192518,"d":"20,193"},{"v":20983072,"d":"20,983"},{"v":21802164,"d":"21,802"}]
["Community and social services",null,{"$f":"A2A!C148","v":{"v":17993059.87,"d":"17,993"}},{"$f":"A2A!D148","v":{"v":19285064.98,"d":"19,285"}},{"$f":"A2A!E148","v":{"v":18203769.21,"d":"18,204"}},{"$f":"A2A!F148","v":{"v":22764931,"d":"22,765"}},{"$f":"A2A!G148","v":{"v":20654202,"d":"20,654"}},{"$f":"A2A!H148","v":{"v":20654202,"d":"20,654"}},{"$f":"A2A!I148","v":{"v":20192518,"d":"20,193"}},{"$f":"A2A!J148","v":{"v":20983072,"d":"20,983"}},{"$f":"A2A!K148","v":{"v":21802164,"d":"21,802"}}]
["Sport and recreation",null,{"$f":"A2A!C170","v":0},{"$f":"A2A!D170","v":0},{"$f":"A2A!E170","v":0},{"$f":"A2A!F170","v":0},{"$f":"A2A!G170","v":0},{"$f":"A2A!H170","v":0},{"$f":"A2A!I170","v":0},{"$f":"A2A!J170","v":0},{"$f":"A2A!K170","v":0}]
["Public safety",null,{"$f":"A2A!C176","v":0},{"$f":"A2A!D176","v":0},{"$f":"A2A!E176","v":0},{"$f":"A2A!F176","v":0},{"$f":"A2A!G176","v":0},{"$f":"A2A!H176","v":0},{"$f":"A2A!I176","v":0},{"$f":"A2A!J176","v":0},{"$f":"A2A!K176","v":0}]
["Housing",null,{"$f":"A2A!C185","v":0},{"$f":"A2A!D185","v":0},{"$f":"A2A!E185","v":0},{"$f":"A2A!F185","v":0},{"$f":"A2A!G185","v":0},{"$f":"A2A!H185","v":0},{"$f":"A2A!I185","v":0},{"$f":"A2A!J185","v":0},{"$f":"A2A!K185","v":0}]
["Health",null,{"$f":"A2A!C188","v":0},{"$f":"A2A!D188","v":0},{"$f":"A2A!E188","v":0},{"$f":"A2A!F188","v":0},{"$f":"A2A!G188","v":0},{"$f":"A2A!H188","v":0},{"$f":"A2A!I188","v":0},{"$f":"A2A!J188","v":0},{"$f":"A2A!K188","v":0}]
["Economic and environmental services",null,{"$f":"SUM(C39:C41)","v":{"v":152099009.33,"d":"152,099"}},{"$f":"SUM(D39:D41)","v":{"v":294606032.53000003,"d":"294,606"}},{"v":200808430.35000002,"d":"200,808"},{"v":217958155,"d":"217,958"},{"v":220252158,"d":"220,252"},{"v":220252158,"d":"220,252"},{"v":208119651,"d":"208,120"},{"v":219386635,"d":"219,387"},{"v":225468329,"d":"225,468"}]
["Planning and development",null,{"$f":"A2A!C197","v":{"v":152099009.33,"d":"152,099"}},{"$f":"A2A!D197","v":{"v":294606032.53000003,"d":"294,606"}},{"$f":"A2A!E197","v":{"v":200808430.35000002,"d":"200,808"}},{"$f":"A2A!F197","v":{"v":217958155,"d":"217,958"}},{"$f":"A2A!G197","v":{"v":220252158,"d":"220,252"}},{"$f":"A2A!H197","v":{"v":220252158,"d":"220,252"}},{"$f":"A2A!I197","v":{"v":208119651,"d":"208,120"}},{"$f":"A2A!J197","v":{"v":219386635,"d":"219,387"}},{"$f":"A2A!K197","v":{"v":225468329,"d":"225,468"}}]
["Road transport",null,{"$f":"A2A!C208","v":0},{"$f":"A2A!D208","v":0},{"$f":"A2A!E208","v":0},{"$f":"A2A!F208","v":0},{"$f":"A2A!G208","v":0},{"$f":"A2A!H208","v":0},{"$f":"A2A!I208","v":0},{"$f":"A2A!J208","v":0},{"$f":"A2A!K208","v":0}]
["Environmental protection",null,{"$f":"A2A!C213","v":0},{"$f":"A2A!D213","v":0},{"$f":"A2A!E213","v":0},{"$f":"A2A!F213","v":0},{"$f":"A2A!G213","v":0},{"$f":"A2A!H213","v":0},{"$f":"A2A!I213","v":0},{"$f":"A2A!J213","v":0},{"$f":"A2A!K213","v":0}]
["Trading services",null,{"$f":"SUM(C43:C46)","v":{"v":179555735.34,"d":"179,556"}},{"$f":"SUM(D43:D46)","v":{"v":193054883.41000003,"d":"193,055"}},{"v":245367423.35,"d":"245,367"},{"$f":"SUM(F43:F46)","v":{"v":269548680,"d":"269,549"}},{"v":289532816,"d":"289,533"},{"v":289532816,"d":"289,533"},{"v":283998621,"d":"283,999"},{"v":294196671,"d":"294,197"},{"$f":"SUM(K43:K46)","v":{"v":304592840,"d":"304,593"}}]
["Energy sources",null,{"$f":"A2A!C221","v":0},{"$f":"A2A!D221","v":0},{"$f":"A2A!E221","v":0},{"$f":"A2A!F221","v":0},{"$f":"A2A!G221","v":0},{"$f":"A2A!H221","v":0},{"$f":"A2A!I221","v":0},{"$f":"A2A!J221","v":0},{"$f":"A2A!K221","v":0}]
["Water management",null,{"$f":"A2A!C225","v":{"v":177046287.07,"d":"177,046"}},{"$f":"A2A!D225","v":{"v":192868310.36,"d":"192,868"}},{"$f":"A2A!E225","v":{"v":245182500.38,"d":"245,183"}},{"$f":"A2A!F225","v":{"v":260256279,"d":"260,256"}},{"$f":"A2A!G225","v":{"v":280387316,"d":"280,387"}},{"$f":"A2A!H225","v":{"v":280387316,"d":"280,387"}},{"$f":"A2A!I225","v":{"v":274317230,"d":"274,317"}},{"$f":"A2A!J225","v":{"v":284191149,"d":"284,191"}},{"$f":"A2A!K225","v":{"v":294261619,"d":"294,262"}}]
["Waste water management",null,{"$f":"A2A!C229","v":{"v":2509448.27,"d":"2,509"}},{"$f":"A2A!D229","v":{"v":186573.05,"d":"187"}},{"$f":"A2A!E229","v":{"v":184922.97,"d":"185"}},{"$f":"A2A!F229","v":{"v":9292401,"d":"9,292"}},{"$f":"A2A!G229","v":{"v":9145500,"d":"9,146"}},{"$f":"A2A!H229","v":{"v":9145500,"d":"9,146"}},{"$f":"A2A!I229","v":{"v":9681391,"d":"9,681"}},{"$f":"A2A!J229","v":{"v":10005522,"d":"10,006"}},{"$f":"A2A!K229","v":{"v":10331221,"d":"10,331"}}]
["Waste management",null,{"$f":"A2A!C234","v":0},{"$f":"A2A!D234","v":0},{"$f":"A2A!E234","v":0},{"$f":"A2A!F234","v":0},{"$f":"A2A!G234","v":0},{"$f":"A2A!H234","v":0},{"$f":"A2A!I234","v":0},{"$f":"A2A!J234","v":0},{"$f":"A2A!K234","v":0}]
["Other",4,{"$f":"A2A!C239","v":0},{"$f":"A2A!D239","v":0},{"$f":"A2A!E239","v":0},{"$f":"A2A!F239","v":{"v":100000,"d":"100"}},{"$f":"A2A!G239","v":{"v":100000,"d":"100"}},{"$f":"A2A!H239","v":{"v":100000,"d":"100"}},{"$f":"A2A!I239","v":{"v":104000,"d":"104"}},{"$f":"A2A!J239","v":{"v":108160,"d":"108"}},{"$f":"A2A!K239","v":{"v":112487,"d":"112"}}]
[{"$f":"\"Total \"&A27","v":"Total Expenditure - Functional"},3,{"$f":"C28+C32+C38+C42+C47","v":{"v":634430111.6800001,"d":"634,430"}},{"$f":"D28+D32+D38+D42+D47","v":{"v":789459001.1100001,"d":"789,459"}},{"$f":"E28+E32+E38+E42+E47","v":{"v":732875043.85,"d":"732,875"}},{"$f":"F28+F32+F38+F42+F47","v":{"v":819174311,"d":"819,174"}},{"v":890420685,"d":"890,421"},{"v":890420685,"d":"890,421"},{"v":870646634,"d":"870,647"},{"v":905713793,"d":"905,714"},{"v":936095613,"d":"936,096"}]
[{"$f":"result","v":"Surplus/(Deficit) for the year"},null,{"$f":"C25-C48","v":{"v":213209565.4000001,"d":"213,210"}},{"$f":"D25-D48","v":{"v":134745472.78999984,"d":"134,745"}},{"v":241060328.87,"d":"241,060"},{"v":198098515,"d":"198,099"},{"v":126599689,"d":"126,600"},{"v":126599689,"d":"126,600"},{"v":199440744,"d":"199,441"},{"v":265185361,"d":"265,185"},{"v":243170965,"d":"243,171"}]
[{"$f":"head27a","v":"References"}]
["1. Government Finance Statistics Functions and Sub-functions are standardised to assist the compilation of national and international accounts for comparison purposes"]
["2. Total Revenue by functional classification must reconcile to Total Operating Revenue shown in Budgeted Financial Performance (revenue and expenditure)"]
["3. Total Expenditure by Functional Classification must reconcile to Total Operating Expenditure shown in Budgeted Financial Performance (revenue and expenditure)"]
["4. All amounts must be classified under a functional classification . The GFS function 'Other' is only for Abbatoirs, Air Transport,  Forestry, Licensing and Regulation, Markets and Tourism - and if used must be supported by footnotes. Nothing else may be placed under 'Other'. Assign associate share to relevant classification."]

{"sheet":"A2A","index":8,"n_rows":252,"n_cols":11,"rows_kept":252,"merged":[[1,5,1,7],[1,8,1,10],[251,0,251,10]]}
[{"$f":"muni&\" - \"&Approve3","v":"DC43 Harry Gwala - Table A2 Consolidated Budgeted Financial Performance (revenue and expenditure by functional classification)"}]
[{"$f":"\"Functional Classification \"&desc","v":"Functional Classification Description"},{"$f":"head27","v":"Ref"},{"$f":"head1b","v":"2022/23"},{"$f":"head1A","v":"2023/24"},{"$f":"Head1","v":"2024/25"},{"$f":"Head2","v":"Current Year 2025/26"},null,null,{"$f":"Head3","v":"2026/27 Medium Term Revenue & Expenditure Framework"}]
["R thousand",1,{"$f":"Head5","v":"Audited Outcome"},{"$f":"Head5","v":"Audited Outcome"},{"$f":"Head5","v":"Audited Outcome"},{"$f":"Head6","v":"Original Budget"},{"$f":"Head7","v":"Adjusted Budget"},{"$f":"Head8","v":"Full Year Forecast"},{"$f":"Head9","v":"Budget Year 2026/27"},{"$f":"Head10","v":"Budget Year +1 2027/28"},{"$f":"Head11","v":"Budget Year +2 2028/29"}]
["Revenue - Functional"]
["Municipal governance and administration",null,{"$f":"C6+C9+C23","v":{"v":449557850.40000004,"d":"449,558"}},{"$f":"D6+D9+D23","v":{"v":490122771.39,"d":"490,123"}},{"v":523673305.88,"d":"523,673"},{"v":551432904,"d":"551,433"},{"v":549438427,"d":"549,438"},{"v":549438427,"d":"549,438"},{"v":578951058,"d":"578,951"},{"v":610005975,"d":"610,006"},{"v":626742590,"d":"626,743"}]
["Executive and council",null,{"$f":"SUM(C7:C8)","v":0},{"$f":"SUM(D7:D8)","v":0},0,0,0,0,0,0,0]
["Mayor and Council",null,0,0,0,0,0,0,0,0,0]
["Municipal Manager, Town Secretary and Chief Executive"]
["Finance and administration",null,{"$f":"SUM(C10:C22)","v":{"v":449557850.40000004,"d":"449,558"}},{"$f":"SUM(D10:D22)","v":{"v":490122771.39,"d":"490,123"}},{"v":523673305.88,"d":"523,673"},{"v":551432904,"d":"551,433"},{"v":549438427,"d":"549,438"},{"v":549438427,"d":"549,438"},{"v":578951058,"d":"578,951"},{"v":610005975,"d":"610,006"},{"v":626742590,"d":"626,743"}]
["Administrative and Corporate Support",null,{"v":11295495.16,"d":"11,295"},{"v":22481225.71,"d":"22,481"},{"v":28676436.7,"d":"28,676"},{"v":25088969,"d":"25,089"},{"v":25166059,"d":"25,166"},{"v":25166059,"d":"25,166"},{"v":26680025,"d":"26,680"},{"v":28280720,"d":"28,281"},{"v":29977448,"d":"29,977"}]
["Asset Management"]
["Finance",null,{"v":434507355.24,"d":"434,507"},{"v":466267545.68,"d":"466,268"},{"v":494211869.18,"d":"494,212"},{"v":526343935,"d":"526,344"},{"v":524272368,"d":"524,272"},{"v":524272368,"d":"524,272"},{"v":552271033,"d":"552,271"},{"v":581725255,"d":"581,725"},{"v":596765142,"d":"596,765"}]
["Fleet Management"]
["Human Resources",null,0,0,0,0,0,0,0,0,0]
["Information Technology",null,0,0,0,0,0,0,0,0,0]
["Legal Services"]
["Marketing, Customer Relations, Publicity and Media Co-ordination"]
["Property Services"]
["Risk Management"]
["Security Services"]
["Supply Chain Management ",null,{"v":3755000,"d":"3,755"},{"v":1374000,"d":"1,374"},{"v":785000,"d":"785"},0,0,0,0,0,0]
["Valuation Service"]
["Internal audit",null,{"$f":"SUM(C24:C24)","v":0},{"$f":"SUM(D24:D24)","v":0},0,0,0,0,0,0,0]
["Governance Function",null,0,0,0,0,0,0,0,0,0]
["Community and public safety",null,{"$f":"C26+C48+C54+C63+C66","v":{"v":31997.94,"d":"32"}},{"$f":"D26+D48+D54+D63+D66","v":{"v":41954.52,"d":"42"}},{"v":37521.92,"d":"38"},{"v":17691,"d":"18"},{"v":83814,"d":"84"},{"v":83814,"d":"84"},{"v":88843,"d":"89"},{"v":94174,"d":"94"},{"v":99824,"d":"100"}]
["Community and social services",null,{"$f":"SUM(C27:C47)","v":{"v":31997.94,"d":"32"}},{"$f":"SUM(D27:D47)","v":{"v":41954.52,"d":"42"}},{"v":37521.92,"d":"38"},{"v":17691,"d":"18"},{"v":83814,"d":"84"},{"v":83814,"d":"84"},{"v":88843,"d":"89"},{"v":94174,"d":"94"},{"v":99824,"d":"100"}]
["Aged Care"]
["Agricultural"]
["Animal Care and Diseases"]
["Cemeteries, Funeral Parlours and Crematoriums"]
["Child Care Facilities"]
["Community Halls and Facilities"]
["Consumer Protection"]
["Cultural Matters"]
["Disaster Management",null,{"v":31997.94,"d":"32"},{"v":41954.52,"d":"42"},{"v":37521.92,"d":"38"},{"v":17691,"d":"18"},{"v":83814,"d":"84"},{"v":83814,"d":"84"},{"v":88843,"d":"89"},{"v":94174,"d":"94"},{"v":99824,"d":"100"}]
["Education"]
["Indigenous and Customary Law"]
["Industrial Promotion"]
["Language Policy"]
["Libraries and Archives"]
["Literacy Programmes"]
["Media Services"]
["Museums and Art Galleries"]
["Population Development"]
["Provincial Cultural Matters"]
["Theatres"]
["Zoo's"]
["Sport and recreation",null,{"$f":"SUM(C49:C53)","v":0},{"$f":"SUM(D49:D53)","v":0},0,0,0,0,0,0,0]
["Beaches and Jetties "]
["Casinos, Racing, Gambling, Wagering"]
["Community Parks (including Nurseries)"]
["Recreational Facilities"]
["Sports Grounds and Stadiums"]
["Public safety",null,{"$f":"SUM(C55:C62)","v":0},{"$f":"SUM(D55:D62)","v":0},0,0,0,0,0,0,0]
["Civil Defence"]
["Cleansing"]
["Control of Public Nuisances"]
["Fencing and Fences "]
["Fire Fighting and Protection"]
["Licensing and Control of Animals"]
["Police Forces, Traffic and Street Parking Control"]
["Pounds"]
["Housing",null,{"$f":"SUM(C64:C65)","v":0},{"$f":"SUM(D64:D65)","v":0},0,0,0,0,0,0,0]
["Housing"]
["Informal Settlements"]
["Health",null,{"$f":"SUM(C67:C73)","v":0},{"$f":"SUM(D67:D73)","v":0},0,0,0,0,0,0,0]
["Ambulance"]
["Health Services"]
["Laboratory Services"]
["Food Control"]
["Health Surveillance and Prevention of Communicable Diseases including immunizations"]
["Vector Control"]
["Chemical Safety"]
["Economic and environmental services",null,{"$f":"C75+C86+C91","v":{"v":3887850,"d":"3,888"}},{"$f":"D75+D86+D91","v":0},{"v":24064325,"d":"24,064"},{"v":23000000,"d":"23,000"},{"v":23000000,"d":"23,000"},{"v":23000000,"d":"23,000"},{"v":23000000,"d":"23,000"},{"v":25500000,"d":"25,500"},{"v":25000000,"d":"25,000"}]
["Planning and development",null,{"$f":"SUM(C76:C85)","v":{"v":3887850,"d":"3,888"}},{"$f":"SUM(D76:D85)","v":0},{"v":24064325,"d":"24,064"},{"v":23000000,"d":"23,000"},{"v":23000000,"d":"23,000"},{"v":23000000,"d":"23,000"},{"v":23000000,"d":"23,000"},{"v":25500000,"d":"25,500"},{"v":25000000,"d":"25,000"}]
["Billboards"]
["Corporate Wide Strategic Planning (IDPs, LEDs)"]
["Central City Improvement District"]
["Development Facilitation"]
["Economic Development/Planning",null,0,0,0,{"v":23000000,"d":"23,000"},{"v":23000000,"d":"23,000"},{"v":23000000,"d":"23,000"},{"v":23000000,"d":"23,000"},{"v":25500000,"d":"25,500"},{"v":25000000,"d":"25,000"}]
["Regional Planning and Development"]
["Town Planning, Building Regulations and Enforcement, and City Engineer"]
["Project Management Unit",null,{"v":3887850,"d":"3,888"},0,{"v":24064325,"d":"24,064"},0,0,0,0,0,0]
["Provincial Planning"]
["Support to Local Municipalities",null,0,0,0,0,0,0,0,0,0]
["Road transport",null,{"$f":"SUM(C87:C90)","v":0},{"$f":"SUM(D87:D90)","v":0},0,0,0,0,0,0,0]
["Public Transport"]
["Road and Traffic Regulation"]
["Roads"]
["Taxi Ranks"]
["Environmental protection",null,{"$f":"SUM(C92:C97)","v":0},{"$f":"SUM(D92:D97)","v":0},0,0,0,0,0,0,0]
["Biodiversity and Landscape"]
["Coastal Protection"]
["Indigenous Forests"]
["Nature Conservation"]
["Pollution Control"]
["Soil Conservation"]
["Trading services",null,{"$f":"C99+C103+C107+C112","v":{"v":394161978.74000007,"d":"394,162"}},{"$f":"D99+D103+D107+D112","v":{"v":434039747.99,"d":"434,040"}},{"v":426160219.92,"d":"426,160"},{"v":442822231,"d":"442,822"},{"v":444498133,"d":"444,498"},{"v":444498133,"d":"444,498"},{"v":468047477,"d":"468,047"},{"v":535299005,"d":"535,299"},{"$f":"K99+K103+K107+K112","v":{"v":527424164,"d":"527,424"}}]
["Energy sources",null,{"$f":"SUM(C100:C102)","v":0},{"$f":"SUM(D100:D102)","v":0},0,0,0,0,0,0,0]
["Electricity ",null,0,0,0,0,0,0,0,0,0]
["Street Lighting and Signal Systems"]
["Nonelectric Energy"]
["Water management",null,{"$f":"SUM(C104:C106)","v":{"v":381035494.45000005,"d":"381,035"}},{"$f":"SUM(D104:D106)","v":{"v":420226244.93,"d":"420,226"}},{"v":412843074.94,"d":"412,843"},{"v":426870152,"d":"426,870"},{"v":430633401,"d":"430,633"},{"v":430633401,"d":"430,633"},{"v":453350854,"d":"453,351"},{"v":519720585,"d":"519,721"},{"v":510911040,"d":"510,911"}]
["Water Treatment",null,0,0,0,0,0,0,0,0,0]
["Water Distribution",null,{"v":80616804.66,"d":"80,617"},{"v":75205664.46,"d":"75,206"},{"v":78892829.92,"d":"78,893"},{"v":81594152,"d":"81,594"},{"v":85357401,"d":"85,357"},{"v":85357401,"d":"85,357"},{"v":90478854,"d":"90,479"},{"v":95907585,"d":"95,908"},{"v":101662039,"d":"101,662"}]
["Water Storage",null,{"v":300418689.79,"d":"300,419"},{"v":345020580.47,"d":"345,021"},{"v":333950245.02,"d":"333,950"},{"v":345276000,"d":"345,276"},{"v":345276000,"d":"345,276"},{"v":345276000,"d":"345,276"},{"v":362872000,"d":"362,872"},{"v":423813000,"d":"423,813"},{"v":409249001,"d":"409,249"}]
["Waste water management",null,{"$f":"SUM(C108:C111)","v":{"v":13126484.29,"d":"13,126"}},{"$f":"SUM(D108:D111)","v":{"v":13813503.06,"d":"13,814"}},{"v":13317144.98,"d":"13,317"},{"v":15952079,"d":"15,952"},{"v":13864732,"d":"13,865"},{"v":13864732,"d":"13,865"},{"v":14696623,"d":"14,697"},{"v":15578420,"d":"15,578"},{"v":16513124,"d":"16,513"}]
["Public Toilets"]
["Sewerage",null,{"v":13126484.29,"d":"13,126"},{"v":13813503.06,"d":"13,814"},{"v":13317144.98,"d":"13,317"},{"v":15952079,"d":"15,952"},{"v":13864732,"d":"13,865"},{"v":13864732,"d":"13,865"},{"v":14696623,"d":"14,697"},{"v":15578420,"d":"15,578"},{"v":16513124,"d":"16,513"}]
["Storm Water Management"]
["Waste Water Treatment"]
["Waste management",null,{"$f":"SUM(C113:C116)","v":0},{"$f":"SUM(D113:D116)","v":0},0,0,0,0,0,0,0]
["Recycling"]
["Solid Waste Disposal (Landfill Sites)"]
["Solid Waste Removal"]
["Street Cleaning"]
["Other",null,{"$f":"SUM(C118:C123)","v":0},{"$f":"SUM(D118:D123)","v":0},0,0,0,0,0,0,0]
["Abattoirs"]
["Air Transport"]
["Forestry "]
["Licensing and Regulation"]
["Markets"]
["Tourism"]
[{"$f":"\"Total \"&A4","v":"Total Revenue - Functional"},2,{"$f":"C5+C25+C74+C98+C117","v":{"v":847639677.0800002,"d":"847,640"}},{"$f":"D5+D25+D74+D98+D117","v":{"v":924204473.9,"d":"924,204"}},{"v":973935372.72,"d":"973,935"},{"v":1017272826,"d":"1,017,273"},{"v":1017020374,"d":"1,017,020"},{"v":1017020374,"d":"1,017,020"},{"v":1070087378,"d":"1,070,087"},{"v":1170899154,"d":"1,170,899"},{"v":1179266578,"d":"1,179,267"}]
[]
["Expenditure - Functional"]
[{"$f":"A5","v":"Municipal governance and administration"},null,{"$f":"C128+C131+C145","v":{"v":284782307.14,"d":"284,782"}},{"$f":"D128+D131+D145","v":{"v":282513020.19000006,"d":"282,513"}},{"v":268495420.94,"d":"268,495"},{"v":308802545,"d":"308,803"},{"v":359881509,"d":"359,882"},{"v":359881509,"d":"359,882"},{"v":358231844,"d":"358,232"},{"v":371039255,"d":"371,039"},{"v":384119793,"d":"384,120"}]
["Executive and council",null,{"$f":"SUM(C129:C130)","v":{"v":29054001.119999997,"d":"29,054"}},{"$f":"SUM(D129:D130)","v":{"v":30252177.29,"d":"30,252"}},{"v":35024145.62,"d":"35,024"},{"v":52194798,"d":"52,195"},{"v":53470803,"d":"53,471"},{"v":53470803,"d":"53,471"},{"v":47982788,"d":"47,983"},{"v":49713307,"d":"49,713"},{"v":51481692,"d":"51,482"}]
["Mayor and Council",null,{"v":20424850.24,"d":"20,425"},{"v":18316476.7,"d":"18,316"},{"v":20187197.13,"d":"20,187"},{"v":24808372,"d":"24,808"},{"v":25612098,"d":"25,612"},{"v":25612098,"d":"25,612"},{"v":27509238,"d":"27,509"},{"v":28511666,"d":"28,512"},{"v":29536497,"d":"29,536"}]
["Municipal Manager, Town Secretary and Chief Executive",null,{"v":8629150.88,"d":"8,629"},{"v":11935700.59,"d":"11,936"},{"v":14836948.49,"d":"14,837"},{"v":27386426,"d":"27,386"},{"v":27858705,"d":"27,859"},{"v":27858705,"d":"27,859"},{"v":20473550,"d":"20,474"},{"v":21201641,"d":"21,202"},{"v":21945195,"d":"21,945"}]
["Finance and administration",null,{"$f":"SUM(C132:C144)","v":{"v":244498169.53999996,"d":"244,498"}},{"$f":"SUM(D132:D144)","v":{"v":243702341.74,"d":"243,702"}},{"v":225154968.23000002,"d":"225,155"},{"v":246715854,"d":"246,716"},{"v":296424846,"d":"296,425"},{"v":296424846,"d":"296,425"},{"v":299764447,"d":"299,764"},{"v":310428671,"d":"310,429"},{"v":321312861,"d":"321,313"}]
["Administrative and Corporate Support",null,{"v":128609188.25,"d":"128,609"},{"v":117356561.17,"d":"117,357"},{"v":84397799.61,"d":"84,398"},{"v":112761482,"d":"112,761"},{"v":130769746,"d":"130,770"},{"v":130769746,"d":"130,770"},{"v":114734451,"d":"114,734"},{"v":118985785,"d":"118,986"},{"v":123346122,"d":"123,346"}]
["Asset Management"]
["Finance",null,{"v":19572225.35,"d":"19,572"},{"v":25723228.35,"d":"25,723"},{"v":27137646.58,"d":"27,138"},{"v":27302378,"d":"27,302"},{"v":39254406,"d":"39,254"},{"v":39254406,"d":"39,254"},{"v":47961703,"d":"47,962"},{"v":49557264,"d":"49,557"},{"v":51191244,"d":"51,191"}]
["Fleet Management"]
["Human Resources",null,{"v":12343165.37,"d":"12,343"},{"v":11126664.96,"d":"11,127"},{"v":14104038.92,"d":"14,104"},{"v":16476684,"d":"16,477"},{"v":18368071,"d":"18,368"},{"v":18368071,"d":"18,368"},{"v":18310313,"d":"18,310"},{"v":18977936,"d":"18,978"},{"v":19660570,"d":"19,661"}]
["Information Technology",null,{"v":64642540.91,"d":"64,643"},{"v":69378290.77,"d":"69,378"},{"v":79101538.76,"d":"79,102"},{"v":72071036,"d":"72,071"},{"v":89040019,"d":"89,040"},{"v":89040019,"d":"89,040"},{"v":99034283,"d":"99,034"},{"v":102410607,"d":"102,411"},{"v":105816342,"d":"105,816"}]
["Legal Services",null,{"v":1924802.41,"d":"1,925"},{"v":1970044.88,"d":"1,970"},{"v":2029094.34,"d":"2,029"},{"v":2774240,"d":"2,774"},{"v":3005362,"d":"3,005"},{"v":3005362,"d":"3,005"},{"v":3125524,"d":"3,126"},{"v":3250410,"d":"3,250"},{"v":3380262,"d":"3,380"}]
["Marketing, Customer Relations, Publicity and Media Co-ordination",null,{"v":2180818.14,"d":"2,181"},{"v":2231809.86,"d":"2,232"},{"v":1987694.4,"d":"1,988"},{"v":2835824,"d":"2,836"},{"v":3027338,"d":"3,027"},{"v":3027338,"d":"3,027"},{"v":3146994,"d":"3,147"},{"v":3269168,"d":"3,269"},{"v":3395560,"d":"3,396"}]
["Property Services"]
["Risk Management"]
["Security Services"]
["Supply Chain Management ",null,{"v":15225429.11,"d":"15,225"},{"v":15915741.75,"d":"15,916"},{"v":16397155.62,"d":"16,397"},{"v":12494210,"d":"12,494"},{"v":12959904,"d":"12,960"},{"v":12959904,"d":"12,960"},{"v":13451179,"d":"13,451"},{"v":13977501,"d":"13,978"},{"v":14522761,"d":"14,523"}]
["Valuation Service"]
["Internal audit",null,{"$f":"SUM(C146:C146)","v":{"v":11230136.48,"d":"11,230"}},{"$f":"SUM(D146:D146)","v":{"v":8558501.16,"d":"8,559"}},{"v":8316307.09,"d":"8,316"},{"v":9891893,"d":"9,892"},{"v":9985860,"d":"9,986"},{"v":9985860,"d":"9,986"},{"v":10484609,"d":"10,485"},{"v":10897277,"d":"10,897"},{"v":11325240,"d":"11,325"}]
["Governance Function",null,{"v":11230136.48,"d":"11,230"},{"v":8558501.16,"d":"8,559"},{"v":8316307.09,"d":"8,316"},{"v":9891893,"d":"9,892"},{"v":9985860,"d":"9,986"},{"v":9985860,"d":"9,986"},{"v":10484609,"d":"10,485"},{"v":10897277,"d":"10,897"},{"v":11325240,"d":"11,325"}]
["Community and public safety",null,{"$f":"C148+C170+C176+C185+C188","v":{"v":17993059.87,"d":"17,993"}},{"$f":"D148+D170+D176+D185+D188","v":{"v":19285064.98,"d":"19,285"}},{"v":18203769.21,"d":"18,204"},{"v":22764931,"d":"22,765"},{"v":20654202,"d":"20,654"},{"v":20654202,"d":"20,654"},{"v":20192518,"d":"20,193"},{"v":20983072,"d":"20,983"},{"v":21802164,"d":"21,802"}]
["Community and social services",null,{"$f":"SUM(C149:C169)","v":{"v":17993059.87,"d":"17,993"}},{"$f":"SUM(D149:D169)","v":{"v":19285064.98,"d":"19,285"}},{"v":18203769.21,"d":"18,204"},{"v":22764931,"d":"22,765"},{"v":20654202,"d":"20,654"},{"v":20654202,"d":"20,654"},{"v":20192518,"d":"20,193"},{"v":20983072,"d":"20,983"},{"v":21802164,"d":"21,802"}]
["Aged Care"]
["Agricultural"]
["Animal Care and Diseases"]
["Cemeteries, Funeral Parlours and Crematoriums"]
["Child Care Facilities"]
["Community Halls and Facilities"]
["Consumer Protection"]
["Cultural Matters"]
["Disaster Management",null,{"v":17993059.87,"d":"17,993"},{"v":19285064.98,"d":"19,285"},{"v":18203769.21,"d":"18,204"},{"v":22764931,"d":"22,765"},{"v":20654202,"d":"20,654"},{"v":20654202,"d":"20,654"},{"v":20192518,"d":"20,193"},{"v":20983072,"d":"20,983"},{"v":21802164,"d":"21,802"}]
["Education"]
[{"$f":"A37","v":"Indigenous and Customary Law"}]
["Industrial Promotion"]
["Language Policy"]
["Libraries and Archives"]
["Literacy Programmes"]
["Media Services"]
["Museums and Art Galleries"]
["Population Development"]
["Provincial Cultural Matters"]
["Theatres"]
["Zoo's"]
["Sport and recreation",null,{"$f":"SUM(C171:C175)","v":0},{"$f":"SUM(D171:D175)","v":0},0,0,0,0,0,0,0]
["Beaches and Jetties "]
["Casinos, Racing, Gambling, Wagering"]
["Community Parks (including Nurseries)"]
["Recreational Facilities"]
["Sports Grounds and Stadiums"]
["Public safety",null,{"$f":"SUM(C177:C184)","v":0},{"$f":"SUM(D177:D184)","v":0},0,0,0,0,0,0,0]
["Civil Defence"]
["Cleansing"]
[{"$f":"A57","v":"Control of Public Nuisances"}]
["Fencing and Fences "]
["Fire Fighting and Protection"]
["Licensing and Control of Animals"]
["Police Forces, Traffic and Street Parking Control"]
["Pounds"]
[{"$f":"A63","v":"Housing"},null,{"$f":"SUM(C186:C187)","v":0},{"$f":"SUM(D186:D187)","v":0},0,0,0,0,0,0,0]
["Housing"]
["Informal Settlements"]
["Health",null,{"$f":"SUM(C189:C195)","v":0},{"$f":"SUM(D189:D195)","v":0},0,0,0,0,0,0,0]
["Ambulance"]
["Health Services"]
["Laboratory Services"]
["Food Control"]
["Health Surveillance and Prevention of Communicable Diseases including immunizations"]
["Vector Control"]
["Chemical Safety"]
["Economic and environmental services",null,{"$f":"C197+C208+C213","v":{"v":152099009.33,"d":"152,099"}},{"$f":"D197+D208+D213","v":{"v":294606032.53000003,"d":"294,606"}},{"v":200808430.35000002,"d":"200,808"},{"v":217958155,"d":"217,958"},{"v":220252158,"d":"220,252"},{"v":220252158,"d":"220,252"},{"v":208119651,"d":"208,120"},{"v":219386635,"d":"219,387"},{"v":225468329,"d":"225,468"}]
["Planning and development",null,{"$f":"SUM(C198:C207)","v":{"v":152099009.33,"d":"152,099"}},{"$f":"SUM(D198:D207)","v":{"v":294606032.53000003,"d":"294,606"}},{"v":200808430.35000002,"d":"200,808"},{"v":217958155,"d":"217,958"},{"v":220252158,"d":"220,252"},{"v":220252158,"d":"220,252"},{"v":208119651,"d":"208,120"},{"v":219386635,"d":"219,387"},{"v":225468329,"d":"225,468"}]
["Billboards"]
["Corporate Wide Strategic Planning (IDPs, LEDs)",null,{"v":3690589.32,"d":"3,691"},{"v":4637889.21,"d":"4,638"},{"v":4252100.17,"d":"4,252"},{"v":3433594,"d":"3,434"},{"v":3471407,"d":"3,471"},{"v":3471407,"d":"3,471"},{"v":3610194,"d":"3,610"},{"v":3754421,"d":"3,754"},{"v":3904381,"d":"3,904"}]
["Central City Improvement District"]
["Development Facilitation"]
["Economic Development/Planning",null,{"v":24857520.46,"d":"24,858"},{"v":27290280.81,"d":"27,290"},{"v":29127177.94,"d":"29,127"},{"v":37405201,"d":"37,405"},{"v":40314409,"d":"40,314"},{"v":40314409,"d":"40,314"},{"v":41445922,"d":"41,446"},{"v":44650659,"d":"44,651"},{"v":44877620,"d":"44,878"}]
["Regional Planning and Development"]
["Town Planning, Building Regulations and Enforcement, and City Engineer"]
["Project Management Unit",null,{"v":119605818.72,"d":"119,606"},{"v":257473891.46,"d":"257,474"},{"v":161791218,"d":"161,791"},{"v":164789344,"d":"164,789"},{"v":164800304,"d":"164,800"},{"v":164800304,"d":"164,800"},{"v":150250086,"d":"150,250"},{"v":157727985,"d":"157,728"},{"v":162988101,"d":"162,988"}]
["Provincial Planning"]
["Support to Local Municipalities",null,{"v":3945080.83,"d":"3,945"},{"v":5203971.05,"d":"5,204"},{"v":5637934.24,"d":"5,638"},{"v":12330016,"d":"12,330"},{"v":11666038,"d":"11,666"},{"v":11666038,"d":"11,666"},{"v":12813449,"d":"12,813"},{"v":13253570,"d":"13,254"},{"v":13698227,"d":"13,698"}]
["Road transport",null,{"$f":"SUM(C209:C212)","v":0},{"$f":"SUM(D209:D212)","v":0},0,0,0,0,0,0,0]
["Public Transport"]
["Road and Traffic Regulation"]
["Roads"]
["Taxi Ranks"]
["Environmental protection",null,{"$f":"SUM(C214:C219)","v":0},{"$f":"SUM(D214:D219)","v":0},0,0,0,0,0,0,0]
["Biodiversity and Landscape"]
["Coastal Protection"]
["Indigenous Forests"]
[{"$f":"A95","v":"Nature Conservation"}]
["Pollution Control"]
["Soil Conservation"]
["Trading services",null,{"$f":"C221+C225+C229+C234","v":{"v":179555735.34,"d":"179,556"}},{"$f":"D221+D225+D229+D234","v":{"v":193054883.41000003,"d":"193,055"}},{"v":245367423.35,"d":"245,367"},{"v":269548680,"d":"269,549"},{"v":289532816,"d":"289,533"},{"v":289532816,"d":"289,533"},{"v":283998621,"d":"283,999"},{"v":294196671,"d":"294,197"},{"v":304592840,"d":"304,593"}]
["Energy sources",null,{"$f":"SUM(C222:C224)","v":0},{"$f":"SUM(D222:D224)","v":0},0,0,0,0,0,0,0]
["Electricity ",null,0,0,0,0,0,0,0,0,0]
["Street Lighting and Signal Systems"]
["Nonelectric Energy"]
["Water management",null,{"$f":"SUM(C226:C228)","v":{"v":177046287.07,"d":"177,046"}},{"$f":"SUM(D226:D228)","v":{"v":192868310.36,"d":"192,868"}},{"v":245182500.38,"d":"245,183"},{"v":260256279,"d":"260,256"},{"v":280387316,"d":"280,387"},{"v":280387316,"d":"280,387"},{"v":274317230,"d":"274,317"},{"v":284191149,"d":"284,191"},{"v":294261619,"d":"294,262"}]
["Water Treatment",null,{"v":131503533.58,"d":"131,504"},{"v":127566219.64,"d":"127,566"},{"v":145447877.99,"d":"145,448"},{"v":136239466,"d":"136,239"},{"v":146603050,"d":"146,603"},{"v":146603050,"d":"146,603"},{"v":147748040,"d":"147,748"},{"v":153294176,"d":"153,294"},{"v":158996472,"d":"158,996"}]
["Water Distribution",null,{"v":45542753.49,"d":"45,543"},{"v":65302090.72,"d":"65,302"},{"v":99734622.39,"d":"99,735"},{"v":124016813,"d":"124,017"},{"v":133784266,"d":"133,784"},{"v":133784266,"d":"133,784"},{"v":126569190,"d":"126,569"},{"v":130896973,"d":"130,897"},{"v":135265147,"d":"135,265"}]
["Water Storage"]
["Waste water management",null,{"$f":"SUM(C230:C233)","v":{"v":2509448.27,"d":"2,509"}},{"$f":"SUM(D230:D233)","v":{"v":186573.05,"d":"187"}},{"v":184922.97,"d":"185"},{"v":9292401,"d":"9,292"},{"v":9145500,"d":"9,146"},{"v":9145500,"d":"9,146"},{"v":9681391,"d":"9,681"},{"v":10005522,"d":"10,006"},{"v":10331221,"d":"10,331"}]
["Public Toilets"]
["Sewerage",null,{"v":2509448.27,"d":"2,509"},{"v":186573.05,"d":"187"},{"v":184922.97,"d":"185"},{"v":9292401,"d":"9,292"},{"v":9145500,"d":"9,146"},{"v":9145500,"d":"9,146"},{"v":9681391,"d":"9,681"},{"v":10005522,"d":"10,006"},{"v":10331221,"d":"10,331"}]
["Storm Water Management"]
["Waste Water Treatment"]
["Waste management",null,{"$f":"SUM(C235:C238)","v":0},{"$f":"SUM(D235:D238)","v":0},0,0,0,0,0,0,0]
["Recycling"]
["Solid Waste Disposal (Landfill Sites)"]
["Solid Waste Removal"]
["Street Cleaning"]
["Other",null,{"$f":"SUM(C240:C245)","v":0},{"$f":"SUM(D240:D245)","v":0},0,{"v":100000,"d":"100"},{"v":100000,"d":"100"},{"v":100000,"d":"100"},{"v":104000,"d":"104"},{"v":108160,"d":"108"},{"v":112487,"d":"112"}]
["Abattoirs"]
["Air Transport"]
["Forestry "]
["Licensing and Regulation"]
["Markets"]
["Tourism",null,0,0,0,{"v":100000,"d":"100"},{"v":100000,"d":"100"},{"v":100000,"d":"100"},{"v":104000,"d":"104"},{"v":108160,"d":"108"},{"v":112487,"d":"112"}]
[{"$f":"\"Total \"&A126","v":"Total Expenditure - Functional"},3,{"$f":"C127+C147+C196+C220+C239","v":{"v":634430111.6800001,"d":"634,430"}},{"$f":"D127+D147+D196+D220+D239","v":{"v":789459001.1100001,"d":"789,459"}},{"v":732875043.85,"d":"732,875"},{"v":819174311,"d":"819,174"},{"v":890420685,"d":"890,421"},{"v":890420685,"d":"890,421"},{"v":870646634,"d":"870,647"},{"v":905713793,"d":"905,714"},{"v":936095613,"d":"936,096"}]
[{"$f":"result","v":"Surplus/(Deficit) for the year"},null,{"$f":"C124-C246","v":{"v":213209565.4000001,"d":"213,210"}},{"$f":"D124-D246","v":{"v":134745472.78999984,"d":"134,745"}},{"v":241060328.87,"d":"241,060"},{"v":198098515,"d":"198,099"},{"v":126599689,"d":"126,600"},{"v":126599689,"d":"126,600"},{"v":199440744,"d":"199,441"},{"v":265185361,"d":"265,185"},{"v":243170965,"d":"243,171"}]
[{"$f":"head27a","v":"References"}]
["1. Government Finance Statistics Functions and Sub-functions are standardised to assist national and international accounts and comparison"]
["2. Total Revenue by Functional Classification must reconcile to total operating revenue shown in Financial Performance (revenue and expenditure)"]
["3. Total Expenditure by Functional Classification must reconcile to total operating expenditure shown in Financial Performance (revenue and expenditure)"]
["4. All amounts must be classified under a Functional classification. The GFS function 'Other' is only for Abbatoirs, Air Transport,  Forestry, Licensing and Regulation, Markets and Tourism - and if used must be supported by footnotes. Nothing else may be placed under 'Other'. Assign associate share to relevant classification"]

{"sheet":"A3-FinPerf V","index":9,"n_rows":43,"n_cols":23,"rows_kept":43,"merged":[[1,5,1,7],[1,8,1,10],[1,11,1,22]]}
[{"$f":"muni&\" - \"&Approve2","v":"DC43 Harry Gwala - Table A3 Consolidated Budgeted Financial Performance (revenue and expenditure by municipal vote)"}]
[{"$f":"Vdesc","v":"Vote Description"},{"$f":"head27","v":"Ref"},{"$f":"head1b","v":"2022/23"},{"$f":"head1A","v":"2023/24"},{"$f":"Head1","v":"2024/25"},{"$f":"Head2","v":"Current Year 2025/26"},null,null,{"$f":"Head3","v":"2026/27 Medium Term Revenue & Expenditure Framework"},null,null,{"$f":"Head4","v":"LTFS"}]
["R thousand",null,{"$f":"Head5","v":"Audited Outcome"},{"$f":"Head5","v":"Audited Outcome"},{"$f":"Head5","v":"Audited Outcome"},{"$f":"Head6","v":"Original Budget"},{"$f":"Head7","v":"Adjusted Budget"},{"$f":"Head8","v":"Full Year Forecast"},{"$f":"Head9","v":"Budget Year 2026/27"},{"$f":"Head10","v":"Budget Year +1 2027/28"},{"$f":"Head11","v":"Budget Year +2 2028/29"},{"$f":"Head12","v":"Forecast 2029/30"},{"$f":"Head13","v":"Forecast 2030/31"},{"$f":"Head14","v":"Forecast 2031/32"},{"$f":"Head15","v":"Forecast 2032/33"},{"$f":"Head16","v":"Forecast 2033/34"},{"$f":"Head17","v":"Forecast 2034/35"},{"$f":"Head18","v":"Forecast 2035/36"},{"$f":"Head19","v":"Forecast 2036/37"},{"$f":"Head20","v":"Forecast 2037/38"},{"$f":"Head21","v":"Forecast 2038/39"},{"$f":"Head22","v":"Forecast 2039/40"},{"$f":"Head23","v":"Forecast 2040/41"}]
["Revenue by Vote",1]
[{"$f":"A3A!A5","v":"Vote 01 - Summary Council"},null,{"$f":"A3A!C5","v":0},{"$f":"A3A!D5","v":0},{"$f":"A3A!E5","v":0},{"$f":"A3A!F5","v":0},{"$f":"A3A!G5","v":0},{"$f":"A3A!H5","v":0},{"$f":"A3A!I5","v":0},{"$f":"A3A!J5","v":0},{"$f":"A3A!K5","v":0}]
[{"$f":"A3A!A11","v":"Vote 02 - Summary Municipal Manager"},null,{"$f":"A3A!C11","v":0},{"$f":"A3A!D11","v":0},{"$f":"A3A!E11","v":0},{"$f":"A3A!F11","v":0},{"$f":"A3A!G11","v":0},{"$f":"A3A!H11","v":0},{"$f":"A3A!I11","v":0},{"$f":"A3A!J11","v":0},{"$f":"A3A!K11","v":0}]
[{"$f":"A3A!A16","v":"Vote 03 - Summary Budget And Treasury Office"},null,{"$f":"A3A!C16","v":{"v":449162359.49,"d":"449,162"}},{"$f":"A3A!D16","v":{"v":489676302.13,"d":"489,676"}},{"$f":"A3A!E16","v":{"v":523056098.02,"d":"523,056"}},{"$f":"A3A!F16","v":{"v":549506961,"d":"549,507"}},{"$f":"A3A!G16","v":{"v":547435394,"d":"547,435"}},{"$f":"A3A!H16","v":{"v":547435394,"d":"547,435"}},{"$f":"A3A!I16","v":{"v":576861458,"d":"576,861"}},{"$f":"A3A!J16","v":{"v":607831921,"d":"607,832"}},{"$f":"A3A!K16","v":{"v":624485064,"d":"624,485"}}]
[{"$f":"A3A!A20","v":"Vote 04 - Summary Corporate Services"},null,{"$f":"A3A!C20","v":{"v":372203.22,"d":"372"}},{"$f":"A3A!D20","v":{"v":418238.91,"d":"418"}},{"$f":"A3A!E20","v":{"v":392879.51,"d":"393"}},{"$f":"A3A!F20","v":{"v":410316,"d":"410"}},{"$f":"A3A!G20","v":{"v":410316,"d":"410"}},{"$f":"A3A!H20","v":{"v":410316,"d":"410"}},{"$f":"A3A!I20","v":{"v":434935,"d":"435"}},{"$f":"A3A!J20","v":{"v":461032,"d":"461"}},{"$f":"A3A!K20","v":{"v":488693,"d":"489"}}]
[{"$f":"A3A!A26","v":"Vote 05 - Summary Social Services & Development Planing"},null,{"$f":"A3A!C26","v":{"v":31997.94,"d":"32"}},{"$f":"A3A!D26","v":{"v":41954.52,"d":"42"}},{"$f":"A3A!E26","v":{"v":37521.92,"d":"38"}},{"$f":"A3A!F26","v":{"v":24479291,"d":"24,479"}},{"$f":"A3A!G26","v":{"v":24545414,"d":"24,545"}},{"$f":"A3A!H26","v":{"v":24545414,"d":"24,545"}},{"$f":"A3A!I26","v":{"v":24604523,"d":"24,605"}},{"$f":"A3A!J26","v":{"v":27159871,"d":"27,160"}},{"$f":"A3A!K26","v":{"v":26712492,"d":"26,712"}}]
[{"$f":"A3A!A38","v":"Vote 06 - Summary Infrastructure Services"},null,{"$f":"A3A!C38","v":{"v":308606231.17,"d":"308,606"}},{"$f":"A3A!D38","v":{"v":348936993.08000004,"d":"348,937"}},{"$f":"A3A!E38","v":{"v":361419405.90999997,"d":"361,419"}},{"$f":"A3A!F38","v":{"v":350081348,"d":"350,081"}},{"$f":"A3A!G38","v":{"v":350081348,"d":"350,081"}},{"$f":"A3A!H38","v":{"v":350081348,"d":"350,081"}},{"$f":"A3A!I38","v":{"v":367965670,"d":"367,966"}},{"$f":"A3A!J38","v":{"v":429212290,"d":"429,212"}},{"$f":"A3A!K38","v":{"v":414972249,"d":"414,972"}}]
[{"$f":"A3A!A45","v":"Vote 07 - Summary Water Services"},null,{"$f":"A3A!C45","v":{"v":89466885.25999999,"d":"89,467"}},{"$f":"A3A!D45","v":{"v":85130985.25999999,"d":"85,131"}},{"$f":"A3A!E45","v":{"v":89029467.36,"d":"89,029"}},{"$f":"A3A!F45","v":{"v":92794910,"d":"92,795"}},{"$f":"A3A!G45","v":{"v":94547902,"d":"94,548"}},{"$f":"A3A!H45","v":{"v":94547902,"d":"94,548"}},{"$f":"A3A!I45","v":{"v":100220792,"d":"100,221"}},{"$f":"A3A!J45","v":{"v":106234040,"d":"106,234"}},{"$f":"A3A!K45","v":{"v":112608080,"d":"112,608"}}]
[{"$f":"'Org structure'!A9","v":"Vote 08 - "},null,{"$f":"A3A!C57","v":0},{"$f":"A3A!D57","v":0},{"$f":"A3A!E57","v":0},{"$f":"A3A!F57","v":0},{"$f":"A3A!G57","v":0},{"$f":"A3A!H57","v":0},{"$f":"A3A!I57","v":0},{"$f":"A3A!J57","v":0},{"$f":"A3A!K57","v":0}]
[{"$f":"'Org structure'!A10","v":"Vote 09 - "},null,{"$f":"A3A!C58","v":0},{"$f":"A3A!D58","v":0},{"$f":"A3A!E58","v":0},{"$f":"A3A!F58","v":0},{"$f":"A3A!G58","v":0},{"$f":"A3A!H58","v":0},{"$f":"A3A!I58","v":0},{"$f":"A3A!J58","v":0},{"$f":"A3A!K58","v":0}]
[{"$f":"'Org structure'!A11","v":"Vote 10 - "},null,{"$f":"A3A!C59","v":0},{"$f":"A3A!D59","v":0},{"$f":"A3A!E59","v":0},{"$f":"A3A!F59","v":0},{"$f":"A3A!G59","v":0},{"$f":"A3A!H59","v":0},{"$f":"A3A!I59","v":0},{"$f":"A3A!J59","v":0},{"$f":"A3A!K59","v":0}]
[{"$f":"'Org structure'!A12","v":"Vote 11 - "},null,{"$f":"A3A!C60","v":0},{"$f":"A3A!D60","v":0},{"$f":"A3A!E60","v":0},{"$f":"A3A!F60","v":0},{"$f":"A3A!G60","v":0},{"$f":"A3A!H60","v":0},{"$f":"A3A!I60","v":0},{"$f":"A3A!J60","v":0},{"$f":"A3A!K60","v":0},{"$f":"A5A!#REF!","v":{"$error":"#REF!"}}]
[{"$f":"'Org structure'!A13","v":"Vote 12 - "},null,{"$f":"A3A!C61","v":0},{"$f":"A3A!D61","v":0},{"$f":"A3A!E61","v":0},{"$f":"A3A!F61","v":0},{"$f":"A3A!G61","v":0},{"$f":"A3A!H61","v":0},{"$f":"A3A!I61","v":0},{"$f":"A3A!J61","v":0},{"$f":"A3A!K61","v":0},{"$f":"A5A!#REF!","v":{"$error":"#REF!"}}]
[{"$f":"'Org structure'!A14","v":"Vote 13 - "},null,{"$f":"A3A!C62","v":0},{"$f":"A3A!D62","v":0},{"$f":"A3A!E62","v":0},{"$f":"A3A!F62","v":0},{"$f":"A3A!G62","v":0},{"$f":"A3A!H62","v":0},{"$f":"A3A!I62","v":0},{"$f":"A3A!J62","v":0},{"$f":"A3A!K62","v":0},{"$f":"A5A!#REF!","v":{"$error":"#REF!"}}]
[{"$f":"'Org structure'!A15","v":"Vote 14 - "},null,{"$f":"A3A!C63","v":0},{"$f":"A3A!D63","v":0},{"$f":"A3A!E63","v":0},{"$f":"A3A!F63","v":0},{"$f":"A3A!G63","v":0},{"$f":"A3A!H63","v":0},{"$f":"A3A!I63","v":0},{"$f":"A3A!J63","v":0},{"$f":"A3A!K63","v":0},{"$f":"A5A!#REF!","v":{"$error":"#REF!"}}]
[{"$f":"'Org structure'!A16","v":"Vote 15 - Other"},null,{"$f":"A3A!C64","v":0},{"$f":"A3A!D64","v":0},{"$f":"A3A!E64","v":0},{"$f":"A3A!F64","v":0},{"$f":"A3A!G64","v":0},{"$f":"A3A!H64","v":0},{"$f":"A3A!I64","v":0},{"$f":"A3A!J64","v":0},{"$f":"A3A!K64","v":0},{"$f":"A5A!#REF!","v":{"$error":"#REF!"}}]
["Total Revenue by Vote",2,{"$f":"SUM(C5:C19)","v":{"v":847639677.08,"d":"847,640"}},{"$f":"SUM(D5:D19)","v":{"v":924204473.9000001,"d":"924,204"}},{"v":973935372.7199999,"d":"973,935"},{"v":1017272826,"d":"1,017,273"},{"v":1017020374,"d":"1,017,020"},{"v":1017020374,"d":"1,017,020"},{"v":1070087378,"d":"1,070,087"},{"v":1170899154,"d":"1,170,899"},{"v":1179266578,"d":"1,179,267"}]
[]
["Expenditure by Vote to be appropriated",1]
[{"$f":"A3A!A68","v":"Vote 01 - Summary Council"},null,{"$f":"A3A!C68","v":{"v":18112131.94,"d":"18,112"}},{"$f":"A3A!D68","v":{"v":15581486.53,"d":"15,581"}},{"$f":"A3A!E68","v":{"v":17788066.21,"d":"17,788"}},{"$f":"A3A!F68","v":{"v":20566938,"d":"20,567"}},{"$f":"A3A!G68","v":{"v":21741165,"d":"21,741"}},{"$f":"A3A!H68","v":{"v":21741165,"d":"21,741"}},{"$f":"A3A!I68","v":{"v":23632634,"d":"23,633"}},{"$f":"A3A!J68","v":{"v":24496040,"d":"24,496"}},{"$f":"A3A!K68","v":{"v":25379185,"d":"25,379"}}]
[{"$f":"A3A!A74","v":"Vote 02 - Summary Municipal Manager"},null,{"$f":"A3A!C74","v":{"v":22172005.66,"d":"22,172"}},{"$f":"A3A!D74","v":{"v":23229191.92,"d":"23,229"}},{"$f":"A3A!E74","v":{"v":27119769.44,"d":"27,120"}},{"$f":"A3A!F74","v":{"v":31263566,"d":"31,264"}},{"$f":"A3A!G74","v":{"v":31513398,"d":"31,513"}},{"$f":"A3A!H74","v":{"v":31513398,"d":"31,513"}},{"$f":"A3A!I74","v":{"v":32250837,"d":"32,251"}},{"$f":"A3A!J74","v":{"v":33441996,"d":"33,442"}},{"$f":"A3A!K74","v":{"v":34662949,"d":"34,663"}}]
[{"$f":"A3A!A79","v":"Vote 03 - Summary Budget And Treasury Office"},null,{"$f":"A3A!C79","v":{"v":94175681.56,"d":"94,176"}},{"$f":"A3A!D79","v":{"v":97676870.94,"d":"97,677"}},{"$f":"A3A!E79","v":{"v":69768455.42,"d":"69,768"}},{"$f":"A3A!F79","v":{"v":64749470,"d":"64,749"}},{"$f":"A3A!G79","v":{"v":76726737,"d":"76,727"}},{"$f":"A3A!H79","v":{"v":76726737,"d":"76,727"}},{"$f":"A3A!I79","v":{"v":76941979,"d":"76,942"}},{"$f":"A3A!J79","v":{"v":79836577,"d":"79,837"}},{"$f":"A3A!K79","v":{"v":82901961,"d":"82,902"}}]
[{"$f":"A3A!A83","v":"Vote 04 - Summary Corporate Services"},null,{"$f":"A3A!C83","v":{"v":90553669.57999998,"d":"90,554"}},{"$f":"A3A!D83","v":{"v":93167927.78999999,"d":"93,168"}},{"$f":"A3A!E83","v":{"v":106597759.07000001,"d":"106,598"}},{"$f":"A3A!F83","v":{"v":110298861,"d":"110,299"}},{"$f":"A3A!G83","v":{"v":130947210,"d":"130,947"}},{"$f":"A3A!H83","v":{"v":130947210,"d":"130,947"}},{"$f":"A3A!I83","v":{"v":141503252,"d":"141,503"}},{"$f":"A3A!J83","v":{"v":146404733,"d":"146,405"}},{"$f":"A3A!K83","v":{"v":151365282,"d":"151,365"}}]
[{"$f":"A3A!A89","v":"Vote 05 - Summary Social Services & Development Planing"},null,{"$f":"A3A!C89","v":{"v":50486250.48,"d":"50,486"}},{"$f":"A3A!D89","v":{"v":56417206.05,"d":"56,417"}},{"$f":"A3A!E89","v":{"v":55653598.62,"d":"55,654"}},{"$f":"A3A!F89","v":{"v":97924266,"d":"97,924"}},{"$f":"A3A!G89","v":{"v":98040082,"d":"98,040"}},{"$f":"A3A!H89","v":{"v":98040082,"d":"98,040"}},{"$f":"A3A!I89","v":{"v":102806434,"d":"102,806"}},{"$f":"A3A!J89","v":{"v":108198287,"d":"108,198"}},{"$f":"A3A!K89","v":{"v":110599190,"d":"110,599"}}]
[{"$f":"A3A!A101","v":"Vote 06 - Summary Infrastructure Services"},null,{"$f":"A3A!C101","v":{"v":122016385.86,"d":"122,016"}},{"$f":"A3A!D101","v":{"v":257942197.82,"d":"257,942"}},{"$f":"A3A!E101","v":{"v":162332332.95,"d":"162,332"}},{"$f":"A3A!F101","v":{"v":165407579,"d":"165,408"}},{"$f":"A3A!G101","v":{"v":165842592,"d":"165,843"}},{"$f":"A3A!H101","v":{"v":165842592,"d":"165,843"}},{"$f":"A3A!I101","v":{"v":151334066,"d":"151,334"}},{"$f":"A3A!J101","v":{"v":158855324,"d":"158,855"}},{"$f":"A3A!K101","v":{"v":164160534,"d":"164,161"}}]
[{"$f":"A3A!A108","v":"Vote 07 - Summary Water Services"},null,{"$f":"A3A!C108","v":{"v":236913986.6,"d":"236,914"}},{"$f":"A3A!D108","v":{"v":245444120.06000003,"d":"245,444"}},{"$f":"A3A!E108","v":{"v":293615062.14,"d":"293,615"}},{"$f":"A3A!F108","v":{"v":328963631,"d":"328,964"}},{"$f":"A3A!G108","v":{"v":365609501,"d":"365,610"}},{"$f":"A3A!H108","v":{"v":365609501,"d":"365,610"}},{"$f":"A3A!I108","v":{"v":342177432,"d":"342,177"}},{"$f":"A3A!J108","v":{"v":354480836,"d":"354,481"}},{"$f":"A3A!K108","v":{"v":367026512,"d":"367,027"}}]
[{"$f":"'Org structure'!A9","v":"Vote 08 - "},null,{"$f":"A3A!C120","v":0},{"$f":"A3A!D120","v":0},{"$f":"A3A!E120","v":0},{"$f":"A3A!F120","v":0},{"$f":"A3A!G120","v":0},{"$f":"A3A!H120","v":0},{"$f":"A3A!I120","v":0},{"$f":"A3A!J120","v":0},{"$f":"A3A!K120","v":0}]
[{"$f":"'Org structure'!A10","v":"Vote 09 - "},null,{"$f":"A3A!C121","v":0},{"$f":"A3A!D121","v":0},{"$f":"A3A!E121","v":0},{"$f":"A3A!F121","v":0},{"$f":"A3A!G121","v":0},{"$f":"A3A!H121","v":0},{"$f":"A3A!I121","v":0},{"$f":"A3A!J121","v":0},{"$f":"A3A!K121","v":0}]
[{"$f":"'Org structure'!A11","v":"Vote 10 - "},null,{"$f":"A3A!C122","v":0},{"$f":"A3A!D122","v":0},{"$f":"A3A!E122","v":0},{"$f":"A3A!F122","v":0},{"$f":"A3A!G122","v":0},{"$f":"A3A!H122","v":0},{"$f":"A3A!I122","v":0},{"$f":"A3A!J122","v":0},{"$f":"A3A!K122","v":0}]
[{"$f":"'Org structure'!A12","v":"Vote 11 - "},null,{"$f":"A3A!C123","v":0},{"$f":"A3A!D123","v":0},{"$f":"A3A!E123","v":0},{"$f":"A3A!F123","v":0},{"$f":"A3A!G123","v":0},{"$f":"A3A!H123","v":0},{"$f":"A3A!I123","v":0},{"$f":"A3A!J123","v":0},{"$f":"A3A!K123","v":0},{"$f":"A3A!#REF!","v":{"$error":"#REF!"}}]
[{"$f":"'Org structure'!A13","v":"Vote 12 - "},null,{"$f":"A3A!C124","v":0},{"$f":"A3A!D124","v":0},{"$f":"A3A!E124","v":0},{"$f":"A3A!F124","v":0},{"$f":"A3A!G124","v":0},{"$f":"A3A!H124","v":0},{"$f":"A3A!I124","v":0},{"$f":"A3A!J124","v":0},{"$f":"A3A!K124","v":0},{"$f":"A3A!#REF!","v":{"$error":"#REF!"}}]
[{"$f":"'Org structure'!A14","v":"Vote 13 - "},null,{"$f":"A3A!C125","v":0},{"$f":"A3A!D125","v":0},{"$f":"A3A!E125","v":0},{"$f":"A3A!F125","v":0},{"$f":"A3A!G125","v":0},{"$f":"A3A!H125","v":0},{"$f":"A3A!I125","v":0},{"$f":"A3A!J125","v":0},{"$f":"A3A!K125","v":0},{"$f":"A3A!#REF!","v":{"$error":"#REF!"}}]
[{"$f":"'Org structure'!A15","v":"Vote 14 - "},null,{"$f":"A3A!C126","v":0},{"$f":"A3A!D126","v":0},{"$f":"A3A!E126","v":0},{"$f":"A3A!F126","v":0},{"$f":"A3A!G126","v":0},{"$f":"A3A!H126","v":0},{"$f":"A3A!I126","v":0},{"$f":"A3A!J126","v":0},{"$f":"A3A!K126","v":0},{"$f":"A3A!#REF!","v":{"$error":"#REF!"}}]
[{"$f":"'Org structure'!A16","v":"Vote 15 - Other"},null,{"$f":"A3A!C127","v":0},{"$f":"A3A!D127","v":0},{"$f":"A3A!E127","v":0},{"$f":"A3A!F127","v":0},{"$f":"A3A!G127","v":0},{"$f":"A3A!H127","v":0},{"$f":"A3A!I127","v":0},{"$f":"A3A!J127","v":0},{"$f":"A3A!K127","v":0},{"$f":"A3A!#REF!","v":{"$error":"#REF!"}}]
["Total Expenditure by Vote",2,{"$f":"SUM(C23:C37)","v":{"v":634430111.68,"d":"634,430"}},{"$f":"SUM(D23:D37)","v":{"v":789459001.11,"d":"789,459"}},{"$f":"SUM(E23:E37)","v":{"v":732875043.8499999,"d":"732,875"}},{"v":819174311,"d":"819,174"},{"v":890420685,"d":"890,421"},{"v":890420685,"d":"890,421"},{"v":870646634,"d":"870,647"},{"v":905713793,"d":"905,714"},{"v":936095613,"d":"936,096"},{"$f":"SUM(L23:L29)","v":0},0,0,0,0,0,0,0,0,0,0,0]
[{"$f":"result","v":"Surplus/(Deficit) for the year"},2,{"$f":"C20-C38","v":{"v":213209565.4000001,"d":"213,210"}},{"$f":"D20-D38","v":{"v":134745472.79000008,"d":"134,745"}},{"v":241060328.87,"d":"241,060"},{"v":198098515,"d":"198,099"},{"v":126599689,"d":"126,600"},{"v":126599689,"d":"126,600"},{"v":199440744,"d":"199,441"},{"v":265185361,"d":"265,185"},{"v":243170965,"d":"243,171"},0,0,0,0,0,0,0,0,0,0,0,0]
[{"$f":"head27a","v":"References"}]
["1. Insert 'Vote'; e.g. department, if different to functional classification structure"]
["2. Must reconcile to Budgeted Financial Performance (revenue and expenditure)"]
["3. Assign share in 'associate' to relevant Vote"]

{"sheet":"A3A","index":10,"n_rows":134,"n_cols":23,"rows_kept":134,"merged":[[1,5,1,7],[1,8,1,10],[1,11,1,22]]}
[{"$f":"muni&\" - \"&Approve2&\"A\"","v":"DC43 Harry Gwala - Table A3 Consolidated Budgeted Financial Performance (revenue and expenditure by municipal vote)A"}]
[{"$f":"Vdesc","v":"Vote Description"},{"$f":"head27","v":"Ref"},{"$f":"head1b","v":"2022/23"},{"$f":"head1A","v":"2023/24"},{"$f":"Head1","v":"2024/25"},{"$f":"Head2","v":"Current Year 2025/26"},null,null,{"$f":"Head3","v":"2026/27 Medium Term Revenue & Expenditure Framework"},null,null,{"$f":"Head4","v":"LTFS"}]
["R thousand",null,{"$f":"Head5","v":"Audited Outcome"},{"$f":"Head5","v":"Audited Outcome"},{"$f":"Head5","v":"Audited Outcome"},{"$f":"Head6","v":"Original Budget"},{"$f":"Head7","v":"Adjusted Budget"},{"$f":"Head8","v":"Full Year Forecast"},{"$f":"Head9","v":"Budget Year 2026/27"},{"$f":"Head10","v":"Budget Year +1 2027/28"},{"$f":"Head11","v":"Budget Year +2 2028/29"},{"$f":"Head12","v":"Forecast 2029/30"},{"$f":"Head13","v":"Forecast 2030/31"},{"$f":"Head14","v":"Forecast 2031/32"},{"$f":"Head15","v":"Forecast 2032/33"},{"$f":"Head16","v":"Forecast 2033/34"},{"$f":"Head17","v":"Forecast 2034/35"},{"$f":"Head18","v":"Forecast 2035/36"},{"$f":"Head19","v":"Forecast 2036/37"},{"$f":"Head20","v":"Forecast 2037/38"},{"$f":"Head21","v":"Forecast 2038/39"},{"$f":"Head22","v":"Forecast 2039/40"},{"$f":"Head23","v":"Forecast 2040/41"}]
["Revenue by Vote",1]
[{"$f":"'Org structure'!A2","v":"Vote 01 - Summary Council"},null,{"$f":"SUM(C6:C10)","v":0},0,0,0,0,0,0,0,0]
[{"$f":"'Org structure'!E3","v":"01.1 - Mayor"},null,0,0,0,0,0,0,0,0,0]
[{"$f":"'Org structure'!E4","v":"01.2 - Deputy Mayor"},null,0,0,0,0,0,0,0,0,0]
[{"$f":"'Org structure'!E5","v":"01.3 - Speaker"},null,0,0,0,0,0,0,0,0,0]
[{"$f":"'Org structure'!E6","v":"01.4 - Exco"},null,0,0,0,0,0,0,0,0,0]
[{"$f":"'Org structure'!E7","v":"01.5 - Council General"},null,0,0,0,0,0,0,0,0,0]
[{"$f":"'Org structure'!A3","v":"Vote 02 - Summary Municipal Manager"},null,{"$f":"SUM(C12:C15)","v":0},0,0,0,0,0,0,0,0]
[{"$f":"'Org structure'!E9","v":"02.1 - Municipal Manager Administration"},null,0,0,0,0,0,0,0,0,0]
[{"$f":"'Org structure'!E10","v":"02.2 - Internal Audit Unit"},null,0,0,0,0,0,0,0,0,0]
[{"$f":"'Org structure'!E11","v":"02.3 - Monitoring And Evaluation( Pob) Support Services"},null,0,0,0,0,0,0,0,0,0]
[{"$f":"'Org structure'!E12","v":"02.4 - Idp & Pms"},null,0,0,0,0,0,0,0,0,0]
[{"$f":"'Org structure'!A4","v":"Vote 03 - Summary Budget And Treasury Office"},null,{"$f":"SUM(C17:C19)","v":{"v":449162359.49,"d":"449,162"}},{"v":489676302.13,"d":"489,676"},{"v":523056098.02,"d":"523,056"},{"v":549506961,"d":"549,507"},{"v":547435394,"d":"547,435"},{"v":547435394,"d":"547,435"},{"v":576861458,"d":"576,861"},{"v":607831921,"d":"607,832"},{"v":624485064,"d":"624,485"}]
[{"$f":"'Org structure'!E14","v":"03.1 - Budget & Treasury Administration"},null,{"v":434507355.24,"d":"434,507"},{"v":466267545.68,"d":"466,268"},{"v":494211869.18,"d":"494,212"},{"v":524882335,"d":"524,882"},{"v":522810768,"d":"522,811"},{"v":522810768,"d":"522,811"},{"v":550755353,"d":"550,755"},{"v":580159558,"d":"580,160"},{"v":595152474,"d":"595,152"}]
[{"$f":"'Org structure'!E15","v":"03.2 - Income Expenditure & Accounting Support"},null,{"v":10900004.25,"d":"10,900"},{"v":22034756.45,"d":"22,035"},{"v":28059228.84,"d":"28,059"},{"v":24624626,"d":"24,625"},{"v":24624626,"d":"24,625"},{"v":24624626,"d":"24,625"},{"v":26106105,"d":"26,106"},{"v":27672363,"d":"27,672"},{"v":29332590,"d":"29,333"}]
[{"$f":"'Org structure'!E16","v":"03.3 - Budgeting & Supply Chain Management"},null,{"v":3755000,"d":"3,755"},{"v":1374000,"d":"1,374"},{"v":785000,"d":"785"},0,0,0,0,0,0]
[{"$f":"'Org structure'!A5","v":"Vote 04 - Summary Corporate Services"},null,{"$f":"SUM(C21:C25)","v":{"v":372203.22,"d":"372"}},{"v":418238.91,"d":"418"},{"v":392879.51,"d":"393"},{"v":410316,"d":"410"},{"v":410316,"d":"410"},{"v":410316,"d":"410"},{"v":434935,"d":"435"},{"v":461032,"d":"461"},{"v":488693,"d":"489"}]
[{"$f":"'Org structure'!E18","v":"04.1 - Corporate Services Administration"},null,{"v":372203.22,"d":"372"},{"v":418238.91,"d":"418"},{"v":392879.51,"d":"393"},{"v":410316,"d":"410"},{"v":410316,"d":"410"},{"v":410316,"d":"410"},{"v":434935,"d":"435"},{"v":461032,"d":"461"},{"v":488693,"d":"489"}]
[{"$f":"'Org structure'!E19","v":"04.2 - Human Resources & Labour Relations"},null,0,0,0,0,0,0,0,0,0]
[{"$f":"'Org structure'!E20","v":"04.3 - Administration & Ict"},null,0,0,0,0,0,0,0,0,0]
[{"$f":"'Org structure'!E21","v":"04.4 - Communication & Legal Support"},null,0,0,0,0,0,0,0,0,0]
[{"$f":"'Org structure'!E22","v":"04.5 - Learnerships And Internships"},null,0,0,0,0,0,0,0,0,0]
[{"$f":"'Org structure'!A6","v":"Vote 05 - Summary Social Services & Development Planing"},null,{"$f":"SUM(C27:C37)","v":{"v":31997.94,"d":"32"}},{"v":41954.52,"d":"42"},{"v":37521.92,"d":"38"},{"v":24479291,"d":"24,479"},{"v":24545414,"d":"24,545"},{"v":24545414,"d":"24,545"},{"v":24604523,"d":"24,605"},{"v":27159871,"d":"27,160"},{"v":26712492,"d":"26,712"}]
[{"$f":"'Org structure'!E24","v":"05.1 - Social Econ & Develop Planning Admin."},null,0,0,0,0,0,0,0,0,0]
[{"$f":"'Org structure'!E25","v":"05.2 - Special Programmes"},null,0,0,0,0,0,0,0,0,0]
[{"$f":"'Org structure'!E26","v":"05.3 - Social Services"},null,{"v":31997.94,"d":"32"},{"v":41954.52,"d":"42"},{"v":37521.92,"d":"38"},{"v":17691,"d":"18"},{"v":83814,"d":"84"},{"v":83814,"d":"84"},{"v":88843,"d":"89"},{"v":94174,"d":"94"},{"v":99824,"d":"100"}]
[{"$f":"'Org structure'!E27","v":"05.4 - Strategic Planning; Idp & Pms"},null,0,0,0,0,0,0,0,0,0]
[{"$f":"'Org structure'!E28","v":"05.5 - Development Planning"},null,0,0,0,0,0,0,0,0,0]
[{"$f":"'Org structure'!E29","v":"05.6 - Office Of The Ceo"},null,0,0,0,0,0,0,0,0,0]
[{"$f":"'Org structure'!E30","v":"05.7 - Corporate Services"},null,0,0,0,0,0,0,0,0,0]
[{"$f":"'Org structure'!E31","v":"05.8 - Chief Financial Officer"},null,0,0,0,{"v":1461600,"d":"1,462"},{"v":1461600,"d":"1,462"},{"v":1461600,"d":"1,462"},{"v":1515680,"d":"1,516"},{"v":1565697,"d":"1,566"},{"v":1612668,"d":"1,613"}]
[{"$f":"'Org structure'!E32","v":"05.9 - Tourism"},null,0,0,0,0,0,0,0,0,0]
[{"$f":"'Org structure'!E33","v":"05.10 - Local Economic Development"},null,0,0,0,0,0,0,0,0,0]
[{"$f":"'Org structure'!E34","v":"05.11 - Local Economic Development (Rep Fx)"},null,0,0,0,{"v":23000000,"d":"23,000"},{"v":23000000,"d":"23,000"},{"v":23000000,"d":"23,000"},{"v":23000000,"d":"23,000"},{"v":25500000,"d":"25,500"},{"v":25000000,"d":"25,000"}]
[{"$f":"'Org structure'!A7","v":"Vote 06 - Summary Infrastructure Services"},null,{"$f":"SUM(C39:C44)","v":{"v":308606231.17,"d":"308,606"}},{"v":348936993.08000004,"d":"348,937"},{"v":361419405.90999997,"d":"361,419"},{"v":350081348,"d":"350,081"},{"v":350081348,"d":"350,081"},{"v":350081348,"d":"350,081"},{"v":367965670,"d":"367,966"},{"v":429212290,"d":"429,212"},{"v":414972249,"d":"414,972"}]
[{"$f":"'Org structure'!E36","v":"06.1 - Infrastructure Services Administration"},null,{"v":3887850,"d":"3,888"},0,{"v":24064325,"d":"24,064"},0,0,0,0,0,0]
[{"$f":"'Org structure'!E37","v":"06.2 - Municipal Works & Professional Services"},null,0,0,0,0,0,0,0,0,0]
[{"$f":"'Org structure'!E38","v":"06.3 - Project & Infra Grant Management"},null,0,0,0,0,0,0,0,0,0]
[{"$f":"'Org structure'!E39","v":"06.4 - Reporting Function"},null,{"v":4299691.38,"d":"4,300"},{"v":3916412.61,"d":"3,916"},{"v":3404835.89,"d":"3,405"},{"v":4805348,"d":"4,805"},{"v":4805348,"d":"4,805"},{"v":4805348,"d":"4,805"},{"v":5093670,"d":"5,094"},{"v":5399290,"d":"5,399"},{"v":5723248,"d":"5,723"}]
[{"$f":"'Org structure'!E40","v":"06.5 - Reporting Function"},null,{"v":300418689.79,"d":"300,419"},{"v":345020580.47,"d":"345,021"},{"v":333950245.02,"d":"333,950"},{"v":345276000,"d":"345,276"},{"v":345276000,"d":"345,276"},{"v":345276000,"d":"345,276"},{"v":362872000,"d":"362,872"},{"v":423813000,"d":"423,813"},{"v":409249001,"d":"409,249"}]
[{"$f":"'Org structure'!E41","v":"06.6 - Reporting Function"},null,0,0,0,0,0,0,0,0,0]
[{"$f":"'Org structure'!A8","v":"Vote 07 - Summary Water Services"},null,{"$f":"SUM(C46:C56)","v":{"v":89466885.25999999,"d":"89,467"}},{"v":85130985.25999999,"d":"85,131"},{"v":89029467.36,"d":"89,029"},{"v":92794910,"d":"92,795"},{"v":94547902,"d":"94,548"},{"v":94547902,"d":"94,548"},{"v":100220792,"d":"100,221"},{"v":106234040,"d":"106,234"},{"v":112608080,"d":"112,608"}]
[{"$f":"'Org structure'!E43","v":"07.1 - Water Services Administration"},null,{"v":76317113.28,"d":"76,317"},{"v":71289251.85,"d":"71,289"},{"v":75487994.03,"d":"75,488"},{"v":76788804,"d":"76,789"},{"v":80552053,"d":"80,552"},{"v":80552053,"d":"80,552"},{"v":85385184,"d":"85,385"},{"v":90508295,"d":"90,508"},{"v":95938791,"d":"95,939"}]
[{"$f":"'Org structure'!E44","v":"07.2 - Water Infrastructure Planning & Design"},null,0,0,0,0,0,0,0,0,0]
[{"$f":"'Org structure'!E45","v":"07.3 - Water Operations & Maintenance"},null,0,0,0,0,0,0,0,0,0]
[{"$f":"'Org structure'!E46","v":"07.4 - Sanitation Operations & Maintenance"},null,{"v":13126484.29,"d":"13,126"},{"v":13813503.06,"d":"13,814"},{"v":13317144.98,"d":"13,317"},{"v":15952079,"d":"15,952"},{"v":13864732,"d":"13,865"},{"v":13864732,"d":"13,865"},{"v":14696623,"d":"14,697"},{"v":15578420,"d":"15,578"},{"v":16513124,"d":"16,513"}]
[{"$f":"'Org structure'!E47","v":"07.5 - Customer Care Services"},null,0,0,0,0,0,0,0,0,0]
[{"$f":"'Org structure'!E48","v":"07.6 - Water Regulation/Governance"},null,0,0,0,0,0,0,0,0,0]
[{"$f":"'Org structure'!E49","v":"07.7 - Dr Nkosozana Dlamini Zuma Lm"},null,{"v":23287.69,"d":"23"},{"v":28230.35,"d":"28"},{"v":224328.35,"d":"224"},{"v":54027,"d":"54"},{"v":131117,"d":"131"},{"v":131117,"d":"131"},{"v":138985,"d":"139"},{"v":147325,"d":"147"},{"v":156165,"d":"156"}]
[{"$f":"'Org structure'!E50","v":"07.8 - Umzimkhulu"},null,0,0,0,0,0,0,0,0,0]
[{"$f":"'Org structure'!E51","v":"07.9 - Kokstad"},null,0,0,0,0,0,0,0,0,0]
[{"$f":"'Org structure'!E52","v":"07.10 - Ubuhlebezwe"},null,0,0,0,0,0,0,0,0,0]
[{"$f":"'Org structure'!E53","v":"07.11 - Reporting Function"},null,0,0,0,0,0,0,0,0,0]
[{"$f":"'Org structure'!A9","v":"Vote 08 - "},null,0,0,0,0,0,0,0,0,0]
[{"$f":"'Org structure'!A10","v":"Vote 09 - "},null,0,0,0,0,0,0,0,0,0]
[{"$f":"'Org structure'!A11","v":"Vote 10 - "},null,0,0,0,0,0,0,0,0,0]
[{"$f":"'Org structure'!A12","v":"Vote 11 - "},null,0,0,0,0,0,0,0,0,0]
[{"$f":"'Org structure'!A13","v":"Vote 12 - "},null,0,0,0,0,0,0,0,0,0]
[{"$f":"'Org structure'!A14","v":"Vote 13 - "},null,0,0,0,0,0,0,0,0,0]
[{"$f":"'Org structure'!A15","v":"Vote 14 - "},null,0,0,0,0,0,0,0,0,0]
[{"$f":"'Org structure'!A16","v":"Vote 15 - Other"},null,0,0,0,0,0,0,0,0,0]
["Total Revenue by Vote",2,{"$f":"C5+C11+C16+C20+C26+C38+C45+C57+C58+C59+C60+C61+C62+C63+C64","v":{"v":847639677.08,"d":"847,640"}},{"v":924204473.9000001,"d":"924,204"},{"v":973935372.7199999,"d":"973,935"},{"v":1017272826,"d":"1,017,273"},{"v":1017020374,"d":"1,017,020"},{"v":1017020374,"d":"1,017,020"},{"v":1070087378,"d":"1,070,087"},{"v":1170899154,"d":"1,170,899"},{"v":1179266578,"d":"1,179,267"},{"$f":"SUM(L52:L56)","v":0},0,0,0,0,0,0,0,0,0,0,0]
[]
["Expenditure by Vote",1]
[{"$f":"'Org structure'!A2","v":"Vote 01 - Summary Council"},null,{"$f":"SUM(C69:C73)","v":{"v":18112131.94,"d":"18,112"}},{"v":15581486.53,"d":"15,581"},{"v":17788066.21,"d":"17,788"},{"v":20566938,"d":"20,567"},{"v":21741165,"d":"21,741"},{"v":21741165,"d":"21,741"},{"v":23632634,"d":"23,633"},{"v":24496040,"d":"24,496"},{"v":25379185,"d":"25,379"}]
[{"$f":"'Org structure'!E3","v":"01.1 - Mayor"},null,{"v":2420184.59,"d":"2,420"},{"v":2182392.61,"d":"2,182"},{"v":3961127.31,"d":"3,961"},{"v":4246535,"d":"4,247"},{"v":4816806,"d":"4,817"},{"v":4816806,"d":"4,817"},{"v":5005856,"d":"5,006"},{"v":5204374,"d":"5,204"},{"v":5410522,"d":"5,411"}]
[{"$f":"'Org structure'!E4","v":"01.2 - Deputy Mayor"},null,{"v":1245429.57,"d":"1,245"},{"v":1310950.47,"d":"1,311"},{"v":1367895.23,"d":"1,368"},{"v":2055063,"d":"2,055"},{"v":2053612,"d":"2,054"},{"v":2053612,"d":"2,054"},{"v":2135728,"d":"2,136"},{"v":2221081,"d":"2,221"},{"v":2309831,"d":"2,310"}]
[{"$f":"'Org structure'!E5","v":"01.3 - Speaker"},null,{"v":772622.86,"d":"773"},{"v":829806.27,"d":"830"},{"v":882655.65,"d":"883"},{"v":919272,"d":"919"},{"v":918693,"d":"919"},{"v":918693,"d":"919"},{"v":955423,"d":"955"},{"v":993594,"d":"994"},{"v":1033281,"d":"1,033"}]
[{"$f":"'Org structure'!E6","v":"01.4 - Exco"},null,{"v":1339607.17,"d":"1,340"},{"v":1395467.51,"d":"1,395"},{"v":1692423.17,"d":"1,692"},{"v":1814524,"d":"1,815"},{"v":1818694,"d":"1,819"},{"v":1818694,"d":"1,819"},{"v":1891405,"d":"1,891"},{"v":1966967,"d":"1,967"},{"v":2045535,"d":"2,046"}]
[{"$f":"'Org structure'!E7","v":"01.5 - Council General"},null,{"v":12334287.75,"d":"12,334"},{"v":9862869.67,"d":"9,863"},{"v":9883964.85,"d":"9,884"},{"v":11531544,"d":"11,532"},{"v":12133360,"d":"12,133"},{"v":12133360,"d":"12,133"},{"v":13644222,"d":"13,644"},{"v":14110024,"d":"14,110"},{"v":14580016,"d":"14,580"}]
[{"$f":"'Org structure'!A3","v":"Vote 02 - Summary Municipal Manager"},null,{"$f":"SUM(C75:C78)","v":{"v":22172005.66,"d":"22,172"}},{"v":23229191.92,"d":"23,229"},{"v":27119769.44,"d":"27,120"},{"v":31263566,"d":"31,264"},{"v":31513398,"d":"31,513"},{"v":31513398,"d":"31,513"},{"v":32250837,"d":"32,251"},{"v":33441996,"d":"33,442"},{"v":34662949,"d":"34,663"}]
[{"$f":"'Org structure'!E9","v":"02.1 - Municipal Manager Administration"},null,{"v":8629150.88,"d":"8,629"},{"v":11935700.59,"d":"11,936"},{"v":14836948.49,"d":"14,837"},{"v":17130239,"d":"17,130"},{"v":17656605,"d":"17,657"},{"v":17656605,"d":"17,657"},{"v":17889624,"d":"17,890"},{"v":18529093,"d":"18,529"},{"v":19180397,"d":"19,180"}]
[{"$f":"'Org structure'!E10","v":"02.2 - Internal Audit Unit"},null,{"v":11230136.48,"d":"11,230"},{"v":8558501.16,"d":"8,559"},{"v":8316307.09,"d":"8,316"},{"v":9891893,"d":"9,892"},{"v":9985860,"d":"9,986"},{"v":9985860,"d":"9,986"},{"v":10484609,"d":"10,485"},{"v":10897277,"d":"10,897"},{"v":11325240,"d":"11,325"}]
[{"$f":"'Org structure'!E11","v":"02.3 - Monitoring And Evaluation( Pob) Support Services"},null,{"v":2312718.3,"d":"2,313"},{"v":2734990.17,"d":"2,735"},{"v":2399130.92,"d":"2,399"},{"v":4241434,"d":"4,241"},{"v":3870933,"d":"3,871"},{"v":3870933,"d":"3,871"},{"v":3876604,"d":"3,877"},{"v":4015626,"d":"4,016"},{"v":4157312,"d":"4,157"}]
[{"$f":"'Org structure'!E12","v":"02.4 - Idp & Pms"},null,0,0,{"v":1567382.94,"d":"1,567"},0,0,0,0,0,0]
[{"$f":"'Org structure'!A4","v":"Vote 03 - Summary Budget And Treasury Office"},null,{"$f":"SUM(C80:C82)","v":{"v":94175681.56,"d":"94,176"}},{"v":97676870.94,"d":"97,677"},{"v":69768455.42,"d":"69,768"},{"v":64749470,"d":"64,749"},{"v":76726737,"d":"76,727"},{"v":76726737,"d":"76,727"},{"v":76941979,"d":"76,942"},{"v":79836577,"d":"79,837"},{"v":82901961,"d":"82,902"}]
[{"$f":"'Org structure'!E14","v":"03.1 - Budget & Treasury Administration"},null,{"v":19572225.35,"d":"19,572"},{"v":25723228.35,"d":"25,723"},{"v":27137646.58,"d":"27,138"},{"v":23282966,"d":"23,283"},{"v":35237405,"d":"35,237"},{"v":35237405,"d":"35,237"},{"v":33824804,"d":"33,825"},{"v":35017714,"d":"35,018"},{"v":36317494,"d":"36,317"}]
[{"$f":"'Org structure'!E15","v":"03.2 - Income Expenditure & Accounting Support"},null,{"v":59378027.1,"d":"59,378"},{"v":56037900.84,"d":"56,038"},{"v":26233653.22,"d":"26,234"},{"v":28972294,"d":"28,972"},{"v":28529428,"d":"28,529"},{"v":28529428,"d":"28,529"},{"v":29665996,"d":"29,666"},{"v":30841362,"d":"30,841"},{"v":32061706,"d":"32,062"}]
[{"$f":"'Org structure'!E16","v":"03.3 - Budgeting & Supply Chain Management"},null,{"v":15225429.11,"d":"15,225"},{"v":15915741.75,"d":"15,916"},{"v":16397155.62,"d":"16,397"},{"v":12494210,"d":"12,494"},{"v":12959904,"d":"12,960"},{"v":12959904,"d":"12,960"},{"v":13451179,"d":"13,451"},{"v":13977501,"d":"13,978"},{"v":14522761,"d":"14,523"}]
[{"$f":"'Org structure'!A5","v":"Vote 04 - Summary Corporate Services"},null,{"$f":"SUM(C84:C88)","v":{"v":90553669.57999998,"d":"90,554"}},{"v":93167927.78999999,"d":"93,168"},{"v":106597759.07000001,"d":"106,598"},{"v":110298861,"d":"110,299"},{"v":130947210,"d":"130,947"},{"v":130947210,"d":"130,947"},{"v":141503252,"d":"141,503"},{"v":146404733,"d":"146,405"},{"v":151365282,"d":"151,365"}]
[{"$f":"'Org structure'!E18","v":"04.1 - Corporate Services Administration"},null,{"v":11643160.89,"d":"11,643"},{"v":10692927.18,"d":"10,693"},{"v":11363087.05,"d":"11,363"},{"v":18976901,"d":"18,977"},{"v":20533758,"d":"20,534"},{"v":20533758,"d":"20,534"},{"v":21033132,"d":"21,033"},{"v":21765780,"d":"21,766"},{"v":22508108,"d":"22,508"}]
[{"$f":"'Org structure'!E19","v":"04.2 - Human Resources & Labour Relations"},null,{"v":12343165.37,"d":"12,343"},{"v":11126664.96,"d":"11,127"},{"v":14104038.92,"d":"14,104"},{"v":16476684,"d":"16,477"},{"v":18368071,"d":"18,368"},{"v":18368071,"d":"18,368"},{"v":18310313,"d":"18,310"},{"v":18977936,"d":"18,978"},{"v":19660570,"d":"19,661"}]
[{"$f":"'Org structure'!E20","v":"04.3 - Administration & Ict"},null,{"v":64642540.91,"d":"64,643"},{"v":69378290.77,"d":"69,378"},{"v":79101538.76,"d":"79,102"},{"v":72071036,"d":"72,071"},{"v":89040019,"d":"89,040"},{"v":89040019,"d":"89,040"},{"v":99034283,"d":"99,034"},{"v":102410607,"d":"102,411"},{"v":105816342,"d":"105,816"}]
[{"$f":"'Org structure'!E21","v":"04.4 - Communication & Legal Support"},null,{"v":1924802.41,"d":"1,925"},{"v":1970044.88,"d":"1,970"},{"v":2029094.34,"d":"2,029"},{"v":2228786,"d":"2,229"},{"v":2459908,"d":"2,460"},{"v":2459908,"d":"2,460"},{"v":2558251,"d":"2,558"},{"v":2660446,"d":"2,660"},{"v":2766700,"d":"2,767"}]
[{"$f":"'Org structure'!E22","v":"04.5 - Learnerships And Internships"},null,0,0,0,{"v":545454,"d":"545"},{"v":545454,"d":"545"},{"v":545454,"d":"545"},{"v":567273,"d":"567"},{"v":589964,"d":"590"},{"v":613562,"d":"614"}]
[{"$f":"'Org structure'!A6","v":"Vote 05 - Summary Social Services & Development Planing"},null,{"$f":"SUM(C90:C100)","v":{"v":50486250.48,"d":"50,486"}},{"v":56417206.05,"d":"56,417"},{"v":55653598.62,"d":"55,654"},{"v":97924266,"d":"97,924"},{"v":98040082,"d":"98,040"},{"v":98040082,"d":"98,040"},{"v":102806434,"d":"102,806"},{"v":108198287,"d":"108,198"},{"v":110599190,"d":"110,599"}]
[{"$f":"'Org structure'!E24","v":"05.1 - Social Econ & Develop Planning Admin."},null,{"v":20587621.77,"d":"20,588"},{"v":22742379.15,"d":"22,742"},{"v":24672704.36,"d":"24,673"},{"v":28726268,"d":"28,726"},{"v":30941140,"d":"30,941"},{"v":30941140,"d":"30,941"},{"v":31405979,"d":"31,406"},{"v":34237614,"d":"34,238"},{"v":34081687,"d":"34,082"}]
[{"$f":"'Org structure'!E25","v":"05.2 - Special Programmes"},null,{"v":3945080.83,"d":"3,945"},{"v":5203971.05,"d":"5,204"},{"v":5637934.24,"d":"5,638"},{"v":12330016,"d":"12,330"},{"v":11666038,"d":"11,666"},{"v":11666038,"d":"11,666"},{"v":12813449,"d":"12,813"},{"v":13253570,"d":"13,254"},{"v":13698227,"d":"13,698"}]
[{"$f":"'Org structure'!E26","v":"05.3 - Social Services"},null,{"v":17993059.87,"d":"17,993"},{"v":19285064.98,"d":"19,285"},{"v":18203769.21,"d":"18,204"},{"v":22764931,"d":"22,765"},{"v":20654202,"d":"20,654"},{"v":20654202,"d":"20,654"},{"v":20192518,"d":"20,193"},{"v":20983072,"d":"20,983"},{"v":21802164,"d":"21,802"}]
[{"$f":"'Org structure'!E27","v":"05.4 - Strategic Planning; Idp & Pms"},null,{"v":3690589.32,"d":"3,691"},{"v":4637889.21,"d":"4,638"},{"v":2684717.23,"d":"2,685"},{"v":3433594,"d":"3,434"},{"v":3471407,"d":"3,471"},{"v":3471407,"d":"3,471"},{"v":3610194,"d":"3,610"},{"v":3754421,"d":"3,754"},{"v":3904381,"d":"3,904"}]
[{"$f":"'Org structure'!E28","v":"05.5 - Development Planning"},null,{"v":4269898.69,"d":"4,270"},{"v":4547901.66,"d":"4,548"},{"v":4454473.58,"d":"4,454"},{"v":6211698,"d":"6,212"},{"v":6846034,"d":"6,846"},{"v":6846034,"d":"6,846"},{"v":9417954,"d":"9,418"},{"v":9766177,"d":"9,766"},{"v":10123188,"d":"10,123"}]
[{"$f":"'Org structure'!E29","v":"05.6 - Office Of The Ceo"},null,0,0,0,{"v":10256187,"d":"10,256"},{"v":10202100,"d":"10,202"},{"v":10202100,"d":"10,202"},{"v":2583926,"d":"2,584"},{"v":2672548,"d":"2,673"},{"v":2764798,"d":"2,765"}]
[{"$f":"'Org structure'!E30","v":"05.7 - Corporate Services"},null,0,0,0,{"v":7614925,"d":"7,615"},{"v":7614925,"d":"7,615"},{"v":7614925,"d":"7,615"},{"v":7919526,"d":"7,920"},{"v":8236307,"d":"8,236"},{"v":8565763,"d":"8,566"}]
[{"$f":"'Org structure'!E31","v":"05.8 - Chief Financial Officer"},null,0,0,0,{"v":4019412,"d":"4,019"},{"v":4017001,"d":"4,017"},{"v":4017001,"d":"4,017"},{"v":14136899,"d":"14,137"},{"v":14539550,"d":"14,540"},{"v":14873750,"d":"14,874"}]
[{"$f":"'Org structure'!E32","v":"05.9 - Tourism"},null,0,0,0,{"v":100000,"d":"100"},{"v":100000,"d":"100"},{"v":100000,"d":"100"},{"v":104000,"d":"104"},{"v":108160,"d":"108"},{"v":112487,"d":"112"}]
[{"$f":"'Org structure'!E33","v":"05.10 - Local Economic Development"},null,0,0,0,{"v":370014,"d":"370"},{"v":430014,"d":"430"},{"v":430014,"d":"430"},{"v":447215,"d":"447"},{"v":465104,"d":"465"},{"v":483709,"d":"484"}]
[{"$f":"'Org structure'!E34","v":"05.11 - Local Economic Development (Rep Fx)"},null,0,0,0,{"v":2097221,"d":"2,097"},{"v":2097221,"d":"2,097"},{"v":2097221,"d":"2,097"},{"v":174774,"d":"175"},{"v":181764,"d":"182"},{"v":189036,"d":"189"}]
[{"$f":"'Org structure'!A7","v":"Vote 06 - Summary Infrastructure Services"},null,{"$f":"SUM(C102:C107)","v":{"v":122016385.86,"d":"122,016"}},{"v":257942197.82,"d":"257,942"},{"v":162332332.95,"d":"162,332"},{"v":165407579,"d":"165,408"},{"v":165842592,"d":"165,843"},{"v":165842592,"d":"165,843"},{"v":151334066,"d":"151,334"},{"v":158855324,"d":"158,855"},{"v":164160534,"d":"164,161"}]
[{"$f":"'Org structure'!E36","v":"06.1 - Infrastructure Services Administration"},null,{"v":24659728.75,"d":"24,660"},{"v":66378241.02,"d":"66,378"},{"v":19885430.03,"d":"19,885"},{"v":34080728,"d":"34,081"},{"v":38061434,"d":"38,061"},{"v":38061434,"d":"38,061"},{"v":30177254,"d":"30,177"},{"v":31781730,"d":"31,782"},{"v":32953936,"d":"32,954"}]
[{"$f":"'Org structure'!E37","v":"06.2 - Municipal Works & Professional Services"},null,{"v":6848412.24,"d":"6,848"},{"v":7023338.12,"d":"7,023"},{"v":6639081.08,"d":"6,639"},{"v":7301511,"d":"7,302"},{"v":4930037,"d":"4,930"},{"v":4930037,"d":"4,930"},{"v":5127244,"d":"5,127"},{"v":5318809,"d":"5,319"},{"v":5515594,"d":"5,516"}]
[{"$f":"'Org structure'!E38","v":"06.3 - Project & Infra Grant Management"},null,{"v":88097677.73,"d":"88,098"},{"v":184072312.32,"d":"184,072"},{"v":135266706.89,"d":"135,267"},{"v":123407105,"d":"123,407"},{"v":121808833,"d":"121,809"},{"v":121808833,"d":"121,809"},{"v":114945588,"d":"114,946"},{"v":120627446,"d":"120,627"},{"v":124518571,"d":"124,519"}]
[{"$f":"'Org structure'!E39","v":"06.4 - Reporting Function"},null,0,0,0,0,0,0,0,0,0]
[{"$f":"'Org structure'!E40","v":"06.5 - Reporting Function"},null,0,0,0,0,0,0,0,0,0]
[{"$f":"'Org structure'!E41","v":"06.6 - Reporting Function"},null,{"v":2410567.14,"d":"2,411"},{"v":468306.36,"d":"468"},{"v":541114.95,"d":"541"},{"v":618235,"d":"618"},{"v":1042288,"d":"1,042"},{"v":1042288,"d":"1,042"},{"v":1083980,"d":"1,084"},{"v":1127339,"d":"1,127"},{"v":1172433,"d":"1,172"}]
[{"$f":"'Org structure'!A8","v":"Vote 07 - Summary Water Services"},null,{"$f":"SUM(C109:C119)","v":{"v":236913986.6,"d":"236,914"}},{"v":245444120.06000003,"d":"245,444"},{"v":293615062.14,"d":"293,615"},{"v":328963631,"d":"328,964"},{"v":365609501,"d":"365,610"},{"v":365609501,"d":"365,610"},{"v":342177432,"d":"342,177"},{"v":354480836,"d":"354,481"},{"v":367026512,"d":"367,027"}]
[{"$f":"'Org structure'!E43","v":"07.1 - Water Services Administration"},null,{"v":45542753.49,"d":"45,543"},{"v":65302090.72,"d":"65,302"},{"v":99734622.39,"d":"99,735"},{"v":124016813,"d":"124,017"},{"v":133784266,"d":"133,784"},{"v":133784266,"d":"133,784"},{"v":126569190,"d":"126,569"},{"v":130896973,"d":"130,897"},{"v":135265147,"d":"135,265"}]
[{"$f":"'Org structure'!E44","v":"07.2 - Water Infrastructure Planning & Design"},null,0,{"v":91000,"d":"91"},0,{"v":339692,"d":"340"},{"v":339692,"d":"340"},{"v":339692,"d":"340"},{"v":1553280,"d":"1,553"},{"v":1607011,"d":"1,607"},{"v":1661376,"d":"1,661"}]
[{"$f":"'Org structure'!E45","v":"07.3 - Water Operations & Maintenance"},null,{"v":101041193.98,"d":"101,041"},{"v":98327610.7,"d":"98,328"},{"v":116108510.34,"d":"116,109"},{"v":95823932,"d":"95,824"},{"v":113876299,"d":"113,876"},{"v":113876299,"d":"113,876"},{"v":112535075,"d":"112,535"},{"v":116736436,"d":"116,736"},{"v":121051676,"d":"121,052"}]
[{"$f":"'Org structure'!E46","v":"07.4 - Sanitation Operations & Maintenance"},null,{"v":2509448.27,"d":"2,509"},{"v":186573.05,"d":"187"},{"v":184922.97,"d":"185"},{"v":9292401,"d":"9,292"},{"v":9145500,"d":"9,146"},{"v":9145500,"d":"9,146"},{"v":9681391,"d":"9,681"},{"v":10005522,"d":"10,006"},{"v":10331221,"d":"10,331"}]
[{"$f":"'Org structure'!E47","v":"07.5 - Customer Care Services"},null,{"v":2180818.14,"d":"2,181"},{"v":2231809.86,"d":"2,232"},{"v":1987694.4,"d":"1,988"},{"v":2835824,"d":"2,836"},{"v":3027338,"d":"3,027"},{"v":3027338,"d":"3,027"},{"v":3146994,"d":"3,147"},{"v":3269168,"d":"3,269"},{"v":3395560,"d":"3,396"}]
[{"$f":"'Org structure'!E48","v":"07.6 - Water Regulation/Governance"},null,{"v":9337814.25,"d":"9,338"},{"v":9950908.99,"d":"9,951"},{"v":8724504.2,"d":"8,725"},{"v":8391530,"d":"8,392"},{"v":8034985,"d":"8,035"},{"v":8034985,"d":"8,035"},{"v":8333596,"d":"8,334"},{"v":8611783,"d":"8,612"},{"v":8891136,"d":"8,891"}]
[{"$f":"'Org structure'!E49","v":"07.7 - Dr Nkosozana Dlamini Zuma Lm"},null,{"v":6406649.88,"d":"6,407"},{"v":6102077.27,"d":"6,102"},{"v":6771267.1,"d":"6,771"},{"v":7692268,"d":"7,692"},{"v":10048347,"d":"10,048"},{"v":10048347,"d":"10,048"},{"v":10444766,"d":"10,445"},{"v":10849195,"d":"10,849"},{"v":11267385,"d":"11,267"}]
[{"$f":"'Org structure'!E50","v":"07.8 - Umzimkhulu"},null,{"v":21015928.34,"d":"21,016"},{"v":22668282.98,"d":"22,668"},{"v":16979255.63,"d":"16,979"},{"v":25170105,"d":"25,170"},{"v":24870261,"d":"24,870"},{"v":24870261,"d":"24,870"},{"v":21357941,"d":"21,358"},{"v":22087621,"d":"22,088"},{"v":22823979,"d":"22,824"}]
[{"$f":"'Org structure'!E51","v":"07.9 - Kokstad"},null,{"v":3651307.96,"d":"3,651"},{"v":3621452.17,"d":"3,621"},{"v":4011343.11,"d":"4,011"},{"v":4616660,"d":"4,617"},{"v":5194734,"d":"5,195"},{"v":5194734,"d":"5,195"},{"v":5401705,"d":"5,402"},{"v":5615779,"d":"5,616"},{"v":5838055,"d":"5,838"}]
[{"$f":"'Org structure'!E52","v":"07.10 - Ubuhlebezwe"},null,{"v":26514114.08,"d":"26,514"},{"v":18233920.73,"d":"18,234"},{"v":19039193.5,"d":"19,039"},{"v":19718329,"d":"19,718"},{"v":33978293,"d":"33,978"},{"v":33978293,"d":"33,978"},{"v":18911385,"d":"18,911"},{"v":19589741,"d":"19,590"},{"v":20281126,"d":"20,281"}]
[{"$f":"'Org structure'!E53","v":"07.11 - Reporting Function"},null,{"v":18713958.21,"d":"18,714"},{"v":18728393.59,"d":"18,728"},{"v":20073748.5,"d":"20,074"},{"v":31066077,"d":"31,066"},{"v":23309786,"d":"23,310"},{"v":23309786,"d":"23,310"},{"v":24242109,"d":"24,242"},{"v":25211607,"d":"25,212"},{"v":26219851,"d":"26,220"}]
[{"$f":"'Org structure'!A9","v":"Vote 08 - "},null,0,0,0,0,0,0,0,0,0]
[{"$f":"'Org structure'!A10","v":"Vote 09 - "},null,0,0,0,0,0,0,0,0,0]
[{"$f":"'Org structure'!A11","v":"Vote 10 - "},null,0,0,0,0,0,0,0,0,0]
[{"$f":"'Org structure'!A12","v":"Vote 11 - "},null,0,0,0,0,0,0,0,0,0]
[{"$f":"'Org structure'!A13","v":"Vote 12 - "},null,0,0,0,0,0,0,0,0,0]
[{"$f":"'Org structure'!A14","v":"Vote 13 - "},null,0,0,0,0,0,0,0,0,0]
[{"$f":"'Org structure'!A15","v":"Vote 14 - "},null,0,0,0,0,0,0,0,0,0]
[{"$f":"'Org structure'!A16","v":"Vote 15 - Other"},null,0,0,0,0,0,0,0,0,0]
["Total Expenditure by Vote",2,{"$f":"C68+C74+C79+C83+C89+C101+C108+C120+C121+C122+C123+C124+C125+C126+C127","v":{"v":634430111.68,"d":"634,430"}},{"v":789459001.11,"d":"789,459"},{"v":732875043.8499999,"d":"732,875"},{"v":819174311,"d":"819,174"},{"v":890420685,"d":"890,421"},{"v":890420685,"d":"890,421"},{"v":870646634,"d":"870,647"},{"v":905713793,"d":"905,714"},{"v":936095613,"d":"936,096"},{"$f":"SUM(L68:L119)","v":0},0,0,0,0,0,0,0,0,0,0,0]
[]
[{"$f":"result","v":"Surplus/(Deficit) for the year"},2,{"$f":"C65-C128","v":{"v":213209565.4000001,"d":"213,210"}},{"v":134745472.79000008,"d":"134,745"},{"v":241060328.87,"d":"241,060"},{"v":198098515,"d":"198,099"},{"v":126599689,"d":"126,600"},{"v":126599689,"d":"126,600"},{"v":199440744,"d":"199,441"},{"v":265185361,"d":"265,185"},{"v":243170965,"d":"243,171"},0,0,0,0,0,0,0,0,0,0,0,0]
[{"$f":"head27a","v":"References"}]
["1. Insert 'Vote'; e.g. Department, if different to Functional structure"]
["2. Must reconcile to Financial Performance ('Revenue and Expenditure by Functional Classification' and 'Revenue and Expenditure')"]
["3. Assign share in 'associate' to relevant Vote"]

{"sheet":"A4-FinPerf RE","index":11,"n_rows":71,"n_cols":24,"rows_kept":71,"merged":[[1,5,1,8],[1,9,1,11],[1,12,1,23]]}
[{"$f":"muni&\" - \"&Approve4","v":"DC43 Harry Gwala - Table A4 Consolidated Budgeted Financial Performance (revenue and expenditure)"}]
[{"$f":"desc","v":"Description"},{"$f":"head27","v":"Ref"},{"$f":"head1b","v":"2022/23"},{"$f":"head1A","v":"2023/24"},{"$f":"Head1","v":"2024/25"},{"$f":"Head2","v":"Current Year 2025/26"},{"$nulls":3},{"$f":"Head3","v":"2026/27 Medium Term Revenue & Expenditure Framework"},null,null,{"$f":"Head4","v":"LTFS"}]
["R thousand",1,{"$f":"Head5","v":"Audited Outcome"},{"$f":"Head5","v":"Audited Outcome"},{"$f":"Head5","v":"Audited Outcome"},{"$f":"Head6","v":"Original Budget"},{"$f":"Head7","v":"Adjusted Budget"},{"$f":"Head8","v":"Full Year Forecast"},{"$f":"Head5b","v":"Pre-audit outcome"},{"$f":"Head9","v":"Budget Year 2026/27"},{"$f":"Head10","v":"Budget Year +1 2027/28"},{"$f":"Head11","v":"Budget Year +2 2028/29"},{"$f":"Head12","v":"Forecast 2029/30"},{"$f":"Head13","v":"Forecast 2030/31"},{"$f":"Head14","v":"Forecast 2031/32"},{"$f":"Head15","v":"Forecast 2032/33"},{"$f":"Head16","v":"Forecast 2033/34"},{"$f":"Head17","v":"Forecast 2034/35"},{"$f":"Head18","v":"Forecast 2035/36"},{"$f":"Head19","v":"Forecast 2036/37"},{"$f":"Head20","v":"Forecast 2037/38"},{"$f":"Head21","v":"Forecast 2038/39"},{"$f":"Head22","v":"Forecast 2039/40"},{"$f":"Head23","v":"Forecast 2040/41"}]
["Revenue"," "]
["Exchange Revenue"," "]
["Service charges - Electricity","2",{"$f":"'SA1'!C21","v":0},{"$f":"'SA1'!D21","v":0},{"$f":"'SA1'!E21","v":0},{"$f":"'SA1'!F21","v":0},{"$f":"'SA1'!G21","v":0},{"$f":"'SA1'!H21","v":0},{"$f":"'SA1'!I21","v":0},{"$f":"'SA1'!J21","v":0},{"$f":"'SA1'!K21","v":0},{"$f":"'SA1'!L21","v":0}]
["Service charges - Water","2",{"$f":"'SA1'!C33","v":{"v":64524972.02,"d":"64,525"}},{"$f":"'SA1'!D33","v":{"v":59302020.28,"d":"59,302"}},{"$f":"'SA1'!E33","v":{"v":63688488.65,"d":"63,688"}},{"$f":"'SA1'!F33","v":{"v":68071053,"d":"68,071"}},{"$f":"'SA1'!G33","v":{"v":73109920,"d":"73,110"}},{"$f":"'SA1'!H33","v":{"v":73109920,"d":"73,110"}},{"$f":"'SA1'!I33","v":{"v":47441797.39,"d":"47,442"}},{"$f":"'SA1'!J33","v":{"v":77496524,"d":"77,497"}},{"$f":"'SA1'!K33","v":{"v":82146315,"d":"82,146"}},{"$f":"'SA1'!L33","v":{"v":87075093,"d":"87,075"}}]
["Service charges - Waste Water Management","2",{"$f":"'SA1'!C47","v":{"v":13148850.65,"d":"13,149"}},{"$f":"'SA1'!D47","v":{"v":13256073.709999999,"d":"13,256"}},{"$f":"'SA1'!E47","v":{"v":12844616.21,"d":"12,845"}},{"$f":"'SA1'!F47","v":{"v":13517848,"d":"13,518"}},{"$f":"'SA1'!G47","v":{"v":13529298,"d":"13,529"}},{"$f":"'SA1'!H47","v":{"v":13529298,"d":"13,529"}},{"$f":"'SA1'!I47","v":{"v":8837701.18,"d":"8,838"}},{"$f":"'SA1'!J47","v":{"v":14341063,"d":"14,341"}},{"$f":"'SA1'!K47","v":{"v":15201527,"d":"15,202"}},{"$f":"'SA1'!L47","v":{"v":16113618,"d":"16,114"}}]
["Service charges - Waste Management","2",{"$f":"'SA1'!C59","v":0},{"$f":"'SA1'!D59","v":0},{"$f":"'SA1'!E59","v":0},{"$f":"'SA1'!F59","v":0},{"$f":"'SA1'!G59","v":0},{"$f":"'SA1'!H59","v":0},{"$f":"'SA1'!I59","v":0},{"$f":"'SA1'!J59","v":0},{"$f":"'SA1'!K59","v":0},{"$f":"'SA1'!L59","v":0}]
["Sale of Goods and Rendering of Services","2",{"$f":"'SA1'!C110","v":{"v":741023.77,"d":"741"}},{"$f":"'SA1'!D110","v":{"v":177506.05000000002,"d":"178"}},{"$f":"'SA1'!E110","v":{"v":140698.09,"d":"141"}},{"$f":"'SA1'!F110","v":{"v":791094,"d":"791"}},{"$f":"'SA1'!G110","v":{"v":146481,"d":"146"}},{"$f":"'SA1'!H110","v":{"v":146481,"d":"146"}},{"$f":"'SA1'!I110","v":{"v":75501.42,"d":"76"}},{"$f":"'SA1'!J110","v":{"v":159271,"d":"159"}},{"$f":"'SA1'!K110","v":{"v":168719,"d":"169"}},{"$f":"'SA1'!L110","v":{"v":178729,"d":"179"}}]
["Agency services","2",{"$f":"'SA1'!C138","v":0},{"$f":"'SA1'!D138","v":0},{"$f":"'SA1'!E138","v":0},{"$f":"'SA1'!F138","v":0},{"$f":"'SA1'!G138","v":0},{"$f":"'SA1'!H138","v":0},{"$f":"'SA1'!I138","v":0},{"$f":"'SA1'!J138","v":0},{"$f":"'SA1'!K138","v":0},{"$f":"'SA1'!L138","v":0}]
["Interest"," ",{"$f":"'SA1'!C139","v":0},{"$f":"'SA1'!D139","v":0},{"$f":"'SA1'!E139","v":0},{"$f":"'SA1'!F139","v":0},{"$f":"'SA1'!G139","v":0},{"$f":"'SA1'!H139","v":0},{"$f":"'SA1'!I139","v":0},{"$f":"'SA1'!J139","v":0},{"$f":"'SA1'!K139","v":0},{"$f":"'SA1'!L139","v":0}]
["Interest earned from Receivables","2",{"$f":"'SA1'!C156","v":{"v":14116775.14,"d":"14,117"}},{"$f":"'SA1'!D156","v":{"v":16536037.02,"d":"16,536"}},{"$f":"'SA1'!E156","v":{"v":14598864.08,"d":"14,599"}},{"$f":"'SA1'!F156","v":{"v":16054716,"d":"16,055"}},{"$f":"'SA1'!G156","v":{"v":12757391,"d":"12,757"}},{"$f":"'SA1'!H156","v":{"v":12757391,"d":"12,757"}},{"$f":"'SA1'!I156","v":{"v":8456345.97,"d":"8,456"}},{"$f":"'SA1'!J156","v":{"v":13522836,"d":"13,523"}},{"$f":"'SA1'!K156","v":{"v":14334207,"d":"14,334"}},{"$f":"'SA1'!L156","v":{"v":15194259,"d":"15,194"}},{"$f":"'SA1'!M156","v":0},{"$f":"'SA1'!N156","v":0},{"$f":"'SA1'!O156","v":0},{"$f":"'SA1'!P156","v":0},{"$f":"'SA1'!Q156","v":0},{"$f":"'SA1'!R156","v":0},{"$f":"'SA1'!S156","v":0},{"$f":"'SA1'!T156","v":0},{"$f":"'SA1'!U156","v":0},{"$f":"'SA1'!V156","v":0},{"$f":"'SA1'!W156","v":0},{"$f":"'SA1'!X156","v":0}]
["Interest earned from Current and Non Current Assets","2",{"$f":"'SA1'!C161","v":{"v":10858253.34,"d":"10,858"}},{"$f":"'SA1'!D161","v":{"v":21988023.31,"d":"21,988"}},{"$f":"'SA1'!E161","v":{"v":28011808.150000002,"d":"28,012"}},{"$f":"'SA1'!F161","v":{"v":26042867,"d":"26,043"}},{"$f":"'SA1'!G161","v":{"v":26042867,"d":"26,043"}},{"$f":"'SA1'!H161","v":{"v":26042867,"d":"26,043"}},{"$f":"'SA1'!I161","v":{"v":15867564.62,"d":"15,868"}},{"$f":"'SA1'!J161","v":{"v":27571824,"d":"27,572"}},{"$f":"'SA1'!K161","v":{"v":29185209,"d":"29,185"}},{"$f":"'SA1'!L161","v":{"v":30889351,"d":"30,889"}},{"$f":"'SA1'!M161","v":0},{"$f":"'SA1'!N161","v":0},{"$f":"'SA1'!O161","v":0},{"$f":"'SA1'!P161","v":0},{"$f":"'SA1'!Q161","v":0},{"$f":"'SA1'!R161","v":0},{"$f":"'SA1'!S161","v":0},{"$f":"'SA1'!T161","v":0},{"$f":"'SA1'!U161","v":0},{"$f":"'SA1'!V161","v":0},{"$f":"'SA1'!W161","v":0},{"$f":"'SA1'!X161","v":0}]
["Dividends","2",{"$f":"'SA1'!C165","v":0},{"$f":"'SA1'!D165","v":0},{"$f":"'SA1'!E165","v":0},{"$f":"'SA1'!F165","v":0},{"$f":"'SA1'!G165","v":0},{"$f":"'SA1'!H165","v":0},{"$f":"'SA1'!I165","v":0},{"$f":"'SA1'!J165","v":0},{"$f":"'SA1'!K165","v":0},{"$f":"'SA1'!L165","v":0}]
["Rent on Land","2",{"$f":"'SA1'!C170","v":0},{"$f":"'SA1'!D170","v":0},{"$f":"'SA1'!E170","v":0},{"$f":"'SA1'!F170","v":0},{"$f":"'SA1'!G170","v":0},{"$f":"'SA1'!H170","v":0},{"$f":"'SA1'!I170","v":0},{"$f":"'SA1'!J170","v":0},{"$f":"'SA1'!K170","v":0},{"$f":"'SA1'!L170","v":0}]
["Rental from Fixed Assets","2",{"$f":"'SA1'!C184","v":0},{"$f":"'SA1'!D184","v":0},{"$f":"'SA1'!E184","v":0},{"$f":"'SA1'!F184","v":0},{"$f":"'SA1'!G184","v":0},{"$f":"'SA1'!H184","v":0},{"$f":"'SA1'!I184","v":0},{"$f":"'SA1'!J184","v":0},{"$f":"'SA1'!K184","v":0},{"$f":"'SA1'!L184","v":0}]
["Licence and permits","2",{"$f":"'SA1'!C200","v":0},{"$f":"'SA1'!D200","v":0},{"$f":"'SA1'!E200","v":0},{"$f":"'SA1'!F200","v":0},{"$f":"'SA1'!G200","v":0},{"$f":"'SA1'!H200","v":0},{"$f":"'SA1'!I200","v":0},{"$f":"'SA1'!J200","v":0},{"$f":"'SA1'!K200","v":0},{"$f":"'SA1'!L200","v":0}]
["Special rating levies","2",{"$f":"'SA1'!C213","v":0},{"$f":"'SA1'!D213","v":0},{"$f":"'SA1'!E213","v":0},{"$f":"'SA1'!F213","v":0},{"$f":"'SA1'!G213","v":0},{"$f":"'SA1'!H213","v":0},{"$f":"'SA1'!I213","v":0},{"$f":"'SA1'!J213","v":0},{"$f":"'SA1'!K213","v":0},{"$f":"'SA1'!L213","v":0}]
["Construction Contract Revenue","2",{"$f":"'SA1'!C214","v":0},{"$f":"'SA1'!D214","v":0},{"$f":"'SA1'!E214","v":0},{"$f":"'SA1'!F214","v":0},{"$f":"'SA1'!G214","v":0},{"$f":"'SA1'!H214","v":0},{"$f":"'SA1'!I214","v":0},{"$f":"'SA1'!J214","v":0},{"$f":"'SA1'!K214","v":0},{"$f":"'SA1'!L214","v":0}]
["Development Charges","2",{"$f":"'SA1'!C215","v":0},{"$f":"'SA1'!D215","v":0},{"$f":"'SA1'!E215","v":0},{"$f":"'SA1'!F215","v":0},{"$f":"'SA1'!G215","v":0},{"$f":"'SA1'!H215","v":0},{"$f":"'SA1'!I215","v":0},{"$f":"'SA1'!J215","v":0},{"$f":"'SA1'!K215","v":0},{"$f":"'SA1'!L215","v":0}]
["Operational Revenue","2",{"$f":"'SA1'!C236","v":{"v":809532.6299999999,"d":"810"}},{"$f":"'SA1'!D236","v":{"v":1240815.03,"d":"1,241"}},{"$f":"'SA1'!E236","v":{"v":678488.37,"d":"678"}},{"$f":"'SA1'!F236","v":{"v":705508,"d":"706"}},{"$f":"'SA1'!G236","v":{"v":647241,"d":"647"}},{"$f":"'SA1'!H236","v":{"v":647241,"d":"647"}},{"$f":"'SA1'!I236","v":{"v":540674.47,"d":"541"}},{"$f":"'SA1'!J236","v":{"v":686076,"d":"686"}},{"$f":"'SA1'!K236","v":{"v":727242,"d":"727"}},{"$f":"'SA1'!L236","v":{"v":770875,"d":"771"}}]
["Non-Exchange Revenue"," "]
["Property rates","2",{"$f":"'SA1'!C252","v":0},{"$f":"'SA1'!D252","v":0},{"$f":"'SA1'!E252","v":0},{"$f":"'SA1'!F252","v":0},{"$f":"'SA1'!G252","v":0},{"$f":"'SA1'!H252","v":0},{"$f":"'SA1'!I252","v":0},{"$f":"'SA1'!J252","v":0},{"$f":"'SA1'!K252","v":0},{"$f":"'SA1'!L252","v":0}]
["Surcharges and Taxes","2",{"$f":"'SA1'!C256","v":0},{"$f":"'SA1'!D256","v":0},{"$f":"'SA1'!E256","v":0},{"$f":"'SA1'!F256","v":0},{"$f":"'SA1'!G256","v":0},{"$f":"'SA1'!H256","v":0},{"$f":"'SA1'!I256","v":0},{"$f":"'SA1'!J256","v":0},{"$f":"'SA1'!K256","v":0},{"$f":"'SA1'!L256","v":0}]
["Fines, penalties and forfeits","2",{"$f":"'SA1'!C261","v":0},{"$f":"'SA1'!D261","v":{"v":478418.03,"d":"478"}},{"$f":"'SA1'!E261","v":{"v":786084.15,"d":"786"}},{"$f":"'SA1'!F261","v":{"v":1642740,"d":"1,643"}},{"$f":"'SA1'!G261","v":{"v":340176,"d":"340"}},{"$f":"'SA1'!H261","v":{"v":340176,"d":"340"}},{"$f":"'SA1'!I261","v":{"v":169696.72,"d":"170"}},{"$f":"'SA1'!J261","v":{"v":353784,"d":"354"}},{"$f":"'SA1'!K261","v":{"v":367935,"d":"368"}},{"$f":"'SA1'!L261","v":{"v":382652,"d":"383"}}]
["Licences or permits","2",{"$f":"'SA1'!C277","v":0},{"$f":"'SA1'!D277","v":0},{"$f":"'SA1'!E277","v":0},{"$f":"'SA1'!F277","v":0},{"$f":"'SA1'!G277","v":0},{"$f":"'SA1'!H277","v":0},{"$f":"'SA1'!I277","v":0},{"$f":"'SA1'!J277","v":0},{"$f":"'SA1'!K277","v":0},{"$f":"'SA1'!L277","v":0}]
["Transfer and subsidies - Operational","2",{"$f":"'SA1'!C306","v":{"v":452459742.36,"d":"452,460"}},{"$f":"'SA1'!D306","v":{"v":477532217.37,"d":"477,532"}},{"$f":"'SA1'!E306","v":{"v":534708189.8,"d":"534,708"}},{"$f":"'SA1'!F306","v":{"v":596988820,"d":"596,989"}},{"$f":"'SA1'!G306","v":{"v":596988820,"d":"596,989"}},{"$f":"'SA1'!H306","v":{"v":596988820,"d":"596,989"}},{"$f":"'SA1'!I306","v":{"v":417013030.18,"d":"417,013"}},{"$f":"'SA1'!J306","v":{"v":607089120,"d":"607,089"}},{"$f":"'SA1'!K306","v":{"v":639342032,"d":"639,342"}},{"$f":"'SA1'!L306","v":{"v":654930589,"d":"654,931"}}]
["Interest","2",{"$f":"'SA1'!C315","v":0},{"$f":"'SA1'!D315","v":0},{"$f":"'SA1'!E315","v":0},{"$f":"'SA1'!F315","v":0},{"$f":"'SA1'!G315","v":0},{"$f":"'SA1'!H315","v":0},{"$f":"'SA1'!I315","v":0},{"$f":"'SA1'!J315","v":0},{"$f":"'SA1'!K315","v":0},{"$f":"'SA1'!L315","v":0}]
["Fuel Levy","2",{"$f":"'SA1'!C316","v":0},{"$f":"'SA1'!D316","v":0},{"$f":"'SA1'!E316","v":0},{"$f":"'SA1'!F316","v":0},{"$f":"'SA1'!G316","v":0},{"$f":"'SA1'!H316","v":0},{"$f":"'SA1'!I316","v":0},{"$f":"'SA1'!J316","v":0},{"$f":"'SA1'!K316","v":0},{"$f":"'SA1'!L316","v":0}]
["Operational Revenue","2",{"$f":"'SA1'!C322","v":0},{"$f":"'SA1'!D322","v":0},{"$f":"'SA1'!E322","v":0},{"$f":"'SA1'!F322","v":0},{"$f":"'SA1'!G322","v":0},{"$f":"'SA1'!H322","v":0},{"$f":"'SA1'!I322","v":0},{"$f":"'SA1'!J322","v":0},{"$f":"'SA1'!K322","v":0},{"$f":"'SA1'!L322","v":0}]
["Gains on disposal of Fixed and Intangible Assets","2",{"$f":"'SA1'!C330","v":0},{"$f":"'SA1'!D330","v":0},{"$f":"'SA1'!E330","v":0},{"$f":"'SA1'!F330","v":0},{"$f":"'SA1'!G330","v":0},{"$f":"'SA1'!H330","v":0},{"$f":"'SA1'!I330","v":{"v":473793.45,"d":"474"}},{"$f":"'SA1'!J330","v":0},{"$f":"'SA1'!K330","v":0},{"$f":"'SA1'!L330","v":0}]
["Other Gains","2",{"$f":"'SA1'!C354","v":{"v":3755000,"d":"3,755"}},{"$f":"'SA1'!D354","v":{"v":1374000,"d":"1,374"}},{"$f":"'SA1'!E354","v":{"v":785000,"d":"785"}},{"$f":"'SA1'!F354","v":0},{"$f":"'SA1'!G354","v":0},{"$f":"'SA1'!H354","v":0},{"$f":"'SA1'!I354","v":0},{"$f":"'SA1'!J354","v":0},{"$f":"'SA1'!K354","v":0},{"$f":"'SA1'!L354","v":0}]
["Discontinued Operations"," ",{"$f":"'SA1'!C355","v":0},{"$f":"'SA1'!D355","v":0},{"$f":"'SA1'!E355","v":0},{"$f":"'SA1'!F355","v":0},{"$f":"'SA1'!G355","v":0},{"$f":"'SA1'!H355","v":0},{"$f":"'SA1'!I355","v":0},{"$f":"'SA1'!J355","v":0},{"$f":"'SA1'!K355","v":0},{"$f":"'SA1'!L355","v":0}]
["Total Revenue (excluding capital transfers and contributions)"," ",{"$f":"SUM(C6:C22)+SUM(C24:C34)","v":{"v":560414149.91,"d":"560,414"}},{"v":591885110.8,"d":"591,885"},{"v":656242237.5,"d":"656,242"},{"v":723814646,"d":"723,815"},{"v":723562194,"d":"723,562"},{"v":723562194,"d":"723,562"},{"v":498876105.40000004,"d":"498,876"},{"v":741220498,"d":"741,220"},{"v":781473186,"d":"781,473"},{"v":805535166,"d":"805,535"}]
["Expenditure"," "]
["Employee related costs","2",{"$f":"'SA1'!C403","v":{"v":244160947.18,"d":"244,161"}},{"$f":"'SA1'!D403","v":{"v":254726975.38,"d":"254,727"}},{"$f":"'SA1'!E403","v":{"v":261114160.99,"d":"261,114"}},{"$f":"'SA1'!F403","v":{"v":291721201,"d":"291,721"}},{"$f":"'SA1'!G403","v":{"v":310807293,"d":"310,807"}},{"$f":"'SA1'!H403","v":{"v":310807293,"d":"310,807"}},{"$f":"'SA1'!I403","v":{"v":181170183.87,"d":"181,170"}},{"$f":"'SA1'!J403","v":{"v":323261199,"d":"323,261"}},{"$f":"'SA1'!K403","v":{"v":336115239,"d":"336,115"}},{"$f":"'SA1'!L403","v":{"v":349456055,"d":"349,456"}},{"$f":"'SA1'!M71","v":0},{"$f":"'SA1'!N71","v":0},{"$f":"'SA1'!O71","v":0},{"$f":"'SA1'!P71","v":0},{"$f":"'SA1'!Q71","v":0},{"$f":"'SA1'!R71","v":0},{"$f":"'SA1'!S71","v":0},{"$f":"'SA1'!T71","v":0}]
["Remuneration of councillors","2",{"$f":"'SA1'!C421","v":{"v":6987876.07,"d":"6,988"}},{"$f":"'SA1'!D421","v":{"v":6931900.21,"d":"6,932"}},{"$f":"'SA1'!E421","v":{"v":7581269.24,"d":"7,581"}},{"$f":"'SA1'!F421","v":{"v":8059321,"d":"8,059"}},{"$f":"'SA1'!G421","v":{"v":8101439,"d":"8,101"}},{"$f":"'SA1'!H421","v":{"v":8101439,"d":"8,101"}},{"$f":"'SA1'!I421","v":{"v":5239608.220000001,"d":"5,240"}},{"$f":"'SA1'!J421","v":{"v":8425509,"d":"8,426"}},{"$f":"'SA1'!K421","v":{"v":8762535,"d":"8,763"}},{"$f":"'SA1'!L421","v":{"v":9113031,"d":"9,113"}}]
["Bulk purchases - electricity","2",{"$f":"'SA1'!C433","v":0},{"$f":"'SA1'!D433","v":0},{"$f":"'SA1'!E433","v":0},{"$f":"'SA1'!F433","v":0},{"$f":"'SA1'!G433","v":0},{"$f":"'SA1'!H433","v":0},{"$f":"'SA1'!I433","v":0},{"$f":"'SA1'!J433","v":0},{"$f":"'SA1'!K433","v":0},{"$f":"'SA1'!L433","v":0}]
["Inventory consumed","2,8",{"$f":"'SA1'!C444","v":{"v":33421199.1,"d":"33,421"}},{"$f":"'SA1'!D444","v":{"v":33597928.150000006,"d":"33,598"}},{"$f":"'SA1'!E444","v":{"v":58826849.44,"d":"58,827"}},{"$f":"'SA1'!F444","v":{"v":39635122,"d":"39,635"}},{"$f":"'SA1'!G444","v":{"v":46029909,"d":"46,030"}},{"$f":"'SA1'!H444","v":{"v":46029909,"d":"46,030"}},{"$f":"'SA1'!I444","v":{"v":33735967.86,"d":"33,736"}},{"$f":"'SA1'!J444","v":{"v":39696308,"d":"39,696"}},{"$f":"'SA1'!K444","v":{"v":41006795,"d":"41,007"}},{"$f":"'SA1'!L444","v":{"v":42319624,"d":"42,320"}}]
["Debt impairment","2,3",{"$f":"'SA1'!C478","v":{"v":-1201543.2300000004,"d":"(1,202)"}},{"$f":"'SA1'!D478","v":{"v":10795684.96,"d":"10,796"}},{"$f":"'SA1'!E478","v":{"v":2906751.3600000003,"d":"2,907"}},{"$f":"'SA1'!F478","v":{"v":31529666,"d":"31,530"}},{"$f":"'SA1'!G478","v":{"v":31529666,"d":"31,530"}},{"$f":"'SA1'!H478","v":{"v":31529666,"d":"31,530"}},{"$f":"'SA1'!I478","v":0},{"$f":"'SA1'!J478","v":{"v":32790854,"d":"32,791"}},{"$f":"'SA1'!K478","v":{"v":33872952,"d":"33,873"}},{"$f":"'SA1'!L478","v":{"v":34956886,"d":"34,957"}}]
["Depreciation, amortisation and impairment","2",{"$f":"'SA1'!C537","v":{"v":92786769.25999999,"d":"92,787"}},{"$f":"'SA1'!D537","v":{"v":236930110.17,"d":"236,930"}},{"$f":"'SA1'!E537","v":{"v":116317072.97,"d":"116,317"}},{"$f":"'SA1'!F537","v":{"v":107788020,"d":"107,788"}},{"$f":"'SA1'!G537","v":{"v":107788020,"d":"107,788"}},{"$f":"'SA1'!H537","v":{"v":107788020,"d":"107,788"}},{"$f":"'SA1'!I537","v":{"v":89508026.82,"d":"89,508"}},{"$f":"'SA1'!J537","v":{"v":114839336,"d":"114,839"}},{"$f":"'SA1'!K537","v":{"v":118634451,"d":"118,634"}},{"$f":"'SA1'!L537","v":{"v":122437196,"d":"122,437"}}]
["Interest, Dividends and Rent on Land","2",{"$f":"'SA1'!C542","v":{"v":112875.21,"d":"113"}},{"$f":"'SA1'!D542","v":{"v":2152.72,"d":"2"}},{"$f":"'SA1'!E542","v":0},{"$f":"'SA1'!F542","v":{"v":54200,"d":"54"}},{"$f":"'SA1'!G542","v":{"v":54200,"d":"54"}},{"$f":"'SA1'!H542","v":{"v":54200,"d":"54"}},{"$f":"'SA1'!I542","v":0},{"$f":"'SA1'!J542","v":{"v":56327,"d":"56"}},{"$f":"'SA1'!K542","v":{"v":58477,"d":"58"}},{"$f":"'SA1'!L542","v":{"v":60694,"d":"61"}}]
["Contracted services","2",{"$f":"'SA1'!C547","v":{"v":134262758.64999998,"d":"134,263"}},{"$f":"'SA1'!D547","v":{"v":122694378.85,"d":"122,694"}},{"$f":"'SA1'!E547","v":{"v":159114663.38,"d":"159,115"}},{"$f":"'SA1'!F547","v":{"v":173856043,"d":"173,856"}},{"$f":"'SA1'!G547","v":{"v":204024677,"d":"204,025"}},{"$f":"'SA1'!H547","v":{"v":204024677,"d":"204,025"}},{"$f":"'SA1'!I547","v":{"v":115527665.65,"d":"115,528"}},{"$f":"'SA1'!J547","v":{"v":164406725,"d":"164,407"}},{"$f":"'SA1'!K547","v":{"v":172301386,"d":"172,301"}},{"$f":"'SA1'!L547","v":{"v":177830770,"d":"177,831"}}]
["Transfers and subsidies","2",{"$f":"'SA1'!C557","v":{"v":15290000,"d":"15,290"}},{"$f":"'SA1'!D557","v":0},{"$f":"'SA1'!E557","v":0},{"$f":"'SA1'!F557","v":{"v":23360014,"d":"23,360"}},{"$f":"'SA1'!G557","v":{"v":23360014,"d":"23,360"}},{"$f":"'SA1'!H557","v":{"v":23360014,"d":"23,360"}},{"$f":"'SA1'!I557","v":{"v":14000000,"d":"14,000"}},{"$f":"'SA1'!J557","v":{"v":23374415,"d":"23,374"}},{"$f":"'SA1'!K557","v":{"v":25889392,"d":"25,889"}},{"$f":"'SA1'!L557","v":{"v":25404968,"d":"25,405"}}]
["Irrecoverable debts written off","2",{"$f":"'SA1'!C572","v":0},{"$f":"'SA1'!D572","v":0},{"$f":"'SA1'!E572","v":{"v":16808958.27,"d":"16,809"}},{"$f":"'SA1'!F572","v":{"v":42326665,"d":"42,327"}},{"$f":"'SA1'!G572","v":{"v":42340335,"d":"42,340"}},{"$f":"'SA1'!H572","v":{"v":42340335,"d":"42,340"}},{"$f":"'SA1'!I572","v":{"v":9584710.469999999,"d":"9,585"}},{"$f":"'SA1'!J572","v":{"v":44880483,"d":"44,880"}},{"$f":"'SA1'!K572","v":{"v":46361538,"d":"46,362"}},{"$f":"'SA1'!L572","v":{"v":47845108,"d":"47,845"}}]
["Operational costs","2",{"$f":"'SA1'!C671","v":{"v":69121388.89999999,"d":"69,121"}},{"$f":"'SA1'!D671","v":{"v":74282954.47000001,"d":"74,283"}},{"$f":"'SA1'!E671","v":{"v":88821360.62000002,"d":"88,821"}},{"$f":"'SA1'!F671","v":{"v":100844059,"d":"100,844"}},{"$f":"'SA1'!G671","v":{"v":116385132,"d":"116,385"}},{"$f":"'SA1'!H671","v":{"v":116385132,"d":"116,385"}},{"$f":"'SA1'!I671","v":{"v":68922066.21,"d":"68,922"}},{"$f":"'SA1'!J671","v":{"v":114261878,"d":"114,262"}},{"$f":"'SA1'!K671","v":{"v":117903858,"d":"117,904"}},{"$f":"'SA1'!L671","v":{"v":121710277,"d":"121,710"}}]
["Disposal of Fixed and Intangible Assets","2",{"$f":"'SA1'!C679","v":{"v":2875378.1,"d":"2,875"}},{"$f":"'SA1'!D679","v":{"v":1190314.83,"d":"1,190"}},{"$f":"'SA1'!E679","v":0},{"$f":"'SA1'!F679","v":0},{"$f":"'SA1'!G679","v":0},{"$f":"'SA1'!H679","v":0},{"$f":"'SA1'!I679","v":{"v":1067422.72,"d":"1,067"}},{"$f":"'SA1'!J679","v":{"v":4653600,"d":"4,654"}},{"$f":"'SA1'!K679","v":{"v":4807170,"d":"4,807"}},{"$f":"'SA1'!L679","v":{"v":4961004,"d":"4,961"}}]
["Other Losses","2",{"$f":"'SA1'!C714","v":0},{"$f":"'SA1'!D714","v":0},{"$f":"'SA1'!E714","v":0},{"$f":"'SA1'!F714","v":0},{"$f":"'SA1'!G714","v":0},{"$f":"'SA1'!H714","v":0},{"$f":"'SA1'!I714","v":0},{"$f":"'SA1'!J714","v":0},{"$f":"'SA1'!K714","v":0},{"$f":"'SA1'!L714","v":0}]
["Total Expenditure"," ",{"$f":"SUM(C37:C49)","v":{"v":597817649.24,"d":"597,818"}},{"$f":"SUM(D37:D49)","v":{"v":741152399.7400001,"d":"741,152"}},{"v":711491086.27,"d":"711,491"},{"v":819174311,"d":"819,174"},{"v":890420685,"d":"890,421"},{"v":890420685,"d":"890,421"},{"v":518755651.82,"d":"518,756"},{"v":870646634,"d":"870,647"},{"v":905713793,"d":"905,714"},{"v":936095613,"d":"936,096"},{"$f":"SUM(M37:M49)","v":0},0,0,0,0,0,0,0,0,0,0,0]
["Surplus/(Deficit)",null,{"$f":"C35-C50","v":{"v":-37403499.33000004,"d":"(37,403)"}},{"$f":"D35-D50","v":{"v":-149267288.94000018,"d":"(149,267)"}},{"v":-55248848.76999998,"d":"(55,249)"},{"v":-95359665,"d":"(95,360)"},{"v":-166858491,"d":"(166,858)"},{"v":-166858491,"d":"(166,858)"},{"v":-19879546.419999957,"d":"(19,880)"},{"v":-129426136,"d":"(129,426)"},{"v":-124240607,"d":"(124,241)"},{"v":-130560447,"d":"(130,560)"},{"$f":"M35+M50","v":0},0,0,0,0,0,0,0,0,0,0,0]
["Transfers and subsidies - capital (monetary allocations)","6",{"$f":"'SA1'!C729","v":{"v":283337677.17,"d":"283,338"}},{"$f":"'SA1'!D729","v":{"v":332319363.1,"d":"332,319"}},{"$f":"'SA1'!E729","v":{"v":317693135.22,"d":"317,693"}},{"$f":"'SA1'!F729","v":{"v":293458180,"d":"293,458"}},{"$f":"'SA1'!G729","v":{"v":293458180,"d":"293,458"}},{"$f":"'SA1'!H729","v":{"v":293458180,"d":"293,458"}},{"$f":"'SA1'!I729","v":{"v":174463971.68,"d":"174,464"}},{"$f":"'SA1'!J729","v":{"v":328866880,"d":"328,867"}},{"$f":"'SA1'!K729","v":{"v":389425968,"d":"389,426"}},{"$f":"'SA1'!L729","v":{"v":373731412,"d":"373,731"}}]
["Transfers and subsidies - capital (in-kind)","6",{"$f":"'SA1'!C743","v":{"v":3887850,"d":"3,888"}},{"$f":"'SA1'!D743","v":0},{"$f":"'SA1'!E743","v":0},{"$f":"'SA1'!F743","v":0},{"$f":"'SA1'!G743","v":0},{"$f":"'SA1'!H743","v":0},{"$f":"'SA1'!I743","v":0},{"$f":"'SA1'!J743","v":0},{"$f":"'SA1'!K743","v":0},{"$f":"'SA1'!L743","v":0}]
["Surplus/(Deficit) after capital transfers & contributions",null,{"$f":"SUM(C51:C53)","v":{"v":249822027.83999997,"d":"249,822"}},{"$f":"SUM(D51:D53)","v":{"v":183052074.15999985,"d":"183,052"}},{"v":262444286.45000005,"d":"262,444"},{"v":198098515,"d":"198,099"},{"v":126599689,"d":"126,600"},{"v":126599689,"d":"126,600"},{"v":154584425.26000005,"d":"154,584"},{"v":199440744,"d":"199,441"},{"v":265185361,"d":"265,185"},{"v":243170965,"d":"243,171"}]
["Income Tax",null,{"$f":"'SA1'!C748","v":0},{"$f":"'SA1'!D748","v":0},{"$f":"'SA1'!E748","v":0},{"$f":"'SA1'!F748","v":0},{"$f":"'SA1'!G748","v":0},{"$f":"'SA1'!H748","v":0},{"$f":"'SA1'!I748","v":0},{"$f":"'SA1'!J748","v":0},{"$f":"'SA1'!K748","v":0},{"$f":"'SA1'!L748","v":0}]
["Surplus/(Deficit) after income tax",null,{"$f":"+C54-C55","v":{"v":249822027.83999997,"d":"249,822"}},{"$f":"+D54-D55","v":{"v":183052074.15999985,"d":"183,052"}},{"v":262444286.45000005,"d":"262,444"},{"v":198098515,"d":"198,099"},{"v":126599689,"d":"126,600"},{"v":126599689,"d":"126,600"},{"v":154584425.26000005,"d":"154,584"},{"v":199440744,"d":"199,441"},{"v":265185361,"d":"265,185"},{"v":243170965,"d":"243,171"},0,0,0,0,0]
["Share of Surplus/Deficit attributable to Joint Venture",null,{"$f":"'SA1'!C750","v":0},{"$f":"'SA1'!D750","v":0},{"$f":"'SA1'!E750","v":0},{"$f":"'SA1'!F750","v":0},{"$f":"'SA1'!G750","v":0},{"$f":"'SA1'!H750","v":0},{"$f":"'SA1'!I750","v":0},{"$f":"'SA1'!J750","v":0},{"$f":"'SA1'!K750","v":0},{"$f":"'SA1'!L750","v":0}]
["Share of Surplus/Deficit attributable to Minorities",null,{"$f":"'SA1'!C751","v":0},{"$f":"'SA1'!D751","v":0},{"$f":"'SA1'!E751","v":0},{"$f":"'SA1'!F751","v":0},{"$f":"'SA1'!G751","v":0},{"$f":"'SA1'!H751","v":0},{"$f":"'SA1'!I751","v":0},{"$f":"'SA1'!J751","v":0},{"$f":"'SA1'!K751","v":0},{"$f":"'SA1'!L751","v":0}]
["Surplus/(Deficit) attributable to municipality",null,{"$f":"SUM(C56:C58)","v":{"v":249822027.83999997,"d":"249,822"}},{"$f":"SUM(D56:D58)","v":{"v":183052074.15999985,"d":"183,052"}},{"v":262444286.45000005,"d":"262,444"},{"v":198098515,"d":"198,099"},{"v":126599689,"d":"126,600"},{"v":126599689,"d":"126,600"},{"v":154584425.26000005,"d":"154,584"},{"v":199440744,"d":"199,441"},{"v":265185361,"d":"265,185"},{"v":243170965,"d":"243,171"},0,0,0,0,0]
["Share of Surplus/Deficit attributable to Associate",7,{"$f":"'SA1'!C753","v":0},{"$f":"'SA1'!D753","v":0},{"$f":"'SA1'!E753","v":0},{"$f":"'SA1'!F753","v":0},{"$f":"'SA1'!G753","v":0},{"$f":"'SA1'!H753","v":0},{"$f":"'SA1'!I753","v":0},{"$f":"'SA1'!J753","v":0},{"$f":"'SA1'!K753","v":0},{"$f":"'SA1'!L753","v":0}]
["Intercompany/Parent subsidiary transactions",null,{"$f":"'SA1'!C754","v":0},{"$f":"'SA1'!D754","v":0},{"$f":"'SA1'!E754","v":0},{"$f":"'SA1'!F754","v":0},{"$f":"'SA1'!G754","v":0},{"$f":"'SA1'!H754","v":0},{"$f":"'SA1'!I754","v":0},{"$f":"'SA1'!J754","v":0},{"$f":"'SA1'!K754","v":0},{"$f":"'SA1'!L754","v":0}]
[{"$f":"result","v":"Surplus/(Deficit) for the year"},1,{"$f":"SUM(C59:C61)","v":{"v":249822027.83999997,"d":"249,822"}},{"$f":"SUM(D59:D61)","v":{"v":183052074.15999985,"d":"183,052"}},{"v":262444286.45000005,"d":"262,444"},{"v":198098515,"d":"198,099"},{"v":126599689,"d":"126,600"},{"v":126599689,"d":"126,600"},{"v":154584425.26000005,"d":"154,584"},{"v":199440744,"d":"199,441"},{"v":265185361,"d":"265,185"},{"v":243170965,"d":"243,171"},0,0,0,0,0,{"$f":"R38+R61","v":0},0,0,0,0,0,0]
["References"]
["1. Classifications are revenue sources and expenditure type"]
["2. Detail to be provided in Table SA1",{"$nulls":13},{"$f":"O62-'A4-FinPerf RE'!J62","v":{"v":-199440744,"d":"(199,441)"}},{"$f":"P62-'A4-FinPerf RE'!K62","v":{"v":-265185361,"d":"(265,185)"}},{"$f":"Q62-'A4-FinPerf RE'!L62","v":{"v":-243170965,"d":"(243,171)"}}]
["3. Debt impairment includes Impairment and Reversal of Impairment Losses"]
["4. Expenditure type components previously shown under repairs and maintenance should be allocated back to the originating expenditure group/item; e.g. employee costs"]
["5. Repairs & maintenance detailed in Table A9 and Table SA34c"]
["6. Contributions are funds provided by external organisations to assist with infrastructure development; e.g. developer contributions (detail to be provided in Table SA1)"]
["7. Equity method ( Includes Joint Ventures)"]
["8. All materials consumed including water consumed and materials used in operations."]

{"sheet":"A4 Funding","index":12,"n_rows":311,"n_cols":14,"rows_kept":311,"hidden":true,"merged":[[0,0,0,13],[1,7,1,10],[1,11,1,13]]}
["Western Cape: Saldanha Bay (WC014) - Table A4 Funding Tool Summary for 4th Quarter ended 30 June 2024"]
["A4 Code","A4 Description","Type","Classification",{"$f":"head1b","v":"2022/23"},{"$f":"head1A","v":"2023/24"},{"$f":"Head1","v":"2024/25"},{"$f":"Head2","v":"Current Year 2025/26"},{"$nulls":3},{"$f":"Head3","v":"2026/27 Medium Term Revenue & Expenditure Framework"}]
["R thousands","","","",{"$f":"Head5","v":"Audited Outcome"},{"$f":"Head5","v":"Audited Outcome"},{"$f":"Head5","v":"Audited Outcome"},{"$f":"Head6","v":"Original Budget"},{"$f":"Head7","v":"Adjusted Budget"},{"$f":"Head8","v":"Full Year Forecast"},{"$f":"Head5b","v":"Pre-audit outcome"},{"$f":"Head9","v":"Budget Year 2026/27"},{"$f":"Head10","v":"Budget Year +1 2027/28"},{"$f":"Head11","v":"Budget Year +2 2028/29"}]
["0300","Exchange Revenue / Service charges - Electricity","Non-Cash","Debtor accrual - service charges electricity accrued through exchange receivables",{"$f":"'SA3'!C15","v":0},{"$f":"'SA3'!D15","v":0},{"$f":"'SA3'!E15","v":0},{"$f":"'SA3'!F15","v":0},{"$f":"'SA3'!G15","v":0},{"$f":"'SA3'!H15","v":0},{"$f":"'SA3'!I15","v":0},{"$f":"'SA3'!J15","v":0},{"$f":"'SA3'!K15","v":0},{"$f":"'SA3'!L15","v":0}]
["","","","Non-Cash Total",{"$f":"SUM(E4)","v":0},{"$f":"SUM(F4)","v":0},0,0,0,0,0,0,0,0]
["","Exchange Revenue / Service charges - Electricity Total","",""]
["0400","Exchange Revenue / Service charges - Water","Non-Cash","Debtor accrual - service charges water accrued through exchange receivables",{"$f":"'SA3'!C18","v":{"v":178639167.78,"d":"178,639"}},{"$f":"'SA3'!D18","v":{"v":176498794.41,"d":"176,499"}},{"$f":"'SA3'!E18","v":{"v":171769129.84,"d":"171,769"}},{"$f":"'SA3'!F18","v":{"v":147466315,"d":"147,466"}},{"$f":"'SA3'!G18","v":{"v":153997434,"d":"153,997"}},{"$f":"'SA3'!H18","v":{"v":153997434,"d":"153,997"}},{"$f":"'SA3'!I18","v":{"v":-7434144.5,"d":"(7,434)"}},{"$f":"'SA3'!J18","v":{"v":135159437,"d":"135,159"}},{"$f":"'SA3'!K18","v":{"v":116159175,"d":"116,159"}},{"$f":"'SA3'!L18","v":{"v":97055886,"d":"97,056"}}]
["","","","Non-Cash Total"]
["","Exchange Revenue / Service charges - Water Total","",""]
["0500","Exchange Revenue / Service charges - Waste Water Management","Non-Cash","Debtor accrual - service charges waste water management accrued through exchange receivables",{"$f":"'SA3'!C17","v":{"v":63018181.45,"d":"63,018"}},{"$f":"'SA3'!D17","v":{"v":56527086.4,"d":"56,527"}},{"$f":"'SA3'!E17","v":{"v":63879688.26,"d":"63,880"}},{"$f":"'SA3'!F17","v":{"v":55385408,"d":"55,385"}},{"$f":"'SA3'!G17","v":{"v":60718841,"d":"60,719"}},{"$f":"'SA3'!H17","v":{"v":60718841,"d":"60,719"}},{"$f":"'SA3'!I17","v":{"v":-1192072.16,"d":"(1,192)"}},{"$f":"'SA3'!J17","v":{"v":51958551,"d":"51,959"}},{"$f":"'SA3'!K17","v":{"v":48650402,"d":"48,650"}},{"$f":"'SA3'!L17","v":{"v":45404480,"d":"45,404"}}]
["","","","Non-Cash Total"]
["","Exchange Revenue / Service charges - Waste Water Management Total","",""]
["0600","Exchange Revenue / Service charges - Waste Management","Non-Cash","Debtor accrual - service charges waste management accrued through exchange receivables",{"$f":"'SA3'!C16","v":0},{"$f":"'SA3'!D16","v":0},{"$f":"'SA3'!E16","v":0},{"$f":"'SA3'!F16","v":0},{"$f":"'SA3'!G16","v":0},{"$f":"'SA3'!H16","v":0},{"$f":"'SA3'!I16","v":0},{"$f":"'SA3'!J16","v":0},{"$f":"'SA3'!K16","v":0},{"$f":"'SA3'!L16","v":0}]
["","","","Non-Cash Total"]
["","Exchange Revenue / Service charges - Waste Management Total","",""]
["0700","Exchange Revenue / Sale of Goods and Rendering of Services","Cash","Cash sales of goods and rendering of services",{"$f":"'SA3'!C119","v":{"v":2172396046.9,"d":"2,172,396"}},0,0,0,0,0,0,0,0,0]
[{"$nulls":3},"Proceeds sale of PPE",0,0,0,0,0,0,0,0,0,0]
["","","","Cash Total",0,0,0,0,0,0,0,0,0,0]
["","Exchange Revenue / Sale of Goods and Rendering of Services Total","","",0,0,0,0,0,0,0,0,0,0]
["0800","Exchange Revenue / Agency services","Cash","Cash - agency services",0,0,0,0,0,0,0,0,0,0]
["","","","Cash Total",0,0,0,0,0,0,0,0,0,0]
["","Exchange Revenue / Agency services Total","","",0,0,0,0,0,0,0,0,0,0]
["0900","Exchange Revenue / Interest","Non-Cash","Deemed interest",0,0,0,0,0,0,0,0,0,0]
["","","","Non-Cash Total"]
["","Exchange Revenue / Interest Total","",""]
["1000","Exchange Revenue / Interest earned from Receivables","Non-Cash","Affiliates/related parties/associated companies",0,0,0,0,0,0,0,0,0,0]
[{"$nulls":3},"Debtor accrual - interest outstanding debtors accrued through exchange receivables",0,0,0,0,0,0,0,0,0,0]
[{"$nulls":3},"SARS",0,0,0,0,0,0,0,0,0,0]
["","","","Non-Cash Total",0,0,0,0,0,0,0,0,0,0]
["","Exchange Revenue / Interest earned from Receivables Total","","",0,0,0,0,0,0,0,0,0,0]
["1100","Exchange Revenue / Interest earned from Current and Non Current Assets","Cash","Cash - interest external investments",0,0,0,0,0,0,0,0,0,0]
["","","","Cash Total",0,0,0,0,0,0,0,0,0,0]
["","Exchange Revenue / Interest earned from Current and Non Current Assets Total","","",0,0,0,0,0,0,0,0,0,0]
["1200","Exchange Revenue / Dividends","Cash","Cash - dividends received",0,0,0,0,0,0,0,0,0,0]
["","","","Cash Total",0,0,0,0,0,0,0,0,0,0]
["","Exchange Revenue / Dividends Total","","",0,0,0,0,0,0,0,0,0,0]
["1300","Exchange Revenue / Rent on Land","Cash","Cash - rent on land",0,0,0,0,0,0,0,0,0,0]
["","","","Cash Total",0,0,0,0,0,0,0,0,0,0]
["","Exchange Revenue / Rent on Land Total","","",0,0,0,0,0,0,0,0,0,0]
["1400","Exchange Revenue / Rental from Fixed Assets","Cash","Cash - rental from fixed assets",0,0,0,0,0,0,0,0,0,0]
["","","","Cash Total",0,0,0,0,0,0,0,0,0,0]
["","Exchange Revenue / Rental from Fixed Assets Total","","",0,0,0,0,0,0,0,0,0,0]
["1500","Exchange Revenue / Licence and permits","Cash","Cash - licence and permits",0,0,0,0,0,0,0,0,0,0]
["","","","Cash Total",0,0,0,0,0,0,0,0,0,0]
["","Exchange Revenue / Licence and permits Total","","",0,0,0,0,0,0,0,0,0,0]
[1550,"Exchange Revenue / Special rating levies","Cash","Cash - Special rating levies",0,0,0,0,0,0,0,0,0,0]
[{"$nulls":3},"Cash Total",0,0,0,0,0,0,0,0,0,0]
[null,"Exchange Revenue / Special rating levies Total",null,null,0,0,0,0,0,0,0,0,0,0]
[1600,"Exchange Revenue / Operational Revenue","Cash","Cash - Operating revenue",0,0,0,0,0,0,0,0,0,0]
["","","","Cash Total",0,0,0,0,0,0,0,0,0,0]
["","Exchange Revenue / Operational Revenue Total","","",0,0,0,0,0,0,0,0,0,0]
["1800","Non-Exchange Revenue / Property rates","Non-Cash","Debtor accrual - property rates accrued through non-exchange receivables",0,0,0,0,0,0,0,0,0,0]
["","","","Non-Cash Total",0,0,0,0,0,0,0,0,0,0]
["","Non-Exchange Revenue / Property rates Total","","",0,0,0,0,0,0,0,0,0,0]
["1900","Non-Exchange Revenue / Surcharges and Taxes","Non-Cash","Debtor accrual - surcharges & taxes accrued through non-exchange receivables",0,0,0,0,0,0,0,0,0,0]
["","","","Non-Cash Total",0,0,0,0,0,0,0,0,0,0]
["","Non-Exchange Revenue / Surcharges and Taxes Total","","",0,0,0,0,0,0,0,0,0,0]
["2000","Non-Exchange Revenue / Fines, penalties and forfeits","Non-Cash","Debtor accrual - Fines, penalties and forfeits revenue accrued through non-exchanges receivables",0,0,0,0,0,0,0,0,0,0]
["","","","Non-Cash Total",0,0,0,0,0,0,0,0,0,0]
["","Non-Exchange Revenue / Fines, penalties and forfeits Total","","",0,0,0,0,0,0,0,0,0,0]
["2100","Non-Exchange Revenue / Licences or permits","Cash","Cash - licences or permits",0,0,0,0,0,0,0,0,0,0]
["","","","Cash Total",0,0,0,0,0,0,0,0,0,0]
["","Non-Exchange Revenue / Licences or permits Total","","",0,0,0,0,0,0,0,0,0,0]
["2200","Non-Exchange Revenue / Transfer and subsidies - Operational","Cash","Cash - Operational transfers and subsidies",0,0,0,0,0,0,0,0,0,0]
["","","","Cash Total",0,0,0,0,0,0,0,0,0,0]
[null,null,"Non-Cash","Operational allocation in-kind",0,0,0,0,0,0,0,0,0,0]
["","","","Non-Cash Total",0,0,0,0,0,0,0,0,0,0]
["","Non-Exchange Revenue / Transfer and subsidies - Operational Total","","",0,0,0,0,0,0,0,0,0,0]
["2300","Non-Exchange Revenue / Interest","Non-Cash","Debtor accrual - interest outstanding property rates accrued through non-exchange receivables",0,0,0,0,0,0,0,0,0,0]
[{"$nulls":3},"Debtor accrual - interest outstanding service charges electricity accrued through exchange receivables",0,0,0,0,0,0,0,0,0,0]
[{"$nulls":3},"Debtor accrual - interest outstanding service charges waste management accrued through exchange receivables",0,0,0,0,0,0,0,0,0,0]
[{"$nulls":3},"Debtor accrual - interest outstanding service charges waste water management accrued through exchange receivables",0,0,0,0,0,0,0,0,0,0]
[{"$nulls":3},"Debtor accrual - interest outstanding service charges water accrued through exchange receivables",0,0,0,0,0,0,0,0,0,0]
["","","","Non-Cash Total",0,0,0,0,0,0,0,0,0,0]
["","Non-Exchange Revenue / Interest Total","","",0,0,0,0,0,0,0,0,0,0]
["2400","Non-Exchange Revenue / Fuel Levy","Cash","Cash collection fuel levy",0,0,0,0,0,0,0,0,0,0]
["","","","Cash Total",0,0,0,0,0,0,0,0,0,0]
["","Non-Exchange Revenue / Fuel Levy Total","","",0,0,0,0,0,0,0,0,0,0]
["2500","Non-Exchange Revenue / Operational Revenue","Non-Cash","Debtor accrual - availability charges electricity accrued through non-exchange receivables",0,0,0,0,0,0,0,0,0,0]
[{"$nulls":3},"Debtor accrual - availability charges waste management accrued through non-exchange receivables",0,0,0,0,0,0,0,0,0,0]
[{"$nulls":3},"Debtor accrual - availability charges waste water management  accrued through non-exchange receivables",0,0,0,0,0,0,0,0,0,0]
[{"$nulls":3},"Debtor accrual - availability charges water accrued through non-exchange receivables",0,0,0,0,0,0,0,0,0,0]
["","","","Non-Cash Total",0,0,0,0,0,0,0,0,0,0]
["","Non-Exchange Revenue / Operational Revenue Total","","",0,0,0,0,0,0,0,0,0,0]
["2600","Non-Exchange Revenue / Gains on disposal of Assets","Non-Cash","Biological assets",0,0,0,0,0,0,0,0,0,0]
[{"$nulls":3},"Discontinued operations",0,0,0,0,0,0,0,0,0,0]
[{"$nulls":3},"Heritage assets",0,0,0,0,0,0,0,0,0,0]
[{"$nulls":3},"Intangible assets",0,0,0,0,0,0,0,0,0,0]
[{"$nulls":3},"Investment property",0,0,0,0,0,0,0,0,0,0]
[{"$nulls":3},"Land",0,0,0,0,0,0,0,0,0,0]
[{"$nulls":3},"Living resources",0,0,0,0,0,0,0,0,0,0]
[{"$nulls":3},"Other assets",0,0,0,0,0,0,0,0,0,0]
[{"$nulls":3},"PPE",0,0,0,0,0,0,0,0,0,0]
["","","","Non-Cash Total",0,0,0,0,0,0,0,0,0,0]
["","Non-Exchange Revenue / Gains on disposal of Assets Total","","",0,0,0,0,0,0,0,0,0,0]
["2700","Non-Exchange Revenue / Other Gains","Non-Cash","Fair value adjustment actuarial assesments - leave gratuity",0,0,0,0,0,0,0,0,0,0]
[{"$nulls":3},"Fair value adjustment actuarial assesments - long service awards",0,0,0,0,0,0,0,0,0,0]
[{"$nulls":3},"Fair value adjustment actuarial assesments - medical aid",0,0,0,0,0,0,0,0,0,0]
[{"$nulls":3},"Fair value adjustment actuarial assesments - pension funds",0,0,0,0,0,0,0,0,0,0]
[{"$nulls":3},"Fair value adjustment biological assets",0,0,0,0,0,0,0,0,0,0]
[{"$nulls":3},"Fair value adjustment heritage assets",0,0,0,0,0,0,0,0,0,0]
[{"$nulls":3},"Fair value adjustment interest rate swap",0,0,0,0,0,0,0,0,0,0]
[{"$nulls":3},"Fair value adjustment investment property",0,0,0,0,0,0,0,0,0,0]
[{"$nulls":3},"Fair value adjustment investments",0,0,0,0,0,0,0,0,0,0]
[{"$nulls":3},"Fair value adjustment living resources",0,0,0,0,0,0,0,0,0,0]
[{"$nulls":3},"Foreign exchange",0,0,0,0,0,0,0,0,0,0]
[{"$nulls":3},"Inventory - fair value assessment",0,0,0,0,0,0,0,0,0,0]
[{"$nulls":3},"Inventory - increase in net realisable value",0,0,0,0,0,0,0,0,0,0]
[{"$nulls":3},"Debt Waived",0,0,0,0,0,0,0,0,0,0]
["","","","Non-Cash Total",0,0,0,0,0,0,0,0,0,0]
["","Non-Exchange Revenue / Other Gains Total","","",0,0,0,0,0,0,0,0,0,0]
["2800","Revenue / Discontinued Operations","Non-Cash","Discontinued operations",0,0,0,0,0,0,0,0,0,0]
["","","","Non-Cash Total",0,0,0,0,0,0,0,0,0,0]
["","Revenue / Discontinued Operations Total","","",0,0,0,0,0,0,0,0,0,0]
["3100","Expenditure / Employee related costs","Non-Cash","Cost capitalised to PPE (credit account)",0,0,0,0,0,0,0,0,0,0]
[{"$nulls":3},"Creditor accrual - Employee related expenditure accrued through payables from non-exchange transactions",0,0,0,0,0,0,0,0,0,0]
[{"$nulls":3},"In-kind benefits",0,0,0,0,0,0,0,0,0,0]
[{"$nulls":3},"In-kind benefits - cost capitalised to PPE (credit account)",0,0,0,0,0,0,0,0,0,0]
[{"$nulls":3},"Post-retirement benefit: medical",0,0,0,0,0,0,0,0,0,0]
[{"$nulls":3},"Post-retirement benefit: pension",0,0,0,0,0,0,0,0,0,0]
["","","","Non-Cash Total",0,0,0,0,0,0,0,0,0,0]
["","Expenditure / Employee related costs Total","","",0,0,0,0,0,0,0,0,0,0]
["3200","Expenditure / Remuneration of councillors","Non-Cash","Creditor Accrual - councillor remuneration accrued through payables from non-exchange transactions",0,0,0,0,0,0,0,0,0,0]
[{"$nulls":3},"In-kind benefits to councillors",0,0,0,0,0,0,0,0,0,0]
[{"$nulls":3},"Use of personal facilities",0,0,0,0,0,0,0,0,0,0]
["","","","Non-Cash Total",0,0,0,0,0,0,0,0,0,0]
["","Expenditure / Remuneration of councillors Total","","",0,0,0,0,0,0,0,0,0,0]
["3300","Expenditure / Bulk purchases - electricity","Non-Cash","Creditor accrual - bulk purchases electricity accrued through payables from exchange transactions",0,0,0,0,0,0,0,0,0,0]
["","","","Non-Cash Total",0,0,0,0,0,0,0,0,0,0]
["","Expenditure / Bulk purchases - electricity Total","","",0,0,0,0,0,0,0,0,0,0]
["3400","Expenditure / Inventory consumed","Non-Cash","Creditor accrual - bulk purchases water accrued through payables from exchange transactions",0,0,0,0,0,0,0,0,0,0]
[{"$nulls":3},"Inventory consumed - agricultural",0,0,0,0,0,0,0,0,0,0]
[{"$nulls":3},"Inventory consumed - capitalisation of inventory consumed",0,0,0,0,0,0,0,0,0,0]
[{"$nulls":3},"Inventory consumed - finished Goods",0,0,0,0,0,0,0,0,0,0]
[{"$nulls":3},"Inventory consumed - housing stock",0,0,0,0,0,0,0,0,0,0]
[{"$nulls":3},"Inventory consumed - land",0,0,0,0,0,0,0,0,0,0]
[{"$nulls":3},"Inventory consumed - materials and supplies",0,0,0,0,0,0,0,0,0,0]
[{"$nulls":3},"Inventory consumed - standard rated",0,0,0,0,0,0,0,0,0,0]
[{"$nulls":3},"Inventory consumed - water",0,0,0,0,0,0,0,0,0,0]
[{"$nulls":3},"Inventory consumed - zero rated",0,0,0,0,0,0,0,0,0,0]
["","","","Non-Cash Total",0,0,0,0,0,0,0,0,0,0]
["","Expenditure / Inventory consumed Total","","",0,0,0,0,0,0,0,0,0,0]
["3500","Expenditure / Debt impairment","Non-Cash","Impairment loss - exchange revenue - electricity",0,0,0,0,0,0,0,0,0,0]
[{"$nulls":3},"Impairment loss - exchange revenue - other",0,0,0,0,0,0,0,0,0,0]
[{"$nulls":3},"Impairment loss - exchange revenue - waste management",0,0,0,0,0,0,0,0,0,0]
[{"$nulls":3},"Impairment loss - exchange revenue - waste water management",0,0,0,0,0,0,0,0,0,0]
[{"$nulls":3},"Impairment loss - exchange revenue - water",0,0,0,0,0,0,0,0,0,0]
[{"$nulls":3},"Impairment loss - non-exchange revenue - other",0,0,0,0,0,0,0,0,0,0]
[{"$nulls":3},"Impairment loss - non-exchange revenue - prop rates",0,0,0,0,0,0,0,0,0,0]
[{"$nulls":3},"Impairment loss - non-exchange revenue - serv charges",0,0,0,0,0,0,0,0,0,0]
[{"$nulls":3},"Impairment loss - non-exchange revenue - serv charges - electricity",0,0,0,0,0,0,0,0,0,0]
[{"$nulls":3},"Impairment loss - non-exchange revenue - serv charges - waste management",0,0,0,0,0,0,0,0,0,0]
[{"$nulls":3},"Impairment loss - non-exchange revenue - serv charges - waste water management",0,0,0,0,0,0,0,0,0,0]
[{"$nulls":3},"Impairment loss - non-exchange revenue - serv charges - water",0,0,0,0,0,0,0,0,0,0]
[{"$nulls":3},"Reversal of Impairment loss - exchange revenue - electricity",0,0,0,0,0,0,0,0,0,0]
[{"$nulls":3},"Reversal of Impairment loss - non-exchange revenue - other",0,0,0,0,0,0,0,0,0,0]
[{"$nulls":3},"Reversal of Impairment loss - non-exchange revenue - prop rates",0,0,0,0,0,0,0,0,0,0]
[{"$nulls":3},"Reversal of Impairment loss - non-exchange revenue - serv charges",0,0,0,0,0,0,0,0,0,0]
[{"$nulls":3},"Reversal of Impairment loss - non-exchange revenue - serv charges - electricity",0,0,0,0,0,0,0,0,0,0]
[{"$nulls":3},"Reversal of Impairment loss - non-exchange revenue - serv charges - waste management",0,0,0,0,0,0,0,0,0,0]
[{"$nulls":3},"Reversal of Impairment loss - non-exchange revenue - serv charges - waste water mangement",0,0,0,0,0,0,0,0,0,0]
[{"$nulls":3},"Reversal of Impairment loss - non-exchange revenue - serv charges - water",0,0,0,0,0,0,0,0,0,0]
[{"$nulls":3},"Reversal of Impairment loss - exchange revenue - waste management",0,0,0,0,0,0,0,0,0,0]
[{"$nulls":3},"Reversal of Impairment loss - exchange revenue - waste water management",0,0,0,0,0,0,0,0,0,0]
[{"$nulls":3},"Reversal of Impairment loss - exchange revenue - water",0,0,0,0,0,0,0,0,0,0]
[{"$nulls":3},"Reversal of Impairment loss - exchange revenue - other",0,0,0,0,0,0,0,0,0,0]
["","","","Non-Cash Total",0,0,0,0,0,0,0,0,0,0]
["","Expenditure / Debt impairment Total","","",0,0,0,0,0,0,0,0,0,0]
["3600","Expenditure / Depreciation and amortisation","Non-Cash","Amortisation - intangible assets",0,0,0,0,0,0,0,0,0,0]
[{"$nulls":3},"Depreciation - biological or cultivated assets",0,0,0,0,0,0,0,0,0,0]
[{"$nulls":3},"Depreciation - heritage assets",0,0,0,0,0,0,0,0,0,0]
[{"$nulls":3},"Depreciation - intangible assets",0,0,0,0,0,0,0,0,0,0]
[{"$nulls":3},"Depreciation - investment property",0,0,0,0,0,0,0,0,0,0]
[{"$nulls":3},"Depreciation - living resources",0,0,0,0,0,0,0,0,0,0]
[{"$nulls":3},"Depreciation - PPE",0,0,0,0,0,0,0,0,0,0]
[{"$nulls":3},"Depreciation - Land",0,0,0,0,0,0,0,0,0,0]
[{"$nulls":3},"Impairment loss - biological or cultivated assets",0,0,0,0,0,0,0,0,0,0]
[{"$nulls":3},"Impairment loss - heritage assets",0,0,0,0,0,0,0,0,0,0]
[{"$nulls":3},"Impairment loss - intangible assets",0,0,0,0,0,0,0,0,0,0]
[{"$nulls":3},"Impairment loss - investment property",0,0,0,0,0,0,0,0,0,0]
[{"$nulls":3},"Impairment loss - living resources",0,0,0,0,0,0,0,0,0,0]
[{"$nulls":3},"Impairment loss - PPE",0,0,0,0,0,0,0,0,0,0]
[{"$nulls":3},"Impairment loss - PPE - construction WIP",0,0,0,0,0,0,0,0,0,0]
[{"$nulls":3},"Reversal impairment loss - biological or cultivated assets",0,0,0,0,0,0,0,0,0,0]
[{"$nulls":3},"Reversal impairment loss - investment property",0,0,0,0,0,0,0,0,0,0]
[{"$nulls":3},"Reversal impairment loss - living resources",0,0,0,0,0,0,0,0,0,0]
[{"$nulls":3},"Reversal impairment loss - PPE",0,0,0,0,0,0,0,0,0,0]
[{"$nulls":3},"Reversal impairment loss - PPE - construction WIP",0,0,0,0,0,0,0,0,0,0]
[{"$nulls":3},"Reversal of impairment loss - heritage assets",0,0,0,0,0,0,0,0,0,0]
[{"$nulls":3},"Reversal of impairment loss - intangible assets",0,0,0,0,0,0,0,0,0,0]
["","","","Non-Cash Total",0,0,0,0,0,0,0,0,0,0]
["","Expenditure / Depreciation and amortisation Total","","",0,0,0,0,0,0,0,0,0,0]
["3700","Expenditure / Interest","Cash","Direct cash payment",0,0,0,0,0,0,0,0,0,0]
["","","","Cash Total",0,0,0,0,0,0,0,0,0,0]
[null,null,"Non-Cash","Accrual of finance charges - discounting of financial instruments",0,0,0,0,0,0,0,0,0,0]
[{"$nulls":3},"Accrual of finance charges - interest costs intercompany/parentsubsidiary transactions",0,0,0,0,0,0,0,0,0,0]
[{"$nulls":3},"Accrual of finance charges - interest costs long service awards",0,0,0,0,0,0,0,0,0,0]
[{"$nulls":3},"Accrual of finance charges - interest costs non-current provisions",0,0,0,0,0,0,0,0,0,0]
["","","","Non-Cash Total",0,0,0,0,0,0,0,0,0,0]
["","Expenditure / Interest Total","","",0,0,0,0,0,0,0,0,0,0]
["3800","Expenditure / Contracted services","Non-Cash","Creditor Accrual - contracted services accrued through payables from exchange transactions",0,0,0,0,0,0,0,0,0,0]
["","","","Non-Cash Total",0,0,0,0,0,0,0,0,0,0]
["","Expenditure / Contracted services Total","","",0,0,0,0,0,0,0,0,0,0]
["3900","Expenditure / Transfers and subsidies","Cash","Capital monetary allocation",0,0,0,0,0,0,0,0,0,0]
[{"$nulls":3},"Capital monetary allocation made to municipal entities.",0,0,0,0,0,0,0,0,0,0]
[{"$nulls":3},"Operational monetary allocations",0,0,0,0,0,0,0,0,0,0]
[{"$nulls":3},"Operational monetary allocations made to municipal entities.",0,0,0,0,0,0,0,0,0,0]
["","","","Cash Total",0,0,0,0,0,0,0,0,0,0]
[null,null,"Non-Cash","Capital allocation in-kind",0,0,0,0,0,0,0,0,0,0]
[{"$nulls":3},"Capital allocation in-kind made to municipal entities.",0,0,0,0,0,0,0,0,0,0]
[{"$nulls":3},"Operational allocation in-kind",0,0,0,0,0,0,0,0,0,0]
[{"$nulls":3},"Operational allocation in-kind made to municipal entities.",0,0,0,0,0,0,0,0,0,0]
["","","","Non-Cash Total",0,0,0,0,0,0,0,0,0,0]
["","Expenditure / Transfers and subsidies Total","","",0,0,0,0,0,0,0,0,0,0]
["4000","Expenditure / Irrecoverable debts written off","Non-Cash","Bad debt written off",0,0,0,0,0,0,0,0,0,0]
[{"$nulls":3},"Irrecoverable debt written off - receivables exchange revenue - electricity",0,0,0,0,0,0,0,0,0,0]
[{"$nulls":3},"Irrecoverable debt written off - receivables exchange revenue - other",0,0,0,0,0,0,0,0,0,0]
[{"$nulls":3},"Irrecoverable debt written off - receivables exchange revenue - waste management",0,0,0,0,0,0,0,0,0,0]
[{"$nulls":3},"Irrecoverable debt written off - receivables exchange revenue - waste water management",0,0,0,0,0,0,0,0,0,0]
[{"$nulls":3},"Irrecoverable debt written off - receivables exchange revenue - water",0,0,0,0,0,0,0,0,0,0]
[{"$nulls":3},"Irrecoverable debt written off - receivables non-exchange revenue - other",0,0,0,0,0,0,0,0,0,0]
[{"$nulls":3},"Irrecoverable debt written off - receivables non-exchange revenue - property rates",0,0,0,0,0,0,0,0,0,0]
[{"$nulls":3},"Irrecoverable debt written off - receivables non-exchange revenue - service charges",0,0,0,0,0,0,0,0,0,0]
[{"$nulls":3},"Irrecoverable debt written off - receivables non-exchange revenue - service charges - electricity",0,0,0,0,0,0,0,0,0,0]
[{"$nulls":3},"Irrecoverable debt written off - receivables non-exchange revenue - service charges - waste management",0,0,0,0,0,0,0,0,0,0]
[{"$nulls":3},"Irrecoverable debt written off - receivables non-exchange revenue - service charges - waste water management",0,0,0,0,0,0,0,0,0,0]
[{"$nulls":3},"Irrecoverable debt written off - receivables non-exchange revenue - service charges - water",0,0,0,0,0,0,0,0,0,0]
["","","","Non-Cash Total",0,0,0,0,0,0,0,0,0,0]
["","Expenditure / Irrecoverable debts written off Total","","",0,0,0,0,0,0,0,0,0,0]
["4100","Expenditure / Operational costs","Cash","Direct cash payment",0,0,0,0,0,0,0,0,0,0]
["","","","Cash Total",0,0,0,0,0,0,0,0,0,0]
[null,null,"Non-Cash","Contribution to provisions",0,0,0,0,0,0,0,0,0,0]
[{"$nulls":3},"Creditor accrual - expenditure: discontinued operations",0,0,0,0,0,0,0,0,0,0]
[{"$nulls":3},"Creditor accrual - operational costs accrued through payables from exchange transactions",0,0,0,0,0,0,0,0,0,0]
[{"$nulls":3},"Creditor accrual - operational costs accrued through payables from non-exchange transactions",0,0,0,0,0,0,0,0,0,0]
["","","","Non-Cash Total",0,0,0,0,0,0,0,0,0,0]
["","Expenditure / Operational costs Total","","",0,0,0,0,0,0,0,0,0,0]
["4200","Expenditure / Losses on disposal of Assets","Non-Cash","Losses - discontinued operations",0,0,0,0,0,0,0,0,0,0]
[{"$nulls":3},"Losses - disposal biological assets",0,0,0,0,0,0,0,0,0,0]
[{"$nulls":3},"Losses - disposal heritage assets",0,0,0,0,0,0,0,0,0,0]
[{"$nulls":3},"Losses - disposal intangible assets",0,0,0,0,0,0,0,0,0,0]
[{"$nulls":3},"Losses - disposal investment property",0,0,0,0,0,0,0,0,0,0]
[{"$nulls":3},"Losses - disposal living resources",0,0,0,0,0,0,0,0,0,0]
[{"$nulls":3},"Losses - disposal PPE",0,0,0,0,0,0,0,0,0,0]
["","","","Non-Cash Total",0,0,0,0,0,0,0,0,0,0]
["","Expenditure / Losses on disposal of Assets Total","","",0,0,0,0,0,0,0,0,0,0]
["4300","Expenditure / Other Losses","Non-Cash","Inventory - decrease in net realisable value",0,0,0,0,0,0,0,0,0,0]
[{"$nulls":3},"Inventory - water losses:apparent losses:customer meter inaccuracies",0,0,0,0,0,0,0,0,0,0]
[{"$nulls":3},"Inventory - water losses:apparent losses:unauthoried consumption",0,0,0,0,0,0,0,0,0,0]
[{"$nulls":3},"Inventory - water losses:data transfer and management errors",0,0,0,0,0,0,0,0,0,0]
[{"$nulls":3},"Inventory - water losses:real losses:leakage and overflows at storage tanks/reservoirs",0,0,0,0,0,0,0,0,0,0]
[{"$nulls":3},"Inventory - water Losses:real losses:leakage on service connections up to the point of customer meter",0,0,0,0,0,0,0,0,0,0]
[{"$nulls":3},"Inventory - water losses:real losses:leakage on transmission and distribution mains",0,0,0,0,0,0,0,0,0,0]
[{"$nulls":3},"Inventory - water losses:unavoidable annual real losses",0,0,0,0,0,0,0,0,0,0]
[{"$nulls":3},"Losses - disposal PPE",0,0,0,0,0,0,0,0,0,0]
[{"$nulls":3},"Losses - foreign exchange",0,0,0,0,0,0,0,0,0,0]
[{"$nulls":3},"Losses fair value adjustments - actuarial assesments - leave gratuity",0,0,0,0,0,0,0,0,0,0]
[{"$nulls":3},"Losses fair value adjustments - actuarial assesments - long service awards",0,0,0,0,0,0,0,0,0,0]
[{"$nulls":3},"Losses fair value adjustments - actuarial assesments - medical aid",0,0,0,0,0,0,0,0,0,0]
[{"$nulls":3},"Losses fair value adjustments - actuarial assesments - pension funds",0,0,0,0,0,0,0,0,0,0]
[{"$nulls":3},"Losses fair value adjustments - heritage assets",0,0,0,0,0,0,0,0,0,0]
[{"$nulls":3},"Losses fair value adjustments - interest rate swaps",0,0,0,0,0,0,0,0,0,0]
[{"$nulls":3},"Losses fair value adjustments - investment property",0,0,0,0,0,0,0,0,0,0]
[{"$nulls":3},"Losses fair value adjustments - investments",0,0,0,0,0,0,0,0,0,0]
[{"$nulls":3},"Losses fair value adjustments - living resources",0,0,0,0,0,0,0,0,0,0]
["","","","Non-Cash Total",0,0,0,0,0,0,0,0,0,0]
["","Expenditure / Other Losses Total","","",0,0,0,0,0,0,0,0,0,0]
["4600","Non-Exchange Revenue / Transfers and subsidies - capital (monetary allocations)","Cash","Cash - transfers and subsidies - capital (monetary allocations) - departmental agencies and accounts",0,0,0,0,0,0,0,0,0,0]
[{"$nulls":3},"Cash - transfers and subsidies - capital (monetary allocations) - district municipalities",0,0,0,0,0,0,0,0,0,0]
[{"$nulls":3},"Cash - transfers and subsidies - capital (monetary allocations) - foreign gov & international organisations",0,0,0,0,0,0,0,0,0,0]
[{"$nulls":3},"Cash - transfers and subsidies - capital (monetary allocations) - higher education institutions",0,0,0,0,0,0,0,0,0,0]
[{"$nulls":3},"Cash - transfers and subsidies - capital (monetary allocations) - households",0,0,0,0,0,0,0,0,0,0]
[{"$nulls":3},"Cash - transfers and subsidies - capital (monetary allocations) - national government",0,0,0,0,0,0,0,0,0,0]
[{"$nulls":3},"Cash - transfers and subsidies - capital (monetary allocations) - non-profit institutions",0,0,0,0,0,0,0,0,0,0]
[{"$nulls":3},"Cash - transfers and subsidies - capital (monetary allocations) - parent municipality",0,0,0,0,0,0,0,0,0,0]
[{"$nulls":3},"Cash - transfers and subsidies - capital (monetary allocations) - private enterprises",0,0,0,0,0,0,0,0,0,0]
[{"$nulls":3},"Cash - transfers and subsidies - capital (monetary allocations) - provincial governments",0,0,0,0,0,0,0,0,0,0]
[{"$nulls":3},"Cash - transfers and subsidies - capital (monetary allocations) - public corporations",0,0,0,0,0,0,0,0,0,0]
["","","","Cash Total",0,0,0,0,0,0,0,0,0,0]
["","Non-Exchange Revenue / Transfers and subsidies - capital (monetary allocations) Total","","",0,0,0,0,0,0,0,0,0,0]
["4700","Non-Exchange Revenue / Transfers and subsidies - capital (in-kind)","Non-Cash","Allocations in-kind (donated assets) - departmental agencies and accounts",0,0,0,0,0,0,0,0,0,0]
[{"$nulls":3},"Allocations in-kind (donated assets) - district municipalities",0,0,0,0,0,0,0,0,0,0]
[{"$nulls":3},"Allocations in-kind (donated assets) - foreign gov & international organisation",0,0,0,0,0,0,0,0,0,0]
[{"$nulls":3},"Allocations in-kind (donated assets) - higher educational institutions",0,0,0,0,0,0,0,0,0,0]
[{"$nulls":3},"Allocations in-kind (donated assets) - households",0,0,0,0,0,0,0,0,0,0]
[{"$nulls":3},"Allocations in-kind (donated assets) - national government",0,0,0,0,0,0,0,0,0,0]
[{"$nulls":3},"Allocations in-kind (donated assets) - non-profit institutions",0,0,0,0,0,0,0,0,0,0]
[{"$nulls":3},"Allocations in-kind (donated assets) - parent municipality",0,0,0,0,0,0,0,0,0,0]
[{"$nulls":3},"Allocations in-kind (donated assets) - private enterprises",0,0,0,0,0,0,0,0,0,0]
[{"$nulls":3},"Allocations in-kind (donated assets) - provincial government",0,0,0,0,0,0,0,0,0,0]
[{"$nulls":3},"Allocations in-kind (donated assets) - public corporations",0,0,0,0,0,0,0,0,0,0]
[{"$nulls":3},"Allocations in-kind (donated assets) - local municipalities",0,0,0,0,0,0,0,0,0,0]
["","","","Non-Cash Total",0,0,0,0,0,0,0,0,0,0]
["","Non-Exchange Revenue / Transfers and subsidies - capital (in-kind) Total","","",0,0,0,0,0,0,0,0,0,0]
["4900","Expenditure / Income Tax","Non-Cash","Taxation - continuing operations",0,0,0,0,0,0,0,0,0,0]
[{"$nulls":3},"Taxation - discontinued operations",0,0,0,0,0,0,0,0,0,0]
["","","","Non-Cash Total",0,0,0,0,0,0,0,0,0,0]
["","Expenditure / Income Tax Total","","",0,0,0,0,0,0,0,0,0,0]
["5100","Expenditure / Share of Surplus/Deficit attributable to Joint Venture","Non-Cash","Expenditure - accrual share of surplus/deficit attributable to joint venture",0,0,0,0,0,0,0,0,0,0]
["","","","Non-Cash Total",0,0,0,0,0,0,0,0,0,0]
["","Expenditure / Share of Surplus/Deficit attributable to Joint Venture Total","","",0,0,0,0,0,0,0,0,0,0]
["5200","Expenditure / Share of Surplus/Deficit attributable to Minorities","Non-Cash","Expenditure - accrual share of surplus/deficit attributable to minorities",0,0,0,0,0,0,0,0,0,0]
["","","","Non-Cash Total",0,0,0,0,0,0,0,0,0,0]
["","Expenditure / Share of Surplus/Deficit attributable to Minorities Total","","",0,0,0,0,0,0,0,0,0,0]
["5400","Expenditure / Share of Surplus/Deficit attributable to Associate","Non-Cash","Expenditure - accrual share of surplus/deficit attributable to associate",0,0,0,0,0,0,0,0,0,0]
["","","","Non-Cash Total",0,0,0,0,0,0,0,0,0,0]
["","Expenditure / Share of Surplus/Deficit attributable to Associate Total","","",0,0,0,0,0,0,0,0,0,0]
["5500","Expenditure / Intercompany/Parent subsidiary transactions","Non-Cash","Expenditure - intercompany/parent-subsidiary transactions",0,0,0,0,0,0,0,0,0,0]
["","","","Non-Cash Total",0,0,0,0,0,0,0,0,0,0]
["","Expenditure / Intercompany/Parent subsidiary transactions Total","","",0,0,0,0,0,0,0,0,0,0]
["Grand Total","","","",0,0,0,0,0,0,0,0,0,0]

{"sheet":"A5-Capex","index":13,"n_rows":83,"n_cols":12,"rows_kept":83,"merged":[[1,5,1,8],[1,9,1,11],[76,0,76,11],[77,0,77,11],[78,0,78,11],[82,0,82,11]]}
[" "]
[{"$f":"Vdesc","v":"Vote Description"},{"$f":"head27","v":"Ref"},{"$f":"head1b","v":"2022/23"},{"$f":"head1A","v":"2023/24"},{"$f":"Head1","v":"2024/25"},{"$f":"Head2","v":"Current Year 2025/26"},{"$nulls":3},{"$f":"Head3","v":"2026/27 Medium Term Revenue & Expenditure Framework"}]
["R thousand",1,{"$f":"Head5","v":"Audited Outcome"},{"$f":"Head5","v":"Audited Outcome"},{"$f":"Head5","v":"Audited Outcome"},{"$f":"Head6","v":"Original Budget"},{"$f":"Head7","v":"Adjusted Budget"},{"$f":"Head8","v":"Full Year Forecast"},{"$f":"Head5b","v":"Pre-audit outcome"},{"$f":"Head9","v":"Budget Year 2026/27"},{"$f":"Head10","v":"Budget Year +1 2027/28"},{"$f":"Head11","v":"Budget Year +2 2028/29"}]
["Capital expenditure - Vote"]
["Multi-year expenditure  to be appropriated",2]
[{"$f":"A5A!A6","v":"Vote 01 - Summary Council"},null,{"$f":"A5A!C6","v":0},{"$f":"A5A!D6","v":0},{"$f":"A5A!E6","v":0},{"$f":"A5A!F6","v":0},{"$f":"A5A!G6","v":0},{"$f":"A5A!H6","v":0},{"$f":"A5A!I6","v":0},{"$f":"A5A!J6","v":0},{"$f":"A5A!K6","v":0},{"$f":"A5A!L6","v":0}]
[{"$f":"A5A!A7","v":"Vote 02 - Summary Municipal Manager"},null,{"$f":"A5A!C7","v":0},{"$f":"A5A!D7","v":0},{"$f":"A5A!E7","v":0},{"$f":"A5A!F7","v":{"v":1363636,"d":"1,364"}},{"$f":"A5A!G7","v":{"v":500000,"d":"500"}},{"$f":"A5A!H7","v":{"v":500000,"d":"500"}},{"$f":"A5A!I7","v":0},{"$f":"A5A!J7","v":0},{"$f":"A5A!K7","v":0},{"$f":"A5A!L7","v":0}]
[{"$f":"A5A!A9","v":"Vote 03 - Summary Budget And Treasury Office"},null,{"$f":"A5A!C9","v":{"v":274912.4,"d":"275"}},{"$f":"A5A!D9","v":0},{"$f":"A5A!E9","v":0},{"$f":"A5A!F9","v":{"v":2279089,"d":"2,279"}},{"$f":"A5A!G9","v":{"v":2099810,"d":"2,100"}},{"$f":"A5A!H9","v":{"v":2099810,"d":"2,100"}},{"$f":"A5A!I9","v":{"v":144450.51,"d":"144"}},{"$f":"A5A!J9","v":{"v":150229,"d":"150"}},{"$f":"A5A!K9","v":{"v":156239,"d":"156"}},{"$f":"A5A!L9","v":{"v":1852047,"d":"1,852"}}]
[{"$f":"A5A!A11","v":"Vote 04 - Summary Corporate Services"},null,{"$f":"A5A!C11","v":{"v":7726790.75,"d":"7,727"}},{"$f":"A5A!D11","v":{"v":4384610.47,"d":"4,385"}},{"$f":"A5A!E11","v":{"v":11899806.44,"d":"11,900"}},{"$f":"A5A!F11","v":{"v":3374180,"d":"3,374"}},{"$f":"A5A!G11","v":{"v":7908708,"d":"7,909"}},{"$f":"A5A!H11","v":{"v":7908708,"d":"7,909"}},{"$f":"A5A!I11","v":{"v":3207215.26,"d":"3,207"}},{"$f":"A5A!J11","v":{"v":8064348,"d":"8,064"}},{"$f":"A5A!K11","v":{"v":8386922,"d":"8,387"}},{"$f":"A5A!L11","v":{"v":8225057,"d":"8,225"}}]
[{"$f":"A5A!A15","v":"Vote 05 - Summary Social Services & Development Planing"},null,{"$f":"A5A!C15","v":{"v":408035,"d":"408"}},{"$f":"A5A!D15","v":{"v":986239.14,"d":"986"}},{"$f":"A5A!E15","v":0},{"$f":"A5A!F15","v":{"v":7101000,"d":"7,101"}},{"$f":"A5A!G15","v":{"v":6472000,"d":"6,472"}},{"$f":"A5A!H15","v":{"v":6472000,"d":"6,472"}},{"$f":"A5A!I15","v":{"v":722034.24,"d":"722"}},{"$f":"A5A!J15","v":{"v":3652314,"d":"3,652"}},{"$f":"A5A!K15","v":{"v":3772842,"d":"3,773"}},{"$f":"A5A!L15","v":{"v":5542079,"d":"5,542"}}]
[{"$f":"A5A!A20","v":"Vote 06 - Summary Infrastructure Services"},null,{"$f":"A5A!C20","v":{"v":47306053.21,"d":"47,306"}},{"$f":"A5A!D20","v":{"v":78006866.81,"d":"78,007"}},{"$f":"A5A!E20","v":{"v":136523768.17000002,"d":"136,524"}},{"$f":"A5A!F20","v":{"v":99655642,"d":"99,656"}},{"$f":"A5A!G20","v":{"v":101111254,"d":"101,111"}},{"$f":"A5A!H20","v":{"v":101111254,"d":"101,111"}},{"$f":"A5A!I20","v":{"v":70463955.11999999,"d":"70,464"}},{"$f":"A5A!J20","v":{"v":140432880,"d":"140,433"}},{"$f":"A5A!K20","v":{"v":237747821,"d":"237,748"}},{"$f":"A5A!L20","v":{"v":257065289,"d":"257,065"}}]
[{"$f":"A5A!A24","v":"Vote 07 - Summary Water Services"},null,{"$f":"A5A!C24","v":{"v":213401855.74,"d":"213,402"}},{"$f":"A5A!D24","v":{"v":226225785.12,"d":"226,226"}},{"$f":"A5A!E24","v":{"v":198272963.73,"d":"198,273"}},{"$f":"A5A!F24","v":{"v":177669825,"d":"177,670"}},{"$f":"A5A!G24","v":{"v":208828938,"d":"208,829"}},{"$f":"A5A!H24","v":{"v":208828938,"d":"208,829"}},{"$f":"A5A!I24","v":{"v":112445446.15,"d":"112,445"}},{"$f":"A5A!J24","v":{"v":173872144,"d":"173,872"}},{"$f":"A5A!K24","v":{"v":130350630,"d":"130,351"}},{"$f":"A5A!L24","v":{"v":106154763,"d":"106,155"}}]
[{"$f":"'Org structure'!A9","v":"Vote 08 - "},null,{"$f":"A5A!C28","v":0},{"$f":"A5A!D28","v":0},{"$f":"A5A!E28","v":0},{"$f":"A5A!F28","v":0},{"$f":"A5A!G28","v":0},{"$f":"A5A!H28","v":0},{"$f":"A5A!I28","v":0},{"$f":"A5A!J28","v":0},{"$f":"A5A!K28","v":0},{"$f":"A5A!L28","v":0}]
[{"$f":"'Org structure'!A10","v":"Vote 09 - "},null,{"$f":"A5A!C29","v":0},{"$f":"A5A!D29","v":0},{"$f":"A5A!E29","v":0},{"$f":"A5A!F29","v":0},{"$f":"A5A!G29","v":0},{"$f":"A5A!H29","v":0},{"$f":"A5A!I29","v":0},{"$f":"A5A!J29","v":0},{"$f":"A5A!K29","v":0},{"$f":"A5A!L29","v":0}]
[{"$f":"'Org structure'!A11","v":"Vote 10 - "},null,{"$f":"A5A!C30","v":0},{"$f":"A5A!D30","v":0},{"$f":"A5A!E30","v":0},{"$f":"A5A!F30","v":0},{"$f":"A5A!G30","v":0},{"$f":"A5A!H30","v":0},{"$f":"A5A!I30","v":0},{"$f":"A5A!J30","v":0},{"$f":"A5A!K30","v":0},{"$f":"A5A!L30","v":0}]
[{"$f":"'Org structure'!A12","v":"Vote 11 - "},null,{"$f":"A5A!C31","v":0},{"$f":"A5A!D31","v":0},{"$f":"A5A!E31","v":0},{"$f":"A5A!F31","v":0},{"$f":"A5A!G31","v":0},{"$f":"A5A!H31","v":0},{"$f":"A5A!I31","v":0},{"$f":"A5A!J31","v":0},{"$f":"A5A!K31","v":0},{"$f":"A5A!L31","v":0}]
[{"$f":"'Org structure'!A13","v":"Vote 12 - "},null,{"$f":"A5A!C32","v":0},{"$f":"A5A!D32","v":0},{"$f":"A5A!E32","v":0},{"$f":"A5A!F32","v":0},{"$f":"A5A!G32","v":0},{"$f":"A5A!H32","v":0},{"$f":"A5A!I32","v":0},{"$f":"A5A!J32","v":0},{"$f":"A5A!K32","v":0},{"$f":"A5A!L32","v":0}]
[{"$f":"'Org structure'!A14","v":"Vote 13 - "},null,{"$f":"A5A!C33","v":0},{"$f":"A5A!D33","v":0},{"$f":"A5A!E33","v":0},{"$f":"A5A!F33","v":0},{"$f":"A5A!G33","v":0},{"$f":"A5A!H33","v":0},{"$f":"A5A!I33","v":0},{"$f":"A5A!J33","v":0},{"$f":"A5A!K33","v":0},{"$f":"A5A!L33","v":0}]
[{"$f":"'Org structure'!A15","v":"Vote 14 - "},null,{"$f":"A5A!C34","v":0},{"$f":"A5A!D34","v":0},{"$f":"A5A!E34","v":0},{"$f":"A5A!F34","v":0},{"$f":"A5A!G34","v":0},{"$f":"A5A!H34","v":0},{"$f":"A5A!I34","v":0},{"$f":"A5A!J34","v":0},{"$f":"A5A!K34","v":0},{"$f":"A5A!L34","v":0}]
[{"$f":"'Org structure'!A16","v":"Vote 15 - Other"},null,{"$f":"A5A!C35","v":0},{"$f":"A5A!D35","v":0},{"$f":"A5A!E35","v":0},{"$f":"A5A!F35","v":0},{"$f":"A5A!G35","v":0},{"$f":"A5A!H35","v":0},{"$f":"A5A!I35","v":0},{"$f":"A5A!J35","v":0},{"$f":"A5A!K35","v":0},{"$f":"A5A!L35","v":0}]
["Capital multi-year expenditure sub-total",7,{"$f":"SUM(C6:C20)","v":{"v":269117647.1,"d":"269,118"}},{"$f":"SUM(D6:D20)","v":{"v":309603501.54,"d":"309,604"}},{"v":346696538.34000003,"d":"346,697"},{"v":291443372,"d":"291,443"},{"v":326920710,"d":"326,921"},{"$f":"SUM(H6:H20)","v":{"v":326920710,"d":"326,921"}},{"v":186983101.28,"d":"186,983"},{"v":326171915,"d":"326,172"},{"v":380414454,"d":"380,414"},{"v":378839235,"d":"378,839"}]
[]
["Single-year expenditure to be appropriated",2]
[{"$f":"A5A!A40","v":"Vote 01 - Summary Council"},null,{"$f":"A5A!C40","v":0},{"$f":"A5A!D40","v":0},{"$f":"A5A!E40","v":0},{"$f":"A5A!F40","v":0},{"$f":"A5A!G40","v":0},{"$f":"A5A!H40","v":0},{"$f":"A5A!I40","v":0},{"$f":"A5A!J40","v":0},{"$f":"A5A!K40","v":0},{"$f":"A5A!L40","v":0}]
[{"$f":"A5A!A41","v":"Vote 02 - Summary Municipal Manager"},null,{"$f":"A5A!C41","v":0},{"$f":"A5A!D41","v":0},{"$f":"A5A!E41","v":0},{"$f":"A5A!F41","v":0},{"$f":"A5A!G41","v":0},{"$f":"A5A!H41","v":0},{"$f":"A5A!I41","v":0},{"$f":"A5A!J41","v":0},{"$f":"A5A!K41","v":0},{"$f":"A5A!L41","v":0}]
[{"$f":"A5A!A42","v":"Vote 03 - Summary Budget And Treasury Office"},null,{"$f":"A5A!C42","v":0},{"$f":"A5A!D42","v":0},{"$f":"A5A!E42","v":0},{"$f":"A5A!F42","v":{"v":180000,"d":"180"}},{"$f":"A5A!G42","v":{"v":180000,"d":"180"}},{"$f":"A5A!H42","v":{"v":180000,"d":"180"}},{"$f":"A5A!I42","v":0},{"$f":"A5A!J42","v":0},{"$f":"A5A!K42","v":0},{"$f":"A5A!L42","v":0}]
[{"$f":"A5A!A44","v":"Vote 04 - Summary Corporate Services"},null,{"$f":"A5A!C44","v":0},{"$f":"A5A!D44","v":0},{"$f":"A5A!E44","v":{"v":100698.94,"d":"101"}},{"$f":"A5A!F44","v":{"v":5136363,"d":"5,136"}},{"$f":"A5A!G44","v":{"v":3496500,"d":"3,497"}},{"$f":"A5A!H44","v":{"v":3496500,"d":"3,497"}},{"$f":"A5A!I44","v":{"v":2615885,"d":"2,616"}},{"$f":"A5A!J44","v":{"v":2137000,"d":"2,137"}},{"$f":"A5A!K44","v":{"v":2222480,"d":"2,222"}},{"$f":"A5A!L44","v":{"v":3636360,"d":"3,636"}}]
[{"$f":"A5A!A47","v":"Vote 05 - Summary Social Services & Development Planing"},null,{"$f":"A5A!C47","v":0},{"$f":"A5A!D47","v":0},{"$f":"A5A!E47","v":0},{"$f":"A5A!F47","v":0},{"$f":"A5A!G47","v":0},{"$f":"A5A!H47","v":0},{"$f":"A5A!I47","v":0},{"$f":"A5A!J47","v":0},{"$f":"A5A!K47","v":0},{"$f":"A5A!L47","v":0}]
[{"$f":"A5A!A48","v":"Vote 06 - Summary Infrastructure Services"},null,{"$f":"A5A!C48","v":0},{"$f":"A5A!D48","v":0},{"$f":"A5A!E48","v":0},{"$f":"A5A!F48","v":{"v":2000000,"d":"2,000"}},{"$f":"A5A!G48","v":{"v":1000000,"d":"1,000"}},{"$f":"A5A!H48","v":{"v":1000000,"d":"1,000"}},{"$f":"A5A!I48","v":0},{"$f":"A5A!J48","v":{"v":1040000,"d":"1,040"}},{"$f":"A5A!K48","v":{"v":1081600,"d":"1,082"}},{"$f":"A5A!L48","v":{"v":1116212,"d":"1,116"}}]
[{"$f":"A5A!A50","v":"Vote 07 - Summary Water Services"},null,{"$f":"A5A!C50","v":0},{"$f":"A5A!D50","v":0},{"$f":"A5A!E50","v":{"v":2277586.96,"d":"2,278"}},{"$f":"A5A!F50","v":{"v":3300000,"d":"3,300"}},{"$f":"A5A!G50","v":0},{"$f":"A5A!H50","v":0},{"$f":"A5A!I50","v":0},{"$f":"A5A!J50","v":0},{"$f":"A5A!K50","v":0},{"$f":"A5A!L50","v":0}]
[{"$f":"'Org structure'!A9","v":"Vote 08 - "},null,{"$f":"A5A!C52","v":0},{"$f":"A5A!D52","v":0},{"$f":"A5A!E52","v":0},{"$f":"A5A!F52","v":0},{"$f":"A5A!G52","v":0},{"$f":"A5A!H52","v":0},{"$f":"A5A!I52","v":0},{"$f":"A5A!J52","v":0},{"$f":"A5A!K52","v":0},{"$f":"A5A!L52","v":0}]
[{"$f":"'Org structure'!A10","v":"Vote 09 - "},null,{"$f":"A5A!C53","v":0},{"$f":"A5A!D53","v":0},{"$f":"A5A!E53","v":0},{"$f":"A5A!F53","v":0},{"$f":"A5A!G53","v":0},{"$f":"A5A!H53","v":0},{"$f":"A5A!I53","v":0},{"$f":"A5A!J53","v":0},{"$f":"A5A!K53","v":0},{"$f":"A5A!L53","v":0}]
[{"$f":"'Org structure'!A11","v":"Vote 10 - "},null,{"$f":"A5A!C54","v":0},{"$f":"A5A!D54","v":0},{"$f":"A5A!E54","v":0},{"$f":"A5A!F54","v":0},{"$f":"A5A!G54","v":0},{"$f":"A5A!H54","v":0},{"$f":"A5A!I54","v":0},{"$f":"A5A!J54","v":0},{"$f":"A5A!K54","v":0},{"$f":"A5A!L54","v":0}]
[{"$f":"'Org structure'!A12","v":"Vote 11 - "},null,{"$f":"A5A!C55","v":0},{"$f":"A5A!D55","v":0},{"$f":"A5A!E55","v":0},{"$f":"A5A!F55","v":0},{"$f":"A5A!G55","v":0},{"$f":"A5A!H55","v":0},{"$f":"A5A!I55","v":0},{"$f":"A5A!J55","v":0},{"$f":"A5A!K55","v":0},{"$f":"A5A!L55","v":0}]
[{"$f":"'Org structure'!A13","v":"Vote 12 - "},null,{"$f":"A5A!C56","v":0},{"$f":"A5A!D56","v":0},{"$f":"A5A!E56","v":0},{"$f":"A5A!F56","v":0},{"$f":"A5A!G56","v":0},{"$f":"A5A!H56","v":0},{"$f":"A5A!I56","v":0},{"$f":"A5A!J56","v":0},{"$f":"A5A!K56","v":0},{"$f":"A5A!L56","v":0}]
[{"$f":"'Org structure'!A14","v":"Vote 13 - "},null,{"$f":"A5A!C57","v":0},{"$f":"A5A!D57","v":0},{"$f":"A5A!E57","v":0},{"$f":"A5A!F57","v":0},{"$f":"A5A!G57","v":0},{"$f":"A5A!H57","v":0},{"$f":"A5A!I57","v":0},{"$f":"A5A!J57","v":0},{"$f":"A5A!K57","v":0},{"$f":"A5A!L57","v":0}]
[{"$f":"'Org structure'!A15","v":"Vote 14 - "},null,{"$f":"A5A!C58","v":0},{"$f":"A5A!D58","v":0},{"$f":"A5A!E58","v":0},{"$f":"A5A!F58","v":0},{"$f":"A5A!G58","v":0},{"$f":"A5A!H58","v":0},{"$f":"A5A!I58","v":0},{"$f":"A5A!J58","v":0},{"$f":"A5A!K58","v":0},{"$f":"A5A!L58","v":0}]
[{"$f":"'Org structure'!A16","v":"Vote 15 - Other"},null,{"$f":"A5A!C59","v":0},{"$f":"A5A!D59","v":0},{"$f":"A5A!E59","v":0},{"$f":"A5A!F59","v":0},{"$f":"A5A!G59","v":0},{"$f":"A5A!H59","v":0},{"$f":"A5A!I59","v":0},{"$f":"A5A!J59","v":0},{"$f":"A5A!K59","v":0},{"$f":"A5A!L59","v":0}]
["Capital single-year expenditure sub-total",null,{"$f":"SUM(C24:C38)","v":0},{"$f":"SUM(D24:D38)","v":0},{"v":2378285.9,"d":"2,378"},{"v":10616363,"d":"10,616"},{"v":4676500,"d":"4,677"},{"v":4676500,"d":"4,677"},{"v":2615885,"d":"2,616"},{"v":3177000,"d":"3,177"},{"v":3304080,"d":"3,304"},{"v":4752572,"d":"4,753"}]
["Total Capital Expenditure - Vote",null,{"$f":"C39+C21","v":{"v":269117647.1,"d":"269,118"}},{"$f":"D39+D21","v":{"v":309603501.54,"d":"309,604"}},{"v":349074824.24,"d":"349,075"},{"v":302059735,"d":"302,060"},{"v":331597210,"d":"331,597"},{"v":331597210,"d":"331,597"},{"v":189598986.28,"d":"189,599"},{"v":329348915,"d":"329,349"},{"v":383718534,"d":"383,719"},{"v":383591807,"d":"383,592"}]
[]
["Capital Expenditure - Functional"]
["Governance and administration",null,{"$f":"SUM(C44:C46)","v":{"v":8001703.15,"d":"8,002"}},{"$f":"SUM(D44:D46)","v":{"v":4384610.47,"d":"4,385"}},{"v":12000505.38,"d":"12,001"},{"v":17434268,"d":"17,434"},{"v":19057018,"d":"19,057"},{"v":19057018,"d":"19,057"},{"v":5967550.77,"d":"5,968"},{"v":13848941,"d":"13,849"},{"v":14378884,"d":"14,379"},{"v":19089560,"d":"19,090"}]
["Executive and council",null,0,0,0,0,0,0,0,0,0,0]
["Finance and administration",null,{"v":8001703.15,"d":"8,002"},{"v":4384610.47,"d":"4,385"},{"v":12000505.38,"d":"12,001"},{"v":16070632,"d":"16,071"},{"v":18557018,"d":"18,557"},{"v":18557018,"d":"18,557"},{"v":5967550.77,"d":"5,968"},{"v":13848941,"d":"13,849"},{"v":14378884,"d":"14,379"},{"v":19089560,"d":"19,090"}]
["Internal audit",null,0,0,0,{"v":1363636,"d":"1,364"},{"v":500000,"d":"500"},{"v":500000,"d":"500"},0,0,0,0]
["Community and public safety",null,{"$f":"SUM(C48:C52)","v":{"v":269950,"d":"270"}},{"$f":"SUM(D48:D52)","v":{"v":986239.14,"d":"986"}},0,0,0,0,0,0,0,0]
["Community and social services",null,{"v":269950,"d":"270"},{"v":986239.14,"d":"986"},0,0,0,0,0,0,0,0]
["Sport and recreation"]
["Public safety"]
["Housing"]
["Health"]
["Economic and environmental services",null,{"$f":"SUM(C54:C56)","v":{"v":41850581.33,"d":"41,851"}},{"$f":"SUM(D54:D56)","v":{"v":60630602.29,"d":"60,631"}},{"v":134763394.73,"d":"134,763"},{"v":95891347,"d":"95,891"},{"v":102939026,"d":"102,939"},{"v":102939026,"d":"102,939"},{"v":71185989.36,"d":"71,186"},{"v":132572705,"d":"132,573"},{"v":221123787,"d":"221,124"},{"v":237257582,"d":"237,258"}]
["Planning and development",null,{"v":41850581.33,"d":"41,851"},{"v":60630602.29,"d":"60,631"},{"v":134763394.73,"d":"134,763"},{"v":95891347,"d":"95,891"},{"v":102939026,"d":"102,939"},{"v":102939026,"d":"102,939"},{"v":71185989.36,"d":"71,186"},{"v":132572705,"d":"132,573"},{"v":221123787,"d":"221,124"},{"v":237257582,"d":"237,258"}]
["Road transport"]
["Environmental protection"]
["Trading services",null,{"$f":"SUM(C58:C61)","v":{"v":218995412.62,"d":"218,995"}},{"$f":"SUM(D58:D61)","v":{"v":243602049.64,"d":"243,602"}},{"v":202310924.13,"d":"202,311"},{"v":188734120,"d":"188,734"},{"v":209601166,"d":"209,601"},{"v":209601166,"d":"209,601"},{"v":112445446.15,"d":"112,445"},{"v":182927269,"d":"182,927"},{"v":148215863,"d":"148,216"},{"v":127244665,"d":"127,245"}]
["Energy sources"]
["Water management",null,{"v":174460977.92,"d":"174,461"},{"v":178636870.57,"d":"178,637"},{"v":182256184.37,"d":"182,256"},{"v":188473252,"d":"188,473"},{"v":204466564,"d":"204,467"},{"v":204466564,"d":"204,467"},{"v":109056954.7,"d":"109,057"},{"v":182927269,"d":"182,927"},{"v":148215863,"d":"148,216"},{"v":127244665,"d":"127,245"}]
["Waste water management",null,{"v":44534434.7,"d":"44,534"},{"v":64965179.07,"d":"64,965"},{"v":20054739.76,"d":"20,055"},{"v":260868,"d":"261"},{"v":5134602,"d":"5,135"},{"v":5134602,"d":"5,135"},{"v":3388491.45,"d":"3,388"},0,0,0]
["Waste management"]
["Other"]
["Total Capital Expenditure - Functional",3,{"$f":"C43+C47+C53+C57+C62","v":{"v":269117647.1,"d":"269,118"}},{"$f":"D43+D47+D53+D57+D62","v":{"v":309603501.53999996,"d":"309,604"}},{"v":349074824.24,"d":"349,075"},{"v":302059735,"d":"302,060"},{"v":331597210,"d":"331,597"},{"v":331597210,"d":"331,597"},{"v":189598986.28,"d":"189,599"},{"v":329348915,"d":"329,349"},{"v":383718534,"d":"383,719"},{"$f":"L43+L47+L53+L57+L62","v":{"v":383591807,"d":"383,592"}}]
[]
["Funded by:"]
["National Government",null,{"v":247421029.83,"d":"247,421"},{"v":298048454.06,"d":"298,048"},{"v":255079256.74,"d":"255,079"},{"v":259997379,"d":"259,997"},{"v":255361023,"d":"255,361"},{"v":255361023,"d":"255,361"},{"v":165850313.28,"d":"165,850"},{"v":285971210,"d":"285,971"},{"v":338631282,"d":"338,631"},{"v":332809933,"d":"332,810"}]
["Provincial Government",null,{"v":3887850,"d":"3,888"},0,{"v":20925500,"d":"20,926"},0,0,0,0,0,0,0]
["District Municipality",null,0,0,0,{"v":150000,"d":"150"},{"v":150000,"d":"150"},{"v":150000,"d":"150"},0,{"v":154950,"d":"155"},{"v":159599,"d":"160"},{"v":165983,"d":"166"}]
["Transfers and subsidies - capital (monetary allocations) (Nat / Prov Departm Agencies, Households, Non-profit Institutions, Private Enterprises, Public Corporatons, Higher Educ Institutions)"]
["Transfers recognised - capital",4,{"$f":"SUM(C66:C69)","v":{"v":251308879.83,"d":"251,309"}},{"v":298048454.06,"d":"298,048"},{"v":276004756.74,"d":"276,005"},{"v":260147379,"d":"260,147"},{"v":255511023,"d":"255,511"},{"v":255511023,"d":"255,511"},{"v":165850313.28,"d":"165,850"},{"v":286126160,"d":"286,126"},{"v":338790881,"d":"338,791"},{"v":332975916,"d":"332,976"}]
[]
["Borrowing",6,0,0,0,0,0,0,0,0,0,0]
["Internally generated funds",null,{"v":17808767.27,"d":"17,809"},{"v":11555047.48,"d":"11,555"},{"v":73070067.5,"d":"73,070"},{"v":41912356,"d":"41,912"},{"v":76086187,"d":"76,086"},{"v":76086187,"d":"76,086"},{"v":23748673,"d":"23,749"},{"v":43222755,"d":"43,223"},{"v":44927653,"d":"44,928"},{"v":50615891,"d":"50,616"}]
["Total Capital Funding",7,{"$f":"+C70+C72+C73","v":{"v":269117647.1,"d":"269,118"}},{"$f":"+D70+D72+D73","v":{"v":309603501.54,"d":"309,604"}},{"v":349074824.24,"d":"349,075"},{"v":302059735,"d":"302,060"},{"v":331597210,"d":"331,597"},{"v":331597210,"d":"331,597"},{"v":189598986.28,"d":"189,599"},{"v":329348915,"d":"329,349"},{"v":383718534,"d":"383,719"},{"v":383591807,"d":"383,592"}]
[{"$f":"head27a","v":"References"}]
["1. Municipalities may choose to appropriate for capital expenditure for three years or for one year (if one year appropriation projected expenditure required for yr2 and yr3)."]
["2. Include capital component of PPP unitary payment. Note that capital transfers are only appropriated to municipalities for the budget year"]
["3. Capital expenditure by functional classification must reconcile to the appropriations by vote"]
["4. Must reconcile to supporting table SA20 and to Budgeted Financial Performance (revenue and expenditure)"]
[]
["6. Include finance leases and PPP capital funding component of unitary payment - total borrowing/repayments to reconcile to changes in Table SA17"]
["7. Total Capital Funding must balance with Total Capital Expenditure"]
["8. Include any capitalised interest (MFMA section 46) as part of relevant capital budget"]

{"sheet":"A5A","index":14,"n_rows":61,"n_cols":24,"rows_kept":61,"merged":[[1,5,1,8],[1,9,1,11],[1,13,1,16],[1,17,1,20],[1,21,1,23]]}
[{"$f":"muni&\" - \"&Approve5","v":"DC43 Harry Gwala - Table A5 Consolidated Budgeted Capital Expenditure by vote, functional classification and funding"}]
[{"$f":"Vdesc","v":"Vote Description"},{"$f":"head27","v":"Ref"},{"$f":"head1b","v":"2022/23"},{"$f":"head1A","v":"2023/24"},{"$f":"Head1","v":"2024/25"},{"$f":"Head2","v":"Current Year 2025/26"},{"$nulls":3},{"$f":"Head3","v":"2026/27 Medium Term Revenue & Expenditure Framework"},{"$nulls":3},{"$f":"\"Multi-year appropriation for \"&Head9&\n\"\n in the \"&Head2A&\" Annual Budget\"","v":"Multi-year appropriation for Budget Year 2026/27\n in the 2025/26 Annual Budget"},{"$nulls":3},{"$f":"\"Multi-year appropriation for \"&RIGHT(Head10,7)&\n\"\n in the \"&Head2A&\" Annual Budget\"","v":"Multi-year appropriation for 2027/28\n in the 2025/26 Annual Budget"},{"$nulls":3},"New multi-year appropriations \n(funds for new and existing projects) "]
["R thousand",1,{"$f":"Head5","v":"Audited Outcome"},{"$f":"Head5","v":"Audited Outcome"},{"$f":"Head5","v":"Audited Outcome"},{"$f":"Head6","v":"Original Budget"},{"$f":"Head7","v":"Adjusted Budget"},{"$f":"Head8","v":"Full Year Forecast"},{"$f":"Head5b","v":"Pre-audit outcome"},{"$f":"Head9","v":"Budget Year 2026/27"},{"$f":"Head10","v":"Budget Year +1 2027/28"},{"$f":"Head11","v":"Budget Year +2 2028/29"},null,{"$f":"\"Appropriation for \"&RIGHT(Head9,7)","v":"Appropriation for 2026/27"},{"$f":"\"Adjustments in \"&Head2A","v":"Adjustments in 2025/26"},{"$f":"\"Downward adjustments for \"&RIGHT(Head9,7)","v":"Downward adjustments for 2026/27"},"Appropriation carried forward",{"$f":"\"Appropriation for \"&RIGHT(Head9,7)","v":"Appropriation for 2026/27"},{"$f":"\"Adjustments in \"&Head2A","v":"Adjustments in 2025/26"},{"$f":"\"Downward adjustments for \"&RIGHT(Head9,7)","v":"Downward adjustments for 2026/27"},"Appropriation carried forward",{"$f":"Head9","v":"Budget Year 2026/27"},{"$f":"Head10","v":"Budget Year +1 2027/28"},{"$f":"Head11","v":"Budget Year +2 2028/29"}]
["Capital expenditure - Municipal Vote"]
["Multi-year expenditure appropriation",2]
[{"$f":"'Org structure'!A2","v":"Vote 01 - Summary Council"},null,0,0,0,0,0,0,0,0,0,0,null,0,0,0,0,0,0,0,0,0,0,{"$error":"#N/A"}]
[{"$f":"'Org structure'!A3","v":"Vote 02 - Summary Municipal Manager"},null,{"$f":"SUM(C8:C8)","v":0},0,0,{"v":1363636,"d":"1,364"},{"v":500000,"d":"500"},{"v":500000,"d":"500"},0,0,0,0,null,{"$f":"SUM(N8:N8)","v":0},0,0,0,0,0,0,0,0,0,0]
[{"$f":"'Org structure'!E10","v":"02.2 - Internal Audit Unit"},null,0,0,0,{"v":1363636,"d":"1,364"},{"v":500000,"d":"500"},{"v":500000,"d":"500"},0,{"$f":"Q8+V8","v":0},{"$f":"U8+W8","v":0},{"$f":"X8","v":0},null,0,0,0,{"$f":"SUM(N8:P8)","v":0},0,0,0,{"$f":"SUM(R8:T8)","v":0},0,0,0]
[{"$f":"'Org structure'!A4","v":"Vote 03 - Summary Budget And Treasury Office"},null,{"$f":"SUM(C10:C10)","v":{"v":274912.4,"d":"275"}},0,0,{"v":2279089,"d":"2,279"},{"v":2099810,"d":"2,100"},{"v":2099810,"d":"2,100"},{"v":144450.51,"d":"144"},{"v":150229,"d":"150"},{"v":156239,"d":"156"},{"v":1852047,"d":"1,852"},null,{"$f":"SUM(N10:N10)","v":{"v":150229,"d":"150"}},0,0,{"v":150229,"d":"150"},{"v":156239,"d":"156"},0,0,{"v":156239,"d":"156"},0,0,{"v":1852047,"d":"1,852"}]
[{"$f":"'Org structure'!E14","v":"03.1 - Budget & Treasury Administration"},null,{"v":274912.4,"d":"275"},0,0,{"v":2279089,"d":"2,279"},{"v":2099810,"d":"2,100"},{"v":2099810,"d":"2,100"},{"v":144450.51,"d":"144"},{"$f":"Q10+V10","v":{"v":150229,"d":"150"}},{"$f":"U10+W10","v":{"v":156239,"d":"156"}},{"$f":"X10","v":{"v":1852047,"d":"1,852"}},null,{"v":150229,"d":"150"},0,0,{"$f":"SUM(N10:P10)","v":{"v":150229,"d":"150"}},{"v":156239,"d":"156"},0,0,{"$f":"SUM(R10:T10)","v":{"v":156239,"d":"156"}},0,0,{"v":1852047,"d":"1,852"}]
[{"$f":"'Org structure'!A5","v":"Vote 04 - Summary Corporate Services"},null,{"$f":"SUM(C12:C14)","v":{"v":7726790.75,"d":"7,727"}},{"v":4384610.47,"d":"4,385"},{"v":11899806.44,"d":"11,900"},{"v":3374180,"d":"3,374"},{"v":7908708,"d":"7,909"},{"v":7908708,"d":"7,909"},{"v":3207215.26,"d":"3,207"},{"v":8064348,"d":"8,064"},{"v":8386922,"d":"8,387"},{"v":8225057,"d":"8,225"},null,{"$f":"SUM(N12:N14)","v":{"v":8064348,"d":"8,064"}},0,0,{"v":8064348,"d":"8,064"},{"v":8386922,"d":"8,387"},0,0,{"v":8386922,"d":"8,387"},0,0,{"v":8225057,"d":"8,225"}]
[{"$f":"'Org structure'!E18","v":"04.1 - Corporate Services Administration"},null,{"v":6978055.65,"d":"6,978"},{"v":3309430.61,"d":"3,309"},{"v":11350946.44,"d":"11,351"},{"v":1346181,"d":"1,346"},{"v":5598318,"d":"5,598"},{"v":5598318,"d":"5,598"},{"v":2702020.26,"d":"2,702"},{"$f":"Q12+V12","v":{"v":3216248,"d":"3,216"}},{"$f":"U12+W12","v":{"v":3344898,"d":"3,345"}},{"$f":"X12","v":{"v":5822251,"d":"5,822"}},null,{"v":3216248,"d":"3,216"},0,0,{"$f":"SUM(N12:P12)","v":{"v":3216248,"d":"3,216"}},{"v":3344898,"d":"3,345"},0,0,{"$f":"SUM(R12:T12)","v":{"v":3344898,"d":"3,345"}},0,0,{"v":5822251,"d":"5,822"}]
[{"$f":"'Org structure'!E19","v":"04.2 - Human Resources & Labour Relations"},null,0,0,0,{"v":363636,"d":"364"},{"v":300000,"d":"300"},{"v":300000,"d":"300"},0,{"$f":"Q13+V13","v":{"v":311100,"d":"311"}},{"$f":"U13+W13","v":{"v":323544,"d":"324"}},{"$f":"X13","v":{"v":312000,"d":"312"}},null,{"v":311100,"d":"311"},0,0,{"$f":"SUM(N13:P13)","v":{"v":311100,"d":"311"}},{"v":323544,"d":"324"},0,0,{"$f":"SUM(R13:T13)","v":{"v":323544,"d":"324"}},0,0,{"v":312000,"d":"312"}]
[{"$f":"'Org structure'!E20","v":"04.3 - Administration & Ict"},null,{"v":748735.1,"d":"749"},{"v":1075179.86,"d":"1,075"},{"v":548860,"d":"549"},{"v":1664363,"d":"1,664"},{"v":2010390,"d":"2,010"},{"v":2010390,"d":"2,010"},{"v":505195,"d":"505"},{"$f":"Q14+V14","v":{"v":4537000,"d":"4,537"}},{"$f":"U14+W14","v":{"v":4718480,"d":"4,718"}},{"$f":"X14","v":{"v":2090806,"d":"2,091"}},null,{"v":4537000,"d":"4,537"},0,0,{"$f":"SUM(N14:P14)","v":{"v":4537000,"d":"4,537"}},{"v":4718480,"d":"4,718"},0,0,{"$f":"SUM(R14:T14)","v":{"v":4718480,"d":"4,718"}},0,0,{"v":2090806,"d":"2,091"}]
[{"$f":"'Org structure'!A6","v":"Vote 05 - Summary Social Services & Development Planing"},null,{"$f":"SUM(C16:C19)","v":{"v":408035,"d":"408"}},{"v":986239.14,"d":"986"},0,{"v":7101000,"d":"7,101"},{"v":6472000,"d":"6,472"},{"v":6472000,"d":"6,472"},{"v":722034.24,"d":"722"},{"v":3652314,"d":"3,652"},{"v":3772842,"d":"3,773"},{"v":5542079,"d":"5,542"},null,{"$f":"SUM(N16:N19)","v":{"v":3652314,"d":"3,652"}},0,0,{"v":3652314,"d":"3,652"},{"v":3772842,"d":"3,773"},0,0,{"v":3772842,"d":"3,773"},0,0,{"v":5542079,"d":"5,542"}]
[{"$f":"'Org structure'!E24","v":"05.1 - Social Econ & Develop Planning Admin."},null,{"v":138085,"d":"138"},0,0,{"v":1850000,"d":"1,850"},{"v":1450000,"d":"1,450"},{"v":1450000,"d":"1,450"},{"v":722034.24,"d":"722"},{"$f":"Q16+V16","v":0},{"$f":"U16+W16","v":0},{"$f":"X16","v":0},null,0,0,0,{"$f":"SUM(N16:P16)","v":0},0,0,0,{"$f":"SUM(R16:T16)","v":0},0,0,0]
[{"$f":"'Org structure'!E26","v":"05.3 - Social Services"},null,{"v":269950,"d":"270"},{"v":986239.14,"d":"986"},0,0,0,0,0,{"$f":"Q17+V17","v":0},{"$f":"U17+W17","v":0},{"$f":"X17","v":0},null,0,0,0,{"$f":"SUM(N17:P17)","v":0},0,0,0,{"$f":"SUM(R17:T17)","v":0},0,0,0]
[{"$f":"'Org structure'!E31","v":"05.8 - Chief Financial Officer"},null,0,0,0,{"v":5101000,"d":"5,101"},{"v":4872000,"d":"4,872"},{"v":4872000,"d":"4,872"},0,{"$f":"Q18+V18","v":{"v":3497364,"d":"3,497"}},{"$f":"U18+W18","v":{"v":3613243,"d":"3,613"}},{"$f":"X18","v":{"v":5376096,"d":"5,376"}},null,{"v":3497364,"d":"3,497"},0,0,{"$f":"SUM(N18:P18)","v":{"v":3497364,"d":"3,497"}},{"v":3613243,"d":"3,613"},0,0,{"$f":"SUM(R18:T18)","v":{"v":3613243,"d":"3,613"}},0,0,{"v":5376096,"d":"5,376"}]
[{"$f":"'Org structure'!E34","v":"05.11 - Local Economic Development (Rep Fx)"},null,0,0,0,{"v":150000,"d":"150"},{"v":150000,"d":"150"},{"v":150000,"d":"150"},0,{"$f":"Q19+V19","v":{"v":154950,"d":"155"}},{"$f":"U19+W19","v":{"v":159599,"d":"160"}},{"$f":"X19","v":{"v":165983,"d":"166"}},null,{"v":154950,"d":"155"},0,0,{"$f":"SUM(N19:P19)","v":{"v":154950,"d":"155"}},{"v":159599,"d":"160"},0,0,{"$f":"SUM(R19:T19)","v":{"v":159599,"d":"160"}},0,0,{"v":165983,"d":"166"}]
[{"$f":"'Org structure'!A7","v":"Vote 06 - Summary Infrastructure Services"},null,{"$f":"SUM(C21:C23)","v":{"v":47306053.21,"d":"47,306"}},{"v":78006866.81,"d":"78,007"},{"v":136523768.17000002,"d":"136,524"},{"v":99655642,"d":"99,656"},{"v":101111254,"d":"101,111"},{"v":101111254,"d":"101,111"},{"v":70463955.11999999,"d":"70,464"},{"v":140432880,"d":"140,433"},{"v":237747821,"d":"237,748"},{"v":257065289,"d":"257,065"},null,{"$f":"SUM(N21:N23)","v":{"v":140432880,"d":"140,433"}},0,0,{"v":140432880,"d":"140,433"},{"v":237747821,"d":"237,748"},0,0,{"v":237747821,"d":"237,748"},0,0,{"v":257065289,"d":"257,065"}]
[{"$f":"'Org structure'!E36","v":"06.1 - Infrastructure Services Administration"},null,{"v":41712496.33,"d":"41,712"},{"v":60630602.29,"d":"60,631"},{"v":131837124.65,"d":"131,837"},{"v":85640049,"d":"85,640"},{"v":96274610,"d":"96,275"},{"v":96274610,"d":"96,275"},{"v":69707937.07,"d":"69,708"},{"$f":"Q21+V21","v":{"v":128757755,"d":"128,758"}},{"$f":"U21+W21","v":{"v":217282588,"d":"217,283"}},{"$f":"X21","v":{"v":233292187,"d":"233,292"}},null,{"v":128757755,"d":"128,758"},0,0,{"$f":"SUM(N21:P21)","v":{"v":128757755,"d":"128,758"}},{"v":217282588,"d":"217,283"},0,0,{"$f":"SUM(R21:T21)","v":{"v":217282588,"d":"217,283"}},0,0,{"v":233292187,"d":"233,292"}]
[{"$f":"'Org structure'!E38","v":"06.3 - Project & Infra Grant Management"},null,0,0,{"v":2926270.08,"d":"2,926"},{"v":6251298,"d":"6,251"},{"v":4064416,"d":"4,064"},{"v":4064416,"d":"4,064"},{"v":756018.05,"d":"756"},{"$f":"Q22+V22","v":{"v":2620000,"d":"2,620"}},{"$f":"U22+W22","v":{"v":2600000,"d":"2,600"}},{"$f":"X22","v":{"v":2683200,"d":"2,683"}},null,{"v":2620000,"d":"2,620"},0,0,{"$f":"SUM(N22:P22)","v":{"v":2620000,"d":"2,620"}},{"v":2600000,"d":"2,600"},0,0,{"$f":"SUM(R22:T22)","v":{"v":2600000,"d":"2,600"}},0,0,{"v":2683200,"d":"2,683"}]
[{"$f":"'Org structure'!E41","v":"06.6 - Reporting Function"},null,{"v":5593556.88,"d":"5,594"},{"v":17376264.52,"d":"17,376"},{"v":1760373.44,"d":"1,760"},{"v":7764295,"d":"7,764"},{"v":772228,"d":"772"},{"v":772228,"d":"772"},0,{"$f":"Q23+V23","v":{"v":9055125,"d":"9,055"}},{"$f":"U23+W23","v":{"v":17865233,"d":"17,865"}},{"$f":"X23","v":{"v":21089902,"d":"21,090"}},null,{"v":9055125,"d":"9,055"},0,0,{"$f":"SUM(N23:P23)","v":{"v":9055125,"d":"9,055"}},{"v":17865233,"d":"17,865"},0,0,{"$f":"SUM(R23:T23)","v":{"v":17865233,"d":"17,865"}},0,0,{"v":21089902,"d":"21,090"}]
[{"$f":"'Org structure'!A8","v":"Vote 07 - Summary Water Services"},null,{"$f":"SUM(C25:C27)","v":{"v":213401855.74,"d":"213,402"}},{"v":226225785.12,"d":"226,226"},{"v":198272963.73,"d":"198,273"},{"v":177669825,"d":"177,670"},{"v":208828938,"d":"208,829"},{"v":208828938,"d":"208,829"},{"v":112445446.15,"d":"112,445"},{"v":173872144,"d":"173,872"},{"v":130350630,"d":"130,351"},{"v":106154763,"d":"106,155"},null,{"$f":"SUM(N25:N27)","v":{"v":173872144,"d":"173,872"}},0,0,{"v":173872144,"d":"173,872"},{"v":130350630,"d":"130,351"},0,0,{"v":130350630,"d":"130,351"},0,0,{"v":106154763,"d":"106,155"}]
[{"$f":"'Org structure'!E43","v":"07.1 - Water Services Administration"},null,{"v":168600788.74,"d":"168,601"},{"v":161260606.05,"d":"161,261"},{"v":178218223.97,"d":"178,218"},{"v":177408957,"d":"177,409"},{"v":203694336,"d":"203,694"},{"v":203694336,"d":"203,694"},{"v":109056954.7,"d":"109,057"},{"$f":"Q25+V25","v":{"v":173872144,"d":"173,872"}},{"$f":"U25+W25","v":{"v":130350630,"d":"130,351"}},{"$f":"X25","v":{"v":106154763,"d":"106,155"}},null,{"v":173872144,"d":"173,872"},0,0,{"$f":"SUM(N25:P25)","v":{"v":173872144,"d":"173,872"}},{"v":130350630,"d":"130,351"},0,0,{"$f":"SUM(R25:T25)","v":{"v":130350630,"d":"130,351"}},0,0,{"v":106154763,"d":"106,155"}]
[{"$f":"'Org structure'!E44","v":"07.2 - Water Infrastructure Planning & Design"},null,{"v":266632.3,"d":"267"},0,0,0,0,0,0,{"$f":"Q26+V26","v":0},{"$f":"U26+W26","v":0},{"$f":"X26","v":0},null,0,0,0,{"$f":"SUM(N26:P26)","v":0},0,0,0,{"$f":"SUM(R26:T26)","v":0},0,0,0]
[{"$f":"'Org structure'!E46","v":"07.4 - Sanitation Operations & Maintenance"},null,{"v":44534434.7,"d":"44,534"},{"v":64965179.07,"d":"64,965"},{"v":20054739.76,"d":"20,055"},{"v":260868,"d":"261"},{"v":5134602,"d":"5,135"},{"v":5134602,"d":"5,135"},{"v":3388491.45,"d":"3,388"},{"$f":"Q27+V27","v":0},{"$f":"U27+W27","v":0},{"$f":"X27","v":0},null,0,0,0,{"$f":"SUM(N27:P27)","v":0},0,0,0,{"$f":"SUM(R27:T27)","v":0},0,0,0]
[{"$f":"'Org structure'!A9","v":"Vote 08 - "},null,0,0,0,0,0,0,0,0,0,0,null,0,0,0,0,0,0,0,0,0,0,0]
[{"$f":"'Org structure'!A10","v":"Vote 09 - "},null,0,0,0,0,0,0,0,0,0,0,null,0,0,0,0,0,0,0,0,0,0,0]
[{"$f":"'Org structure'!A11","v":"Vote 10 - "},null,0,0,0,0,0,0,0,0,0,0,null,0,0,0,0,0,0,0,0,0,0,0]
[{"$f":"'Org structure'!A12","v":"Vote 11 - "},null,0,0,0,0,0,0,0,0,0,0,null,0,0,0,0,0,0,0,0,0,0,0]
[{"$f":"'Org structure'!A13","v":"Vote 12 - "},null,0,0,0,0,0,0,0,0,0,0,null,0,0,0,0,0,0,0,0,0,0,0]
[{"$f":"'Org structure'!A14","v":"Vote 13 - "},null,0,0,0,0,0,0,0,0,0,0,null,0,0,0,0,0,0,0,0,0,0,0]
[{"$f":"'Org structure'!A15","v":"Vote 14 - "},null,0,0,0,0,0,0,0,0,0,0,null,0,0,0,0,0,0,0,0,0,0,0]
[{"$f":"'Org structure'!A16","v":"Vote 15 - Other"},null,0,0,0,0,0,0,0,0,0,0,null,0,0,0,0,0,0,0,0,0,0,0]
["Capital multi-year expenditure sub-total",null,{"$f":"C6+C7+C9+C11+C15+C20+C24+C28+C29+C30+C31+C32+C33+C34+C35","v":{"v":269117647.1,"d":"269,118"}},{"v":309603501.54,"d":"309,604"},{"v":346696538.34000003,"d":"346,697"},{"v":291443372,"d":"291,443"},{"v":326920710,"d":"326,921"},{"v":326920710,"d":"326,921"},{"v":186983101.28,"d":"186,983"},{"v":326171915,"d":"326,172"},{"v":380414454,"d":"380,414"},{"v":378839235,"d":"378,839"},null,{"$f":"N6+N7+N9+N11+N15+N20+N24+N28+N29+N30+N31+N32+N33+N34+N35","v":{"v":326171915,"d":"326,172"}},0,0,{"v":326171915,"d":"326,172"},{"v":380414454,"d":"380,414"},0,0,{"v":380414454,"d":"380,414"},0,0,{"$error":"#N/A"}]
[]
["Capital expenditure - Municipal Vote"]
["Single-year expenditure appropriation",2]
[{"$f":"'Org structure'!A2","v":"Vote 01 - Summary Council"},null,0,0,0,0,0,0,0,0,0,0]
[{"$f":"'Org structure'!A3","v":"Vote 02 - Summary Municipal Manager"},null,0,0,0,0,0,0,0,0,0,0]
[{"$f":"'Org structure'!A4","v":"Vote 03 - Summary Budget And Treasury Office"},null,{"$f":"SUM(C43:C43)","v":0},0,0,{"v":180000,"d":"180"},{"v":180000,"d":"180"},{"v":180000,"d":"180"},0,0,0,0]
[{"$f":"'Org structure'!E14","v":"03.1 - Budget & Treasury Administration"},null,0,0,0,{"v":180000,"d":"180"},{"v":180000,"d":"180"},{"v":180000,"d":"180"},0,0,0,0]
[{"$f":"'Org structure'!A5","v":"Vote 04 - Summary Corporate Services"},null,{"$f":"SUM(C45:C46)","v":0},0,{"v":100698.94,"d":"101"},{"v":5136363,"d":"5,136"},{"v":3496500,"d":"3,497"},{"v":3496500,"d":"3,497"},{"v":2615885,"d":"2,616"},{"v":2137000,"d":"2,137"},{"v":2222480,"d":"2,222"},{"v":3636360,"d":"3,636"}]
[{"$f":"'Org structure'!E18","v":"04.1 - Corporate Services Administration"},null,0,0,0,{"v":4636363,"d":"4,636"},{"v":1000000,"d":"1,000"},{"v":1000000,"d":"1,000"},{"v":119385,"d":"119"},{"v":1037000,"d":"1,037"},{"v":1078480,"d":"1,078"},{"v":1040000,"d":"1,040"}]
[{"$f":"'Org structure'!E20","v":"04.3 - Administration & Ict"},null,0,0,{"v":100698.94,"d":"101"},{"v":500000,"d":"500"},{"v":2496500,"d":"2,497"},{"v":2496500,"d":"2,497"},{"v":2496500,"d":"2,497"},{"v":1100000,"d":"1,100"},{"v":1144000,"d":"1,144"},{"v":2596360,"d":"2,596"}]
[{"$f":"'Org structure'!A6","v":"Vote 05 - Summary Social Services & Development Planing"},null,0,0,0,0,0,0,0,0,0,0]
[{"$f":"'Org structure'!A7","v":"Vote 06 - Summary Infrastructure Services"},null,{"$f":"SUM(C49:C49)","v":0},0,0,{"v":2000000,"d":"2,000"},{"v":1000000,"d":"1,000"},{"v":1000000,"d":"1,000"},0,{"v":1040000,"d":"1,040"},{"v":1081600,"d":"1,082"},{"v":1116212,"d":"1,116"}]
[{"$f":"'Org structure'!E36","v":"06.1 - Infrastructure Services Administration"},null,0,0,0,{"v":2000000,"d":"2,000"},{"v":1000000,"d":"1,000"},{"v":1000000,"d":"1,000"},0,{"v":1040000,"d":"1,040"},{"v":1081600,"d":"1,082"},{"v":1116212,"d":"1,116"}]
[{"$f":"'Org structure'!A8","v":"Vote 07 - Summary Water Services"},null,{"$f":"SUM(C51:C51)","v":0},0,{"v":2277586.96,"d":"2,278"},{"v":3300000,"d":"3,300"},0,0,0,0,0,0]
[{"$f":"'Org structure'!E43","v":"07.1 - Water Services Administration"},null,0,0,{"v":2277586.96,"d":"2,278"},{"v":3300000,"d":"3,300"},0,0,0,0,0,0]
[{"$f":"'Org structure'!A9","v":"Vote 08 - "},null,0,0,0,0,0,0,0,0,0,0]
[{"$f":"'Org structure'!A10","v":"Vote 09 - "},null,0,0,0,0,0,0,0,0,0,0]
[{"$f":"'Org structure'!A11","v":"Vote 10 - "},null,0,0,0,0,0,0,0,0,0,0]
[{"$f":"'Org structure'!A12","v":"Vote 11 - "},null,0,0,0,0,0,0,0,0,0,0]
[{"$f":"'Org structure'!A13","v":"Vote 12 - "},null,0,0,0,0,0,0,0,0,0,0]
[{"$f":"'Org structure'!A14","v":"Vote 13 - "},null,0,0,0,0,0,0,0,0,0,0]
[{"$f":"'Org structure'!A15","v":"Vote 14 - "},null,0,0,0,0,0,0,0,0,0,0]
[{"$f":"'Org structure'!A16","v":"Vote 15 - Other"},null,0,0,0,0,0,0,0,0,0,0]
["Capital single-year expenditure sub-total",null,{"$f":"C40+C41+C42+C44+C47+C48+C50+C52+C53+C54+C55+C56+C57+C58+C59","v":0},0,{"v":2378285.9,"d":"2,378"},{"v":10616363,"d":"10,616"},{"v":4676500,"d":"4,677"},{"v":4676500,"d":"4,677"},{"v":2615885,"d":"2,616"},{"v":3177000,"d":"3,177"},{"v":3304080,"d":"3,304"},{"v":4752572,"d":"4,753"}]
["Total Capital Expenditure",null,{"$f":"C36+C60","v":{"v":269117647.1,"d":"269,118"}},{"v":309603501.54,"d":"309,604"},{"v":349074824.24,"d":"349,075"},{"v":302059735,"d":"302,060"},{"v":331597210,"d":"331,597"},{"v":331597210,"d":"331,597"},{"v":189598986.28,"d":"189,599"},{"v":329348915,"d":"329,349"},{"v":383718534,"d":"383,719"},{"v":383591807,"d":"383,592"}]

{"sheet":"A6-FinPos","index":15,"n_rows":84,"n_cols":12,"rows_kept":84,"merged":[[1,5,1,8],[1,9,1,11]]}
[{"$f":"muni&\" - \"&Approve6","v":"DC43 Harry Gwala - Table A6 Consolidated Budgeted Financial Position"}]
[{"$f":"desc","v":"Description"},{"$f":"head27","v":"Ref"},{"$f":"head1b","v":"2022/23"},{"$f":"head1A","v":"2023/24"},{"$f":"Head1","v":"2024/25"},{"$f":"Head2","v":"Current Year 2025/26"},{"$nulls":3},{"$f":"Head3","v":"2026/27 Medium Term Revenue & Expenditure Framework"}]
["R thousand",null,{"$f":"Head5","v":"Audited Outcome"},{"$f":"Head5","v":"Audited Outcome"},{"$f":"Head5","v":"Audited Outcome"},{"$f":"Head6","v":"Original Budget"},{"$f":"Head7","v":"Adjusted Budget"},{"$f":"Head8","v":"Full Year Forecast"},{"$f":"Head5b","v":"Pre-audit outcome"},{"$f":"Head9","v":"Budget Year 2026/27"},{"$f":"Head10","v":"Budget Year +1 2027/28"},{"$f":"Head11","v":"Budget Year +2 2028/29"}]
["ASSETS"]
["Current assets"]
["Cash and cash equivalents",1,{"$f":"'SA3'!C11","v":{"v":124640559.44999999,"d":"124,641"}},{"$f":"'SA3'!D11","v":{"v":209430268.96,"d":"209,430"}},{"$f":"'SA3'!E11","v":{"v":261669871.58999997,"d":"261,670"}},{"$f":"'SA3'!F11","v":{"v":173667520,"d":"173,668"}},{"$f":"'SA3'!G11","v":{"v":213121187,"d":"213,121"}},{"$f":"'SA3'!H11","v":{"v":213121187,"d":"213,121"}},{"$f":"'SA3'!I11","v":{"v":46527432,"d":"46,527"}},{"$f":"'SA3'!J11","v":{"v":220880254,"d":"220,880"}},{"$f":"'SA3'!K11","v":{"v":246763732,"d":"246,764"}},{"$f":"'SA3'!L11","v":{"v":259028378,"d":"259,028"}}]
["Short term Investments",2,{"$f":"'SA3'!C13","v":0},{"$f":"'SA3'!D13","v":0},{"$f":"'SA3'!E13","v":0},{"$f":"'SA3'!F13","v":0},{"$f":"'SA3'!G13","v":0},{"$f":"'SA3'!H13","v":0},{"$f":"'SA3'!I13","v":0},{"$f":"'SA3'!J13","v":0},{"$f":"'SA3'!K13","v":0},{"$f":"'SA3'!L13","v":0}]
["Trade and other receivables from exchange transactions",3,{"$f":"'SA3'!C29","v":{"v":32135756.71000001,"d":"32,136"}},{"$f":"'SA3'!D29","v":{"v":12036377.98999998,"d":"12,036"}},{"$f":"'SA3'!E29","v":{"v":12773155.839999974,"d":"12,773"}},{"$f":"'SA3'!F29","v":{"v":23718619,"d":"23,719"}},{"$f":"'SA3'!G29","v":{"v":2637613,"d":"2,638"}},{"$f":"'SA3'!H29","v":{"v":2637613,"d":"2,638"}},{"$f":"'SA3'!I29","v":{"v":-3707274.67,"d":"(3,707)"}},{"$f":"'SA3'!J29","v":{"v":11315383,"d":"11,315"}},{"$f":"'SA3'!K29","v":{"v":16353822,"d":"16,354"}},{"$f":"'SA3'!L29","v":{"v":15834563,"d":"15,835"}}]
["Receivables from non-exchange transactions",3,{"$f":"'SA3'!C50","v":{"v":2318128.1500000004,"d":"2,318"}},{"$f":"'SA3'!D50","v":{"v":2312128.1500000004,"d":"2,312"}},{"$f":"'SA3'!E50","v":{"v":1570413.4400000002,"d":"1,570"}},{"$f":"'SA3'!F50","v":{"v":2312128,"d":"2,312"}},{"$f":"'SA3'!G50","v":{"v":1570413,"d":"1,570"}},{"$f":"'SA3'!H50","v":{"v":1570413,"d":"1,570"}},{"$f":"'SA3'!I50","v":{"v":-11400,"d":"(11)"}},{"$f":"'SA3'!J50","v":{"v":1570413,"d":"1,570"}},{"$f":"'SA3'!K50","v":{"v":1570413,"d":"1,570"}},{"$f":"'SA3'!L50","v":{"v":1570413,"d":"1,570"}}]
["Current portion of non-current receivables",4,{"$f":"'SA3'!C68","v":0},{"$f":"'SA3'!D68","v":0},{"$f":"'SA3'!E68","v":0},{"$f":"'SA3'!F68","v":0},{"$f":"'SA3'!G68","v":0},{"$f":"'SA3'!H68","v":0},{"$f":"'SA3'!I68","v":0},{"$f":"'SA3'!J68","v":0},{"$f":"'SA3'!K68","v":0},{"$f":"'SA3'!L68","v":0}]
["Inventory",5,{"$f":"'SA3'!C78","v":{"v":715784.52,"d":"716"}},{"$f":"'SA3'!D78","v":{"v":858344.93,"d":"858"}},{"$f":"'SA3'!E78","v":{"v":962968.02,"d":"963"}},{"$f":"'SA3'!F78","v":{"v":858345,"d":"858"}},{"$f":"'SA3'!G78","v":{"v":962970,"d":"963"}},{"$f":"'SA3'!H78","v":{"v":962970,"d":"963"}},{"$f":"'SA3'!I78","v":{"v":25599.32,"d":"26"}},{"$f":"'SA3'!J78","v":{"v":962969,"d":"963"}},{"$f":"'SA3'!K78","v":{"v":962969,"d":"963"}},{"$f":"'SA3'!L78","v":{"v":962969,"d":"963"}}]
["VAT Receivable",6,{"$f":"'SA3'!C83","v":{"v":34596145.65,"d":"34,596"}},{"$f":"'SA3'!D83","v":{"v":19164499.54,"d":"19,164"}},{"$f":"'SA3'!E83","v":{"v":32125172.299999997,"d":"32,125"}},{"$f":"'SA3'!F83","v":{"v":19164500,"d":"19,165"}},{"$f":"'SA3'!G83","v":{"v":32125174,"d":"32,125"}},{"$f":"'SA3'!H83","v":{"v":32125174,"d":"32,125"}},{"$f":"'SA3'!I83","v":{"v":-10086046.190000001,"d":"(10,086)"}},{"$f":"'SA3'!J83","v":{"v":32125174,"d":"32,125"}},{"$f":"'SA3'!K83","v":{"v":32125174,"d":"32,125"}},{"$f":"'SA3'!L83","v":{"v":32125174,"d":"32,125"}}]
["Other current assets",7,{"$f":"'SA3'!C92","v":{"v":-4723.09,"d":"(5)"}},{"$f":"'SA3'!D92","v":{"v":-229168.08,"d":"(229)"}},{"$f":"'SA3'!E92","v":{"v":-307313.93,"d":"(307)"}},{"$f":"'SA3'!F92","v":{"v":-229168,"d":"(229)"}},{"$f":"'SA3'!G92","v":{"v":-307315,"d":"(307)"}},{"$f":"'SA3'!H92","v":{"v":-307315,"d":"(307)"}},{"$f":"'SA3'!I92","v":{"v":-224396.65,"d":"(224)"}},{"$f":"'SA3'!J92","v":{"v":-307315,"d":"(307)"}},{"$f":"'SA3'!K92","v":{"v":-307315,"d":"(307)"}},{"$f":"'SA3'!L92","v":{"v":-307315,"d":"(307)"}}]
["Total current assets",null,{"$f":"SUM(C6:C13)","v":{"v":194401651.39000002,"d":"194,402"}},{"$f":"SUM(D6:D13)","v":{"v":243572451.48999998,"d":"243,572"}},{"v":308794267.25999993,"d":"308,794"},{"v":219491944,"d":"219,492"},{"$f":"SUM(G6:G13)","v":{"v":250110042,"d":"250,110"}},{"v":250110042,"d":"250,110"},{"v":32523913.81,"d":"32,524"},{"v":266546878,"d":"266,547"},{"v":297468795,"d":"297,469"},{"v":309214182,"d":"309,214"}]
["Non current assets"]
["Investments",8,{"$f":"'SA3'!C108","v":0},{"$f":"'SA3'!D108","v":0},{"$f":"'SA3'!E108","v":0},{"$f":"'SA3'!F108","v":0},{"$f":"'SA3'!G108","v":0},{"$f":"'SA3'!H108","v":0},{"$f":"'SA3'!I108","v":0},{"$f":"'SA3'!J108","v":0},{"$f":"'SA3'!K108","v":0},{"$f":"'SA3'!L108","v":0}]
["Investment property",9,{"$f":"'SA3'!C113","v":0},{"$f":"'SA3'!D113","v":0},{"$f":"'SA3'!E113","v":0},{"$f":"'SA3'!F113","v":0},{"$f":"'SA3'!G113","v":0},{"$f":"'SA3'!H113","v":0},{"$f":"'SA3'!I113","v":0},{"$f":"'SA3'!J113","v":0},{"$f":"'SA3'!K113","v":0},{"$f":"'SA3'!L113","v":0}]
["Property, plant and equipment",10,{"$f":"'SA3'!C119+'SA3'!C129","v":{"v":2890401059.2400002,"d":"2,890,401"}},{"$f":"'SA3'!D119+'SA3'!D129","v":{"v":2961685877.7400002,"d":"2,961,686"}},{"$f":"'SA3'!E119+'SA3'!E129","v":{"v":3184700262.1400003,"d":"3,184,700"}},{"$f":"'SA3'!F119+'SA3'!F129","v":{"v":3443615428,"d":"3,443,615"}},{"$f":"'SA3'!G119+'SA3'!G129","v":{"v":3443285451,"d":"3,443,285"}},{"$f":"'SA3'!H119+'SA3'!H129","v":{"v":3443285451,"d":"3,443,285"}},{"$f":"'SA3'!I119+'SA3'!I129","v":{"v":99105952.19,"d":"99,106"}},{"$f":"'SA3'!J119+'SA3'!J129","v":{"v":3703352241,"d":"3,703,352"}},{"$f":"'SA3'!K119+'SA3'!K129","v":{"v":4004929030,"d":"4,004,929"}},{"$f":"'SA3'!L119+'SA3'!L129","v":{"v":4306469727,"d":"4,306,470"}}]
["Biological assets",11,{"$f":"'SA3'!C134","v":0},{"$f":"'SA3'!D134","v":0},{"$f":"'SA3'!E134","v":0},{"$f":"'SA3'!F134","v":0},{"$f":"'SA3'!G134","v":0},{"$f":"'SA3'!H134","v":0},{"$f":"'SA3'!I134","v":0},{"$f":"'SA3'!J134","v":0},{"$f":"'SA3'!K134","v":0},{"$f":"'SA3'!L134","v":0}]
["Living resources",12,{"$f":"'SA3'!C139","v":0},{"$f":"'SA3'!D139","v":0},{"$f":"'SA3'!E139","v":0},{"$f":"'SA3'!F139","v":0},{"$f":"'SA3'!G139","v":0},{"$f":"'SA3'!H139","v":0},{"$f":"'SA3'!I139","v":0},{"$f":"'SA3'!J139","v":0},{"$f":"'SA3'!K139","v":0},{"$f":"'SA3'!L139","v":0}]
["Heritage assets",13,{"$f":"'SA3'!C143","v":0},{"$f":"'SA3'!D143","v":0},{"$f":"'SA3'!E143","v":0},{"$f":"'SA3'!F143","v":0},{"$f":"'SA3'!G143","v":0},{"$f":"'SA3'!H143","v":0},{"$f":"'SA3'!I143","v":0},{"$f":"'SA3'!J143","v":0},{"$f":"'SA3'!K143","v":0},{"$f":"'SA3'!L143","v":0}]
["Intangible assets",14,{"$f":"'SA3'!C148","v":{"v":515454.9099999999,"d":"515"}},{"$f":"'SA3'!D148","v":{"v":313462.07999999996,"d":"313"}},{"$f":"'SA3'!E148","v":{"v":295680.3,"d":"296"}},{"$f":"'SA3'!F148","v":{"v":2827361,"d":"2,827"}},{"$f":"'SA3'!G148","v":{"v":1250224,"d":"1,250"}},{"$f":"'SA3'!H148","v":{"v":1250224,"d":"1,250"}},{"$f":"'SA3'!I148","v":{"v":-82415.45,"d":"(82)"}},{"$f":"'SA3'!J148","v":{"v":2684906,"d":"2,685"}},{"$f":"'SA3'!K148","v":{"v":2780475,"d":"2,780"}},{"$f":"'SA3'!L148","v":{"v":2864287,"d":"2,864"}}]
["Trade and other receivables from exchange transactions",15,{"$f":"'SA3'!C156","v":0},{"$f":"'SA3'!D156","v":0},{"$f":"'SA3'!E156","v":0},{"$f":"'SA3'!F156","v":0},{"$f":"'SA3'!G156","v":0},{"$f":"'SA3'!H156","v":0},{"$f":"'SA3'!I156","v":0},{"$f":"'SA3'!J156","v":0},{"$f":"'SA3'!K156","v":0},{"$f":"'SA3'!L156","v":0}]
["Non-current receivables from non-exchange transactions",15,{"$f":"'SA3'!C175","v":0},{"$f":"'SA3'!D175","v":0},{"$f":"'SA3'!E175","v":0},{"$f":"'SA3'!F175","v":0},{"$f":"'SA3'!G175","v":0},{"$f":"'SA3'!H175","v":0},{"$f":"'SA3'!I175","v":0},{"$f":"'SA3'!J175","v":0},{"$f":"'SA3'!K175","v":0},{"$f":"'SA3'!L175","v":0}]
["Other non-current assets",16,{"$f":"'SA3'!C185","v":{"v":100,"d":"0"}},{"$f":"'SA3'!D185","v":{"v":100,"d":"0"}},{"$f":"'SA3'!E185","v":{"v":100,"d":"0"}},{"$f":"'SA3'!F185","v":{"v":100,"d":"0"}},{"$f":"'SA3'!G185","v":{"v":100,"d":"0"}},{"$f":"'SA3'!H185","v":{"v":100,"d":"0"}},{"$f":"'SA3'!I185","v":0},{"$f":"'SA3'!J185","v":{"v":100,"d":"0"}},{"$f":"'SA3'!K185","v":{"v":100,"d":"0"}},{"$f":"'SA3'!L185","v":{"v":100,"d":"0"}}]
["Total non current assets",null,{"$f":"SUM(C16:C25)","v":{"v":2890916614.15,"d":"2,890,917"}},{"$f":"SUM(D16:D25)","v":{"v":2961999439.82,"d":"2,961,999"}},{"v":3184996042.4400005,"d":"3,184,996"},{"v":3446442889,"d":"3,446,443"},{"v":3444535775,"d":"3,444,536"},{"v":3444535775,"d":"3,444,536"},{"v":99023536.74,"d":"99,024"},{"v":3706037247,"d":"3,706,037"},{"v":4007709605,"d":"4,007,710"},{"v":4309334114,"d":"4,309,334"}]
["TOTAL ASSETS",null,{"$f":"C14+C26","v":{"v":3085318265.54,"d":"3,085,318"}},{"$f":"D14+D26","v":{"v":3205571891.31,"d":"3,205,572"}},{"$f":"E14+E26","v":{"v":3493790309.7000003,"d":"3,493,790"}},{"$f":"F14+F26","v":{"v":3665934833,"d":"3,665,935"}},{"v":3694645817,"d":"3,694,646"},{"v":3694645817,"d":"3,694,646"},{"v":131547450.55,"d":"131,547"},{"v":3972584125,"d":"3,972,584"},{"v":4305178400,"d":"4,305,178"},{"v":4618548296,"d":"4,618,548"}]
["LIABILITIES"]
["Current liabilities"]
["Bank overdraft",17,{"$f":"'SA3'!C197","v":0},{"$f":"'SA3'!D197","v":0},{"$f":"'SA3'!E197","v":0},{"$f":"'SA3'!F197","v":0},{"$f":"'SA3'!G197","v":0},{"$f":"'SA3'!H197","v":0},{"$f":"'SA3'!I197","v":0},{"$f":"'SA3'!J197","v":0},{"$f":"'SA3'!K197","v":0},{"$f":"'SA3'!L197","v":0}]
["Financial liabilities",18,{"$f":"'SA3'!C205","v":{"v":12805814.69,"d":"12,806"}},{"$f":"'SA3'!D205","v":{"v":12805814.69,"d":"12,806"}},{"$f":"'SA3'!E205","v":{"v":12805814.69,"d":"12,806"}},{"$f":"'SA3'!F205","v":{"v":8005815,"d":"8,006"}},{"$f":"'SA3'!G205","v":{"v":10405815,"d":"10,406"}},{"$f":"'SA3'!H205","v":{"v":10405815,"d":"10,406"}},{"$f":"'SA3'!I205","v":{"v":-1500000,"d":"(1,500)"}},{"$f":"'SA3'!J205","v":{"v":8005815,"d":"8,006"}},{"$f":"'SA3'!K205","v":{"v":5605815,"d":"5,606"}},{"$f":"'SA3'!L205","v":{"v":3205815,"d":"3,206"}}]
["Consumer deposits",19,{"$f":"'SA3'!C220","v":{"v":2415086.48,"d":"2,415"}},{"$f":"'SA3'!D220","v":{"v":3178970.38,"d":"3,179"}},{"$f":"'SA3'!E220","v":{"v":3440893.19,"d":"3,441"}},{"$f":"'SA3'!F220","v":{"v":3748469,"d":"3,748"}},{"$f":"'SA3'!G220","v":{"v":4010393,"d":"4,010"}},{"$f":"'SA3'!H220","v":{"v":4010393,"d":"4,010"}},{"$f":"'SA3'!I220","v":{"v":73771.91,"d":"74"}},{"$f":"'SA3'!J220","v":{"v":4010393,"d":"4,010"}},{"$f":"'SA3'!K220","v":{"v":4010393,"d":"4,010"}},{"$f":"'SA3'!L220","v":{"v":4010393,"d":"4,010"}}]
["Trade and other payables from exchange transactions",20,{"$f":"'SA3'!C249","v":{"v":91867765.66999997,"d":"91,868"}},{"$f":"'SA3'!D249","v":{"v":86935140.07000007,"d":"86,935"}},{"$f":"'SA3'!E249","v":{"v":148140453.96,"d":"148,140"}},{"$f":"'SA3'!F249","v":{"v":86355771,"d":"86,356"}},{"$f":"'SA3'!G249","v":{"v":153257154,"d":"153,257"}},{"$f":"'SA3'!H249","v":{"v":153257154,"d":"153,257"}},{"$f":"'SA3'!I249","v":{"v":-81927506.73,"d":"(81,928)"}},{"$f":"'SA3'!J249","v":{"v":190233154,"d":"190,233"}},{"$f":"'SA3'!K249","v":{"v":192233154,"d":"192,233"}},{"$f":"'SA3'!L249","v":{"v":194233154,"d":"194,233"}}]
["Trade and other payables from non-exchange transactions",21,{"$f":"'SA3'!C261","v":{"v":21176580.330000002,"d":"21,177"}},{"$f":"'SA3'!D261","v":{"v":10499999.86,"d":"10,500"}},{"$f":"'SA3'!E261","v":{"v":-0.1599999964237213,"d":"(0)"}},{"$f":"'SA3'!F261","v":{"v":1483461,"d":"1,483"}},{"$f":"'SA3'!G261","v":{"v":1483461,"d":"1,483"}},{"$f":"'SA3'!H261","v":{"v":1483461,"d":"1,483"}},{"$f":"'SA3'!I261","v":{"v":60035417.559999995,"d":"60,035"}},{"$f":"'SA3'!J261","v":{"v":1483461,"d":"1,483"}},{"$f":"'SA3'!K261","v":{"v":1483461,"d":"1,483"}},{"$f":"'SA3'!L261","v":{"v":1483461,"d":"1,483"}}]
["Provision",22,{"$f":"'SA3'!C273","v":{"v":16171402.47,"d":"16,171"}},{"$f":"'SA3'!D273","v":{"v":16385435.99,"d":"16,385"}},{"$f":"'SA3'!E273","v":{"v":16526651.66,"d":"16,527"}},{"$f":"'SA3'!F273","v":{"v":16385436,"d":"16,385"}},{"$f":"'SA3'!G273","v":{"v":16526652,"d":"16,527"}},{"$f":"'SA3'!H273","v":{"v":16526652,"d":"16,527"}},{"$f":"'SA3'!I273","v":0},{"$f":"'SA3'!J273","v":{"v":16526652,"d":"16,527"}},{"$f":"'SA3'!K273","v":{"v":16526652,"d":"16,527"}},{"$f":"'SA3'!L273","v":{"v":16526652,"d":"16,527"}}]
["VAT Payable",23,{"$f":"'SA3'!C277","v":{"v":7535223.8,"d":"7,535"}},{"$f":"'SA3'!D277","v":{"v":5281993.41,"d":"5,282"}},{"$f":"'SA3'!E277","v":{"v":6654799.62,"d":"6,655"}},{"$f":"'SA3'!F277","v":{"v":5281994,"d":"5,282"}},{"$f":"'SA3'!G277","v":{"v":6654799,"d":"6,655"}},{"$f":"'SA3'!H277","v":{"v":6654799,"d":"6,655"}},{"$f":"'SA3'!I277","v":{"v":-946361.93,"d":"(946)"}},{"$f":"'SA3'!J277","v":{"v":6654799,"d":"6,655"}},{"$f":"'SA3'!K277","v":{"v":6654799,"d":"6,655"}},{"$f":"'SA3'!L277","v":{"v":6654799,"d":"6,655"}}]
["Other current liabilities",24,{"$f":"'SA3'!C287","v":0},{"$f":"'SA3'!D287","v":0},{"$f":"'SA3'!E287","v":0},{"$f":"'SA3'!F287","v":0},{"$f":"'SA3'!G287","v":0},{"$f":"'SA3'!H287","v":0},{"$f":"'SA3'!I287","v":0},{"$f":"'SA3'!J287","v":0},{"$f":"'SA3'!K287","v":0},{"$f":"'SA3'!L287","v":0}]
["Total current liabilities",null,{"$f":"SUM(C30:C37)","v":{"v":151971873.44,"d":"151,972"}},{"$f":"SUM(D30:D37)","v":{"v":135087354.40000007,"d":"135,087"}},{"v":187568612.96,"d":"187,569"},{"v":121260946,"d":"121,261"},{"v":192338274,"d":"192,338"},{"v":192338274,"d":"192,338"},{"v":-24264679.190000013,"d":"(24,265)"},{"v":226914274,"d":"226,914"},{"v":226514274,"d":"226,514"},{"v":226114274,"d":"226,114"}]
["Non current liabilities"]
["Financial liabilities",25,{"$f":"'SA3'!C308","v":{"v":-0.02,"d":"(0)"}},{"$f":"'SA3'!D308","v":{"v":-0.02,"d":"(0)"}},{"$f":"'SA3'!E308","v":{"v":-0.02,"d":"(0)"}},{"$f":"'SA3'!F308","v":0},{"$f":"'SA3'!G308","v":0},{"$f":"'SA3'!H308","v":0},{"$f":"'SA3'!I308","v":0},{"$f":"'SA3'!J308","v":0},{"$f":"'SA3'!K308","v":0},{"$f":"'SA3'!L308","v":0}]
["Provision",26,{"$f":"'SA3'!C320","v":0},{"$f":"'SA3'!D320","v":0},{"$f":"'SA3'!E320","v":0},{"$f":"'SA3'!F320","v":0},{"$f":"'SA3'!G320","v":0},{"$f":"'SA3'!H320","v":0},{"$f":"'SA3'!I320","v":0},{"$f":"'SA3'!J320","v":0},{"$f":"'SA3'!K320","v":0},{"$f":"'SA3'!L320","v":0}]
["Long term portion of trade payables",27,{"$f":"'SA3'!C326","v":0},{"$f":"'SA3'!D326","v":0},{"$f":"'SA3'!E326","v":0},{"$f":"'SA3'!F326","v":0},{"$f":"'SA3'!G326","v":0},{"$f":"'SA3'!H326","v":0},{"$f":"'SA3'!I326","v":0},{"$f":"'SA3'!J326","v":0},{"$f":"'SA3'!K326","v":0},{"$f":"'SA3'!L326","v":0}]
["Other non-current liabilities",28,{"$f":"'SA3'!C335","v":0},{"$f":"'SA3'!D335","v":0},{"$f":"'SA3'!E335","v":0},{"$f":"'SA3'!F335","v":0},{"$f":"'SA3'!G335","v":0},{"$f":"'SA3'!H335","v":0},{"$f":"'SA3'!I335","v":0},{"$f":"'SA3'!J335","v":0},{"$f":"'SA3'!K335","v":0},{"$f":"'SA3'!L335","v":0}]
["Total non current liabilities",null,{"$f":"SUM(C40:C43)","v":{"v":-0.02,"d":"(0)"}},{"$f":"SUM(D40:D43)","v":{"v":-0.02,"d":"(0)"}},{"v":-0.02,"d":"(0)"},0,0,0,0,0,0,0]
["TOTAL LIABILITIES",null,{"$f":"C38+C44","v":{"v":151971873.42,"d":"151,972"}},{"$f":"D38+D44","v":{"v":135087354.38000005,"d":"135,087"}},{"$f":"E38+E44","v":{"v":187568612.94,"d":"187,569"}},{"$f":"F38+F44","v":{"v":121260946,"d":"121,261"}},{"v":192338274,"d":"192,338"},{"v":192338274,"d":"192,338"},{"v":-24264679.190000013,"d":"(24,265)"},{"v":226914274,"d":"226,914"},{"$f":"K38+K44","v":{"v":226514274,"d":"226,514"}},{"v":226114274,"d":"226,114"}]
["NET ASSETS",null,{"$f":"C27-C45","v":{"v":2933346392.12,"d":"2,933,346"}},{"v":3070484536.93,"d":"3,070,485"},{"v":3306221696.76,"d":"3,306,222"},{"v":3544673887,"d":"3,544,674"},{"v":3502307543,"d":"3,502,308"},{"v":3502307543,"d":"3,502,308"},{"v":155812129.74,"d":"155,812"},{"v":3745669851,"d":"3,745,670"},{"v":4078664126,"d":"4,078,664"},{"v":4392434022,"d":"4,392,434"}]
["COMMUNITY WEALTH/EQUITY"]
["Accumulated surplus/(deficit)",29,{"$f":"'SA3'!C347","v":{"v":2941982926.86,"d":"2,941,983"}},{"$f":"'SA3'!D347","v":{"v":3262761989.6,"d":"3,262,762"}},{"$f":"'SA3'!E347","v":{"v":3305230732.3,"d":"3,305,231"}},{"$f":"'SA3'!F347","v":{"v":3514683341,"d":"3,514,683"}},{"$f":"'SA3'!G347","v":{"v":3539375823,"d":"3,539,376"}},{"$f":"'SA3'!H347","v":{"v":3539375823,"d":"3,539,376"}},{"$f":"'SA3'!I347","v":{"v":184726763.22,"d":"184,727"}},{"$f":"'SA3'!J347","v":{"v":3746345975,"d":"3,746,346"}},{"$f":"'SA3'!K347","v":{"v":4091526531,"d":"4,091,527"}},{"$f":"'SA3'!L347","v":{"v":4405713218,"d":"4,405,713"}}]
["Reserves and funds",30,{"$f":"'SA3'!C359","v":0},{"$f":"'SA3'!D359","v":0},{"$f":"'SA3'!E359","v":0},{"$f":"'SA3'!F359","v":0},{"$f":"'SA3'!G359","v":0},{"$f":"'SA3'!H359","v":0},{"$f":"'SA3'!I359","v":0},{"$f":"'SA3'!J359","v":0},{"$f":"'SA3'!K359","v":0},{"$f":"'SA3'!L359","v":0}]
["Other",31,{"$f":"'SA3'!C372","v":0},{"$f":"'SA3'!D372","v":0},{"$f":"'SA3'!E372","v":0},{"$f":"'SA3'!F372","v":0},{"$f":"'SA3'!G372","v":0},{"$f":"'SA3'!H372","v":0},{"$f":"'SA3'!I372","v":0},{"$f":"'SA3'!J372","v":0},{"$f":"'SA3'!K372","v":0},{"$f":"'SA3'!L372","v":0}]
["TOTAL COMMUNITY WEALTH/EQUITY",32,{"$f":"SUM(C48:C50)","v":{"v":2941982926.86,"d":"2,941,983"}},{"$f":"SUM(D48:D50)","v":{"v":3262761989.6,"d":"3,262,762"}},{"v":3305230732.3,"d":"3,305,231"},{"v":3514683341,"d":"3,514,683"},{"v":3539375823,"d":"3,539,376"},{"v":3539375823,"d":"3,539,376"},{"v":184726763.22,"d":"184,727"},{"v":3746345975,"d":"3,746,346"},{"v":4091526531,"d":"4,091,527"},{"v":4405713218,"d":"4,405,713"}]
[{"$f":"head27a","v":"References"}]
["1. Detail breakdown in Table SA3. "]
["2. Detail breakdown in Table SA3. "]
["3. Detail breakdown in Table SA3 for Trade receivables from Exchange and Non-exchange transactions"]
["4. Detail breakdown in Table SA3. "]
["5. Include 'Construction-work-in-progress' (disclosed separately in annual financial statements) detail in SA3"]
["6. Detail breakdown in Table SA3. "]
["7. Detail breakdown in Table SA3. "]
["8 Detail breakdown in Table SA3. "]
["9. Detail breakdown in Table SA3. "]
["10. Include 'Construction-work-in-progress' (disclosed separately in annual financial statements) detail in SA3"]
["11. Detail breakdown in Table SA3. "]
["12. Detail breakdown in Table SA3. "]
["13. Detail breakdown in Table SA3. "]
["14. Detail breakdown in Table SA3. "]
["15. Detail breakdown in Table SA3 for Non- Current Trade receivables from Exchange and Non-exchange transactions"]
["16. Detail breakdown in Table SA3. "]
["17. Detail breakdown in Table SA3. "]
["18. Detail breakdown in Table SA3. "]
["19. Detail breakdown in Table SA3. "]
["20. Detail breakdown in Table SA3. "]
["21. Detail breakdown in Table SA3. "]
["22. Detail breakdown in Table SA3. "]
["23. Detail breakdown in Table SA3. "]
["24. Detail breakdown in Table SA3. "]
["25. Detail breakdown in Table SA3. "]
["26. Detail breakdown in Table SA3. "]
["27. Detail breakdown in Table SA3. "]
["28. Detail breakdown in Table SA3. "]
["29. Detail breakdown in Table SA3. "]
["30. Detail breakdown in Table SA3. Includes reserves to be funded by statute."]
["31. Detail breakdown in Table SA3. "]
["32. Net assets must balance with Total Community Wealth/Equity"]

{"sheet":"A6 Inventory","index":16,"n_rows":78,"n_cols":12,"rows_kept":78,"hidden":true,"merged":[[0,0,0,11],[1,5,1,8],[1,9,1,11]]}
[]
["Store Type","Classification",{"$f":"head1b","v":"2022/23"},{"$f":"head1A","v":"2023/24"},{"$f":"Head1","v":"2024/25"},{"$f":"Head2","v":"Current Year 2025/26"},{"$nulls":3},{"$f":"Head3","v":"2026/27 Medium Term Revenue & Expenditure Framework"}]
["R thousands","",{"$f":"Head5","v":"Audited Outcome"},{"$f":"Head5","v":"Audited Outcome"},{"$f":"Head5","v":"Audited Outcome"},{"$f":"Head6","v":"Original Budget"},{"$f":"Head7","v":"Adjusted Budget"},{"$f":"Head8","v":"Full Year Forecast"},{"$f":"Head5b","v":"Pre-audit outcome"},{"$f":"Head9","v":"Budget Year 2026/27"},{"$f":"Head10","v":"Budget Year +1 2027/28"},{"$f":"Head11","v":"Budget Year +2 2028/29"}]
["Agricultural","Opening balance - Agricultural"]
[null,"Acquisitions - Agricultural"]
[null,"Adjustments - Agricultural"]
[null,"Issues - Agricultural"]
[null,"Write Off - Agricultural"]
[null,"Correction of Prior period errors - Agricultural"]
["Agricultural Total","",{"$f":"SUM(C4:C9)","v":0},{"$f":"SUM(D4:D9)","v":0},0,0,0,0,0,{"$f":"SUM(J4:J9)","v":0},0,0]
["Consumables Standard Rated","Opening balance - Consumables Standard Rated"]
[null,"Acquisitions - Consumables Standard Rated"]
[null,"Adjustments - Consumables Standard Rated"]
[null,"Issues - Consumables Standard Rated"]
[null,"Write Off - Consumables Standard Rated"]
[null,"Correction of Prior period errors - Consumables Standard Rated"]
["Consumables Standard Rated Total","",{"$f":"SUM(C11:C16)","v":0},{"$f":"SUM(D11:D16)","v":0},0,0,0,0,0,0,0,0]
["Consumables Zero Rated","Opening balance - Consumables Zero Rated"]
[null,"Acquisitions - Consumables Zero Rated"]
[null,"Adjustments - Consumables Zero Rated"]
[null,"Issues - Consumables Zero Rated"]
[null,"Write Off - Consumables Zero Rated"]
[null,"Correction of Prior period errors - Consumables Zero Rated"]
["Consumables Zero Rated Total","",{"$f":"SUM(C18:C23)","v":0},{"$f":"SUM(D18:D23)","v":0},0,0,0,0,0,0,0,0]
["Finished Goods","Opening balance - Finished Goods"]
[null,"Acquisitions - Finished Goods"]
[null,"Adjustments - Finished Goods"]
[null,"Issues -Finished Goods"]
[null,"Write Off - Finished Goods"]
[null,"Correction of Prior period errors - Finished Goods"]
["Finished Goods Total","",{"$f":"SUM(C25:C30)","v":0},{"$f":"SUM(D25:D30)","v":0},0,0,0,0,0,0,0,0]
["Housing Stock","Opening balance - Housing Stock"]
[null,"Acquisitions - Housing Stock"]
[null,"Sales - Housing Stock"]
[null,"Transfer - Housing stock"]
[null,"Correction of Prior period errors - Housing stock"]
["Housing Stock Total","",{"$f":"SUM(C32:C36)","v":0},{"$f":"SUM(D32:D36)","v":0},0,0,0,0,0,0,0,0]
["Land","Opening balance - Land"]
[null,"Acquisitions - Land"]
[null,"Sales - land"]
[null,"Adjustments - Land"]
[null,"Correction of Prior period errors - Land"]
[null,"Transfers - Land"]
["Land Total","",{"$f":"SUM(C38:C43)","v":0},{"$f":"SUM(D38:D43)","v":0},0,0,0,0,0,0,0,0]
["Materials and Supplies","Opening balance - Materials and Supplies"]
[null,"Acquisitions - Materials and Supplies"]
[null,"Adjustments - Materials and Supplies"]
[null,"Issues - Materials and Supplies"]
[null,"Write Off - Materials and Supplies"]
[null,"Correction of Prior period errors - Materials and Supplies"]
["Materials and Supplies Total","",{"$f":"SUM(C45:C50)","v":0},{"$f":"SUM(D45:D50)","v":0},0,0,0,0,0,0,0,0]
["Water","Opening balance - Water"]
[null,"Acquisitions - Water bulk purchases"]
[null,"Acquisitions - Water natural sources"]
[null,"Acquisitions - Water treatment works"]
[null,"Billed Authorised Consumption:Billed Metered Consumption:Free Basic Water"]
[null,"Billed Authorised Consumption:Billed Metered Consumption:Revenue Water"]
[null,"Billed Authorised Consumption:Billed Metered Consumption:Subsidised Water"]
[null,"Billed Authorised Consumption:Billed Unmetered Consumption:Free Basic Water"]
[null,"Billed Authorised Consumption:Billed Unmetered Consumption:Revenue Water"]
[null,"Billed Authorised Consumption:Billed Unmetered Consumption:Subsidised Water"]
[null,"Data Transfer and Management Errors"]
[null,"Non-revenue Water"]
[null,"Unavoidable Annual Real Losses"]
[null,"Unbilled Authorised Consumption:Unbilled Metered Consumption"]
[null,"Unbilled Authorised Consumption:Unbilled Unmetered Consumption"]
[null,"Water Losses:Apparent Losses:Customer Meter Inaccuracies"]
[null,"Water Losses:Apparent Losses:Unauthorised Consumption"]
[null,"Water Losses:Real Losses:Leakage and Overflows at Storage Tanks/Reservoirs"]
[null,"Water Losses:Real Losses:Leakage on Service Connections up to the point of Customer Meter"]
[null,"Water Losses:Real Losses:Leakage on Transmission and Distribution Mains"]
[null,"Correction of Prior period errors - Water"]
["Water Total","",{"$f":"SUM(C52:C72)","v":0},{"$f":"SUM(D52:D72)","v":0},0,0,0,0,0,0,0,0]
["Work-in-progress","Opening balance - WIP"]
[null,"Materials - WIP"]
[null,"Transfer - WIP"]
["Work-in-progress Total","",{"$f":"SUM(C74:C76)","v":0},{"$f":"SUM(D74:D76)","v":0},0,0,0,0,0,0,0,{"$f":"SUM(L74:L76)","v":0}]
["Grand Total","",{"$f":"+C73+C51+C44+C37+C31+C24+C17+C10","v":0},{"$f":"+D73+D51+D44+D37+D31+D24+D17+D10","v":0},0,0,0,0,0,0,0,0]

{"sheet":"A7-CFlow","index":17,"n_rows":54,"n_cols":12,"rows_kept":54,"merged":[[1,5,1,8],[1,9,1,11]]}
[{"$f":"muni&\" - \"&Approve7","v":"DC43 Harry Gwala - Table A7 Consolidated Budgeted Cash Flows"}]
[{"$f":"desc","v":"Description"},{"$f":"head27","v":"Ref"},{"$f":"head1b","v":"2022/23"},{"$f":"head1A","v":"2023/24"},{"$f":"Head1","v":"2024/25"},{"$f":"Head2","v":"Current Year 2025/26"},{"$nulls":3},{"$f":"Head3","v":"2026/27 Medium Term Revenue & Expenditure Framework"}]
["R thousand",null,{"$f":"Head5","v":"Audited Outcome"},{"$f":"Head5","v":"Audited Outcome"},{"$f":"Head5","v":"Audited Outcome"},{"$f":"Head6","v":"Original Budget"},{"$f":"Head7","v":"Adjusted Budget"},{"$f":"Head8","v":"Full Year Forecast"},{"$f":"Head5b","v":"Pre-audit outcome"},{"$f":"Head9","v":"Budget Year 2026/27"},{"$f":"Head10","v":"Budget Year +1 2027/28"},{"$f":"Head11","v":"Budget Year +2 2028/29"}]
["CASH FLOW FROM OPERATING ACTIVITIES"]
["Receipts"]
["Property rates",null,{"v":17600,"d":"18"},{"v":6000,"d":"6"},0,0,0,0,{"v":11400,"d":"11"},{"$f":"'SA30'!N5","v":0},{"$f":"'SA30'!O5","v":0},{"$f":"'SA30'!P5","v":0}]
["Service charges",null,{"v":51062387.77,"d":"51,062"},{"v":62324216.39,"d":"62,324"},{"v":69695965.81,"d":"69,696"},{"v":71563474,"d":"71,563"},{"v":79656756,"d":"79,657"},{"v":79656756,"d":"79,657"},{"v":56031678.46,"d":"56,032"},{"$f":"'SA30'!N6+'SA30'!N7+'SA30'!N8+'SA30'!N9","v":{"v":84436175,"d":"84,436"}},{"$f":"'SA30'!O6+'SA30'!O7+'SA30'!O8+'SA30'!O9","v":{"v":89502343,"d":"89,502"}},{"$f":"'SA30'!P6+'SA30'!P7+'SA30'!P8+'SA30'!P9","v":{"v":94872486,"d":"94,872"}}]
["Other revenue",null,{"v":1823061124.04,"d":"1,823,061"},{"v":1805717550.36,"d":"1,805,718"},{"v":1507396084.97,"d":"1,507,396"},{"v":70299972,"d":"70,300"},{"v":65070710,"d":"65,071"},{"v":65070710,"d":"65,071"},{"v":1367740180.06,"d":"1,367,740"},{"$f":"'SA30'!N11+'SA30'!N15+'SA30'!N16+'SA30'!N17+'SA30'!N19+'SA30'!N29","v":{"v":31753457,"d":"31,753"}},{"$f":"'SA30'!O11+'SA30'!O15+'SA30'!O16+'SA30'!O17+'SA30'!O19+'SA30'!O29","v":{"v":32625021,"d":"32,625"}},{"$f":"'SA30'!P11+'SA30'!P15+'SA30'!P16+'SA30'!P17+'SA30'!P19+'SA30'!P29","v":{"v":39362635,"d":"39,363"}}]
["Transfers and Subsidies - Operational",1,{"v":128367000,"d":"128,367"},{"v":473045000,"d":"473,045"},{"v":499995000,"d":"499,995"},{"v":573988820,"d":"573,989"},{"v":573988820,"d":"573,989"},{"v":573988820,"d":"573,989"},{"v":398223000,"d":"398,223"},{"$f":"'SA30'!N18","v":{"v":584089120,"d":"584,089"}},{"$f":"'SA30'!O18","v":{"v":613842032,"d":"613,842"}},{"$f":"'SA30'!P18","v":{"v":629930589,"d":"629,931"}}]
["Transfers and Subsidies - Capital",1,{"v":316011000,"d":"316,011"},{"v":326130000,"d":"326,130"},{"v":341906325,"d":"341,906"},{"v":293458180,"d":"293,458"},{"v":293458180,"d":"293,458"},{"v":293458180,"d":"293,458"},{"v":256000000,"d":"256,000"},{"$f":"'SA30'!N23+'SA30'!N24","v":{"v":328866880,"d":"328,867"}},{"$f":"'SA30'!O23+'SA30'!O24","v":{"v":389425968,"d":"389,426"}},{"$f":"'SA30'!P23+'SA30'!P24","v":{"v":373731412,"d":"373,731"}}]
["Interest",null,{"v":10858249.69,"d":"10,858"},{"v":21988023.31,"d":"21,988"},{"v":28011860.01,"d":"28,012"},{"v":26045669,"d":"26,046"},{"v":26042869,"d":"26,043"},{"v":26042869,"d":"26,043"},{"v":15867564.62,"d":"15,868"},{"$f":"'SA30'!N12+'SA30'!N13","v":{"v":27571823,"d":"27,572"}},{"$f":"'SA30'!O12+'SA30'!O13","v":{"v":29185209,"d":"29,185"}},{"$f":"'SA30'!P12+'SA30'!P13","v":{"v":30889351,"d":"30,889"}}]
["Dividends",{"$nulls":8},{"$f":"'SA30'!N14","v":0},{"$f":"'SA30'!O14","v":0},{"$f":"'SA30'!P14","v":0}]
["Payments"]
["Suppliers and employees",null,{"v":-804900382.45,"d":"(804,900)"},{"v":-879111897.04,"d":"(879,112)"},{"v":-955865186.51,"d":"(955,865)"},{"v":-667354648,"d":"(667,355)"},{"v":-734164593,"d":"(734,165)"},{"v":-734164593,"d":"(734,165)"},{"v":-692216486.19,"d":"(692,216)"},{"$f":"-('SA30'!N37+'SA30'!N38+'SA30'!N40+'SA30'!N41+'SA30'!N42+'SA30'!N43+'SA30'!N46+'SA30'!N53)","v":{"v":-739109351,"d":"(739,109)"}},{"$f":"-('SA30'!O37+'SA30'!O38+'SA30'!O40+'SA30'!O41+'SA30'!O42+'SA30'!O43+'SA30'!O46+'SA30'!O53)","v":{"v":-744168064,"d":"(744,168)"}},{"$f":"-('SA30'!P37+'SA30'!P38+'SA30'!P40+'SA30'!P41+'SA30'!P42+'SA30'!P43+'SA30'!P46+'SA30'!P53)","v":{"v":-772078826,"d":"(772,079)"}}]
["Finance charges",null,0,0,0,{"v":-54201,"d":"(54)"},{"v":-14200,"d":"(14)"},{"v":-14200,"d":"(14)"},0,{"$f":"-('SA30'!N39)","v":{"v":-56326,"d":"(56)"}},{"$f":"-('SA30'!O39)","v":{"v":-58476,"d":"(58)"}},{"$f":"-('SA30'!P39)","v":{"v":-60693,"d":"(61)"}}]
["Transfers and Subsidies",1,{"$nulls":7},{"$f":"-('SA30'!N44+'SA30'!N45)","v":0},{"$f":"-('SA30'!O44+'SA30'!O45)","v":0},{"$f":"-('SA30'!P44+'SA30'!P45)","v":0}]
["NET CASH FROM/(USED) OPERATING ACTIVITIES",null,{"$f":"SUM(C6:C12)+SUM(C14:C16)","v":{"v":1524476979.05,"d":"1,524,477"}},{"$f":"SUM(D6:D12)+SUM(D14:D16)","v":{"v":1810098893.02,"d":"1,810,099"}},{"v":1491140049.28,"d":"1,491,140"},{"$f":"SUM(F6:F12)+SUM(F14:F16)","v":{"v":367947266,"d":"367,947"}},{"v":304038542,"d":"304,039"},{"v":304038542,"d":"304,039"},{"$f":"SUM(I6:I12)+SUM(I14:I16)","v":{"v":1401657336.9499998,"d":"1,401,657"}},{"v":317551778,"d":"317,552"},{"v":410354033,"d":"410,354"},{"v":396646954,"d":"396,647"}]
[]
["CASH FLOWS FROM INVESTING ACTIVITIES"]
["Receipts"]
["Proceeds on disposal of PPE",null,0,0,0,0,0,0,{"v":473793.45,"d":"474"},{"$f":"'SA30'!N25","v":0},{"$f":"'SA30'!O25","v":0},{"$f":"'SA30'!P25","v":0}]
[" "]
["Decrease (increase) in non-current receivables",null,0,0,0,0,0,0,0,{"$f":"'SA30'!N30","v":0},{"$f":"'SA30'!O30","v":0},{"$f":"'SA30'!P30","v":0}]
["Decrease (increase) in non-current investments",{"$nulls":8},{"$f":"'SA30'!N31","v":0},{"$f":"'SA30'!O31","v":0},{"$f":"'SA30'!P31","v":0}]
["Insurance Refund - Capital",{"$nulls":8},{"$f":"'SA30'!N32","v":0},{"$f":"'SA30'!O32","v":0},{"$f":"'SA30'!P32","v":0}]
["Interest on Short Term Investment (Greater then 90 days) and Long Term Investments",{"$nulls":8},{"$f":"'SA30'!N33","v":0},{"$f":"'SA30'!O33","v":0},{"$f":"'SA30'!P33","v":0}]
["Payments"]
["Capital assets",null,{"v":-269117647.1,"d":"(269,118)"},{"v":-309603501.54,"d":"(309,604)"},{"v":-350552986.12,"d":"(350,553)"},{"v":-346011671,"d":"(346,012)"},{"v":-375549146,"d":"(375,549)"},{"v":-375549146,"d":"(375,549)"},{"v":-185338109.28,"d":"(185,338)"},{"$f":"-('SA30'!N50)","v":{"v":-328191915,"d":"(328,192)"}},{"$f":"-('SA30'!O50)","v":{"v":-382640054,"d":"(382,640)"}},{"$f":"-('SA30'!P50)","v":{"v":-382551807,"d":"(382,552)"}}]
["Retention (Capital)",{"$nulls":8},{"$f":"-('SA30'!N51)","v":0},{"$f":"-('SA30'!O51)","v":0},{"$f":"-('SA30'!P51)","v":0}]
["NET CASH FROM/(USED) INVESTING ACTIVITIES",null,{"$f":"+C21+C23+C24+C25+C26+C28+C29","v":{"v":-269117647.1,"d":"(269,118)"}},{"$f":"+D21+D23+D24+D25+D26+D28+D29","v":{"v":-309603501.54,"d":"(309,604)"}},{"v":-350552986.12,"d":"(350,553)"},{"v":-346011671,"d":"(346,012)"},{"v":-375549146,"d":"(375,549)"},{"v":-375549146,"d":"(375,549)"},{"v":-184864315.83,"d":"(184,864)"},{"$f":"+J21+J23+J24+J25+J26+J28+J29","v":{"v":-328191915,"d":"(328,192)"}},{"v":-382640054,"d":"(382,640)"},{"v":-382551807,"d":"(382,552)"}]
[]
["CASH FLOWS FROM FINANCING ACTIVITIES"]
["Receipts"]
["Short term loans",{"$nulls":8},{"$f":"'SA30'!N26","v":0},{"$f":"'SA30'!O26","v":0},{"$f":"'SA30'!P26","v":0}]
["Borrowing long term/refinancing",{"$nulls":8},{"$f":"'SA30'!N27","v":0},{"$f":"'SA30'!O27","v":0},{"$f":"'SA30'!P27","v":0}]
["Increase (decrease) in consumer deposits",null,0,{"v":-434226.6,"d":"(434)"},{"v":-15361.99,"d":"(15)"},{"v":569499,"d":"569"},{"v":569499,"d":"569"},{"v":569499,"d":"569"},{"v":21240.75,"d":"21"},{"$f":"'SA30'!N28","v":{"v":569499,"d":"569"}},{"$f":"'SA30'!O28","v":{"v":569499,"d":"569"}},{"$f":"'SA30'!P28","v":{"v":569499,"d":"569"}}]
["Payments"]
["Repayment of borrowing",null,0,0,0,{"v":-2400000,"d":"(2,400)"},{"v":-2400000,"d":"(2,400)"},{"v":-2400000,"d":"(2,400)"},{"v":-1000000,"d":"(1,000)"},{"$f":"-('SA30'!N52)","v":{"v":-2400000,"d":"(2,400)"}},{"$f":"-('SA30'!O52)","v":{"v":-2400000,"d":"(2,400)"}},{"$f":"-('SA30'!P52)","v":{"v":-2400000,"d":"(2,400)"}}]
["NET CASH FROM/(USED) FINANCING ACTIVITIES",null,{"$f":"SUM(C34:C36)+C38","v":0},{"$f":"SUM(D34:D36)+D38","v":{"v":-434226.6,"d":"(434)"}},{"v":-15361.99,"d":"(15)"},{"v":-1830501,"d":"(1,831)"},{"v":-1830501,"d":"(1,831)"},{"v":-1830501,"d":"(1,831)"},{"v":-978759.25,"d":"(979)"},{"v":-1830501,"d":"(1,831)"},{"v":-1830501,"d":"(1,831)"},{"v":-1830501,"d":"(1,831)"}]
[]
["NET INCREASE/ (DECREASE) IN CASH HELD",null,{"$f":"C17+C30+C39","v":{"v":1255359331.9499998,"d":"1,255,359"}},{"v":1500061164.88,"d":"1,500,061"},{"v":1140571701.1699998,"d":"1,140,572"},{"v":20105094,"d":"20,105"},{"v":-73341105,"d":"(73,341)"},{"v":-73341105,"d":"(73,341)"},{"v":1215814261.87,"d":"1,215,814"},{"$f":"J17+J30+J39","v":{"v":-12470638,"d":"(12,471)"}},{"v":25883478,"d":"25,883"},{"v":12264646,"d":"12,265"}]
["Cash/cash equivalents at the year begin:",2,{"v":50226251.54,"d":"50,226"},{"v":124640559.45,"d":"124,641"},{"v":209430268.96,"d":"209,430"},{"v":163576655,"d":"163,577"},{"v":296462292,"d":"296,462"},{"v":296462292,"d":"296,462"},0,{"$f":"'SA30'!N57","v":{"v":233350892,"d":"233,351"}},{"$f":"J43","v":{"v":220880254,"d":"220,880"}},{"$f":"K43","v":{"v":246763732,"d":"246,764"}}]
["Cash/cash equivalents at the year end:",2,{"$f":"C41+C42","v":{"v":1305585583.4899998,"d":"1,305,586"}},{"$f":"D41+D42","v":{"v":1624701724.3300002,"d":"1,624,702"}},{"$f":"E41+E42","v":{"v":1350001970.1299999,"d":"1,350,002"}},{"$f":"F41+F42","v":{"v":183681749,"d":"183,682"}},{"v":223121187,"d":"223,121"},{"v":223121187,"d":"223,121"},{"v":1215814261.87,"d":"1,215,814"},{"v":220880254,"d":"220,880"},{"v":246763732,"d":"246,764"},{"v":259028378,"d":"259,028"}]
[{"$f":"head27a","v":"References"}]
["1. Local/District municipalities to include transfers from/to District/Local Municipalities"]
["2. Cash equivalents includes investments with maturities of 3 months or less"]
["3. The MTREF is populated directly from SA30."]
["Total receipts",null,{"$f":"SUM(C6:C12)+SUM(C21:C26)","v":{"v":2329377361.5,"d":"2,329,377"}},{"$f":"SUM(D6:D12)+SUM(D21:D26)","v":{"v":2689210790.06,"d":"2,689,211"}},{"v":2447005235.79,"d":"2,447,005"},{"v":1035356115,"d":"1,035,356"},{"v":1038217335,"d":"1,038,217"},{"v":1038217335,"d":"1,038,217"},{"v":2094347616.59,"d":"2,094,348"},{"v":1056717455,"d":"1,056,717"},{"v":1154580573,"d":"1,154,581"},{"v":1168786473,"d":"1,168,786"}]
["Total payments",null,{"$f":"SUM(C14:C16)+SUM(C28:C29)","v":{"v":-1074018029.5500002,"d":"(1,074,018)"}},{"$f":"SUM(D14:D16)+SUM(D28:D29)","v":{"v":-1188715398.58,"d":"(1,188,715)"}},{"v":-1306418172.63,"d":"(1,306,418)"},{"v":-1013420520,"d":"(1,013,421)"},{"v":-1109727939,"d":"(1,109,728)"},{"v":-1109727939,"d":"(1,109,728)"},{"v":-877554595.47,"d":"(877,555)"},{"v":-1067357592,"d":"(1,067,358)"},{"v":-1126866594,"d":"(1,126,867)"},{"v":-1154691326,"d":"(1,154,691)"}]
[null,null,{"$f":"C48+C49","v":{"v":1255359331.9499998,"d":"1,255,359"}},{"$f":"D48+D49","v":{"v":1500495391.48,"d":"1,500,495"}},{"v":1140587063.1599998,"d":"1,140,587"},{"v":21935595,"d":"21,936"},{"v":-71510604,"d":"(71,511)"},{"v":-71510604,"d":"(71,511)"},{"v":1216793021.12,"d":"1,216,793"},{"v":-10640137,"d":"(10,640)"},{"v":27713979,"d":"27,714"},{"v":14095147,"d":"14,095"}]
["Borrowings & investments & c.deposits",null,{"$f":"C24+C35+C36","v":0},{"$f":"D24+D35+D36","v":{"v":-434226.6,"d":"(434)"}},{"v":-15361.99,"d":"(15)"},{"v":569499,"d":"569"},{"v":569499,"d":"569"},{"v":569499,"d":"569"},{"v":21240.75,"d":"21"},{"v":569499,"d":"569"},{"v":569499,"d":"569"},{"v":569499,"d":"569"}]
[{"$f":"A38","v":"Repayment of borrowing"},null,{"$f":"C38","v":0},{"$f":"D38","v":0},0,{"v":-2400000,"d":"(2,400)"},{"v":-2400000,"d":"(2,400)"},{"v":-2400000,"d":"(2,400)"},{"$f":"I38","v":{"v":-1000000,"d":"(1,000)"}},{"v":-2400000,"d":"(2,400)"},{"v":-2400000,"d":"(2,400)"},{"v":-2400000,"d":"(2,400)"}]
[null,null,{"$f":"C50+C51+C52","v":{"v":1255359331.9499998,"d":"1,255,359"}},{"$f":"D50+D51+D52","v":{"v":1500061164.88,"d":"1,500,061"}},{"v":1140571701.1699998,"d":"1,140,572"},{"v":20105094,"d":"20,105"},{"v":-73341105,"d":"(73,341)"},{"v":-73341105,"d":"(73,341)"},{"v":1215814261.87,"d":"1,215,814"},{"v":-12470638,"d":"(12,471)"},{"v":25883478,"d":"25,883"},{"v":12264646,"d":"12,265"}]
[null,null,{"$f":"C41-C53","v":0},{"$f":"D41-D53","v":0},0,0,0,0,0,0,0,0]

{"sheet":"A8-ResRecon","index":18,"n_rows":57,"n_cols":12,"rows_kept":57,"merged":[[1,5,1,8],[1,9,1,11]]}
[{"$f":"muni&\" - \"&Approve8","v":"DC43 Harry Gwala - Table A8 Consolidated Cash backed reserves/accumulated surplus reconciliation"}]
[{"$f":"desc","v":"Description"},{"$f":"head27","v":"Ref"},{"$f":"head1b","v":"2022/23"},{"$f":"head1A","v":"2023/24"},{"$f":"Head1","v":"2024/25"},{"$f":"Head2","v":"Current Year 2025/26"},{"$nulls":3},{"$f":"Head3","v":"2026/27 Medium Term Revenue & Expenditure Framework"}]
["R thousand",null,{"$f":"Head5","v":"Audited Outcome"},{"$f":"Head5","v":"Audited Outcome"},{"$f":"Head5","v":"Audited Outcome"},{"$f":"Head6","v":"Original Budget"},{"$f":"Head7","v":"Adjusted Budget"},{"$f":"Head8","v":"Full Year Forecast"},{"$f":"Head5b","v":"Pre-audit outcome"},{"$f":"Head9","v":"Budget Year 2026/27"},{"$f":"Head10","v":"Budget Year +1 2027/28"},{"$f":"Head11","v":"Budget Year +2 2028/29"}]
["Cash and investments available"]
[{"$f":"LEFT('A7-CFlow'!A43,37)","v":"Cash/cash equivalents at the year end"},1,{"$f":"'A7-CFlow'!C43","v":{"v":1305585583.4899998,"d":"1,305,586"}},{"$f":"'A7-CFlow'!D43","v":{"v":1624701724.3300002,"d":"1,624,702"}},{"$f":"'A7-CFlow'!E43","v":{"v":1350001970.1299999,"d":"1,350,002"}},{"$f":"'A7-CFlow'!F43","v":{"v":183681749,"d":"183,682"}},{"$f":"'A7-CFlow'!G43","v":{"v":223121187,"d":"223,121"}},{"$f":"'A7-CFlow'!H43","v":{"v":223121187,"d":"223,121"}},{"$f":"'A7-CFlow'!I43","v":{"v":1215814261.87,"d":"1,215,814"}},{"$f":"'A7-CFlow'!J43","v":{"v":220880254,"d":"220,880"}},{"$f":"'A7-CFlow'!K43","v":{"v":246763732,"d":"246,764"}},{"$f":"'A7-CFlow'!L43","v":{"v":259028378,"d":"259,028"}}]
["Other current investments  > 90 days",null,{"$f":"'A6-FinPos'!C7","v":0},{"$f":"'A6-FinPos'!D7","v":0},{"$f":"'A6-FinPos'!E7","v":0},{"$f":"'A6-FinPos'!F7","v":0},{"$f":"'A6-FinPos'!G7","v":0},{"$f":"'A6-FinPos'!H7","v":0},{"$f":"'A6-FinPos'!I7","v":0},{"$f":"'A6-FinPos'!J7","v":0},{"$f":"'A6-FinPos'!K7","v":0},{"$f":"'A6-FinPos'!L7","v":0}]
["Non current Investments",1,{"$f":"'A6-FinPos'!C16","v":0},{"$f":"'A6-FinPos'!D16","v":0},{"$f":"'A6-FinPos'!E16","v":0},{"$f":"'A6-FinPos'!F16","v":0},{"$f":"'A6-FinPos'!G16","v":0},{"$f":"'A6-FinPos'!H16","v":0},{"$f":"'A6-FinPos'!I16","v":0},{"$f":"'A6-FinPos'!J16","v":0},{"$f":"'A6-FinPos'!K16","v":0},{"$f":"'A6-FinPos'!L16","v":0}]
["Cash and investments available:",null,{"$f":"SUM(C5:C7)","v":{"v":1305585583.4899998,"d":"1,305,586"}},{"$f":"SUM(D5:D7)","v":{"v":1624701724.3300002,"d":"1,624,702"}},{"v":1350001970.1299999,"d":"1,350,002"},{"v":183681749,"d":"183,682"},{"v":223121187,"d":"223,121"},{"v":223121187,"d":"223,121"},{"v":1215814261.87,"d":"1,215,814"},{"v":220880254,"d":"220,880"},{"v":246763732,"d":"246,764"},{"v":259028378,"d":"259,028"}]
[]
["Application of cash and investments"]
["Unspent conditional transfers",null,{"$f":"'SA3'!C258","v":{"v":21176580.330000002,"d":"21,177"}},{"$f":"'SA3'!D258","v":{"v":10499999.86,"d":"10,500"}},{"$f":"'SA3'!E258","v":{"v":-0.1599999964237213,"d":"(0)"}},{"$f":"'SA3'!F258","v":{"v":1483461,"d":"1,483"}},{"$f":"'SA3'!G258","v":{"v":1483461,"d":"1,483"}},{"$f":"'SA3'!H258","v":{"v":1483461,"d":"1,483"}},{"$f":"'SA3'!I258","v":{"v":60035417.559999995,"d":"60,035"}},{"$f":"'SA3'!J258","v":{"v":1483461,"d":"1,483"}},{"$f":"'SA3'!K258","v":{"v":1483461,"d":"1,483"}},{"$f":"'SA3'!L258","v":{"v":1483461,"d":"1,483"}}]
["Unspent borrowing"]
["Statutory requirements",2,0,0,0,0,0,0,0,0,0,0]
["Other working capital requirements",3,{"$f":"-C34","v":{"v":-683560234.33,"d":"(683,560)"}},{"$f":"-D34","v":{"v":-235802859.92999995,"d":"(235,803)"}},{"v":-116554546.03999999,"d":"(116,555)"},{"$f":"-F34","v":{"v":48075771,"d":"48,076"}},{"v":146688154,"d":"146,688"},{"v":146688154,"d":"146,688"},{"v":5417493.269999996,"d":"5,417"},{"v":174140154,"d":"174,140"},{"v":170034154,"d":"170,034"},{"v":171880154,"d":"171,880"}]
["Other provisions",null,{"v":16171402.47,"d":"16,171"},{"v":16385435.99,"d":"16,385"},{"v":16526651.66,"d":"16,527"},{"v":16385436,"d":"16,385"},{"v":16526652,"d":"16,527"},{"v":16526652,"d":"16,527"},{"v":16526651.66,"d":"16,527"},{"v":16526652,"d":"16,527"},{"v":16526652,"d":"16,527"},{"v":16526652,"d":"16,527"}]
["Long term investments committed",4,{"$f":"C44","v":0},{"$f":"D44","v":0},0,0,0,0,0,0,0,0]
["Reserves to be backed by cash/investments",5]
["Total Application of cash and investments:",null,{"$f":"SUM(C11:C17)","v":{"v":-646212251.53,"d":"(646,212)"}},{"$f":"SUM(D11:D17)","v":{"v":-208917424.07999992,"d":"(208,917)"}},{"v":-100027894.53999999,"d":"(100,028)"},{"v":65944668,"d":"65,945"},{"v":164698267,"d":"164,698"},{"v":164698267,"d":"164,698"},{"v":81979562.49,"d":"81,980"},{"v":192150267,"d":"192,150"},{"v":188044267,"d":"188,044"},{"v":189890267,"d":"189,890"}]
["Surplus(shortfall) - Excluding Non-Current Creditors Trf to Debt Relief Benefits",null,{"$f":"C8-C18","v":{"v":1951797835.0199997,"d":"1,951,798"}},{"$f":"D8-D18","v":{"v":1833619148.41,"d":"1,833,619"}},{"v":1450029864.6699998,"d":"1,450,030"},{"v":117737081,"d":"117,737"},{"v":58422920,"d":"58,423"},{"v":58422920,"d":"58,423"},{"v":1133834699.3799999,"d":"1,133,835"},{"v":28729987,"d":"28,730"},{"v":58719465,"d":"58,719"},{"v":69138111,"d":"69,138"}]
["Creditors transferred to Debt Relief - Non-Current portion",null,{"$f":"'SA3'!C324","v":0},{"$f":"'SA3'!D324","v":0},{"$f":"'SA3'!E324","v":0},{"$f":"'SA3'!F324","v":0},{"$f":"'SA3'!G324","v":0},{"$f":"'SA3'!H324","v":0},{"$f":"'SA3'!I324","v":0},{"$f":"'SA3'!J324","v":0},{"$f":"'SA3'!K324","v":0},{"$f":"'SA3'!L324","v":0}]
["Surplus(shortfall) - Including Non-Current Creditors Trf to Debt Relief Benefits",null,{"$f":"SUM(C19:C20)","v":{"v":1951797835.0199997,"d":"1,951,798"}},{"$f":"SUM(D19:D20)","v":{"v":1833619148.41,"d":"1,833,619"}},{"v":1450029864.6699998,"d":"1,450,030"},{"v":117737081,"d":"117,737"},{"v":58422920,"d":"58,423"},{"v":58422920,"d":"58,423"},{"v":1133834699.3799999,"d":"1,133,835"},{"v":28729987,"d":"28,730"},{"v":58719465,"d":"58,719"},{"v":69138111,"d":"69,138"}]
[{"$f":"head27a","v":"References"}]
["1. Must reconcile with Budgeted Cash Flows"]
["2. For example: VAT, taxation"]
["3. Council approval for policy required - include sufficient working capital (e.g. allowing for a % of current debtors > 90 days as uncollectable)"]
["4. For example: sinking fund requirements for borrowing"]
["5. Council approval required for each reserve created and basis of cash backing of reserves - Total Reserves to be backed by cash/investments excl Valuation reserve"]
[]
[]
["Other working capital requirements"]
["Debtors",null,{"$f":"IF(ISERROR(ROUND(C37*C38,-3)),0,(ROUND(C37*C38,-3)))","v":{"v":775428000,"d":"775,428"}},{"$f":"IF(ISERROR(ROUND(D37*D38,-3)),0,(ROUND(D37*D38,-3)))","v":{"v":322738000,"d":"322,738"}},{"v":264695000,"d":"264,695"},{"v":38280000,"d":"38,280"},{"v":6569000,"d":"6,569"},{"v":6569000,"d":"6,569"},{"v":-87345000,"d":"(87,345)"},{"v":16093000,"d":"16,093"},{"v":22199000,"d":"22,199"},{"v":22353000,"d":"22,353"}]
[]
["Creditors due",null,{"$f":"'SA3'!C249","v":{"v":91867765.66999997,"d":"91,868"}},{"$f":"'SA3'!D249","v":{"v":86935140.07000007,"d":"86,935"}},{"$f":"'SA3'!E249","v":{"v":148140453.96,"d":"148,140"}},{"$f":"'SA3'!F249","v":{"v":86355771,"d":"86,356"}},{"$f":"'SA3'!G249","v":{"v":153257154,"d":"153,257"}},{"$f":"'SA3'!H249","v":{"v":153257154,"d":"153,257"}},{"$f":"'SA3'!I249","v":{"v":-81927506.73,"d":"(81,928)"}},{"$f":"'SA3'!J249","v":{"v":190233154,"d":"190,233"}},{"$f":"'SA3'!K249","v":{"v":192233154,"d":"192,233"}},{"$f":"'SA3'!L249","v":{"v":194233154,"d":"194,233"}}]
["Total",null,{"$f":"C31-C33","v":{"v":683560234.33,"d":"683,560"}},{"$f":"D31-D33","v":{"v":235802859.92999995,"d":"235,803"}},{"v":116554546.03999999,"d":"116,555"},{"v":-48075771,"d":"(48,076)"},{"v":-146688154,"d":"(146,688)"},{"v":-146688154,"d":"(146,688)"},{"v":-5417493.269999996,"d":"(5,417)"},{"v":-174140154,"d":"(174,140)"},{"v":-170034154,"d":"(170,034)"},{"v":-171880154,"d":"(171,880)"}]
[]
["Debtors collection assumptions"]
["Balance outstanding - debtors",null,{"$f":"'A6-FinPos'!C8+'A6-FinPos'!C9+'A6-FinPos'!C10+'A6-FinPos'!C23+'A6-FinPos'!C24","v":{"v":34453884.86000001,"d":"34,454"}},{"$f":"'A6-FinPos'!D8+'A6-FinPos'!D9+'A6-FinPos'!D10+'A6-FinPos'!D23+'A6-FinPos'!D24","v":{"v":14348506.13999998,"d":"14,349"}},{"$f":"'A6-FinPos'!E8+'A6-FinPos'!E9+'A6-FinPos'!E10+'A6-FinPos'!E23+'A6-FinPos'!E24","v":{"v":14343569.279999973,"d":"14,344"}},{"$f":"'A6-FinPos'!F8+'A6-FinPos'!F9+'A6-FinPos'!F10+'A6-FinPos'!F23+'A6-FinPos'!F24","v":{"v":26030747,"d":"26,031"}},{"$f":"'A6-FinPos'!G8+'A6-FinPos'!G9+'A6-FinPos'!G10+'A6-FinPos'!G23+'A6-FinPos'!G24","v":{"v":4208026,"d":"4,208"}},{"$f":"'A6-FinPos'!H8+'A6-FinPos'!H9+'A6-FinPos'!H10+'A6-FinPos'!H23+'A6-FinPos'!H24","v":{"v":4208026,"d":"4,208"}},{"$f":"'A6-FinPos'!I8+'A6-FinPos'!I9+'A6-FinPos'!I10+'A6-FinPos'!I23+'A6-FinPos'!I24","v":{"v":-3718674.67,"d":"(3,719)"}},{"$f":"'A6-FinPos'!J8+'A6-FinPos'!J9+'A6-FinPos'!J10+'A6-FinPos'!J23+'A6-FinPos'!J24","v":{"v":12885796,"d":"12,886"}},{"$f":"'A6-FinPos'!K8+'A6-FinPos'!K9+'A6-FinPos'!K10+'A6-FinPos'!K23+'A6-FinPos'!K24","v":{"v":17924235,"d":"17,924"}},{"$f":"'A6-FinPos'!L8+'A6-FinPos'!L9+'A6-FinPos'!L10+'A6-FinPos'!L23+'A6-FinPos'!L24","v":{"v":17404976,"d":"17,405"}}]
["Estimate of debtors collection rate",null,{"$f":"IF(ISERROR('SA10'!D10),0,('SA10'!D10))","v":{"v":22.506246536606195,"d":"2250.6%"}},{"$f":"IF(ISERROR('SA10'!E10),0,('SA10'!E10))","v":{"v":22.492779168684862,"d":"2249.3%"}},{"$f":"IF(ISERROR('SA10'!F10),0,('SA10'!F10))","v":{"v":18.453887240531525,"d":"1845.4%"}},{"$f":"IF(ISERROR('SA10'!G10),0,('SA10'!G10))","v":{"v":1.4705525684220782,"d":"147.1%"}},{"$f":"IF(ISERROR('SA10'!H10),0,('SA10'!H10))","v":{"v":1.5610738024394963,"d":"156.1%"}},{"$f":"IF(ISERROR('SA10'!I10),0,('SA10'!I10))","v":{"v":1.5610738024394963,"d":"156.1%"}},{"$f":"IF(ISERROR('SA10'!J10),0,('SA10'!J10))","v":{"v":23.488096139180826,"d":"2348.8%"}},{"$f":"IF(ISERROR('SA10'!K10),0,('SA10'!K10))","v":{"v":1.2488578111708541,"d":"124.9%"}},{"$f":"IF(ISERROR('SA10'!L10),0,('SA10'!L10))","v":{"v":1.238466804022864,"d":"123.8%"}},{"$f":"IF(ISERROR('SA10'!M10),0,('SA10'!M10))","v":{"v":1.284288931234247,"d":"128.4%"}}]
[]
[]
[{"$nulls":10},"`"]
[{"$f":"A16","v":"Long term investments committed"}]
["Balance (Insert description; eg sinking fund)"]
[null,null,{"$f":"SUM(C43:C43)","v":0},0,0,0,0,0,0,0,0,0]
[{"$f":"A17","v":"Reserves to be backed by cash/investments"}]
["Housing Development Fund",null,{"$f":"'SA3'!C353","v":0},{"$f":"'SA3'!D353","v":0},{"$f":"'SA3'!E353","v":0},{"$f":"'SA3'!F353","v":0},{"$f":"'SA3'!G353","v":0},{"$f":"'SA3'!H353","v":0},{"$f":"'SA3'!I353","v":0},{"$f":"'SA3'!J353","v":0},{"$f":"'SA3'!K353","v":0},{"$f":"'SA3'!L353","v":0}]
["Capital replacement",null,{"$f":"'SA3'!C349","v":0},{"$f":"'SA3'!D349","v":0},{"$f":"'SA3'!E349","v":0},{"$f":"'SA3'!F349","v":0},{"$f":"'SA3'!G349","v":0},{"$f":"'SA3'!H349","v":0},{"$f":"'SA3'!I349","v":0},{"$f":"'SA3'!J349","v":0},{"$f":"'SA3'!K349","v":0},{"$f":"'SA3'!L349","v":0}]
["Self-insurance",null,{"$f":"'SA3'!C357","v":0},{"$f":"'SA3'!D357","v":0},{"$f":"'SA3'!E357","v":0},{"$f":"'SA3'!F357","v":0},{"$f":"'SA3'!G357","v":0},{"$f":"'SA3'!H357","v":0},{"$f":"'SA3'!I357","v":0},{"$f":"'SA3'!J357","v":0},{"$f":"'SA3'!K357","v":0},{"$f":"'SA3'!L357","v":0}]
["Compensation for Occupational Injuries and Diseases",{"$nulls":3},{"$f":"'SA3'!C351","v":0},{"$f":"'SA3'!D351","v":0},{"$f":"'SA3'!E351","v":0},{"$f":"'SA3'!F351","v":0},{"$f":"'SA3'!G351","v":0},{"$f":"'SA3'!H351","v":0},{"$f":"'SA3'!I351","v":0},{"$f":"'SA3'!J351","v":0}]
["Employee Benefit reserve",{"$nulls":3},{"$f":"'SA3'!C352","v":0},{"$f":"'SA3'!D352","v":0},{"$f":"'SA3'!E352","v":0},{"$f":"'SA3'!F352","v":0},{"$f":"'SA3'!G352","v":0},{"$f":"'SA3'!H352","v":0},{"$f":"'SA3'!I352","v":0},{"$f":"'SA3'!J352","v":0}]
["Non-current Provisions reserve",{"$nulls":3},{"$f":"'SA3'!C355","v":0},{"$f":"'SA3'!D355","v":0},{"$f":"'SA3'!E355","v":0},{"$f":"'SA3'!F355","v":0},{"$f":"'SA3'!G355","v":0},{"$f":"'SA3'!H355","v":0},{"$f":"'SA3'!I355","v":0},{"$f":"'SA3'!J355","v":0}]
["Valuation reserve",{"$nulls":3},{"$f":"'SA3'!C358","v":0},{"$f":"'SA3'!D358","v":0},{"$f":"'SA3'!E358","v":0},{"$f":"'SA3'!F358","v":0},{"$f":"'SA3'!G358","v":0},{"$f":"'SA3'!H358","v":0},{"$f":"'SA3'!I358","v":0},{"$f":"'SA3'!J358","v":0}]
["Investment in associate account",{"$nulls":3},{"$f":"'SA3'!C354","v":0},{"$f":"'SA3'!D354","v":0},{"$f":"'SA3'!E354","v":0},{"$f":"'SA3'!F354","v":0},{"$f":"'SA3'!G354","v":0},{"$f":"'SA3'!H354","v":0},{"$f":"'SA3'!I354","v":0},{"$f":"'SA3'!J354","v":0}]
["Capitalisation",{"$nulls":3},{"$f":"'SA3'!C350","v":0},{"$f":"'SA3'!D350","v":0},{"$f":"'SA3'!E350","v":0},{"$f":"'SA3'!F350","v":0},{"$f":"'SA3'!G350","v":0},{"$f":"'SA3'!H350","v":0},{"$f":"'SA3'!I350","v":0},{"$f":"'SA3'!J350","v":0}]
[null,6,{"$f":"SUM(C46:C54)","v":0},{"$f":"SUM(D46:D54)","v":0},0,0,0,0,0,0,0,0]
["Note:"]
["6. Above reserves do not include Revaluation reserve. Revaluation reserve not required to be cash backed"]

{"sheet":"A9-Asset","index":19,"n_rows":234,"n_cols":11,"rows_kept":234,"merged":[[1,5,1,7],[1,8,1,10]]}
[{"$f":"muni&\" - \"&Approve9","v":"DC43 Harry Gwala - Table A9 Consolidated Asset Management"}]
[{"$f":"desc","v":"Description"},{"$f":"head27","v":"Ref"},{"$f":"head1b","v":"2022/23"},{"$f":"head1A","v":"2023/24"},{"$f":"Head1","v":"2024/25"},{"$f":"Head2","v":"Current Year 2025/26"},null,null,{"$f":"Head3","v":"2026/27 Medium Term Revenue & Expenditure Framework"}]
["R thousand",null,{"$f":"Head5","v":"Audited Outcome"},{"$f":"Head5","v":"Audited Outcome"},{"$f":"Head5","v":"Audited Outcome"},{"$f":"Head6","v":"Original Budget"},{"$f":"Head7","v":"Adjusted Budget"},{"$f":"Head8","v":"Full Year Forecast"},{"$f":"Head9","v":"Budget Year 2026/27"},{"$f":"Head10","v":"Budget Year +1 2027/28"},{"$f":"Head11","v":"Budget Year +2 2028/29"}]
["CAPITAL EXPENDITURE"]
["Total New Assets",1,{"$f":"C15+C18+C19+C22+C25+C26+SUM(C29:C35)+C38","v":{"v":257265036.21999997,"d":"257,265"}},{"$f":"D15+D18+D19+D22+D25+D26+SUM(D29:D35)+D38","v":{"v":289670378.89,"d":"289,670"}},{"v":311069726.09999996,"d":"311,070"},{"v":260534011,"d":"260,534"},{"v":295908833,"d":"295,909"},{"v":295908833,"d":"295,909"},{"v":240484093,"d":"240,484"},{"v":223428289,"d":"223,428"},{"v":193426123,"d":"193,426"}]
["Roads Infrastructure",null,{"$f":"SA34a!C7","v":0},{"$f":"SA34a!D7","v":0},{"$f":"SA34a!E7","v":0},{"$f":"SA34a!F7","v":0},{"$f":"SA34a!G7","v":0},{"$f":"SA34a!H7","v":0},{"$f":"SA34a!I7","v":0},{"$f":"SA34a!J7","v":0},{"$f":"SA34a!K7","v":0}]
["Storm water Infrastructure",null,{"$f":"SA34a!C12","v":0},{"$f":"SA34a!D12","v":0},{"$f":"SA34a!E12","v":0},{"$f":"SA34a!F12","v":0},{"$f":"SA34a!G12","v":0},{"$f":"SA34a!H12","v":0},{"$f":"SA34a!I12","v":0},{"$f":"SA34a!J12","v":0},{"$f":"SA34a!K12","v":0}]
["Electrical Infrastructure",null,{"$f":"SA34a!C16","v":0},{"$f":"SA34a!D16","v":0},{"$f":"SA34a!E16","v":0},{"$f":"SA34a!F16","v":0},{"$f":"SA34a!G16","v":0},{"$f":"SA34a!H16","v":0},{"$f":"SA34a!I16","v":0},{"$f":"SA34a!J16","v":0},{"$f":"SA34a!K16","v":0}]
["Water Supply Infrastructure",null,{"$f":"SA34a!C26","v":{"v":203327285.07999998,"d":"203,327"}},{"$f":"SA34a!D26","v":{"v":219162897.79,"d":"219,163"}},{"$f":"SA34a!E26","v":{"v":279731487.79,"d":"279,731"}},{"$f":"SA34a!F26","v":{"v":239910110,"d":"239,910"}},{"$f":"SA34a!G26","v":{"v":270168412,"d":"270,168"}},{"$f":"SA34a!H26","v":{"v":270168412,"d":"270,168"}},{"$f":"SA34a!I26","v":{"v":223286671,"d":"223,287"}},{"$f":"SA34a!J26","v":{"v":205693333,"d":"205,693"}},{"$f":"SA34a!K26","v":{"v":174346911,"d":"174,347"}}]
["Sanitation Infrastructure",null,{"$f":"SA34a!C37","v":{"v":44534434.7,"d":"44,534"}},{"$f":"SA34a!D37","v":{"v":64965179.07,"d":"64,965"}},{"$f":"SA34a!E37","v":{"v":20054739.76,"d":"20,055"}},{"$f":"SA34a!F37","v":{"v":260868,"d":"261"}},{"$f":"SA34a!G37","v":{"v":5134602,"d":"5,135"}},{"$f":"SA34a!H37","v":{"v":5134602,"d":"5,135"}},{"$f":"SA34a!I37","v":0},{"$f":"SA34a!J37","v":0},{"$f":"SA34a!K37","v":0}]
["Solid Waste Infrastructure",null,{"$f":"SA34a!C44","v":0},{"$f":"SA34a!D44","v":0},{"$f":"SA34a!E44","v":0},{"$f":"SA34a!F44","v":0},{"$f":"SA34a!G44","v":0},{"$f":"SA34a!H44","v":0},{"$f":"SA34a!I44","v":0},{"$f":"SA34a!J44","v":0},{"$f":"SA34a!K44","v":0}]
["Rail Infrastructure",null,{"$f":"SA34a!C52","v":0},{"$f":"SA34a!D52","v":0},{"$f":"SA34a!E52","v":0},{"$f":"SA34a!F52","v":0},{"$f":"SA34a!G52","v":0},{"$f":"SA34a!H52","v":0},{"$f":"SA34a!I52","v":0},{"$f":"SA34a!J52","v":0},{"$f":"SA34a!K52","v":0}]
["Coastal Infrastructure",null,{"$f":"SA34a!C62","v":0},{"$f":"SA34a!D62","v":0},{"$f":"SA34a!E62","v":0},{"$f":"SA34a!F62","v":0},{"$f":"SA34a!G62","v":0},{"$f":"SA34a!H62","v":0},{"$f":"SA34a!I62","v":0},{"$f":"SA34a!J62","v":0},{"$f":"SA34a!K62","v":0}]
["Information and Communication Infrastructure",null,{"$f":"SA34a!C68","v":0},{"$f":"SA34a!D68","v":0},{"$f":"SA34a!E68","v":0},{"$f":"SA34a!F68","v":0},{"$f":"SA34a!G68","v":0},{"$f":"SA34a!H68","v":0},{"$f":"SA34a!I68","v":0},{"$f":"SA34a!J68","v":0},{"$f":"SA34a!K68","v":0}]
["Infrastructure",null,{"$f":"SUM(C6:C14)","v":{"v":247861719.77999997,"d":"247,862"}},{"$f":"SUM(D6:D14)","v":{"v":284128076.86,"d":"284,128"}},{"v":299786227.55,"d":"299,786"},{"v":240170978,"d":"240,171"},{"v":275303014,"d":"275,303"},{"v":275303014,"d":"275,303"},{"v":223286671,"d":"223,287"},{"v":205693333,"d":"205,693"},{"v":174346911,"d":"174,347"}]
["Community Facilities",null,{"$f":"SA34a!C75","v":0},{"$f":"SA34a!D75","v":0},{"$f":"SA34a!E75","v":0},{"$f":"SA34a!F75","v":0},{"$f":"SA34a!G75","v":0},{"$f":"SA34a!H75","v":0},{"$f":"SA34a!I75","v":0},{"$f":"SA34a!J75","v":0},{"$f":"SA34a!K75","v":0}]
["Sport and Recreation Facilities",null,{"$f":"SA34a!C98","v":0},{"$f":"SA34a!D98","v":0},{"$f":"SA34a!E98","v":0},{"$f":"SA34a!F98","v":0},{"$f":"SA34a!G98","v":0},{"$f":"SA34a!H98","v":0},{"$f":"SA34a!I98","v":0},{"$f":"SA34a!J98","v":0},{"$f":"SA34a!K98","v":0}]
["Community Assets",null,{"$f":"SUM(C16:C17)","v":0},{"$f":"SUM(D16:D17)","v":0},0,0,0,0,0,0,0]
["Heritage Assets",null,{"$f":"SA34a!C103","v":0},{"$f":"SA34a!D103","v":0},{"$f":"SA34a!E103","v":0},{"$f":"SA34a!F103","v":0},{"$f":"SA34a!G103","v":0},{"$f":"SA34a!H103","v":0},{"$f":"SA34a!I103","v":0},{"$f":"SA34a!J103","v":0},{"$f":"SA34a!K103","v":0}]
["Revenue Generating",null,{"$f":"SA34a!C111","v":0},{"$f":"SA34a!D111","v":0},{"$f":"SA34a!E111","v":0},{"$f":"SA34a!F111","v":0},{"$f":"SA34a!G111","v":0},{"$f":"SA34a!H111","v":0},{"$f":"SA34a!I111","v":0},{"$f":"SA34a!J111","v":0},{"$f":"SA34a!K111","v":0}]
["Non-revenue Generating",null,{"$f":"SA34a!C114","v":0},{"$f":"SA34a!D114","v":0},{"$f":"SA34a!E114","v":0},{"$f":"SA34a!F114","v":0},{"$f":"SA34a!G114","v":0},{"$f":"SA34a!H114","v":0},{"$f":"SA34a!I114","v":0},{"$f":"SA34a!J114","v":0},{"$f":"SA34a!K114","v":0}]
["Investment properties",null,{"$f":"SUM(C20:C21)","v":0},{"$f":"SUM(D20:D21)","v":0},0,0,0,0,0,0,0]
["Operational Buildings",null,{"$f":"SA34a!C119","v":0},{"$f":"SA34a!D119","v":0},{"$f":"SA34a!E119","v":{"v":1267779.08,"d":"1,268"}},{"$f":"SA34a!F119","v":{"v":6901298,"d":"6,901"}},{"$f":"SA34a!G119","v":{"v":5985416,"d":"5,985"}},{"$f":"SA34a!H119","v":{"v":5985416,"d":"5,985"}},{"$f":"SA34a!I119","v":{"v":3221581,"d":"3,222"}},{"$f":"SA34a!J119","v":{"v":3329021,"d":"3,329"}},{"$f":"SA34a!K119","v":{"v":5076345,"d":"5,076"}}]
["Housing",null,{"$f":"SA34a!C131","v":0},{"$f":"SA34a!D131","v":0},{"$f":"SA34a!E131","v":{"v":1042173.88,"d":"1,042"}},{"$f":"SA34a!F131","v":{"v":2000000,"d":"2,000"}},{"$f":"SA34a!G131","v":{"v":1000000,"d":"1,000"}},{"$f":"SA34a!H131","v":{"v":1000000,"d":"1,000"}},{"$f":"SA34a!I131","v":{"v":1040000,"d":"1,040"}},{"$f":"SA34a!J131","v":{"v":1081600,"d":"1,082"}},{"$f":"SA34a!K131","v":{"v":1116212,"d":"1,116"}}]
["Other Assets",null,{"$f":"SUM(C23:C24)","v":0},{"$f":"SUM(D23:D24)","v":0},{"v":2309952.96,"d":"2,310"},{"v":8901298,"d":"8,901"},{"v":6985416,"d":"6,985"},{"v":6985416,"d":"6,985"},{"v":4261581,"d":"4,262"},{"v":4410621,"d":"4,411"},{"v":6192557,"d":"6,193"}]
["Biological or Cultivated Assets",null,{"$f":"SA34a!C136","v":0},{"$f":"SA34a!D136","v":0},{"$f":"SA34a!E136","v":0},{"$f":"SA34a!F136","v":0},{"$f":"SA34a!G136","v":0},{"$f":"SA34a!H136","v":0},{"$f":"SA34a!I136","v":0},{"$f":"SA34a!J136","v":0},{"$f":"SA34a!K136","v":0}]
["Servitudes",null,{"$f":"SA34a!C140","v":0},{"$f":"SA34a!D140","v":0},{"$f":"SA34a!E140","v":0},{"$f":"SA34a!F140","v":0},{"$f":"SA34a!G140","v":0},{"$f":"SA34a!H140","v":0},{"$f":"SA34a!I140","v":0},{"$f":"SA34a!J140","v":0},{"$f":"SA34a!K140","v":0}]
["Licences and Rights",null,{"$f":"SA34a!C141","v":{"v":269950,"d":"270"}},{"$f":"SA34a!D141","v":0},{"$f":"SA34a!E141","v":0},{"$f":"SA34a!F141","v":{"v":954545,"d":"955"}},{"$f":"SA34a!G141","v":{"v":954545,"d":"955"}},{"$f":"SA34a!H141","v":{"v":954545,"d":"955"}},{"$f":"SA34a!I141","v":{"v":2389227,"d":"2,389"}},{"$f":"SA34a!J141","v":{"v":2484796,"d":"2,485"}},{"$f":"SA34a!K141","v":{"v":2568608,"d":"2,569"}}]
["Intangible Assets",null,{"$f":"SUM(C27:C28)","v":{"v":269950,"d":"270"}},{"$f":"SUM(D27:D28)","v":0},0,{"v":954545,"d":"955"},{"v":954545,"d":"955"},{"v":954545,"d":"955"},{"v":2389227,"d":"2,389"},{"v":2484796,"d":"2,485"},{"v":2568608,"d":"2,569"}]
["Computer Equipment",null,{"$f":"SA34a!C149","v":{"v":410050,"d":"410"}},{"$f":"SA34a!D149","v":{"v":943411.62,"d":"943"}},{"$f":"SA34a!E149","v":{"v":2028817.04,"d":"2,029"}},{"$f":"SA34a!F149","v":{"v":2859090,"d":"2,859"}},{"$f":"SA34a!G149","v":{"v":2872570,"d":"2,873"}},{"$f":"SA34a!H149","v":{"v":2872570,"d":"2,873"}},{"$f":"SA34a!I149","v":{"v":5235590,"d":"5,236"}},{"$f":"SA34a!J149","v":{"v":5320214,"d":"5,320"}},{"$f":"SA34a!K149","v":{"v":2758684,"d":"2,759"}}]
["Furniture and Office Equipment",null,{"$f":"SA34a!C152","v":{"v":1293099.15,"d":"1,293"}},{"$f":"SA34a!D152","v":{"v":2306194.72,"d":"2,306"}},{"$f":"SA34a!E152","v":{"v":2177507.68,"d":"2,178"}},{"$f":"SA34a!F152","v":{"v":5288090,"d":"5,288"}},{"$f":"SA34a!G152","v":{"v":5608029,"d":"5,608"}},{"$f":"SA34a!H152","v":{"v":5608029,"d":"5,608"}},{"$f":"SA34a!I152","v":{"v":3242068,"d":"3,242"}},{"$f":"SA34a!J152","v":{"v":3367610,"d":"3,368"}},{"$f":"SA34a!K152","v":{"v":4692118,"d":"4,692"}}]
["Machinery and Equipment",null,{"$f":"SA34a!C155","v":{"v":7430217.29,"d":"7,430"}},{"$f":"SA34a!D155","v":{"v":1306456.55,"d":"1,306"}},{"$f":"SA34a!E155","v":{"v":4767220.87,"d":"4,767"}},{"$f":"SA34a!F155","v":{"v":2360010,"d":"2,360"}},{"$f":"SA34a!G155","v":{"v":4185259,"d":"4,185"}},{"$f":"SA34a!H155","v":{"v":4185259,"d":"4,185"}},{"$f":"SA34a!I155","v":{"v":2068956,"d":"2,069"}},{"$f":"SA34a!J155","v":{"v":2151715,"d":"2,152"}},{"$f":"SA34a!K155","v":{"v":2867245,"d":"2,867"}}]
["Transport Assets",null,{"$f":"SA34a!C158","v":0},{"$f":"SA34a!D158","v":{"v":986239.14,"d":"986"}},{"$f":"SA34a!E158","v":0},{"$f":"SA34a!F158","v":0},{"$f":"SA34a!G158","v":0},{"$f":"SA34a!H158","v":0},{"$f":"SA34a!I158","v":0},{"$f":"SA34a!J158","v":0},{"$f":"SA34a!K158","v":0}]
["Land",null,{"$f":"SA34a!C161","v":0},{"$f":"SA34a!D161","v":0},{"$f":"SA34a!E161","v":0},{"$f":"SA34a!F161","v":0},{"$f":"SA34a!G161","v":0},{"$f":"SA34a!H161","v":0},{"$f":"SA34a!I161","v":0},{"$f":"SA34a!J161","v":0},{"$f":"SA34a!K161","v":0}]
["Zoo's, Marine and Non-biological Animals",null,{"$f":"SA34a!C164","v":0},{"$f":"SA34a!D164","v":0},{"$f":"SA34a!E164","v":0},{"$f":"SA34a!F164","v":0},{"$f":"SA34a!G164","v":0},{"$f":"SA34a!H164","v":0},{"$f":"SA34a!I164","v":0},{"$f":"SA34a!J164","v":0},{"$f":"SA34a!K164","v":0}]
["Mature"," ",{"$f":"SA34a!C168","v":0},{"$f":"SA34a!D168","v":0},{"$f":"SA34a!E168","v":0},{"$f":"SA34a!F168","v":0},{"$f":"SA34a!G168","v":0},{"$f":"SA34a!H168","v":0},{"$f":"SA34a!I168","v":0},{"$f":"SA34a!J168","v":0},{"$f":"SA34a!K168","v":0}]
["Immature"," ",{"$f":"SA34a!C171","v":0},{"$f":"SA34a!D171","v":0},{"$f":"SA34a!E171","v":0},{"$f":"SA34a!F171","v":0},{"$f":"SA34a!G171","v":0},{"$f":"SA34a!H171","v":0},{"$f":"SA34a!I171","v":0},{"$f":"SA34a!J171","v":0},{"$f":"SA34a!K171","v":0}]
["Living Resources","",{"$f":"SUM(C36:C37)","v":0},{"$f":"SUM(D36:D37)","v":0},0,0,0,0,0,0,0]
[]
["Total Renewal of Existing Assets",2,{"$f":"C50+C53+C54+C57+C60+C61+SUM(C64:C70)+C73","v":{"v":6259054,"d":"6,259"}},{"$f":"D50+D53+D54+D57+D60+D61+SUM(D64:D70)+D73","v":{"v":4801888.79,"d":"4,802"}},{"v":30413209.7,"d":"30,413"},{"v":21972648,"d":"21,973"},{"v":19898969,"d":"19,899"},{"v":19898969,"d":"19,899"},{"v":25324871,"d":"25,325"},{"v":44841019,"d":"44,841"},{"v":52100031,"d":"52,100"}]
["Roads Infrastructure",null,{"$f":"SA34b!C7","v":0},{"$f":"SA34b!D7","v":0},{"$f":"SA34b!E7","v":0},{"$f":"SA34b!F7","v":0},{"$f":"SA34b!G7","v":0},{"$f":"SA34b!H7","v":0},{"$f":"SA34b!I7","v":0},{"$f":"SA34b!J7","v":0},{"$f":"SA34b!K7","v":0}]
["Storm water Infrastructure",null,{"$f":"SA34b!C12","v":0},{"$f":"SA34b!D12","v":0},{"$f":"SA34b!E12","v":0},{"$f":"SA34b!F12","v":0},{"$f":"SA34b!G12","v":0},{"$f":"SA34b!H12","v":0},{"$f":"SA34b!I12","v":0},{"$f":"SA34b!J12","v":0},{"$f":"SA34b!K12","v":0}]
["Electrical Infrastructure",null,{"$f":"SA34b!C16","v":0},{"$f":"SA34b!D16","v":0},{"$f":"SA34b!E16","v":0},{"$f":"SA34b!F16","v":0},{"$f":"SA34b!G16","v":0},{"$f":"SA34b!H16","v":0},{"$f":"SA34b!I16","v":0},{"$f":"SA34b!J16","v":0},{"$f":"SA34b!K16","v":0}]
["Water Supply Infrastructure",null,{"$f":"SA34b!C26","v":0},{"$f":"SA34b!D26","v":{"v":2245030.66,"d":"2,245"}},{"$f":"SA34b!E26","v":{"v":21914161,"d":"21,914"}},{"$f":"SA34b!F26","v":{"v":7764295,"d":"7,764"}},{"$f":"SA34b!G26","v":{"v":772228,"d":"772"}},{"$f":"SA34b!H26","v":{"v":772228,"d":"772"}},{"$f":"SA34b!I26","v":{"v":10794256,"d":"10,794"}},{"$f":"SA34b!J26","v":{"v":39224831,"d":"39,225"}},{"$f":"SA34b!K26","v":{"v":42829033,"d":"42,829"}}]
["Sanitation Infrastructure",null,{"$f":"SA34b!C37","v":0},{"$f":"SA34b!D37","v":0},{"$f":"SA34b!E37","v":{"v":1658491,"d":"1,658"}},{"$f":"SA34b!F37","v":{"v":1739130,"d":"1,739"}},{"$f":"SA34b!G37","v":{"v":2747221,"d":"2,747"}},{"$f":"SA34b!H37","v":{"v":2747221,"d":"2,747"}},{"$f":"SA34b!I37","v":{"v":9130435,"d":"9,130"}},{"$f":"SA34b!J37","v":0},{"$f":"SA34b!K37","v":0}]
["Solid Waste Infrastructure",null,{"$f":"SA34b!C44","v":0},{"$f":"SA34b!D44","v":0},{"$f":"SA34b!E44","v":0},{"$f":"SA34b!F44","v":0},{"$f":"SA34b!G44","v":0},{"$f":"SA34b!H44","v":0},{"$f":"SA34b!I44","v":0},{"$f":"SA34b!J44","v":0},{"$f":"SA34b!K44","v":0}]
["Rail Infrastructure",null,{"$f":"SA34b!C52","v":0},{"$f":"SA34b!D52","v":0},{"$f":"SA34b!E52","v":0},{"$f":"SA34b!F52","v":0},{"$f":"SA34b!G52","v":0},{"$f":"SA34b!H52","v":0},{"$f":"SA34b!I52","v":0},{"$f":"SA34b!J52","v":0},{"$f":"SA34b!K52","v":0}]
["Coastal Infrastructure",null,{"$f":"SA34b!C62","v":0},{"$f":"SA34b!D62","v":0},{"$f":"SA34b!E62","v":0},{"$f":"SA34b!F62","v":0},{"$f":"SA34b!G62","v":0},{"$f":"SA34b!H62","v":0},{"$f":"SA34b!I62","v":0},{"$f":"SA34b!J62","v":0},{"$f":"SA34b!K62","v":0}]
["Information and Communication Infrastructure",null,{"$f":"SA34b!C68","v":0},{"$f":"SA34b!D68","v":0},{"$f":"SA34b!E68","v":0},{"$f":"SA34b!F68","v":0},{"$f":"SA34b!G68","v":0},{"$f":"SA34b!H68","v":0},{"$f":"SA34b!I68","v":0},{"$f":"SA34b!J68","v":0},{"$f":"SA34b!K68","v":0}]
["Infrastructure",null,{"$f":"SUM(C41:C49)","v":0},{"$f":"SUM(D41:D49)","v":{"v":2245030.66,"d":"2,245"}},{"v":23572652,"d":"23,573"},{"v":9503425,"d":"9,503"},{"v":3519449,"d":"3,519"},{"v":3519449,"d":"3,519"},{"v":19924691,"d":"19,925"},{"v":39224831,"d":"39,225"},{"v":42829033,"d":"42,829"}]
["Community Facilities",null,{"$f":"SA34b!C75","v":0},{"$f":"SA34b!D75","v":0},{"$f":"SA34b!E75","v":0},{"$f":"SA34b!F75","v":0},{"$f":"SA34b!G75","v":0},{"$f":"SA34b!H75","v":0},{"$f":"SA34b!I75","v":0},{"$f":"SA34b!J75","v":0},{"$f":"SA34b!K75","v":0}]
["Sport and Recreation Facilities",null,{"$f":"SA34b!C98","v":0},{"$f":"SA34b!D98","v":0},{"$f":"SA34b!E98","v":0},{"$f":"SA34b!F98","v":0},{"$f":"SA34b!G98","v":0},{"$f":"SA34b!H98","v":0},{"$f":"SA34b!I98","v":0},{"$f":"SA34b!J98","v":0},{"$f":"SA34b!K98","v":0}]
["Community Assets",null,{"$f":"SUM(C51:C52)","v":0},{"$f":"SUM(D51:D52)","v":0},0,0,0,0,0,0,0]
["Heritage Assets",null,{"$f":"SA34b!C103","v":0},{"$f":"SA34b!D103","v":0},{"$f":"SA34b!E103","v":0},{"$f":"SA34b!F103","v":0},{"$f":"SA34b!G103","v":0},{"$f":"SA34b!H103","v":0},{"$f":"SA34b!I103","v":0},{"$f":"SA34b!J103","v":0},{"$f":"SA34b!K103","v":0}]
["Revenue Generating",null,{"$f":"SA34b!C111","v":0},{"$f":"SA34b!D111","v":0},{"$f":"SA34b!E111","v":0},{"$f":"SA34b!F111","v":0},{"$f":"SA34b!G111","v":0},{"$f":"SA34b!H111","v":0},{"$f":"SA34b!I111","v":0},{"$f":"SA34b!J111","v":0},{"$f":"SA34b!K111","v":0}]
["Non-revenue Generating",null,{"$f":"SA34b!C114","v":0},{"$f":"SA34b!D114","v":0},{"$f":"SA34b!E114","v":0},{"$f":"SA34b!F114","v":0},{"$f":"SA34b!G114","v":0},{"$f":"SA34b!H114","v":0},{"$f":"SA34b!I114","v":0},{"$f":"SA34b!J114","v":0},{"$f":"SA34b!K114","v":0}]
["Investment properties",null,{"$f":"SUM(C55:C56)","v":0},{"$f":"SUM(D55:D56)","v":0},0,0,0,0,0,0,0]
["Operational Buildings",null,{"$f":"SA34b!C119","v":0},{"$f":"SA34b!D119","v":0},{"$f":"SA34b!E119","v":0},{"$f":"SA34b!F119","v":{"v":3873913,"d":"3,874"}},{"$f":"SA34b!G119","v":{"v":2373913,"d":"2,374"}},{"$f":"SA34b!H119","v":{"v":2373913,"d":"2,374"}},{"$f":"SA34b!I119","v":{"v":2000000,"d":"2,000"}},{"$f":"SA34b!J119","v":{"v":2080000,"d":"2,080"}},{"$f":"SA34b!K119","v":{"v":2146560,"d":"2,147"}}]
["Housing",null,{"$f":"SA34b!C131","v":0},{"$f":"SA34b!D131","v":0},{"$f":"SA34b!E131","v":0},{"$f":"SA34b!F131","v":0},{"$f":"SA34b!G131","v":0},{"$f":"SA34b!H131","v":0},{"$f":"SA34b!I131","v":0},{"$f":"SA34b!J131","v":0},{"$f":"SA34b!K131","v":0}]
["Other Assets",null,{"$f":"SUM(C58:C59)","v":0},{"$f":"SUM(D58:D59)","v":0},0,{"v":3873913,"d":"3,874"},{"v":2373913,"d":"2,374"},{"v":2373913,"d":"2,374"},{"v":2000000,"d":"2,000"},{"v":2080000,"d":"2,080"},{"v":2146560,"d":"2,147"}]
["Biological or Cultivated Assets",null,{"$f":"SA34b!C136","v":0},{"$f":"SA34b!D136","v":0},{"$f":"SA34b!E136","v":0},{"$f":"SA34b!F136","v":0},{"$f":"SA34b!G136","v":0},{"$f":"SA34b!H136","v":0},{"$f":"SA34b!I136","v":0},{"$f":"SA34b!J136","v":0},{"$f":"SA34b!K136","v":0}]
["Servitudes",null,{"$f":"SA34b!C140","v":0},{"$f":"SA34b!D140","v":0},{"$f":"SA34b!E140","v":0},{"$f":"SA34b!F140","v":0},{"$f":"SA34b!G140","v":0},{"$f":"SA34b!H140","v":0},{"$f":"SA34b!I140","v":0},{"$f":"SA34b!J140","v":0},{"$f":"SA34b!K140","v":0}]
["Licences and Rights",null,{"$f":"SA34b!C141","v":0},{"$f":"SA34b!D141","v":0},{"$f":"SA34b!E141","v":0},{"$f":"SA34b!F141","v":0},{"$f":"SA34b!G141","v":0},{"$f":"SA34b!H141","v":0},{"$f":"SA34b!I141","v":0},{"$f":"SA34b!J141","v":0},{"$f":"SA34b!K141","v":0}]
["Intangible Assets",null,{"$f":"SUM(C62:C63)","v":0},{"$f":"SUM(D62:D63)","v":0},0,0,0,0,0,0,0]
["Computer Equipment",null,{"$f":"SA34b!C149","v":0},{"$f":"SA34b!D149","v":0},{"$f":"SA34b!E149","v":0},{"$f":"SA34b!F149","v":0},{"$f":"SA34b!G149","v":0},{"$f":"SA34b!H149","v":0},{"$f":"SA34b!I149","v":0},{"$f":"SA34b!J149","v":0},{"$f":"SA34b!K149","v":0}]
["Furniture and Office Equipment",null,{"$f":"SA34b!C152","v":0},{"$f":"SA34b!D152","v":0},{"$f":"SA34b!E152","v":0},{"$f":"SA34b!F152","v":0},{"$f":"SA34b!G152","v":0},{"$f":"SA34b!H152","v":0},{"$f":"SA34b!I152","v":0},{"$f":"SA34b!J152","v":0},{"$f":"SA34b!K152","v":0}]
["Machinery and Equipment",null,{"$f":"SA34b!C155","v":0},{"$f":"SA34b!D155","v":0},{"$f":"SA34b!E155","v":0},{"$f":"SA34b!F155","v":0},{"$f":"SA34b!G155","v":0},{"$f":"SA34b!H155","v":0},{"$f":"SA34b!I155","v":0},{"$f":"SA34b!J155","v":0},{"$f":"SA34b!K155","v":0}]
["Transport Assets",null,{"$f":"SA34b!C158","v":{"v":6259054,"d":"6,259"}},{"$f":"SA34b!D158","v":{"v":2556858.13,"d":"2,557"}},{"$f":"SA34b!E158","v":{"v":6840557.7,"d":"6,841"}},{"$f":"SA34b!F158","v":{"v":8595310,"d":"8,595"}},{"$f":"SA34b!G158","v":{"v":14005607,"d":"14,006"}},{"$f":"SA34b!H158","v":{"v":14005607,"d":"14,006"}},{"$f":"SA34b!I158","v":{"v":3400180,"d":"3,400"}},{"$f":"SA34b!J158","v":{"v":3536188,"d":"3,536"}},{"$f":"SA34b!K158","v":{"v":7124438,"d":"7,124"}}]
["Land",null,{"$f":"SA34b!C161","v":0},{"$f":"SA34b!D161","v":0},{"$f":"SA34b!E161","v":0},{"$f":"SA34b!F161","v":0},{"$f":"SA34b!G161","v":0},{"$f":"SA34b!H161","v":0},{"$f":"SA34b!I161","v":0},{"$f":"SA34b!J161","v":0},{"$f":"SA34b!K161","v":0}]
["Zoo's, Marine and Non-biological Animals",null,{"$f":"SA34b!C164","v":0},{"$f":"SA34b!D164","v":0},{"$f":"SA34b!E164","v":0},{"$f":"SA34b!F164","v":0},{"$f":"SA34b!G164","v":0},{"$f":"SA34b!H164","v":0},{"$f":"SA34b!I164","v":0},{"$f":"SA34b!J164","v":0},{"$f":"SA34b!K164","v":0}]
["Mature"," ",{"$f":"SA34b!C168","v":0},{"$f":"SA34b!D168","v":0},{"$f":"SA34b!E168","v":0},{"$f":"SA34b!F168","v":0},{"$f":"SA34b!G168","v":0},{"$f":"SA34b!H168","v":0},{"$f":"SA34b!I168","v":0},{"$f":"SA34b!J168","v":0},{"$f":"SA34b!K168","v":0}]
["Immature"," ",{"$f":"SA34b!C171","v":0},{"$f":"SA34b!D171","v":0},{"$f":"SA34b!E171","v":0},{"$f":"SA34b!F171","v":0},{"$f":"SA34b!G171","v":0},{"$f":"SA34b!H171","v":0},{"$f":"SA34b!I171","v":0},{"$f":"SA34b!J171","v":0},{"$f":"SA34b!K171","v":0}]
["Living Resources","",{"$f":"SUM(C71:C72)","v":0},0,0,0,0,0,0,0,0]
[]
["Total Upgrading of Existing Assets",6,{"$f":"C85+C88+C89+C92+C95+C96+SUM(C99:C105)+C108","v":{"v":5593556.88,"d":"5,594"}},{"$f":"D85+D88+D89+D92+D95+D96+SUM(D99:D105)+D108","v":{"v":15131233.86,"d":"15,131"}},{"v":7591888.4399999995,"d":"7,592"},{"v":19553076,"d":"19,553"},{"v":15789408,"d":"15,789"},{"v":15789408,"d":"15,789"},{"v":63539951,"d":"63,540"},{"v":115449226,"d":"115,449"},{"v":138065653,"d":"138,066"}]
["Roads Infrastructure",null,{"$f":"SA34e!C7","v":0},{"$f":"SA34e!D7","v":0},{"$f":"SA34e!E7","v":0},{"$f":"SA34e!F7","v":0},{"$f":"SA34e!G7","v":0},{"$f":"SA34e!H7","v":0},{"$f":"SA34e!I7","v":0},{"$f":"SA34e!J7","v":0},{"$f":"SA34e!K7","v":0}]
["Storm water Infrastructure",null,{"$f":"SA34e!C12","v":0},{"$f":"SA34e!D12","v":0},{"$f":"SA34e!E12","v":0},{"$f":"SA34e!F12","v":0},{"$f":"SA34e!G12","v":0},{"$f":"SA34e!H12","v":0},{"$f":"SA34e!I12","v":0},{"$f":"SA34e!J12","v":0},{"$f":"SA34e!K12","v":0}]
["Electrical Infrastructure",null,{"$f":"SA34e!C16","v":0},{"$f":"SA34e!D16","v":0},{"$f":"SA34e!E16","v":0},{"$f":"SA34e!F16","v":0},{"$f":"SA34e!G16","v":0},{"$f":"SA34e!H16","v":0},{"$f":"SA34e!I16","v":0},{"$f":"SA34e!J16","v":0},{"$f":"SA34e!K16","v":0}]
["Water Supply Infrastructure",null,{"$f":"SA34e!C26","v":{"v":5593556.88,"d":"5,594"}},{"$f":"SA34e!D26","v":{"v":15131233.86,"d":"15,131"}},{"$f":"SA34e!E26","v":{"v":7591888.4399999995,"d":"7,592"}},{"$f":"SA34e!F26","v":{"v":17379165,"d":"17,379"}},{"$f":"SA34e!G26","v":{"v":9963866,"d":"9,964"}},{"$f":"SA34e!H26","v":{"v":9963866,"d":"9,964"}},{"$f":"SA34e!I26","v":{"v":43781347,"d":"43,781"}},{"$f":"SA34e!J26","v":{"v":58318277,"d":"58,318"}},{"$f":"SA34e!K26","v":{"v":85891738,"d":"85,892"}}]
["Sanitation Infrastructure",null,{"$f":"SA34e!C37","v":0},{"$f":"SA34e!D37","v":0},{"$f":"SA34e!E37","v":0},{"$f":"SA34e!F37","v":{"v":2173911,"d":"2,174"}},{"$f":"SA34e!G37","v":{"v":5825542,"d":"5,826"}},{"$f":"SA34e!H37","v":{"v":5825542,"d":"5,826"}},{"$f":"SA34e!I37","v":{"v":19758604,"d":"19,759"}},{"$f":"SA34e!J37","v":{"v":57130949,"d":"57,131"}},{"$f":"SA34e!K37","v":{"v":52173915,"d":"52,174"}}]
["Solid Waste Infrastructure",null,{"$f":"SA34e!C44","v":0},{"$f":"SA34e!D44","v":0},{"$f":"SA34e!E44","v":0},{"$f":"SA34e!F44","v":0},{"$f":"SA34e!G44","v":0},{"$f":"SA34e!H44","v":0},{"$f":"SA34e!I44","v":0},{"$f":"SA34e!J44","v":0},{"$f":"SA34e!K44","v":0}]
["Rail Infrastructure",null,{"$f":"SA34e!C52","v":0},{"$f":"SA34e!D52","v":0},{"$f":"SA34e!E52","v":0},{"$f":"SA34e!F52","v":0},{"$f":"SA34e!G52","v":0},{"$f":"SA34e!H52","v":0},{"$f":"SA34e!I52","v":0},{"$f":"SA34e!J52","v":0},{"$f":"SA34e!K52","v":0}]
["Coastal Infrastructure",null,{"$f":"SA34e!C62","v":0},{"$f":"SA34e!D62","v":0},{"$f":"SA34e!E62","v":0},{"$f":"SA34e!F62","v":0},{"$f":"SA34e!G62","v":0},{"$f":"SA34e!H62","v":0},{"$f":"SA34e!I62","v":0},{"$f":"SA34e!J62","v":0},{"$f":"SA34e!K62","v":0}]
["Information and Communication Infrastructure",null,{"$f":"SA34e!C68","v":0},{"$f":"SA34e!D68","v":0},{"$f":"SA34e!E68","v":0},{"$f":"SA34e!F68","v":0},{"$f":"SA34e!G68","v":0},{"$f":"SA34e!H68","v":0},{"$f":"SA34e!I68","v":0},{"$f":"SA34e!J68","v":0},{"$f":"SA34e!K68","v":0}]
["Infrastructure",null,{"$f":"SUM(C76:C84)","v":{"v":5593556.88,"d":"5,594"}},{"v":15131233.86,"d":"15,131"},{"v":7591888.4399999995,"d":"7,592"},{"v":19553076,"d":"19,553"},{"v":15789408,"d":"15,789"},{"v":15789408,"d":"15,789"},{"v":63539951,"d":"63,540"},{"v":115449226,"d":"115,449"},{"v":138065653,"d":"138,066"}]
["Community Facilities",null,{"$f":"SA34e!C75","v":0},{"$f":"SA34e!D75","v":0},{"$f":"SA34e!E75","v":0},{"$f":"SA34e!F75","v":0},{"$f":"SA34e!G75","v":0},{"$f":"SA34e!H75","v":0},{"$f":"SA34e!I75","v":0},{"$f":"SA34e!J75","v":0},{"$f":"SA34e!K75","v":0}]
["Sport and Recreation Facilities",null,{"$f":"SA34e!C98","v":0},{"$f":"SA34e!D98","v":0},{"$f":"SA34e!E98","v":0},{"$f":"SA34e!F98","v":0},{"$f":"SA34e!G98","v":0},{"$f":"SA34e!H98","v":0},{"$f":"SA34e!I98","v":0},{"$f":"SA34e!J98","v":0},{"$f":"SA34e!K98","v":0}]
["Community Assets",null,{"$f":"SUM(C86:C87)","v":0},0,0,0,0,0,0,0,0]
["Heritage Assets",null,{"$f":"SA34e!C103","v":0},{"$f":"SA34e!D103","v":0},{"$f":"SA34e!E103","v":0},{"$f":"SA34e!F103","v":0},{"$f":"SA34e!G103","v":0},{"$f":"SA34e!H103","v":0},{"$f":"SA34e!I103","v":0},{"$f":"SA34e!J103","v":0},{"$f":"SA34e!K103","v":0}]
["Revenue Generating",null,{"$f":"SA34e!C111","v":0},{"$f":"SA34e!D111","v":0},{"$f":"SA34e!E111","v":0},{"$f":"SA34e!F111","v":0},{"$f":"SA34e!G111","v":0},{"$f":"SA34e!H111","v":0},{"$f":"SA34e!I111","v":0},{"$f":"SA34e!J111","v":0},{"$f":"SA34e!K111","v":0}]
["Non-revenue Generating",null,{"$f":"SA34e!C114","v":0},{"$f":"SA34e!D114","v":0},{"$f":"SA34e!E114","v":0},{"$f":"SA34e!F114","v":0},{"$f":"SA34e!G114","v":0},{"$f":"SA34e!H114","v":0},{"$f":"SA34e!I114","v":0},{"$f":"SA34e!J114","v":0},{"$f":"SA34e!K114","v":0}]
["Investment properties",null,{"$f":"SUM(C90:C91)","v":0},0,0,0,0,0,0,0,0]
["Operational Buildings",null,{"$f":"SA34e!C119","v":0},{"$f":"SA34e!D119","v":0},{"$f":"SA34e!E119","v":0},{"$f":"SA34e!F119","v":0},{"$f":"SA34e!G119","v":0},{"$f":"SA34e!H119","v":0},{"$f":"SA34e!I119","v":0},{"$f":"SA34e!J119","v":0},{"$f":"SA34e!K119","v":0}]
["Housing",null,{"$f":"SA34e!C131","v":0},{"$f":"SA34e!D131","v":0},{"$f":"SA34e!E131","v":0},{"$f":"SA34e!F131","v":0},{"$f":"SA34e!G131","v":0},{"$f":"SA34e!H131","v":0},{"$f":"SA34e!I131","v":0},{"$f":"SA34e!J131","v":0},{"$f":"SA34e!K131","v":0}]
["Other Assets",null,{"$f":"SUM(C93:C94)","v":0},0,0,0,0,0,0,0,0]
["Biological or Cultivated Assets",null,{"$f":"SA34e!C136","v":0},{"$f":"SA34e!D136","v":0},{"$f":"SA34e!E136","v":0},{"$f":"SA34e!F136","v":0},{"$f":"SA34e!G136","v":0},{"$f":"SA34e!H136","v":0},{"$f":"SA34e!I136","v":0},{"$f":"SA34e!J136","v":0},{"$f":"SA34e!K136","v":0}]
["Servitudes",null,{"$f":"SA34e!C140","v":0},{"$f":"SA34e!D140","v":0},{"$f":"SA34e!E140","v":0},{"$f":"SA34e!F140","v":0},{"$f":"SA34e!G140","v":0},{"$f":"SA34e!H140","v":0},{"$f":"SA34e!I140","v":0},{"$f":"SA34e!J140","v":0},{"$f":"SA34e!K140","v":0}]
["Licences and Rights",null,{"$f":"SA34e!C141","v":0},{"$f":"SA34e!D141","v":0},{"$f":"SA34e!E141","v":0},{"$f":"SA34e!F141","v":0},{"$f":"SA34e!G141","v":0},{"$f":"SA34e!H141","v":0},{"$f":"SA34e!I141","v":0},{"$f":"SA34e!J141","v":0},{"$f":"SA34e!K141","v":0}]
["Intangible Assets",null,{"$f":"SUM(C97:C98)","v":0},0,0,0,0,0,0,0,0]
["Computer Equipment",null,{"$f":"SA34e!C149","v":0},{"$f":"SA34e!D149","v":0},{"$f":"SA34e!E149","v":0},{"$f":"SA34e!F149","v":0},{"$f":"SA34e!G149","v":0},{"$f":"SA34e!H149","v":0},{"$f":"SA34e!I149","v":0},{"$f":"SA34e!J149","v":0},{"$f":"SA34e!K149","v":0}]
["Furniture and Office Equipment",null,{"$f":"SA34e!C152","v":0},{"$f":"SA34e!D152","v":0},{"$f":"SA34e!E152","v":0},{"$f":"SA34e!F152","v":0},{"$f":"SA34e!G152","v":0},{"$f":"SA34e!H152","v":0},{"$f":"SA34e!I152","v":0},{"$f":"SA34e!J152","v":0},{"$f":"SA34e!K152","v":0}]
["Machinery and Equipment",null,{"$f":"SA34e!C155","v":0},{"$f":"SA34e!D155","v":0},{"$f":"SA34e!E155","v":0},{"$f":"SA34e!F155","v":0},{"$f":"SA34e!G155","v":0},{"$f":"SA34e!H155","v":0},{"$f":"SA34e!I155","v":0},{"$f":"SA34e!J155","v":0},{"$f":"SA34e!K155","v":0}]
["Transport Assets",null,{"$f":"SA34e!C158","v":0},{"$f":"SA34e!D158","v":0},{"$f":"SA34e!E158","v":0},{"$f":"SA34e!F158","v":0},{"$f":"SA34e!G158","v":0},{"$f":"SA34e!H158","v":0},{"$f":"SA34e!I158","v":0},{"$f":"SA34e!J158","v":0},{"$f":"SA34e!K158","v":0}]
["Land",null,{"$f":"SA34e!C161","v":0},{"$f":"SA34e!D161","v":0},{"$f":"SA34e!E161","v":0},{"$f":"SA34e!F161","v":0},{"$f":"SA34e!G161","v":0},{"$f":"SA34e!H161","v":0},{"$f":"SA34e!I161","v":0},{"$f":"SA34e!J161","v":0},{"$f":"SA34e!K161","v":0}]
["Zoo's, Marine and Non-biological Animals",null,{"$f":"SA34e!C164","v":0},{"$f":"SA34e!D164","v":0},{"$f":"SA34e!E164","v":0},{"$f":"SA34e!F164","v":0},{"$f":"SA34e!G164","v":0},{"$f":"SA34e!H164","v":0},{"$f":"SA34e!I164","v":0},{"$f":"SA34e!J164","v":0},{"$f":"SA34e!K164","v":0}]
["Mature"," ",{"$f":"SA34e!C168","v":0},{"$f":"SA34e!D168","v":0},{"$f":"SA34e!E168","v":0},{"$f":"SA34e!F168","v":0},{"$f":"SA34e!G168","v":0},{"$f":"SA34e!H168","v":0},{"$f":"SA34e!I168","v":0},{"$f":"SA34e!J168","v":0},{"$f":"SA34e!K168","v":0}]
["Immature"," ",{"$f":"SA34b!C171","v":0},{"$f":"SA34b!D171","v":0},{"$f":"SA34b!E171","v":0},{"$f":"SA34b!F171","v":0},{"$f":"SA34b!G171","v":0},{"$f":"SA34b!H171","v":0},{"$f":"SA34b!I171","v":0},{"$f":"SA34b!J171","v":0},{"$f":"SA34b!K171","v":0}]
["Living Resources","",{"$f":"SUM(C106:C107)","v":0},{"$f":"SUM(D106:D107)","v":0},0,0,0,0,0,0,0]
[]
["Total Capital Expenditure",4,{"$f":"+C5+C40+C75","v":{"v":269117647.09999996,"d":"269,118"}},{"$f":"+D5+D40+D75","v":{"v":309603501.54,"d":"309,604"}},{"v":349074824.23999995,"d":"349,075"},{"v":302059735,"d":"302,060"},{"v":331597210,"d":"331,597"},{"v":331597210,"d":"331,597"},{"v":329348915,"d":"329,349"},{"v":383718534,"d":"383,719"},{"v":383591807,"d":"383,592"}]
["Roads Infrastructure",null,{"$f":"+C6+C41+C76","v":0},0,0,0,0,0,0,0,0]
["Storm water Infrastructure",null,{"$f":"+C7+C42+C77","v":0},0,0,0,0,0,0,0,0]
["Electrical Infrastructure",null,{"$f":"+C8+C43+C78","v":0},0,0,0,0,0,0,0,0]
["Water Supply Infrastructure",null,{"$f":"+C9+C44+C79","v":{"v":208920841.95999998,"d":"208,921"}},{"v":236539162.31,"d":"236,539"},{"v":309237537.23,"d":"309,238"},{"v":265053570,"d":"265,054"},{"v":280904506,"d":"280,905"},{"v":280904506,"d":"280,905"},{"v":277862274,"d":"277,862"},{"v":303236441,"d":"303,236"},{"v":303067682,"d":"303,068"}]
["Sanitation Infrastructure",null,{"$f":"+C10+C45+C80","v":{"v":44534434.7,"d":"44,534"}},{"v":64965179.07,"d":"64,965"},{"v":21713230.76,"d":"21,713"},{"v":4173909,"d":"4,174"},{"v":13707365,"d":"13,707"},{"v":13707365,"d":"13,707"},{"v":28889039,"d":"28,889"},{"v":57130949,"d":"57,131"},{"v":52173915,"d":"52,174"}]
["Solid Waste Infrastructure",null,{"$f":"+C11+C46+C81","v":0},0,0,0,0,0,0,0,0]
["Rail Infrastructure",null,{"$f":"+C12+C47+C82","v":0},0,0,0,0,0,0,0,0]
["Coastal Infrastructure",null,{"$f":"+C13+C48+C83","v":0},0,0,0,0,0,0,0,0]
["Information and Communication Infrastructure",null,{"$f":"+C14+C49+C84","v":0},0,0,0,0,0,0,0,0]
["Infrastructure",null,{"$f":"SUM(C111:C119)","v":{"v":253455276.65999997,"d":"253,455"}},{"$f":"SUM(D111:D119)","v":{"v":301504341.38,"d":"301,504"}},{"v":330950767.99,"d":"330,951"},{"v":269227479,"d":"269,227"},{"v":294611871,"d":"294,612"},{"v":294611871,"d":"294,612"},{"v":306751313,"d":"306,751"},{"v":360367390,"d":"360,367"},{"v":355241597,"d":"355,242"}]
["Community Facilities",null,{"$f":"+C16+C51+C86","v":0},0,0,0,0,0,0,0,0]
["Sport and Recreation Facilities",null,{"$f":"+C17+C52+C87","v":0},0,0,0,0,0,0,0,0]
["Community Assets",null,{"$f":"SUM(C121:C122)","v":0},{"$f":"SUM(D121:D122)","v":0},0,0,0,0,0,0,0]
["Heritage Assets",null,{"$f":"+C19+C54+C89","v":0},0,0,0,0,0,0,0,0]
["Revenue Generating",null,{"$f":"+C20+C55+C90","v":0},0,0,0,0,0,0,0,0]
["Non-revenue Generating",null,{"$f":"+C21+C56+C91","v":0},0,0,0,0,0,0,0,0]
["Investment properties",null,{"$f":"SUM(C125:C126)","v":0},{"$f":"SUM(D125:D126)","v":0},0,0,0,0,0,0,0]
["Operational Buildings",null,{"$f":"+C23+C58+C93","v":0},0,{"v":1267779.08,"d":"1,268"},{"v":10775211,"d":"10,775"},{"v":8359329,"d":"8,359"},{"v":8359329,"d":"8,359"},{"v":5221581,"d":"5,222"},{"v":5409021,"d":"5,409"},{"v":7222905,"d":"7,223"}]
["Housing",null,{"$f":"+C24+C59+C94","v":0},0,{"v":1042173.88,"d":"1,042"},{"v":2000000,"d":"2,000"},{"v":1000000,"d":"1,000"},{"v":1000000,"d":"1,000"},{"v":1040000,"d":"1,040"},{"v":1081600,"d":"1,082"},{"v":1116212,"d":"1,116"}]
["Other Assets",null,{"$f":"SUM(C128:C129)","v":0},0,{"v":2309952.96,"d":"2,310"},{"v":12775211,"d":"12,775"},{"v":9359329,"d":"9,359"},{"v":9359329,"d":"9,359"},{"v":6261581,"d":"6,262"},{"v":6490621,"d":"6,491"},{"v":8339117,"d":"8,339"}]
["Biological or Cultivated Assets",null,{"$f":"+C26+C61+C96","v":0},0,0,0,0,0,0,0,0]
["Servitudes",null,{"$f":"+C27+C62+C97","v":0},0,0,0,0,0,0,0,0]
["Licences and Rights",null,{"$f":"+C28+C63+C98","v":{"v":269950,"d":"270"}},0,0,{"v":954545,"d":"955"},{"v":954545,"d":"955"},{"v":954545,"d":"955"},{"v":2389227,"d":"2,389"},{"v":2484796,"d":"2,485"},{"v":2568608,"d":"2,569"}]
["Intangible Assets",null,{"$f":"SUM(C132:C133)","v":{"v":269950,"d":"270"}},{"$f":"SUM(D132:D133)","v":0},0,{"v":954545,"d":"955"},{"v":954545,"d":"955"},{"v":954545,"d":"955"},{"v":2389227,"d":"2,389"},{"v":2484796,"d":"2,485"},{"v":2568608,"d":"2,569"}]
["Computer Equipment",null,{"$f":"+C30+C65+C100","v":{"v":410050,"d":"410"}},{"v":943411.62,"d":"943"},{"v":2028817.04,"d":"2,029"},{"v":2859090,"d":"2,859"},{"v":2872570,"d":"2,873"},{"v":2872570,"d":"2,873"},{"v":5235590,"d":"5,236"},{"v":5320214,"d":"5,320"},{"v":2758684,"d":"2,759"}]
["Furniture and Office Equipment",null,{"$f":"+C31+C66+C101","v":{"v":1293099.15,"d":"1,293"}},{"v":2306194.72,"d":"2,306"},{"v":2177507.68,"d":"2,178"},{"v":5288090,"d":"5,288"},{"v":5608029,"d":"5,608"},{"v":5608029,"d":"5,608"},{"v":3242068,"d":"3,242"},{"v":3367610,"d":"3,368"},{"v":4692118,"d":"4,692"}]
["Machinery and Equipment",null,{"$f":"+C32+C67+C102","v":{"v":7430217.29,"d":"7,430"}},{"v":1306456.55,"d":"1,306"},{"v":4767220.87,"d":"4,767"},{"v":2360010,"d":"2,360"},{"v":4185259,"d":"4,185"},{"v":4185259,"d":"4,185"},{"v":2068956,"d":"2,069"},{"v":2151715,"d":"2,152"},{"v":2867245,"d":"2,867"}]
["Transport Assets",null,{"$f":"+C33+C68+C103","v":{"v":6259054,"d":"6,259"}},{"v":3543097.27,"d":"3,543"},{"v":6840557.7,"d":"6,841"},{"v":8595310,"d":"8,595"},{"v":14005607,"d":"14,006"},{"v":14005607,"d":"14,006"},{"v":3400180,"d":"3,400"},{"v":3536188,"d":"3,536"},{"v":7124438,"d":"7,124"}]
["Land",null,{"$f":"+C34+C69+C104","v":0},0,0,0,0,0,0,0,0]
["Zoo's, Marine and Non-biological Animals",null,{"$f":"+C35+C70+C105","v":0},0,0,0,0,0,0,0,0]
["Mature"," ",{"$f":"+C36+C71+C106","v":0},{"$f":"+D36+D71+D106","v":0},0,0,0,0,0,0,0]
["Immature"," ",{"$f":"+C37+C72+C107","v":0},{"$f":"+D37+D72+D107","v":0},0,0,0,0,0,0,0]
["Living Resources","",{"$f":"SUM(C141:C142)","v":0},0,0,0,0,0,0,0,0]
["TOTAL CAPITAL EXPENDITURE - Asset class",null,{"$f":"+C5+C40+C75","v":{"v":269117647.09999996,"d":"269,118"}},{"$f":"+D5+D40+D75","v":{"v":309603501.54,"d":"309,604"}},{"v":349074824.23999995,"d":"349,075"},{"v":302059735,"d":"302,060"},{"v":331597210,"d":"331,597"},{"v":331597210,"d":"331,597"},{"v":329348915,"d":"329,349"},{"v":383718534,"d":"383,719"},{"v":383591807,"d":"383,592"}]
[]
["ASSET REGISTER SUMMARY - PPE (WDV)",5,{"$f":"C156+C159+C160+C163+C166+C167+C170+C171+C172+C173+C174+C175+C176+C179","v":{"v":2209283035.5499997,"d":"2,209,283"}},{"$f":"D156+D159+D160+D163+D166+D167+D170+D171+D172+D173+D174+D175+D176+D179","v":{"v":2357653720.1200004,"d":"2,357,654"}},{"v":2562533921.4700007,"d":"2,562,534"},{"v":2806918884,"d":"2,806,919"},{"v":2788088619,"d":"2,788,089"},{"v":2788088619,"d":"2,788,089"},{"v":3049590091,"d":"3,049,590"},{"v":3351262449,"d":"3,351,262"},{"v":3652886958,"d":"3,652,887"}]
["Roads Infrastructure",null,{"v":188375.86,"d":"188"},{"v":184181.97,"d":"184"},{"v":179988.07,"d":"180"},{"v":179550,"d":"180"},{"v":179988,"d":"180"},{"v":179988,"d":"180"},{"v":179988,"d":"180"},{"v":179988,"d":"180"},{"v":179988,"d":"180"}]
["Storm water Infrastructure"]
["Electrical Infrastructure",null,{"v":7585551.39,"d":"7,586"},{"v":5805745.59,"d":"5,806"},{"v":4321068.05,"d":"4,321"},{"v":2257485,"d":"2,257"},{"v":2495264,"d":"2,495"},{"v":2495264,"d":"2,495"},{"v":596429,"d":"596"},{"v":115933,"d":"116"},{"v":115934,"d":"116"}]
["Water Supply Infrastructure",null,{"v":1946095182.56,"d":"1,946,095"},{"v":2093781466.91,"d":"2,093,781"},{"v":2244277880.86,"d":"2,244,278"},{"v":2504815239,"d":"2,504,815"},{"v":2445927764,"d":"2,445,928"},{"v":2445927764,"d":"2,445,928"},{"v":2692049248,"d":"2,692,049"},{"v":2989815067,"d":"2,989,815"},{"v":3316805858,"d":"3,316,806"}]
["Sanitation Infrastructure",null,{"v":190739204.56,"d":"190,739"},{"v":195156017.07,"d":"195,156"},{"v":249733110.39,"d":"249,733"},{"v":209400771,"d":"209,401"},{"v":255434010,"d":"255,434"},{"v":255434010,"d":"255,434"},{"v":272718787,"d":"272,719"},{"v":292633975,"d":"292,634"},{"v":279075438,"d":"279,075"}]
["Solid Waste Infrastructure"]
["Rail Infrastructure"]
["Coastal Infrastructure"]
["Information and Communication Infrastructure",null,{"v":296269.82,"d":"296"},{"v":224157.44,"d":"224"},{"v":159978.55,"d":"160"},{"v":692957,"d":"693"},{"v":118545,"d":"119"},{"v":118545,"d":"119"},{"v":312307,"d":"312"},{"v":310885,"d":"311"},{"v":309461,"d":"309"}]
["Infrastructure",null,{"$f":"SUM(C147:C155)","v":{"v":2144904584.1899998,"d":"2,144,905"}},{"$f":"SUM(D147:D155)","v":{"v":2295151568.98,"d":"2,295,152"}},{"v":2498672025.92,"d":"2,498,672"},{"v":2717346002,"d":"2,717,346"},{"v":2704155571,"d":"2,704,156"},{"v":2704155571,"d":"2,704,156"},{"v":2965856759,"d":"2,965,857"},{"v":3283055848,"d":"3,283,056"},{"v":3596486679,"d":"3,596,487"}]
[]
[]
["Community Assets",null,{"v":1758948.38,"d":"1,759"},{"v":1519675.59,"d":"1,520"},{"v":1435679.83,"d":"1,436"},{"v":1379612,"d":"1,380"},{"v":1432490,"d":"1,432"},{"v":1432490,"d":"1,432"},{"v":1093295,"d":"1,093"},{"v":1093295,"d":"1,093"},{"v":1093295,"d":"1,093"}]
["Heritage Assets"]
[]
[]
["Investment properties",null,0,0,0,0,0,0,0,0,0]
[]
[]
["Other Assets",null,{"v":36371533.74,"d":"36,372"},{"v":35178284.65,"d":"35,178"},{"v":33985035.54,"d":"33,985"},{"v":48780624,"d":"48,781"},{"v":41817732,"d":"41,818"},{"v":41817732,"d":"41,818"},{"v":42884526,"d":"42,885"},{"v":43066353,"d":"43,066"},{"v":44867527,"d":"44,868"}]
["Biological or Cultivated Assets"]
[]
[]
["Intangible Assets",null,{"v":515454.91,"d":"515"},{"v":313462.08,"d":"313"},{"v":295680.3,"d":"296"},{"v":2827361,"d":"2,827"},{"v":1250224,"d":"1,250"},{"v":1250224,"d":"1,250"},{"v":2684906,"d":"2,685"},{"v":2780475,"d":"2,780"},{"v":2864287,"d":"2,864"}]
["Computer Equipment",null,{"v":4391806.38,"d":"4,392"},{"v":3660206.26,"d":"3,660"},{"v":5076870.51,"d":"5,077"},{"v":4810767,"d":"4,811"},{"v":4965476,"d":"4,965"},{"v":4965476,"d":"4,965"},{"v":6866961,"d":"6,867"},{"v":3463667,"d":"3,464"},{"v":-2696943,"d":"(2,697)"}]
["Furniture and Office Equipment",null,{"v":1738561,"d":"1,739"},{"v":3342426.61,"d":"3,342"},{"v":3570290,"d":"3,570"},{"v":15783737,"d":"15,784"},{"v":9429804,"d":"9,430"},{"v":9429804,"d":"9,430"},{"v":14653655,"d":"14,654"},{"v":13883360,"d":"13,883"},{"v":14278179,"d":"14,278"}]
["Machinery and Equipment",null,{"v":1771644.22,"d":"1,772"},{"v":2449472.49,"d":"2,449"},{"v":3166583.57,"d":"3,167"},{"v":8685022,"d":"8,685"},{"v":6723599,"d":"6,724"},{"v":6723599,"d":"6,724"},{"v":5845777,"d":"5,846"},{"v":5156428,"d":"5,156"},{"v":5074328,"d":"5,074"}]
["Transport Assets",null,{"v":17830502.73,"d":"17,831"},{"v":16038623.46,"d":"16,039"},{"v":16331755.8,"d":"16,332"},{"v":7305759,"d":"7,306"},{"v":18313723,"d":"18,314"},{"v":18313723,"d":"18,314"},{"v":9704212,"d":"9,704"},{"v":-1236977,"d":"(1,237)"},{"v":-9080394,"d":"(9,080)"}]
["Land"]
["Zoo's, Marine and Non-biological Animals"]
[]
[]
["Living Resources"]
["TOTAL ASSET REGISTER SUMMARY - PPE (WDV)",5,{"$f":"C156+C159+C160+C163+C166+C167+C170+C171+C172+C173+C174+C175+C176+C179","v":{"v":2209283035.5499997,"d":"2,209,283"}},{"$f":"D156+D159+D160+D163+D166+D167+D170+D171+D172+D173+D174+D175+D176+D179","v":{"v":2357653720.1200004,"d":"2,357,654"}},{"v":2562533921.4700007,"d":"2,562,534"},{"$f":"F156+F159+F160+F163+F166+F167+F170+F171+F172+F173+F174+F175+F176+F179","v":{"v":2806918884,"d":"2,806,919"}},{"$f":"G156+G159+G160+G163+G166+G167+G170+G171+G172+G173+G174+G175+G176+G179","v":{"v":2788088619,"d":"2,788,089"}},{"v":2788088619,"d":"2,788,089"},{"v":3049590091,"d":"3,049,590"},{"v":3351262449,"d":"3,351,262"},{"v":3652886958,"d":"3,652,887"}]
[]
["EXPENDITURE OTHER ITEMS",null,{"$f":"SUM(C183:C184)","v":{"v":145530598.15000004,"d":"145,531"}},{"$f":"SUM(D183:D184)","v":{"v":280711601.96000004,"d":"280,712"}},{"v":156783425.64999998,"d":"156,783"},{"v":152979864,"d":"152,980"},{"v":155033912,"d":"155,034"},{"v":155033912,"d":"155,034"},{"v":145644616,"d":"145,645"},{"v":150456345,"d":"150,456"},{"v":155277434,"d":"155,277"}]
["Depreciation",7,{"$f":"SA34d!C175","v":{"v":93063085.03000003,"d":"93,063"}},{"$f":"SA34d!D175","v":{"v":236930110.17000005,"d":"236,930"}},{"$f":"SA34d!E175","v":{"v":116317072.97,"d":"116,317"}},{"$f":"SA34d!F175","v":{"v":107788020,"d":"107,788"}},{"$f":"SA34d!G175","v":{"v":107788020,"d":"107,788"}},{"$f":"SA34d!H175","v":{"v":107788020,"d":"107,788"}},{"$f":"SA34d!I175","v":{"v":114839336,"d":"114,839"}},{"$f":"SA34d!J175","v":{"v":118634451,"d":"118,634"}},{"$f":"SA34d!K175","v":{"v":122437196,"d":"122,437"}}]
["Repairs and Maintenance by Asset Class",3,{"$f":"C194+C197+C198+C201+C204+C205+SUM(C208:C214)+C217","v":{"v":52467513.120000005,"d":"52,468"}},{"$f":"D194+D197+D198+D201+D204+D205+SUM(D208:D214)+D217","v":{"v":43781491.78999999,"d":"43,781"}},{"v":40466352.67999999,"d":"40,466"},{"v":45191844,"d":"45,192"},{"v":47245892,"d":"47,246"},{"v":47245892,"d":"47,246"},{"v":30805280,"d":"30,805"},{"v":31821894,"d":"31,822"},{"v":32840238,"d":"32,840"}]
["Roads Infrastructure",null,{"$f":"SA34c!C7","v":0},{"$f":"SA34c!D7","v":0},{"$f":"SA34c!E7","v":0},{"$f":"SA34c!F7","v":0},{"$f":"SA34c!G7","v":0},{"$f":"SA34c!H7","v":0},{"$f":"SA34c!I7","v":0},{"$f":"SA34c!J7","v":0},{"$f":"SA34c!K7","v":0}]
["Storm water Infrastructure",null,{"$f":"SA34c!C12","v":0},{"$f":"SA34c!D12","v":0},{"$f":"SA34c!E12","v":0},{"$f":"SA34c!F12","v":0},{"$f":"SA34c!G12","v":0},{"$f":"SA34c!H12","v":0},{"$f":"SA34c!I12","v":0},{"$f":"SA34c!J12","v":0},{"$f":"SA34c!K12","v":0}]
["Electrical Infrastructure",null,{"$f":"SA34c!C16","v":0},{"$f":"SA34c!D16","v":0},{"$f":"SA34c!E16","v":0},{"$f":"SA34c!F16","v":0},{"$f":"SA34c!G16","v":0},{"$f":"SA34c!H16","v":0},{"$f":"SA34c!I16","v":0},{"$f":"SA34c!J16","v":0},{"$f":"SA34c!K16","v":0}]
["Water Supply Infrastructure",null,{"$f":"SA34c!C26","v":{"v":45120199.33,"d":"45,120"}},{"$f":"SA34c!D26","v":{"v":39357069.37,"d":"39,357"}},{"$f":"SA34c!E26","v":{"v":35931534.339999996,"d":"35,932"}},{"$f":"SA34c!F26","v":{"v":40240907,"d":"40,241"}},{"$f":"SA34c!G26","v":{"v":45015588,"d":"45,016"}},{"$f":"SA34c!H26","v":{"v":45015588,"d":"45,016"}},{"$f":"SA34c!I26","v":{"v":28412815,"d":"28,413"}},{"$f":"SA34c!J26","v":{"v":29350438,"d":"29,350"}},{"$f":"SA34c!K26","v":{"v":30289651,"d":"30,290"}}]
["Sanitation Infrastructure",null,{"$f":"SA34c!C37","v":0},{"$f":"SA34c!D37","v":0},{"$f":"SA34c!E37","v":0},{"$f":"SA34c!F37","v":0},{"$f":"SA34c!G37","v":0},{"$f":"SA34c!H37","v":0},{"$f":"SA34c!I37","v":0},{"$f":"SA34c!J37","v":0},{"$f":"SA34c!K37","v":0}]
["Solid Waste Infrastructure",null,{"$f":"SA34c!C44","v":0},{"$f":"SA34c!D44","v":0},{"$f":"SA34c!E44","v":0},{"$f":"SA34c!F44","v":0},{"$f":"SA34c!G44","v":0},{"$f":"SA34c!H44","v":0},{"$f":"SA34c!I44","v":0},{"$f":"SA34c!J44","v":0},{"$f":"SA34c!K44","v":0}]
["Rail Infrastructure",null,{"$f":"SA34c!C52","v":0},{"$f":"SA34c!D52","v":0},{"$f":"SA34c!E52","v":0},{"$f":"SA34c!F52","v":0},{"$f":"SA34c!G52","v":0},{"$f":"SA34c!H52","v":0},{"$f":"SA34c!I52","v":0},{"$f":"SA34c!J52","v":0},{"$f":"SA34c!K52","v":0}]
["Coastal Infrastructure",null,{"$f":"SA34c!C62","v":0},{"$f":"SA34c!D62","v":0},{"$f":"SA34c!E62","v":0},{"$f":"SA34c!F62","v":0},{"$f":"SA34c!G62","v":0},{"$f":"SA34c!H62","v":0},{"$f":"SA34c!I62","v":0},{"$f":"SA34c!J62","v":0},{"$f":"SA34c!K62","v":0}]
["Information and Communication Infrastructure",null,{"$f":"SA34c!C68","v":0},{"$f":"SA34c!D68","v":0},{"$f":"SA34c!E68","v":0},{"$f":"SA34c!F68","v":0},{"$f":"SA34c!G68","v":0},{"$f":"SA34c!H68","v":0},{"$f":"SA34c!I68","v":0},{"$f":"SA34c!J68","v":0},{"$f":"SA34c!K68","v":0}]
["Infrastructure",null,{"$f":"SUM(C185:C193)","v":{"v":45120199.33,"d":"45,120"}},{"$f":"SUM(D185:D193)","v":{"v":39357069.37,"d":"39,357"}},{"v":35931534.339999996,"d":"35,932"},{"v":40240907,"d":"40,241"},{"v":45015588,"d":"45,016"},{"v":45015588,"d":"45,016"},{"v":28412815,"d":"28,413"},{"v":29350438,"d":"29,350"},{"v":30289651,"d":"30,290"}]
["Community Facilities",null,{"$f":"SA34c!C75","v":0},{"$f":"SA34c!D75","v":0},{"$f":"SA34c!E75","v":0},{"$f":"SA34c!F75","v":0},{"$f":"SA34c!G75","v":0},{"$f":"SA34c!H75","v":0},{"$f":"SA34c!I75","v":0},{"$f":"SA34c!J75","v":0},{"$f":"SA34c!K75","v":0}]
["Sport and Recreation Facilities",null,{"$f":"SA34c!C98","v":{"v":62765,"d":"63"}},{"$f":"SA34c!D98","v":{"v":87208.8,"d":"87"}},{"$f":"SA34c!E98","v":{"v":76795,"d":"77"}},{"$f":"SA34c!F98","v":{"v":272727,"d":"273"}},{"$f":"SA34c!G98","v":{"v":169600,"d":"170"}},{"$f":"SA34c!H98","v":{"v":169600,"d":"170"}},{"$f":"SA34c!I98","v":{"v":250000,"d":"250"}},{"$f":"SA34c!J98","v":{"v":258250,"d":"258"}},{"$f":"SA34c!K98","v":{"v":266514,"d":"267"}}]
["Community Assets",null,{"$f":"SUM(C195:C196)","v":{"v":62765,"d":"63"}},{"v":87208.8,"d":"87"},{"v":76795,"d":"77"},{"v":272727,"d":"273"},{"v":169600,"d":"170"},{"v":169600,"d":"170"},{"v":250000,"d":"250"},{"v":258250,"d":"258"},{"v":266514,"d":"267"}]
["Heritage Assets",null,{"$f":"SA34c!C103","v":0},{"$f":"SA34c!D103","v":0},{"$f":"SA34c!E103","v":0},{"$f":"SA34c!F103","v":0},{"$f":"SA34c!G103","v":0},{"$f":"SA34c!H103","v":0},{"$f":"SA34c!I103","v":0},{"$f":"SA34c!J103","v":0},{"$f":"SA34c!K103","v":0}]
["Revenue Generating",null,{"$f":"SA34c!C111","v":0},{"$f":"SA34c!D111","v":0},{"$f":"SA34c!E111","v":0},{"$f":"SA34c!F111","v":0},{"$f":"SA34c!G111","v":0},{"$f":"SA34c!H111","v":0},{"$f":"SA34c!I111","v":0},{"$f":"SA34c!J111","v":0},{"$f":"SA34c!K111","v":0}]
["Non-revenue Generating",null,{"$f":"SA34c!C114","v":0},{"$f":"SA34c!D114","v":0},{"$f":"SA34c!E114","v":0},{"$f":"SA34c!F114","v":0},{"$f":"SA34c!G114","v":0},{"$f":"SA34c!H114","v":0},{"$f":"SA34c!I114","v":0},{"$f":"SA34c!J114","v":0},{"$f":"SA34c!K114","v":0}]
["Investment properties",null,{"$f":"SUM(C199:C200)","v":0},0,0,0,0,0,0,0,0]
["Operational Buildings",null,{"$f":"SA34c!C119","v":{"v":4007602.84,"d":"4,008"}},{"$f":"SA34c!D119","v":{"v":4272263.62,"d":"4,272"}},{"$f":"SA34c!E119","v":{"v":3939174.72,"d":"3,939"}},{"$f":"SA34c!F119","v":{"v":4269230,"d":"4,269"}},{"$f":"SA34c!G119","v":{"v":1838276,"d":"1,838"}},{"$f":"SA34c!H119","v":{"v":1838276,"d":"1,838"}},{"$f":"SA34c!I119","v":{"v":1911807,"d":"1,912"}},{"$f":"SA34c!J119","v":{"v":1974935,"d":"1,975"}},{"$f":"SA34c!K119","v":{"v":2038178,"d":"2,038"}}]
["Housing",null,{"$f":"SA34c!C131","v":0},{"$f":"SA34c!D131","v":0},{"$f":"SA34c!E131","v":0},{"$f":"SA34c!F131","v":0},{"$f":"SA34c!G131","v":0},{"$f":"SA34c!H131","v":0},{"$f":"SA34c!I131","v":0},{"$f":"SA34c!J131","v":0},{"$f":"SA34c!K131","v":0}]
["Other Assets",null,{"$f":"SUM(C202:C203)","v":{"v":4007602.84,"d":"4,008"}},{"v":4272263.62,"d":"4,272"},{"v":3939174.72,"d":"3,939"},{"v":4269230,"d":"4,269"},{"v":1838276,"d":"1,838"},{"v":1838276,"d":"1,838"},{"v":1911807,"d":"1,912"},{"v":1974935,"d":"1,975"},{"v":2038178,"d":"2,038"}]
["Biological or Cultivated Assets",null,{"$f":"SA34c!C136","v":0},{"$f":"SA34c!D136","v":0},{"$f":"SA34c!E136","v":0},{"$f":"SA34c!F136","v":0},{"$f":"SA34c!G136","v":0},{"$f":"SA34c!H136","v":0},{"$f":"SA34c!I136","v":0},{"$f":"SA34c!J136","v":0},{"$f":"SA34c!K136","v":0}]
["Servitudes",null,{"$f":"SA34c!C140","v":0},{"$f":"SA34c!D140","v":0},{"$f":"SA34c!E140","v":0},{"$f":"SA34c!F140","v":0},{"$f":"SA34c!G140","v":0},{"$f":"SA34c!H140","v":0},{"$f":"SA34c!I140","v":0},{"$f":"SA34c!J140","v":0},{"$f":"SA34c!K140","v":0}]
["Licences and Rights",null,{"$f":"SA34c!C141","v":0},{"$f":"SA34c!D141","v":0},{"$f":"SA34c!E141","v":0},{"$f":"SA34c!F141","v":0},{"$f":"SA34c!G141","v":0},{"$f":"SA34c!H141","v":0},{"$f":"SA34c!I141","v":0},{"$f":"SA34c!J141","v":0},{"$f":"SA34c!K141","v":0}]
["Intangible Assets",null,{"$f":"SUM(C206:C207)","v":0},0,0,0,0,0,0,0,0]
["Computer Equipment",null,{"$f":"SA34c!C149","v":{"v":17487.9,"d":"17"}},{"$f":"SA34c!D149","v":{"v":15900,"d":"16"}},{"$f":"SA34c!E149","v":{"v":40832.22,"d":"41"}},{"$f":"SA34c!F149","v":{"v":76799,"d":"77"}},{"$f":"SA34c!G149","v":{"v":62345,"d":"62"}},{"$f":"SA34c!H149","v":{"v":62345,"d":"62"}},{"$f":"SA34c!I149","v":{"v":64652,"d":"65"}},{"$f":"SA34c!J149","v":{"v":66786,"d":"67"}},{"$f":"SA34c!K149","v":{"v":68923,"d":"69"}}]
["Furniture and Office Equipment",null,{"$f":"SA34c!C152","v":0},{"$f":"SA34c!D152","v":0},{"$f":"SA34c!E152","v":0},{"$f":"SA34c!F152","v":0},{"$f":"SA34c!G152","v":0},{"$f":"SA34c!H152","v":0},{"$f":"SA34c!I152","v":0},{"$f":"SA34c!J152","v":0},{"$f":"SA34c!K152","v":0}]
["Machinery and Equipment",null,{"$f":"SA34c!C155","v":{"v":3055050,"d":"3,055"}},{"$f":"SA34c!D155","v":0},{"$f":"SA34c!E155","v":0},{"$f":"SA34c!F155","v":0},{"$f":"SA34c!G155","v":0},{"$f":"SA34c!H155","v":0},{"$f":"SA34c!I155","v":0},{"$f":"SA34c!J155","v":0},{"$f":"SA34c!K155","v":0}]
["Transport Assets",null,{"$f":"SA34c!C158","v":{"v":204408.05,"d":"204"}},{"$f":"SA34c!D158","v":{"v":49050,"d":"49"}},{"$f":"SA34c!E158","v":{"v":478016.4,"d":"478"}},{"$f":"SA34c!F158","v":{"v":332181,"d":"332"}},{"$f":"SA34c!G158","v":{"v":160083,"d":"160"}},{"$f":"SA34c!H158","v":{"v":160083,"d":"160"}},{"$f":"SA34c!I158","v":{"v":166006,"d":"166"}},{"$f":"SA34c!J158","v":{"v":171485,"d":"171"}},{"$f":"SA34c!K158","v":{"v":176972,"d":"177"}}]
["Land",null,{"$f":"SA34c!C161","v":0},{"$f":"SA34c!D161","v":0},{"$f":"SA34c!E161","v":0},{"$f":"SA34c!F161","v":0},{"$f":"SA34c!G161","v":0},{"$f":"SA34c!H161","v":0},{"$f":"SA34c!I161","v":0},{"$f":"SA34c!J161","v":0},{"$f":"SA34c!K161","v":0}]
["Zoo's, Marine and Non-biological Animals",null,{"$f":"SA34c!C164","v":0},{"$f":"SA34c!D164","v":0},{"$f":"SA34c!E164","v":0},{"$f":"SA34c!F164","v":0},{"$f":"SA34c!G164","v":0},{"$f":"SA34c!H164","v":0},{"$f":"SA34c!I164","v":0},{"$f":"SA34c!J164","v":0},{"$f":"SA34c!K164","v":0}]
["Mature"," ",{"$f":"SA34c!C168","v":0},{"$f":"SA34c!D168","v":0},{"$f":"SA34c!E168","v":0},{"$f":"SA34c!F168","v":0},{"$f":"SA34c!G168","v":0},{"$f":"SA34c!H168","v":0},{"$f":"SA34c!I168","v":0},{"$f":"SA34c!J168","v":0},{"$f":"SA34c!K168","v":0}]
["Immature"," ",{"$f":"SA34c!C171","v":0},{"$f":"SA34c!D171","v":0},{"$f":"SA34c!E171","v":0},{"$f":"SA34c!F171","v":0},{"$f":"SA34c!G171","v":0},{"$f":"SA34c!H171","v":0},{"$f":"SA34c!I171","v":0},{"$f":"SA34c!J171","v":0},{"$f":"SA34c!K171","v":0}]
["Living Resources","",{"$f":"SUM(C215:C216)","v":0},0,0,0,0,0,0,0,0]
[]
["TOTAL EXPENDITURE OTHER ITEMS",null,{"$f":"SUM(C183:C184)","v":{"v":145530598.15000004,"d":"145,531"}},{"$f":"SUM(D183:D184)","v":{"v":280711601.96000004,"d":"280,712"}},{"v":156783425.64999998,"d":"156,783"},{"v":152979864,"d":"152,980"},{"v":155033912,"d":"155,034"},{"v":155033912,"d":"155,034"},{"v":145644616,"d":"145,645"},{"v":150456345,"d":"150,456"},{"v":155277434,"d":"155,277"}]
[]
["Renewal and upgrading of Existing Assets as % of total capex",null,{"$f":"IF(ISERROR((C40+C75)/C144),0,((C40+C75)/C144))","v":{"v":0.04404248850910825,"d":"4.4%"}},{"$f":"IF(ISERROR((D40+D75)/D144),0,((D40+D75)/D144))","v":{"v":0.06438274293039507,"d":"6.4%"}},{"v":0.10887378722525774,"d":"10.9%"},{"v":0.13747520502856828,"d":"13.7%"},{"v":0.10762568539102002,"d":"10.8%"},{"v":0.10762568539102002,"d":"10.8%"},{"v":0.26981968955325086,"d":"27.0%"},{"v":0.4177287016321187,"d":"41.8%"},{"v":0.4957501190842692,"d":"49.6%"}]
["Renewal and upgrading of Existing Assets as % of deprecn",null,{"$f":"IF(ISERROR((C40+C75)/C183),0,((C40+C75)/C183))","v":{"v":0.12736103554034517,"d":"12.7%"}},{"$f":"IF(ISERROR((D40+D75)/D183),0,((D40+D75)/D183))","v":{"v":0.08413081239736797,"d":"8.4%"}},{"v":0.326737057334671,"d":"32.7%"},{"v":0.38525361167224337,"d":"38.5%"},{"v":0.3310978066022551,"d":"33.1%"},{"v":0.3310978066022551,"d":"33.1%"},{"v":0.7738186678474003,"d":"77.4%"},{"v":1.3511272960668061,"d":"135.1%"},{"v":1.5531692182823265,"d":"155.3%"}]
["R&M as a % of PPE & Investment Property",null,{"$f":"IF(ISERROR((C184-C198-C205-C208-C217)/(C180-C160-C170-C179-C167)),0,((C184-C198-C205-C208-C217)/(C180-C160-C170-C179-C167)))","v":{"v":0.023754202832331196,"d":"2.4%"}},{"$f":"IF(ISERROR((D184-D198-D205-D208-D217)/(D180-D160-D170-D179-D167)),0,((D184-D198-D205-D208-D217)/(D180-D160-D170-D179-D167)))","v":{"v":0.01857241085188182,"d":"1.9%"}},{"v":0.015793360675751118,"d":"1.6%"},{"v":0.016116394072491193,"d":"1.6%"},{"v":0.016953222721764603,"d":"1.7%"},{"v":0.016953222721764603,"d":"1.7%"},{"v":0.010110350709846588,"d":"1.0%"},{"v":0.009503379216937067,"d":"1.0%"},{"v":0.008997269595315344,"d":"0.9%"}]
["Renewal and upgrading and R&M as a % of PPE and Investment Property",null,{"$f":"IF(ISERROR((C40+C75+C184-C198-C205-C208-C217)/(C180-C160-C170-C179-C167)),0,((C40+C75+C184-C198-C205-C208-C217)/(C180-C160-C170-C179-C167)))","v":{"v":0.029120367649258492,"d":"2.9%"}},{"$f":"IF(ISERROR((D40+D75+D184-D198-D205-D208-D217)/(D180-D160-D170-D179-D167)),0,((D40+D75+D184-D198-D205-D208-D217)/(D180-D160-D170-D179-D167)))","v":{"v":0.027028178992274627,"d":"2.7%"}},{"v":0.030626133651087573,"d":"3.1%"},{"v":0.030925370048986094,"d":"3.1%"},{"v":0.02975926740093589,"d":"3.0%"},{"v":0.02975926740093589,"d":"3.0%"},{"v":0.03927595206740902,"d":"3.9%"},{"v":0.057372905242344306,"d":"5.7%"},{"v":0.06109713338818876,"d":"6.1%"}]
[]
[{"$f":"head27a","v":"References"}]
["1. Detail of new assets provided in Table SA34a"]
["2. Detail of renewal of existing assets provided in Table SA34b"]
["3. Detail of Repairs and Maintenance by Asset Class provided in Table SA34c"]
["4. Must reconcile to total capital expenditure on Budgeted Capital Expenditure"]
["5. Must reconcile to 'Budgeted Financial Position' (written down value)"]
["6. Detail of upgrading of existing assets provided in Table SA34e"]
["7. Detail of depreciation provided in Table SA34d"]
[null,null,0.07142857142857142]

{"sheet":"A10-SerDel","index":20,"n_rows":89,"n_cols":11,"rows_kept":89,"merged":[[1,0,2,0],[1,1,2,1],[1,5,1,7],[1,8,1,10]]}
[{"$f":"muni&\" - \"&Approve10","v":"DC43 Harry Gwala - Table A10 Consolidated basic service delivery measurement"}]
[{"$f":"desc","v":"Description"},{"$f":"head27","v":"Ref"},{"$f":"head1b","v":"2022/23"},{"$f":"head1A","v":"2023/24"},{"$f":"Head1","v":"2024/25"},{"$f":"Head2","v":"Current Year 2025/26"},null,null,{"$f":"Head3","v":"2026/27 Medium Term Revenue & Expenditure Framework"}]
[null,null,{"$f":"Head5A","v":"Outcome"},{"$f":"Head5A","v":"Outcome"},{"$f":"Head5A","v":"Outcome"},{"$f":"Head6","v":"Original Budget"},{"$f":"Head7","v":"Adjusted Budget"},{"$f":"Head8","v":"Full Year Forecast"},{"$f":"Head9","v":"Budget Year 2026/27"},{"$f":"Head10","v":"Budget Year +1 2027/28"},{"$f":"Head11","v":"Budget Year +2 2028/29"}]
["Household service targets",1]
["Water:"]
["Piped water inside dwelling",null,{"$f":"'SA9'!E67","v":0},{"$f":"'SA9'!F67","v":0},{"$f":"'SA9'!G67","v":0},{"$f":"'SA9'!H67","v":{"v":67272,"d":"67,272"}},{"$f":"'SA9'!I67","v":{"v":67272,"d":"67,272"}},{"$f":"'SA9'!J67","v":{"v":67272,"d":"67,272"}},{"$f":"'SA9'!K67","v":{"v":71308,"d":"71,308"}},{"$f":"'SA9'!L67","v":{"v":75587,"d":"75,587"}},{"$f":"'SA9'!M67","v":{"v":80122,"d":"80,122"}}]
["Piped water inside yard (but not in dwelling)",null,{"$f":"'SA9'!E68","v":0},{"$f":"'SA9'!F68","v":0},{"$f":"'SA9'!G68","v":0},{"$f":"'SA9'!H68","v":{"v":27352,"d":"27,352"}},{"$f":"'SA9'!I68","v":{"v":27352,"d":"27,352"}},{"$f":"'SA9'!J68","v":{"v":27352,"d":"27,352"}},{"$f":"'SA9'!K68","v":{"v":28993,"d":"28,993"}},{"$f":"'SA9'!L68","v":{"v":30733,"d":"30,733"}},{"$f":"'SA9'!M68","v":{"v":32577,"d":"32,577"}}]
["Using public tap (at least min.service level)",2,{"$f":"'SA9'!E69","v":0},{"$f":"'SA9'!F69","v":0},{"$f":"'SA9'!G69","v":0},{"$f":"'SA9'!H69","v":{"v":47975,"d":"47,975"}},{"$f":"'SA9'!I69","v":{"v":47975,"d":"47,975"}},{"$f":"'SA9'!J69","v":{"v":47975,"d":"47,975"}},{"$f":"'SA9'!K69","v":{"v":50854,"d":"50,854"}},{"$f":"'SA9'!L69","v":{"v":53905,"d":"53,905"}},{"$f":"'SA9'!M69","v":{"v":57139,"d":"57,139"}}]
["Other water supply (at least min.service level)",4,{"$f":"'SA9'!E70","v":0},{"$f":"'SA9'!F70","v":0},{"$f":"'SA9'!G70","v":0},{"$f":"'SA9'!H70","v":{"v":39798,"d":"39,798"}},{"$f":"'SA9'!I70","v":{"v":39798,"d":"39,798"}},{"$f":"'SA9'!J70","v":{"v":39798,"d":"39,798"}},{"$f":"'SA9'!K70","v":{"v":42186,"d":"42,186"}},{"$f":"'SA9'!L70","v":{"v":44717,"d":"44,717"}},{"$f":"'SA9'!M70","v":{"v":47400,"d":"47,400"}}]
["Minimum Service Level and Above sub-total",null,{"$f":"SUM(C6:C9)","v":0},{"$f":"SUM(D6:D9)","v":0},0,{"v":182397,"d":"182,397"},{"v":182397,"d":"182,397"},{"v":182397,"d":"182,397"},{"v":193341,"d":"193,341"},{"v":204942,"d":"204,942"},{"v":217238,"d":"217,238"}]
["Using public tap (< min.service level)",3,{"$f":"'SA9'!E72","v":0},{"$f":"'SA9'!F72","v":0},{"$f":"'SA9'!G72","v":0},{"$f":"'SA9'!H72","v":{"v":47975,"d":"47,975"}},{"$f":"'SA9'!I72","v":{"v":47975,"d":"47,975"}},{"$f":"'SA9'!J72","v":{"v":47975,"d":"47,975"}},{"$f":"'SA9'!K72","v":{"v":50854,"d":"50,854"}},{"$f":"'SA9'!L72","v":{"v":53905,"d":"53,905"}},{"$f":"'SA9'!M72","v":{"v":57139,"d":"57,139"}}]
["Other water supply (< min.service level)",{"$f":"B9","v":4},{"$f":"'SA9'!E73","v":0},{"$f":"'SA9'!F73","v":0},{"$f":"'SA9'!G73","v":0},{"$f":"'SA9'!H73","v":{"v":39798,"d":"39,798"}},{"$f":"'SA9'!I73","v":{"v":39798,"d":"39,798"}},{"$f":"'SA9'!J73","v":{"v":39798,"d":"39,798"}},{"$f":"'SA9'!K73","v":{"v":42186,"d":"42,186"}},{"$f":"'SA9'!L73","v":{"v":44717,"d":"44,717"}},{"$f":"'SA9'!M73","v":{"v":47400,"d":"47,400"}}]
["No water supply",null,{"$f":"'SA9'!E74","v":0},{"$f":"'SA9'!F74","v":0},{"$f":"'SA9'!G74","v":0},{"$f":"'SA9'!H74","v":0},{"$f":"'SA9'!I74","v":0},{"$f":"'SA9'!J74","v":0},{"$f":"'SA9'!K74","v":0},{"$f":"'SA9'!L74","v":0},{"$f":"'SA9'!M74","v":0}]
["Below Minimum Service Level sub-total",null,{"$f":"SUM(C11:C13)","v":0},{"$f":"SUM(D11:D13)","v":0},0,{"v":87773,"d":"87,773"},{"v":87773,"d":"87,773"},{"v":87773,"d":"87,773"},{"v":93040,"d":"93,040"},{"v":98622,"d":"98,622"},{"v":104539,"d":"104,539"}]
["Total number of households",5,{"$f":"C10+C14","v":0},{"$f":"D10+D14","v":0},0,{"v":270170,"d":"270,170"},{"v":270170,"d":"270,170"},{"v":270170,"d":"270,170"},{"v":286381,"d":"286,381"},{"v":303564,"d":"303,564"},{"v":321777,"d":"321,777"}]
["Sanitation/sewerage:"]
["Flush toilet (connected to sewerage)",null,{"$f":"'SA9'!E78","v":0},{"$f":"'SA9'!F78","v":0},{"$f":"'SA9'!G78","v":0},{"$f":"'SA9'!H78","v":{"v":105039,"d":"105,039"}},{"$f":"'SA9'!I78","v":{"v":105039,"d":"105,039"}},{"$f":"'SA9'!J78","v":{"v":105039,"d":"105,039"}},{"$f":"'SA9'!K78","v":{"v":111341,"d":"111,341"}},{"$f":"'SA9'!L78","v":{"v":118022,"d":"118,022"}},{"$f":"'SA9'!M78","v":{"v":125103,"d":"125,103"}}]
["Flush toilet (with septic tank)",null,{"$f":"'SA9'!E79","v":0},{"$f":"'SA9'!F79","v":0},{"$f":"'SA9'!G79","v":0},{"$f":"'SA9'!H79","v":{"v":16935,"d":"16,935"}},{"$f":"'SA9'!I79","v":{"v":16935,"d":"16,935"}},{"$f":"'SA9'!J79","v":{"v":16935,"d":"16,935"}},{"$f":"'SA9'!K79","v":{"v":17951,"d":"17,951"}},{"$f":"'SA9'!L79","v":{"v":19028,"d":"19,028"}},{"$f":"'SA9'!M79","v":{"v":20170,"d":"20,170"}}]
["Chemical toilet",null,{"$f":"'SA9'!E80","v":0},{"$f":"'SA9'!F80","v":0},{"$f":"'SA9'!G80","v":0},{"$f":"'SA9'!H80","v":0},{"$f":"'SA9'!I80","v":0},{"$f":"'SA9'!J80","v":0},{"$f":"'SA9'!K80","v":0},{"$f":"'SA9'!L80","v":0},{"$f":"'SA9'!M80","v":0}]
["Pit toilet (ventilated)",null,{"$f":"'SA9'!E81","v":0},{"$f":"'SA9'!F81","v":0},{"$f":"'SA9'!G81","v":0},{"$f":"'SA9'!H81","v":{"v":60424,"d":"60,424"}},{"$f":"'SA9'!I81","v":{"v":60424,"d":"60,424"}},{"$f":"'SA9'!J81","v":{"v":60424,"d":"60,424"}},{"$f":"'SA9'!K81","v":{"v":64049,"d":"64,049"}},{"$f":"'SA9'!L81","v":{"v":67892,"d":"67,892"}},{"$f":"'SA9'!M81","v":{"v":71966,"d":"71,966"}}]
["Other toilet provisions (> min.service level)",null,{"$f":"'SA9'!E82","v":0},{"$f":"'SA9'!F82","v":0},{"$f":"'SA9'!G82","v":0},{"$f":"'SA9'!H82","v":0},{"$f":"'SA9'!I82","v":0},{"$f":"'SA9'!J82","v":0},{"$f":"'SA9'!K82","v":0},{"$f":"'SA9'!L82","v":0},{"$f":"'SA9'!M82","v":0}]
[{"$f":"$A$10","v":"Minimum Service Level and Above sub-total"},null,{"$f":"SUM(C17:C21)","v":0},{"$f":"SUM(D17:D21)","v":0},0,{"v":182398,"d":"182,398"},{"v":182398,"d":"182,398"},{"v":182398,"d":"182,398"},{"v":193341,"d":"193,341"},{"v":204942,"d":"204,942"},{"v":217239,"d":"217,239"}]
["Bucket toilet",null,{"$f":"'SA9'!E84","v":0},{"$f":"'SA9'!F84","v":0},{"$f":"'SA9'!G84","v":0},{"$f":"'SA9'!H84","v":0},{"$f":"'SA9'!I84","v":0},{"$f":"'SA9'!J84","v":0},{"$f":"'SA9'!K84","v":0},{"$f":"'SA9'!L84","v":0},{"$f":"'SA9'!M84","v":0}]
["Other toilet provisions (< min.service level)",null,{"$f":"'SA9'!E85","v":0},{"$f":"'SA9'!F85","v":0},{"$f":"'SA9'!G85","v":0},{"$f":"'SA9'!H85","v":0},{"$f":"'SA9'!I85","v":0},{"$f":"'SA9'!J85","v":0},{"$f":"'SA9'!K85","v":0},{"$f":"'SA9'!L85","v":0},{"$f":"'SA9'!M85","v":0}]
["No toilet provisions",null,{"$f":"'SA9'!E86","v":0},{"$f":"'SA9'!F86","v":0},{"$f":"'SA9'!G86","v":0},{"$f":"'SA9'!H86","v":0},{"$f":"'SA9'!I86","v":0},{"$f":"'SA9'!J86","v":0},{"$f":"'SA9'!K86","v":0},{"$f":"'SA9'!L86","v":0},{"$f":"'SA9'!M86","v":0}]
[{"$f":"$A$14","v":"Below Minimum Service Level sub-total"},null,{"$f":"SUM(C23:C25)","v":0},{"$f":"SUM(D23:D25)","v":0},0,0,0,0,0,0,0]
[{"$f":"$A$15","v":"Total number of households"},{"$f":"$B$15","v":5},{"$f":"C22+C26","v":0},{"$f":"D22+D26","v":0},0,{"v":182398,"d":"182,398"},{"v":182398,"d":"182,398"},{"v":182398,"d":"182,398"},{"v":193341,"d":"193,341"},{"v":204942,"d":"204,942"},{"v":217239,"d":"217,239"}]
["Energy:"]
["Electricity (at least min.service level)",null,{"$f":"'SA9'!E90","v":0},{"$f":"'SA9'!F90","v":0},{"$f":"'SA9'!G90","v":0},{"$f":"'SA9'!H90","v":0},{"$f":"'SA9'!I90","v":0},{"$f":"'SA9'!J90","v":0},{"$f":"'SA9'!K90","v":0},{"$f":"'SA9'!L90","v":0},{"$f":"'SA9'!M90","v":0}]
["Electricity - prepaid (min.service level)",null,{"$f":"'SA9'!E91","v":0},{"$f":"'SA9'!F91","v":0},{"$f":"'SA9'!G91","v":0},{"$f":"'SA9'!H91","v":0},{"$f":"'SA9'!I91","v":0},{"$f":"'SA9'!J91","v":0},{"$f":"'SA9'!K91","v":0},{"$f":"'SA9'!L91","v":0},{"$f":"'SA9'!M91","v":0}]
[{"$f":"$A$10","v":"Minimum Service Level and Above sub-total"},null,{"$f":"SUM(C29:C30)","v":0},{"$f":"SUM(D29:D30)","v":0},0,0,0,0,0,0,0]
["Electricity (< min.service level)",null,{"$f":"'SA9'!E93","v":0},{"$f":"'SA9'!F93","v":0},{"$f":"'SA9'!G93","v":0},{"$f":"'SA9'!H93","v":0},{"$f":"'SA9'!I93","v":0},{"$f":"'SA9'!J93","v":0},{"$f":"'SA9'!K93","v":0},{"$f":"'SA9'!L93","v":0},{"$f":"'SA9'!M93","v":0}]
["Electricity - prepaid (< min. service level)",null,{"$f":"'SA9'!E94","v":0},{"$f":"'SA9'!F94","v":0},{"$f":"'SA9'!G94","v":0},{"$f":"'SA9'!H94","v":0},{"$f":"'SA9'!I94","v":0},{"$f":"'SA9'!J94","v":0},{"$f":"'SA9'!K94","v":0},{"$f":"'SA9'!L94","v":0},{"$f":"'SA9'!M94","v":0}]
["Other energy sources",null,{"$f":"'SA9'!E95","v":0},{"$f":"'SA9'!F95","v":0},{"$f":"'SA9'!G95","v":0},{"$f":"'SA9'!H95","v":0},{"$f":"'SA9'!I95","v":0},{"$f":"'SA9'!J95","v":0},{"$f":"'SA9'!K95","v":0},{"$f":"'SA9'!L95","v":0},{"$f":"'SA9'!M95","v":0}]
[{"$f":"$A$14","v":"Below Minimum Service Level sub-total"},null,{"$f":"SUM(C32:C34)","v":0},{"$f":"SUM(D32:D34)","v":0},0,0,0,0,0,0,0]
[{"$f":"$A$15","v":"Total number of households"},{"$f":"$B$15","v":5},{"$f":"C31+C35","v":0},{"$f":"D31+D35","v":0},0,0,0,0,0,0,0]
["Refuse:"]
["Removed at least once a week",null,{"$f":"'SA9'!E99","v":0},{"$f":"'SA9'!F99","v":0},{"$f":"'SA9'!G99","v":0},{"$f":"'SA9'!H99","v":0},{"$f":"'SA9'!I99","v":0},{"$f":"'SA9'!J99","v":0},{"$f":"'SA9'!K99","v":0},{"$f":"'SA9'!L99","v":0},{"$f":"'SA9'!M99","v":0}]
[{"$f":"$A$10","v":"Minimum Service Level and Above sub-total"},null,{"$f":"SUM(C38)","v":0},{"$f":"SUM(D38)","v":0},0,0,0,0,0,0,0]
["Removed less frequently than once a week",null,{"$f":"'SA9'!E101","v":0},{"$f":"'SA9'!F101","v":0},{"$f":"'SA9'!G101","v":0},{"$f":"'SA9'!H101","v":0},{"$f":"'SA9'!I101","v":0},{"$f":"'SA9'!J101","v":0},{"$f":"'SA9'!K101","v":0},{"$f":"'SA9'!L101","v":0},{"$f":"'SA9'!M101","v":0}]
["Using communal refuse dump",null,{"$f":"'SA9'!E102","v":0},{"$f":"'SA9'!F102","v":0},{"$f":"'SA9'!G102","v":0},{"$f":"'SA9'!H102","v":0},{"$f":"'SA9'!I102","v":0},{"$f":"'SA9'!J102","v":0},{"$f":"'SA9'!K102","v":0},{"$f":"'SA9'!L102","v":0},{"$f":"'SA9'!M102","v":0}]
["Using own refuse dump",null,{"$f":"'SA9'!E103","v":0},{"$f":"'SA9'!F103","v":0},{"$f":"'SA9'!G103","v":0},{"$f":"'SA9'!H103","v":0},{"$f":"'SA9'!I103","v":0},{"$f":"'SA9'!J103","v":0},{"$f":"'SA9'!K103","v":0},{"$f":"'SA9'!L103","v":0},{"$f":"'SA9'!M103","v":0}]
["Other rubbish disposal",null,{"$f":"'SA9'!E104","v":0},{"$f":"'SA9'!F104","v":0},{"$f":"'SA9'!G104","v":0},{"$f":"'SA9'!H104","v":0},{"$f":"'SA9'!I104","v":0},{"$f":"'SA9'!J104","v":0},{"$f":"'SA9'!K104","v":0},{"$f":"'SA9'!L104","v":0},{"$f":"'SA9'!M104","v":0}]
["No rubbish disposal",null,{"$f":"'SA9'!E105","v":0},{"$f":"'SA9'!F105","v":0},{"$f":"'SA9'!G105","v":0},{"$f":"'SA9'!H105","v":0},{"$f":"'SA9'!I105","v":0},{"$f":"'SA9'!J105","v":0},{"$f":"'SA9'!K105","v":0},{"$f":"'SA9'!L105","v":0},{"$f":"'SA9'!M105","v":0}]
[{"$f":"$A$14","v":"Below Minimum Service Level sub-total"},null,{"$f":"SUM(C40:C44)","v":0},{"$f":"SUM(D40:D44)","v":0},0,0,0,0,0,0,0]
[{"$f":"$A$15","v":"Total number of households"},{"$f":"$B$15","v":5},{"$f":"C39+C45","v":0},{"$f":"D39+D45","v":0},0,0,0,0,0,0,0]
[]
["Households receiving Free Basic Service",7]
["Water (6 kilolitres per household per month)",null,{"$f":"'SA9'!E263","v":0},{"$f":"'SA9'!F263","v":0},{"$f":"'SA9'!G263","v":0},{"$f":"'SA9'!H263","v":{"v":3096,"d":"3,096"}},{"$f":"'SA9'!I263","v":{"v":3096,"d":"3,096"}},{"$f":"'SA9'!J263","v":{"v":3096,"d":"3,096"}},{"$f":"'SA9'!K263","v":{"v":3158,"d":"3,158"}},{"$f":"'SA9'!L263","v":{"v":3158,"d":"3,158"}},{"$f":"'SA9'!M263","v":{"v":3158,"d":"3,158"}}]
["Sanitation (free minimum level service)",null,{"$f":"'SA9'!E275","v":0},{"$f":"'SA9'!F275","v":0},{"$f":"'SA9'!G275","v":0},{"$f":"'SA9'!H275","v":0},{"$f":"'SA9'!I275","v":0},{"$f":"'SA9'!J275","v":0},{"$f":"'SA9'!K275","v":0},{"$f":"'SA9'!L275","v":0},{"$f":"'SA9'!M275","v":0}]
["Electricity/other energy (50kwh per household per month)",null,{"$f":"'SA9'!E251","v":0},{"$f":"'SA9'!F251","v":0},{"$f":"'SA9'!G251","v":0},{"$f":"'SA9'!H251","v":{"v":3096,"d":"3,096"}},{"$f":"'SA9'!I251","v":{"v":3096,"d":"3,096"}},{"$f":"'SA9'!J251","v":{"v":3096,"d":"3,096"}},{"$f":"'SA9'!K251","v":{"v":3158,"d":"3,158"}},{"$f":"'SA9'!L251","v":{"v":3158,"d":"3,158"}},{"$f":"'SA9'!M251","v":{"v":3158,"d":"3,158"}}]
["Refuse (removed at least once a week)",null,{"$f":"'SA9'!E287","v":0},{"$f":"'SA9'!F287","v":0},{"$f":"'SA9'!G287","v":0},{"$f":"'SA9'!H287","v":0},{"$f":"'SA9'!I287","v":0},{"$f":"'SA9'!J287","v":0},{"$f":"'SA9'!K287","v":0},{"$f":"'SA9'!L287","v":0},{"$f":"'SA9'!M287","v":0}]
["Informal Settlements",null,{"$f":"'SA9'!E253+'SA9'!E255+'SA9'!E257+'SA9'!E259+'SA9'!E265+'SA9'!E2267+'SA9'!E269+'SA9'!E271+'SA9'!E277+'SA9'!E279+'SA9'!E281+'SA9'!E283+'SA9'!E289+'SA9'!E291+'SA9'!E293+'SA9'!E295","v":0},{"$f":"'SA9'!F253+'SA9'!F255+'SA9'!F257+'SA9'!F259+'SA9'!F265+'SA9'!F2267+'SA9'!F269+'SA9'!F271+'SA9'!F277+'SA9'!F279+'SA9'!F281+'SA9'!F283+'SA9'!F289+'SA9'!F291+'SA9'!F293+'SA9'!F295","v":0},{"$f":"'SA9'!G253+'SA9'!G255+'SA9'!G257+'SA9'!G259+'SA9'!G265+'SA9'!G2267+'SA9'!G269+'SA9'!G271+'SA9'!G277+'SA9'!G279+'SA9'!G281+'SA9'!G283+'SA9'!G289+'SA9'!G291+'SA9'!G293+'SA9'!G295","v":0},{"$f":"'SA9'!H253+'SA9'!H255+'SA9'!H257+'SA9'!H259+'SA9'!H265+'SA9'!H2267+'SA9'!H269+'SA9'!H271+'SA9'!H277+'SA9'!H279+'SA9'!H281+'SA9'!H283+'SA9'!H289+'SA9'!H291+'SA9'!H293+'SA9'!H295","v":0},{"$f":"'SA9'!I253+'SA9'!I255+'SA9'!I257+'SA9'!I259+'SA9'!I265+'SA9'!I2267+'SA9'!I269+'SA9'!I271+'SA9'!I277+'SA9'!I279+'SA9'!I281+'SA9'!I283+'SA9'!I289+'SA9'!I291+'SA9'!I293+'SA9'!I295","v":0},{"$f":"'SA9'!J253+'SA9'!J255+'SA9'!J257+'SA9'!J259+'SA9'!J265+'SA9'!J2267+'SA9'!J269+'SA9'!J271+'SA9'!J277+'SA9'!J279+'SA9'!J281+'SA9'!J283+'SA9'!J289+'SA9'!J291+'SA9'!J293+'SA9'!J295","v":0},{"$f":"'SA9'!K253+'SA9'!K255+'SA9'!K257+'SA9'!K259+'SA9'!K265+'SA9'!K2267+'SA9'!K269+'SA9'!K271+'SA9'!K277+'SA9'!K279+'SA9'!K281+'SA9'!K283+'SA9'!K289+'SA9'!K291+'SA9'!K293+'SA9'!K295","v":0},{"$f":"'SA9'!L253+'SA9'!L255+'SA9'!L257+'SA9'!L259+'SA9'!L265+'SA9'!L2267+'SA9'!L269+'SA9'!L271+'SA9'!L277+'SA9'!L279+'SA9'!L281+'SA9'!L283+'SA9'!L289+'SA9'!L291+'SA9'!L293+'SA9'!L295","v":0},{"$f":"'SA9'!M253+'SA9'!M255+'SA9'!M257+'SA9'!M259+'SA9'!M265+'SA9'!M2267+'SA9'!M269+'SA9'!M271+'SA9'!M277+'SA9'!M279+'SA9'!M281+'SA9'!M283+'SA9'!M289+'SA9'!M291+'SA9'!M293+'SA9'!M295","v":0}]
["Cost of Free Basic Services provided - Formal Settlements (R'000)"]
["Water (6 kilolitres per indigent household per month)",null,{"$f":"-'SA1'!C32","v":{"v":1775224.79,"d":"1,775"}},{"$f":"-'SA1'!D32","v":{"v":1827745.36,"d":"1,828"}},{"$f":"-'SA1'!E32","v":{"v":3314889.92,"d":"3,315"}},{"$f":"-'SA1'!F32","v":{"v":-767622,"d":"(768)"}},{"$f":"-'SA1'!G32","v":0},{"$f":"-'SA1'!H32","v":0},{"$f":"-'SA1'!J32","v":0},{"$f":"-'SA1'!K32","v":0},{"$f":"-'SA1'!L32","v":0}]
["Sanitation (free sanitation service to indigent households)",null,{"$f":"-'SA1'!C46","v":0},{"$f":"-'SA1'!D46","v":0},{"$f":"-'SA1'!E46","v":0},{"$f":"-'SA1'!F46","v":0},{"$f":"-'SA1'!G46","v":0},{"$f":"-'SA1'!H46","v":0},{"$f":"-'SA1'!J46","v":0},{"$f":"-'SA1'!K46","v":0},{"$f":"-'SA1'!L46","v":0}]
["Electricity/other energy (50kwh per indigent household per month)",null,{"$f":"-'SA1'!C20","v":0},{"$f":"-'SA1'!D20","v":0},{"$f":"-'SA1'!E20","v":0},{"$f":"-'SA1'!F20","v":0},{"$f":"-'SA1'!G20","v":0},{"$f":"-'SA1'!H20","v":0},{"$f":"-'SA1'!J20","v":0},{"$f":"-'SA1'!K20","v":0},{"$f":"-'SA1'!L20","v":0}]
["Refuse (removed once a week for indigent households)",null,{"$f":"-'SA1'!C58","v":0},{"$f":"-'SA1'!D58","v":0},{"$f":"-'SA1'!E58","v":0},{"$f":"-'SA1'!F58","v":0},{"$f":"-'SA1'!G58","v":0},{"$f":"-'SA1'!H58","v":0},{"$f":"-'SA1'!J58","v":0},{"$f":"-'SA1'!K58","v":0},{"$f":"-'SA1'!L58","v":0}]
["Cost of Free Basic Services provided - Informal Formal Settlements (R'000)",null,{"$f":"'SA9'!E260+'SA9'!E272+'SA9'!E284+'SA9'!E296","v":0},{"$f":"'SA9'!F260+'SA9'!F272+'SA9'!F284+'SA9'!F296","v":0},{"$f":"'SA9'!G260+'SA9'!G272+'SA9'!G284+'SA9'!G296","v":0},{"$f":"'SA9'!H260+'SA9'!H272+'SA9'!H284+'SA9'!H296","v":0},{"$f":"'SA9'!I260+'SA9'!I272+'SA9'!I284+'SA9'!I296","v":0},{"$f":"'SA9'!J260+'SA9'!J272+'SA9'!J284+'SA9'!J296","v":0},{"$f":"'SA9'!K260+'SA9'!K272+'SA9'!K284+'SA9'!K296","v":0},{"$f":"'SA9'!L260+'SA9'!L272+'SA9'!L284+'SA9'!L296","v":0},{"$f":"'SA9'!M260+'SA9'!M272+'SA9'!M284+'SA9'!M296","v":0}]
["Total cost of FBS provided  ",8,{"$f":"SUM(C55:C59)","v":{"v":1775224.79,"d":"1,775"}},{"$f":"SUM(D55:D59)","v":{"v":1827745.36,"d":"1,828"}},{"v":3314889.92,"d":"3,315"},{"v":-767622,"d":"(768)"},0,0,0,0,0]
[]
["Highest level of free service provided per household"]
["Property rates (R value threshold)"]
["Water (kilolitres per household per month)"]
["Sanitation (kilolitres per household per month)"]
["Sanitation (Rand per household per month)"]
["Electricity (kwh per household per month)"]
["Refuse (average litres per week)"]
["Revenue  cost of subsidised services provided (R'000)",9]
["Property rates (tariff adjustment) ( impermissable values per section 17 of MPRA)"]
["Property rates  exemptions, reductions and rebates and impermissable values in excess of section 17 of MPRA)",null,{"$f":"-'SA1'!C251","v":0},{"$f":"-'SA1'!D251","v":0},{"$f":"-'SA1'!E251","v":0},{"$f":"-'SA1'!F251","v":0},{"$f":"-'SA1'!G251","v":0},{"$f":"-'SA1'!H251","v":0},{"$f":"-'SA1'!J251","v":0},{"$f":"-'SA1'!K251","v":0},{"$f":"-'SA1'!L251","v":0}]
["Water (in excess of 6 kilolitres per indigent household per month)",null,{"$f":"-'SA1'!C31","v":0},{"$f":"-'SA1'!D31","v":0},{"$f":"-'SA1'!E31","v":0},{"$f":"-'SA1'!F31","v":0},{"$f":"-'SA1'!G31","v":0},{"$f":"-'SA1'!H31","v":0},{"$f":"-'SA1'!J31","v":0},{"$f":"-'SA1'!K31","v":0},{"$f":"-'SA1'!L31","v":0}]
["Sanitation (in excess of free sanitation service to indigent households)",null,{"$f":"-'SA1'!C45","v":0},{"$f":"-'SA1'!D45","v":0},{"$f":"-'SA1'!E45","v":0},{"$f":"-'SA1'!F45","v":0},{"$f":"-'SA1'!G45","v":0},{"$f":"-'SA1'!H45","v":0},{"$f":"-'SA1'!J45","v":0},{"$f":"-'SA1'!K45","v":0},{"$f":"-'SA1'!L45","v":0}]
["Electricity/other energy (in excess of 50 kwh per indigent household per month)",null,{"$f":"-'SA1'!C19","v":0},{"$f":"-'SA1'!D19","v":0},{"$f":"-'SA1'!E19","v":0},{"$f":"-'SA1'!F19","v":0},{"$f":"-'SA1'!G19","v":0},{"$f":"-'SA1'!H19","v":0},{"$f":"-'SA1'!J19","v":0},{"$f":"-'SA1'!K19","v":0},{"$f":"-'SA1'!L19","v":0}]
["Refuse (in excess of one removal a week for indigent households)",null,{"$f":"-'SA1'!C57","v":0},{"$f":"-'SA1'!D57","v":0},{"$f":"-'SA1'!E57","v":0},{"$f":"-'SA1'!F57","v":0},{"$f":"-'SA1'!G57","v":0},{"$f":"-'SA1'!H57","v":0},{"$f":"-'SA1'!J57","v":0},{"$f":"-'SA1'!K57","v":0},{"$f":"-'SA1'!L57","v":0}]
["Municipal Housing - rental rebates"]
["Housing - top structure subsidies",6]
["Other"]
["Total revenue cost of subsidised services provided ",null,{"$f":"SUM(C70:C78)","v":0},{"$f":"SUM(D70:D78)","v":0},0,0,0,0,0,{"$f":"SUM(J70:J78)","v":0},{"$f":"SUM(K70:K78)","v":0}]
[{"$f":"head27a","v":"References"}]
["1. Include services provided by another entity; e.g. Eskom"]
["2. Stand distance <= 200m from dwelling"]
["3. Stand distance > 200m from dwelling"]
["4. Borehole, spring, rain-water tank etc."]
["5. Must agree to total number of households in municipal area (informal settlements receiving services must be included)"]
["6. Include value of subsidy provided by municipality above provincial subsidy level"]
["7. Show number of households receiving at least these levels of services completely free (informal settlements must be included)"]
["8. Must reflect the cost to the municipality of providing the Free Basic Service"]
["9. Reflect the cost of free or subsidised services in excess to the National policy that are not funded from the Free Basic Services component of the Equitable Share"]

{"sheet":"SA1","index":21,"n_rows":773,"n_cols":12,"rows_kept":773,"merged":[[1,0,2,0],[1,1,2,1],[1,5,1,8],[1,9,1,11]]}
[{"$f":"muni&\" - \"&TableA1","v":"DC43 Harry Gwala - Supporting Table SA1 Supportinging detail to 'Budgeted Financial Performance'"}]
[{"$f":"desc","v":"Description"},{"$f":"head27","v":"Ref"},{"$f":"head1b","v":"2022/23"},{"$f":"head1A","v":"2023/24"},{"$f":"Head1","v":"2024/25"},{"$f":"Head2","v":"Current Year 2025/26"},{"$nulls":3},{"$f":"Head3","v":"2026/27 Medium Term Revenue & Expenditure Framework"}]
[null,null,{"$f":"Head5","v":"Audited Outcome"},{"$f":"Head5","v":"Audited Outcome"},{"$f":"Head5","v":"Audited Outcome"},{"$f":"Head6","v":"Original Budget"},{"$f":"Head7","v":"Adjusted Budget"},{"$f":"Head8","v":"Full Year Forecast"},{"$f":"Head5b","v":"Pre-audit outcome"},{"$f":"Head9","v":"Budget Year 2026/27"},{"$f":"Head10","v":"Budget Year +1 2027/28"},{"$f":"Head11","v":"Budget Year +2 2028/29"}]
["R thousand"]
["REVENUE ITEMS:"," "]
["Exchange revenue"," "]
["Service charges - Electricity",6]
["Appliance Maintenance"," "]
["Availability Charges"," "]
["Connection/Reconnection"," "]
["Electricity Distribution Revenue for Services"," "]
["Electricity Sales"," "]
["Joint Pole Usage"," "]
["Meter Compliance Testing"," "]
["Meter Reading Fees"," "]
["Notice Revenues"," "]
["Temporary Service Plant"," "]
["Total Service charges - Electricity"," ",{"$f":"SUM(C8:C17)","v":0},0,0,0,0,0,0,0,0,0]
["Less Revenue Foregone (in excess of 50 kwh per indigent household per month)"," "]
["Less Cost of Free Basis Services (50 kwh per indigent household per month)"," "]
["Net Service charges - Electricity"," ",{"$f":"+C18+C19+C20","v":0},0,0,0,0,0,0,0,0,0]
["Service charges - Water",6]
["Agricultural and Rural Water Service"," ",{"v":2746224.6,"d":"2,746"},{"v":2285680.26,"d":"2,286"},{"v":1694671.74,"d":"1,695"},{"v":2898952,"d":"2,899"},{"v":2889532,"d":"2,890"},{"v":2889532,"d":"2,890"},{"v":1416831.98,"d":"1,417"},{"v":3062904,"d":"3,063"},{"v":3246679,"d":"3,247"},{"v":3441479,"d":"3,441"}]
["Availability Charges"," "]
["Connection/Disconnection"," ",{"v":124033.82,"d":"124"},{"v":120220.18,"d":"120"},{"v":425041.09,"d":"425"},{"v":240099,"d":"240"},{"v":1206283,"d":"1,206"},{"v":1206283,"d":"1,206"},{"v":602652.38,"d":"603"},{"v":1278662,"d":"1,279"},{"v":1355382,"d":"1,355"},{"v":1436705,"d":"1,437"}]
["Industrial Water"," ",{"v":1266113.08,"d":"1,266"},{"v":1093415.37,"d":"1,093"},{"v":1496659.22,"d":"1,497"},{"v":1155128,"d":"1,155"},{"v":1781664,"d":"1,782"},{"v":1781664,"d":"1,782"},{"v":1276873.87,"d":"1,277"},{"v":1888565,"d":"1,889"},{"v":2001879,"d":"2,002"},{"v":2121991,"d":"2,122"}]
["Meter Reading Fees"," "]
["Sale"," ",{"v":62163825.31,"d":"62,164"},{"v":57630449.83,"d":"57,630"},{"v":63387006.52,"d":"63,387"},{"v":63009252,"d":"63,009"},{"v":67232441,"d":"67,232"},{"v":67232441,"d":"67,232"},{"v":44145323.24,"d":"44,145"},{"v":71266393,"d":"71,266"},{"v":75542375,"d":"75,542"},{"v":80074918,"d":"80,075"}]
["Urban Higher Level Service"," "]
["Total Service charges - Water"," ",{"$f":"SUM(C23:C29)","v":{"v":66300196.81,"d":"66,300"}},{"v":61129765.64,"d":"61,130"},{"v":67003378.57,"d":"67,003"},{"v":67303431,"d":"67,303"},{"v":73109920,"d":"73,110"},{"v":73109920,"d":"73,110"},{"v":47441681.47,"d":"47,442"},{"v":77496524,"d":"77,497"},{"v":82146315,"d":"82,146"},{"v":87075093,"d":"87,075"}]
["Less Revenue Foregone (in excess of 6 kilolitres per indigent household per month)"," "]
["Less Cost of Free Basis Services (6 kilolitres per indigent household per month)"," ",{"v":-1775224.79,"d":"(1,775)"},{"v":-1827745.36,"d":"(1,828)"},{"v":-3314889.92,"d":"(3,315)"},{"v":767622,"d":"768"},0,0,{"v":115.92,"d":"0"},0,0,0]
["Net Service charges - Water"," ",{"$f":"C30+C31+C32","v":{"v":64524972.02,"d":"64,525"}},{"$f":"D30+D31+D32","v":{"v":59302020.28,"d":"59,302"}},{"v":63688488.65,"d":"63,688"},{"v":68071053,"d":"68,071"},{"v":73109920,"d":"73,110"},{"v":73109920,"d":"73,110"},{"v":47441797.39,"d":"47,442"},{"v":77496524,"d":"77,497"},{"v":82146315,"d":"82,146"},{"v":87075093,"d":"87,075"}]
["Service charges - Waste Water Management",6]
["Agricultural and Rural"," "]
["Availability Charges"," ",0,{"v":3602.03,"d":"4"},0,0,0,0,0,0,0,0]
["Connection/Reconnection"," ",0,{"v":10505.84,"d":"11"},{"v":51822.86,"d":"52"},{"v":19832,"d":"20"},{"v":31282,"d":"31"},{"v":31282,"d":"31"},{"v":113544.12,"d":"114"},{"v":33160,"d":"33"},{"v":35150,"d":"35"},{"v":37259,"d":"37"}]
["Higher Level Service"," "]
["Industrial Effluent"," "]
["Industrial Waste Water"," ",{"v":337659.15,"d":"338"},{"v":164019,"d":"164"},{"v":120605.42,"d":"121"},{"v":193591,"d":"194"},{"v":193591,"d":"194"},{"v":193591,"d":"194"},{"v":124059.37,"d":"124"},{"v":205209,"d":"205"},{"v":217521,"d":"218"},{"v":230573,"d":"231"}]
["Pump/Removal of Waste Water"," ",{"v":175643.15,"d":"176"},{"v":267501.3,"d":"268"},{"v":250969.96,"d":"251"},{"v":460068,"d":"460"},{"v":460068,"d":"460"},{"v":460068,"d":"460"},{"v":130189.21,"d":"130"},{"v":487674,"d":"488"},{"v":516934,"d":"517"},{"v":547950,"d":"548"}]
["Sanitation Charges"," ",{"v":12635548.35,"d":"12,636"},{"v":12810445.54,"d":"12,810"},{"v":12421217.97,"d":"12,421"},{"v":12844357,"d":"12,844"},{"v":12844357,"d":"12,844"},{"v":12844357,"d":"12,844"},{"v":8469908.48,"d":"8,470"},{"v":13615020,"d":"13,615"},{"v":14431922,"d":"14,432"},{"v":15297836,"d":"15,298"}]
["Treatment of Effluent"," "]
["Total Service charges - Waste Water Management"," ",{"$f":"SUM(C35:C43)","v":{"v":13148850.65,"d":"13,149"}},{"v":13256073.709999999,"d":"13,256"},{"v":12844616.21,"d":"12,845"},{"v":13517848,"d":"13,518"},{"v":13529298,"d":"13,529"},{"v":13529298,"d":"13,529"},{"v":8837701.18,"d":"8,838"},{"v":14341063,"d":"14,341"},{"v":15201527,"d":"15,202"},{"v":16113618,"d":"16,114"}]
["Less Revenue Foregone (in excess of free sanitation service to indigent households)"," "]
["Less Cost of Free Basis Services (free sanitation service to indigent households)"," "]
["Net Service charges - Waste Water Management"," ",{"$f":"C44+C45+C46","v":{"v":13148850.65,"d":"13,149"}},{"$f":"D44+D45+D46","v":{"v":13256073.709999999,"d":"13,256"}},{"v":12844616.21,"d":"12,845"},{"v":13517848,"d":"13,518"},{"v":13529298,"d":"13,529"},{"v":13529298,"d":"13,529"},{"v":8837701.18,"d":"8,838"},{"v":14341063,"d":"14,341"},{"v":15201527,"d":"15,202"},{"v":16113618,"d":"16,114"}]
["Service charges - Waste Management",6]
["Availability Charges"," "]
["Carrier Bags"," "]
["Disposal Facilities"," "]
["Refuse Bags"," "]
["Refuse Removal"," "]
["Skip"," "]
["Waste Bins"," "]
["Total refuse removal revenue"," ",{"$f":"SUM(C49:C55)","v":0},0,0,0,0,0,0,0,0,0]
["Less Revenue Foregone (in excess of one removal a week to indigent households)"," "]
["Less Cost of Free Basis Services  (removed once a week to indigent households)"," "]
["Net Service charges - Waste Management"," ",{"$f":"+C56+C57+C58","v":0},0,0,{"$f":"+F56+F57+F58","v":0},0,0,0,0,0,0]
["Sales of Goods and Rendering of Services"," "]
["Academic Services"," "]
["Advertisements"," "]
["Amendment Fees"," "]
["Application Fees for Land Usage"," "]
["Building Plan Approval"," "]
["Building Plan Clause Levy"," "]
["Buyers Card"," "]
["Camping Fees"," "]
["Cemetery and Burial"," "]
["Cleaning and Removal"," "]
["Clearance Certificates"," ",{"v":4171.79,"d":"4"},{"v":8288.32,"d":"8"},{"v":6397.09,"d":"6"},{"v":16608,"d":"17"},{"v":13057,"d":"13"},{"v":13057,"d":"13"},{"v":8371.28,"d":"8"},{"v":13841,"d":"14"},{"v":14671,"d":"15"},{"v":15552,"d":"16"}]
["Computer Services"," "]
["Day Care Fees"," "]
["Demolition Application Fees"," "]
["Development  Charges"," "]
["Domestic Services"," "]
["Drainage Fees"," "]
["Encroachment Fees"," "]
["Entrance Fees"," "]
["Escort Fees"," "]
["Exempted Parking"," "]
["Fire Services"," "]
["Health Services"," "]
["Housing (Boarding Services)"," "]
["Immunisation Fees"," "]
["Laboratory Services"," "]
["Legal Fees"," "]
["Library Fees"," "]
["Management Fees"," ",{"v":105920.76,"d":"106"},0,{"v":96537.22,"d":"97"},{"v":88813,"d":"89"},{"v":69424,"d":"69"},{"v":69424,"d":"69"},0,{"v":73590,"d":"74"},{"v":78005,"d":"78"},{"v":82686,"d":"83"}]
["Meal and Refreshment"," "]
["Membership Fees"," "]
["Objections and Appeals"," "]
["Occupation Certificates"," "]
["Parking Fees"," "]
["Photo copies, Faxes and Telephone charges"," ",0,0,0,0,0,0,0,0,0,0]
["Removal of Restrictions"," "]
["Sale of Carbon Credits"," "]
["Sale of Goods"," ",{"v":630931.22,"d":"631"},{"v":169217.73,"d":"169"},{"v":37763.78,"d":"38"},{"v":685673,"d":"686"},{"v":64000,"d":"64"},{"v":64000,"d":"64"},{"v":67130.14,"d":"67"},{"v":67840,"d":"68"},{"v":71911,"d":"72"},{"v":76226,"d":"76"}]
["Scrap, Waste & Other Goods"," ",0,0,0,0,0,0,0,{"v":4000,"d":"4"},{"v":4132,"d":"4"},{"v":4265,"d":"4"}]
["Shared Services"," "]
["Squatter Re-allocation"," "]
["Stone and Gravel"," "]
["Streets/Street Markets (Informal Traders)"," "]
["Town Planning and Servitudes"," "]
["Traffic Control"," "]
["Transport Fees"," "]
["Valuation Services"," "]
["Water Meter Protectors"," "]
["Weighbridge Fees"," "]
["Total Sales of Goods and Rendering of Services"," ",{"$f":"SUM(C61:C109)","v":{"v":741023.77,"d":"741"}},{"v":177506.05000000002,"d":"178"},{"v":140698.09,"d":"141"},{"v":791094,"d":"791"},{"v":146481,"d":"146"},{"v":146481,"d":"146"},{"v":75501.42,"d":"76"},{"v":159271,"d":"159"},{"v":168719,"d":"169"},{"v":178729,"d":"179"}]
["Agency Services"," "]
["District Municipalities"," "]
["Eastern Cape"," "]
["Free State"," "]
["Gauteng"," "]
["KwazuluNatal"," "]
["Limpopo"," "]
["Mpumalanga"," "]
["Northern Cape"," "]
["Northwest"," "]
["Western Cape"," "]
["Total District Municipalities"," ",{"$f":"SUM(C113:C121)","v":0},0,0,0,0,0,0,0,0,0]
["National"," "]
["AARTO"," "]
["Department of Environmental Affairs"," "]
["Total National"," ",{"$f":"SUM(C124:C125)","v":0},0,0,0,0,0,0,0,0,0]
["Provincial"," "]
["Eastern Cape"," "]
["Free State"," "]
["Gauteng"," "]
["KwazuluNatal"," "]
["Limpopo"," "]
["Mpumalanga"," "]
["Northern Cape"," "]
["Northwest"," "]
["Western Cape"," "]
["Total Provincial"," ",{"$f":"SUM(C128:C136)","v":0},0,0,0,0,0,0,0,0,0]
["Total Agency Services"," ",{"$f":"C122+C126+C137","v":0},0,0,0,0,0,0,0,0,0]
["Interest - Deemed Interest"," "]
["Interest earned from Receivables"," "]
["Affiliates/Related Parties/Associated Companies"," "]
["Electricity"," "]
["Housing"," ",0,0,0,0,0,0,0,0,0,0]
["Housing Land Sales"," ",0,0,0,0,0,0,0,0,0,0]
["Housing Selling Schemes"," ",0,0,0,0,0,0,0,0,0,0]
["Merchandising, Jobbing and Contracts"," "]
["Property Rental Debtors"," ",0,0,0,0,0,0,0,0,0,0]
["SARS"," "]
["Service Charges"," ",{"v":41750.91,"d":"42"},{"v":46733.14,"d":"47"},{"v":47420.69,"d":"47"},{"v":43359,"d":"43"},{"v":43359,"d":"43"},{"v":43359,"d":"43"},{"v":26396.19,"d":"26"},{"v":45961,"d":"46"},{"v":48719,"d":"49"},{"v":51642,"d":"52"}]
["Sporting and Other Bodies"," "]
["Staff"," "]
["Waste Management"," "]
["Waste Water Management"," ",{"v":4277325.02,"d":"4,277"},{"v":4474741.96,"d":"4,475"},{"v":3877364.66,"d":"3,877"},{"v":5806708,"d":"5,807"},{"v":3719361,"d":"3,719"},{"v":3719361,"d":"3,719"},{"v":2468588.45,"d":"2,469"},{"v":3942523,"d":"3,943"},{"v":4179075,"d":"4,179"},{"v":4429819,"d":"4,430"}]
["Water"," ",{"v":9797699.21,"d":"9,798"},{"v":12014561.92,"d":"12,015"},{"v":10674078.73,"d":"10,674"},{"v":10204649,"d":"10,205"},{"v":8994671,"d":"8,995"},{"v":8994671,"d":"8,995"},{"v":5961361.33,"d":"5,961"},{"v":9534352,"d":"9,534"},{"v":10106413,"d":"10,106"},{"v":10712798,"d":"10,713"}]
["Shared Services"," "]
["Total Interest earned from Receivables"," ",{"$f":"SUM(C141:C155)","v":{"v":14116775.14,"d":"14,117"}},{"v":16536037.02,"d":"16,536"},{"v":14598864.08,"d":"14,599"},{"v":16054716,"d":"16,055"},{"v":12757391,"d":"12,757"},{"v":12757391,"d":"12,757"},{"v":8456345.97,"d":"8,456"},{"v":13522836,"d":"13,523"},{"v":14334207,"d":"14,334"},{"v":15194259,"d":"15,194"}]
["Interest earned from Current and Non Current Assets"," "]
["Bank Accounts"," ",{"v":1095717.57,"d":"1,096"},{"v":1835426.34,"d":"1,835"},{"v":1805847.26,"d":"1,806"},{"v":1357150,"d":"1,357"},{"v":1357150,"d":"1,357"},{"v":1357150,"d":"1,357"},{"v":885161.36,"d":"885"},{"v":1438579,"d":"1,439"},{"v":1524894,"d":"1,525"},{"v":1616388,"d":"1,616"}]
["Financial Assets"," ",0,0,0,0,0,0,0,0,0,0]
["Short Term Investments and Call Accounts"," ",{"v":9762535.77,"d":"9,763"},{"v":20152596.97,"d":"20,153"},{"v":26205960.89,"d":"26,206"},{"v":24685717,"d":"24,686"},{"v":24685717,"d":"24,686"},{"v":24685717,"d":"24,686"},{"v":14982403.26,"d":"14,982"},{"v":26133245,"d":"26,133"},{"v":27660315,"d":"27,660"},{"v":29272963,"d":"29,273"}]
["Total Interest earned from Current and Non Current Assets"," ",{"$f":"SUM(C158:C160)","v":{"v":10858253.34,"d":"10,858"}},{"v":21988023.31,"d":"21,988"},{"v":28011808.150000002,"d":"28,012"},{"v":26042867,"d":"26,043"},{"v":26042867,"d":"26,043"},{"v":26042867,"d":"26,043"},{"v":15867564.62,"d":"15,868"},{"v":27571824,"d":"27,572"},{"v":29185209,"d":"29,185"},{"v":30889351,"d":"30,889"}]
["Dividends"," "]
["External Investment"," "]
["Municipal Entities"," "]
["Total Dividends"," ",{"$f":"SUM(C163:C164)","v":0},0,0,0,0,0,0,0,0,0]
["Rent on Land"," "]
["Land"," "]
["Prospecting, Mining, Royalties"," "]
["Servitudes"," "]
["Total Rent on Land"," ",{"$f":"SUM(C167:C169)","v":0},0,0,0,0,0,0,0,0,0]
["Rental from Fixed Assets"," "]
["Market Related"," "]
["Biological Assets"," "]
["Heritage Assets"," "]
["Investment Property"," "]
["Property Plant and Equipment"," "]
["Total Market Related"," ",{"$f":"SUM(C173:C176)","v":0},0,0,0,0,0,0,0,0,0]
["Non-market Related"," "]
["Biological Assets"," "]
["Heritage Assets"," "]
["Investment Property"," "]
["Property Plant and Equipment"," "]
["Total Non-market Related"," ",{"$f":"SUM(C179:C182)","v":0},0,0,0,0,0,0,0,0,0]
["Total Rental from Fixed Assets"," ",{"$f":"C177+C183","v":0},0,0,0,0,0,0,0,0,0]
["Licences or Permits"," "]
["Angling/Fishing"," "]
["Atmospheric Emissions"," "]
["Boat"," "]
["Dog"," "]
["Fauna and Flora"," "]
["Filming Fees"," "]
["Game"," "]
["Health Certificates"," "]
["Hiking Trails"," "]
["Hoarding (Collecting/Storing)"," "]
["Market Porters"," "]
["Road and Transport"," "]
["Threatened and Protected Species"," "]
["Trading"," "]
["Total Licences or Permits"," ",{"$f":"SUM(C186:C199)","v":0},0,0,0,0,0,0,0,0,0]
["Special Rating Levies"," "]
["Agricultural Properties"," "]
["Business and Commercial Properties"," "]
["Industrial Properties"," "]
["Mining Properties"," "]
["Public Benefit Organisations"," "]
["Public Service Infrastructure Properties"," "]
["Public Service Purposes Properties"," "]
["Residential Properties"," "]
["Residential Sectional Title Garages"," "]
["Sport Clubs and Fields"," "]
["Vacant Land"," "]
["Total Special Rating Levies"," ",{"$f":"SUM(C202:C212)","v":0},0,0,0,0,0,0,0,0,0]
["Construction Contract Revenue"," "]
["Development Charges"," "]
["Operational Revenue"," "]
["Administrative Handling Fees"," ",0,0,0,0,0,0,0,0,0,0]
["Arbor City Awards Competition"," "]
["Bad Debts Recovered"," "]
["Bontle Ke Botho Cleaning and Greening Award"," "]
["Breakages and Losses Recovered"," "]
["Bursary Repayment"," "]
["Collection Charges"," "]
["Commission"," "]
["Discounts and Early Settlements"," "]
["Incidental Cash Surpluses"," ",0,0,0,0,0,0,0,0,0,0]
["Inspection Fees"," ",{"v":31997.94,"d":"32"},{"v":41954.52,"d":"42"},{"v":37521.92,"d":"38"},{"v":17691,"d":"18"},{"v":83814,"d":"84"},{"v":83814,"d":"84"},{"v":51266.54,"d":"51"},{"v":88843,"d":"89"},{"v":94174,"d":"94"},{"v":99824,"d":"100"}]
["Insurance Refund"," ",{"v":332831.47,"d":"333"},{"v":780621.6,"d":"781"},{"v":14756.16,"d":"15"},{"v":15737,"d":"16"},0,0,0,0,0,0]
["Merchandising, Jobbing and Contracts"," ",0,0,0,0,0,0,0,0,0,0]
["Recovery Maintenance"," "]
["Registration Fees"," "]
["Request for Information"," "]
["Sale of Property"," "]
["Skills Development Levy Refund"," ",{"v":372203.22,"d":"372"},{"v":418238.91,"d":"418"},{"v":392879.51,"d":"393"},{"v":410316,"d":"410"},{"v":410316,"d":"410"},{"v":410316,"d":"410"},{"v":412852.58,"d":"413"},{"v":434935,"d":"435"},{"v":461032,"d":"461"},{"v":488693,"d":"489"}]
["Staff and Councillors Recoveries"," ",{"v":72500,"d":"73"},0,{"v":233330.78,"d":"233"},{"v":261764,"d":"262"},{"v":153111,"d":"153"},{"v":153111,"d":"153"},{"v":76555.35,"d":"77"},{"v":162298,"d":"162"},{"v":172036,"d":"172"},{"v":182358,"d":"182"}]
["Total Operational Revenue"," ",{"$f":"SUM(C217:C235)","v":{"v":809532.6299999999,"d":"810"}},{"v":1240815.03,"d":"1,241"},{"v":678488.37,"d":"678"},{"v":705508,"d":"706"},{"v":647241,"d":"647"},{"v":647241,"d":"647"},{"v":540674.47,"d":"541"},{"v":686076,"d":"686"},{"v":727242,"d":"727"},{"v":770875,"d":"771"}]
["Non-Exchange revenue"," "]
["Property Rates"," "]
["Agricultural Properties"," "]
["Business and Commercial Properties"," "]
["Industrial Properties"," "]
["Mining Properties"," "]
["Public Benefit Organisations"," "]
["Public Service Infrastructure Properties"," "]
["Public Service Purposes Properties"," "]
["Residential Properties"," "]
["Residential Sectional Title Garages"," "]
["Sport Clubs and Fields"," "]
["Vacant Land"," "]
["Total Property Rates"," ",{"$f":"SUM(C239:C249)","v":0},0,0,0,0,0,0,0,0,0]
["Less Revenue Foregone (exemptions, reductions and rebates and impermissable values in excess of section 17 of MPRA)"," "]
["Net Property Rates"," ",{"$f":"C250+C251","v":0},{"$f":"D250+D251","v":0},0,0,0,0,0,0,0,0]
["Surcharges and Taxes"," "]
["Surcharges"," "]
["Taxes"," "]
["Total Surcharges and Taxes"," ",{"$f":"SUM(C254:C255)","v":0},0,0,0,0,0,0,0,0,0]
["Fines, Penalties and Forfeits"," "]
["Fines"," ",0,0,0,0,0,0,0,0,0,0]
["Forfeits"," ",0,{"v":478418.03,"d":"478"},{"v":786084.15,"d":"786"},{"v":1642740,"d":"1,643"},{"v":340176,"d":"340"},{"v":340176,"d":"340"},{"v":169696.72,"d":"170"},{"v":353784,"d":"354"},{"v":367935,"d":"368"},{"v":382652,"d":"383"}]
["Penalties"," ",0,0,0,0,0,0,0,0,0,0]
["Total Fines, Penalties and Forfeits"," ",{"$f":"SUM(C258:C260)","v":0},{"v":478418.03,"d":"478"},{"v":786084.15,"d":"786"},{"v":1642740,"d":"1,643"},{"v":340176,"d":"340"},{"v":340176,"d":"340"},{"v":169696.72,"d":"170"},{"v":353784,"d":"354"},{"v":367935,"d":"368"},{"v":382652,"d":"383"}]
["Licences or Permits"," "]
["Angling/Fishing"," "]
["Atmospheric Emission"," "]
["Boat"," "]
["Dog"," "]
["Fauna and Flora"," "]
["Filming Fees"," "]
["Game"," "]
["Health Certificates"," "]
["Hiking Trails"," "]
["Hoarding (Collecting/Storing)"," "]
["Market Porters"," "]
["Road and Transport"," "]
["Threatened and Protected Species"," "]
["Trading"," "]
["Total Licences or Permits"," ",{"$f":"SUM(C263:C276)","v":0},0,0,0,0,0,0,0,0,0]
["Transfer and subsidies - Operational"," "]
["Allocations In-kind"," "]
["Departmental Agencies and Accounts"," ",0,0,0,0,0,0,0,0,0,0]
["District Municipalities"," "]
["Foreign Government and International Organisations"," "]
["Higher Educational Institutions"," "]
["Households"," "]
["National Government"," "]
["Non-Profit Institutions"," "]
["Parent Municipality"," "]
["Private Enterprises"," "]
["Provincial Government"," "]
["Public Corporations"," "]
["Total Allocations In-kind"," ",{"$f":"SUM(C280:C290)","v":0},0,0,0,0,0,0,0,0,0]
["Monetary Allocations"," "]
["Departmental Agencies and Accounts"," "]
["District Municipalities"," ",0,0,0,{"v":23000000,"d":"23,000"},{"v":23000000,"d":"23,000"},{"v":23000000,"d":"23,000"},0,{"v":23000000,"d":"23,000"},{"v":25500000,"d":"25,500"},{"v":25000000,"d":"25,000"}]
["Foreign Government and International Organisations"," "]
["Higher Educational Institutions"," "]
["Households"," ",0,0,0,0,0,0,0,0,0,0]
["National Governments"," ",{"v":20298742.36,"d":"20,299"},{"v":13901217.37,"d":"13,901"},{"v":42871189.8,"d":"42,871"},{"v":53117820,"d":"53,118"},{"v":53117820,"d":"53,118"},{"v":53117820,"d":"53,118"},{"v":26360030.18,"d":"26,360"},{"v":35405120,"d":"35,405"},{"v":35887032,"d":"35,887"},{"v":37217589,"d":"37,218"}]
["National Revenue Fund"," ",{"v":432161000,"d":"432,161"},{"v":463631000,"d":"463,631"},{"v":491837000,"d":"491,837"},{"v":520871000,"d":"520,871"},{"v":520871000,"d":"520,871"},{"v":520871000,"d":"520,871"},{"v":390653000,"d":"390,653"},{"v":548684000,"d":"548,684"},{"v":577955000,"d":"577,955"},{"v":592713000,"d":"592,713"}]
["Non-Profit Institutions"," "]
["Parent Municipality"," ",0,0,0,0,0,0,0,0,0,0]
["Private Enterprises"," "]
["Provincial Government"," ",0,0,0,0,0,0,0,0,0,0]
["Public Corporations"," "]
["Total Monetary Allocations"," ",{"$f":"SUM(C293:C304)","v":{"v":452459742.36,"d":"452,460"}},{"v":477532217.37,"d":"477,532"},{"v":534708189.8,"d":"534,708"},{"v":596988820,"d":"596,989"},{"v":596988820,"d":"596,989"},{"v":596988820,"d":"596,989"},{"v":417013030.18,"d":"417,013"},{"v":607089120,"d":"607,089"},{"v":639342032,"d":"639,342"},{"v":654930589,"d":"654,931"}]
["Total Transfer and subsidies - Operational"," ",{"$f":"C291+C305","v":{"v":452459742.36,"d":"452,460"}},{"$f":"D291+D305","v":{"v":477532217.37,"d":"477,532"}},{"v":534708189.8,"d":"534,708"},{"v":596988820,"d":"596,989"},{"v":596988820,"d":"596,989"},{"v":596988820,"d":"596,989"},{"v":417013030.18,"d":"417,013"},{"v":607089120,"d":"607,089"},{"v":639342032,"d":"639,342"},{"v":654930589,"d":"654,931"}]
["Interest Receivables"," "]
["Property Rates"," "]
["Service Charges"," "]
["Electricity"," "]
["Waste Management"," "]
["Waste Water Management"," ",0,0,0,0,0,0,0,0,0,0]
["Water"," ",0,0,0,0,0,0,0,0,0,0]
["Total Service Charges"," ",{"$f":"SUM(C310:C313)","v":0},0,0,0,0,0,0,0,0,0]
["Total Interest Receivables"," ",{"$f":"+C308+C314","v":0},0,0,0,0,0,0,0,0,0]
["Fuel Levy (RSC Replacement Grant)"," "]
["Operational Revenue - Service Charges"," "]
["Electricity - Availability Charges"," "]
["Waste Management - Availability Charges"," "]
["Waste Water Management - Availability Charges"," ",0,0,0,0,0,0,0,0,0,0]
["Water - Availability Charges"," ",0,0,0,0,0,0,0,0,0,0]
["Total Operational Revenue - Service Charges"," ",{"$f":"SUM(C318:C321)","v":0},0,0,0,0,0,0,0,0,0]
["Gains on Disposal of Fixed and Intangible Assets"," "]
["Biological Assets"," "]
["Heritage Assets"," "]
["Intangible Assets"," ",0,0,0,0,0,0,0,0,0,0]
["Investment Property"," "]
["Living resources"," "]
["Property, Plant and Equipment"," ",0,0,0,0,0,0,{"v":473793.45,"d":"474"},0,0,0]
["Total Disposal of Fixed and Intangible Assets"," ",{"$f":"SUM(C324:C329)","v":0},0,0,0,0,0,{"v":473793.45,"d":"474"},0,0,0]
["Other Gains"," "]
["Debt waived"," "]
["Discontinued Operations and Disposals of Non-current Assets"," "]
["Inventory"," "]
["Fair value assessment - Water stock"," "]
["Increase to net-realisable Value"," ",0,0,0,0,0,0,0,0,0,0]
["Total Inventory"," ",{"$f":"SUM(C335:C336)","v":0},0,0,0,0,0,0,0,0,0]
["Fair Value Adjustment"," "]
["Actuarial Assessments"," "]
["Leave Gratuity"," "]
["Long Service Awards"," ",{"v":972000,"d":"972"},{"v":92000,"d":"92"},{"v":409000,"d":"409"},0,0,0,0,0,0,0]
["Medical"," ",{"v":2783000,"d":"2,783"},{"v":1282000,"d":"1,282"},{"v":376000,"d":"376"},0,0,0,0,0,0,0]
["Pension Funds"," "]
["Total Actuarial Assessments"," ",{"$f":"SUM(C340:C343)","v":{"v":3755000,"d":"3,755"}},{"v":1374000,"d":"1,374"},{"v":785000,"d":"785"},0,0,0,0,0,0,0]
["Biological Assets"," "]
["Heritage Assets"," "]
["Interest rate Swaps"," "]
["Investment Property"," "]
["Investments"," "]
["Living resources"," "]
["Total Fair Value Adjustment"," ",{"$f":"SUM(C344:C350)","v":{"v":3755000,"d":"3,755"}},{"$f":"SUM(D344:D350)","v":{"v":1374000,"d":"1,374"}},{"v":785000,"d":"785"},0,0,0,0,0,0,0]
["Foreign Exchange"," "]
["Contributions to Provisions for landfill sites"," "]
["Total Other Gains"," ",{"$f":"C332+C333+C337+C351+C352+C353","v":{"v":3755000,"d":"3,755"}},{"$f":"D332+D333+D337+D351+D352+D353","v":{"v":1374000,"d":"1,374"}},{"v":785000,"d":"785"},0,0,0,0,0,0,0]
["Discontinued Operations"," "]
["Total Revenue"," ",{"$f":"+C21+C33+C47+C59+C110+C138+C184+C200+C213+C236+C252+C256+C261+C277+C306+C315+C316+C322+C330+C354+C355+C214+C215+C170+C165+C161+C156+C139","v":{"v":560414149.91,"d":"560,414"}},{"v":591885110.8,"d":"591,885"},{"v":656242237.5,"d":"656,242"},{"v":723814646,"d":"723,815"},{"v":723562194,"d":"723,562"},{"v":723562194,"d":"723,562"},{"v":498876105.40000004,"d":"498,876"},{"v":741220498,"d":"741,220"},{"v":781473186,"d":"781,473"},{"v":805535166,"d":"805,535"}]
["EXPENDITURE ITEMS:"," "]
["Employee related costs"," "]
["Salaries and Allowances"," "]
["Basic Salary",2,{"v":146711240.44,"d":"146,711"},{"v":154139908.12,"d":"154,140"},{"v":164038066.83,"d":"164,038"},{"v":192645764,"d":"192,646"},{"v":191765680,"d":"191,766"},{"v":191765680,"d":"191,766"},{"v":117475674.48,"d":"117,476"},{"v":199955192,"d":"199,955"},{"v":207890241,"d":"207,890"},{"v":216118126,"d":"216,118"}]
["Bonuses"," ",{"v":80719.26,"d":"81"},{"v":54547.5,"d":"55"},{"v":69478.02,"d":"69"},{"v":165947,"d":"166"},{"v":223740,"d":"224"},{"v":223740,"d":"224"},{"v":69478.02,"d":"69"},{"v":232690,"d":"233"},{"v":241998,"d":"242"},{"v":251678,"d":"252"}]
["Allowance"," "]
["Accommodation, Travel and Incidental"," ",{"v":1062914.95,"d":"1,063"},{"v":690032.69,"d":"690"},{"v":600208.11,"d":"600"},{"v":1067244,"d":"1,067"},{"v":1172016,"d":"1,172"},{"v":1172016,"d":"1,172"},{"v":380888.88,"d":"381"},{"v":1218907,"d":"1,219"},{"v":1267664,"d":"1,268"},{"v":1318369,"d":"1,318"}]
["Cellular and Telephone"," ",{"v":1236537.54,"d":"1,237"},{"v":1195931.83,"d":"1,196"},{"v":1239497.6,"d":"1,239"},{"v":1312962,"d":"1,313"},{"v":1426322,"d":"1,426"},{"v":1426322,"d":"1,426"},{"v":848364.25,"d":"848"},{"v":1483389,"d":"1,483"},{"v":1542728,"d":"1,543"},{"v":1604431,"d":"1,604"}]
["Housing Benefits"," ",{"v":847425.31,"d":"847"},{"v":1045193.35,"d":"1,045"},{"v":1102935.05,"d":"1,103"},{"v":1097558,"d":"1,098"},{"v":1194226,"d":"1,194"},{"v":1194226,"d":"1,194"},{"v":744410.14,"d":"744"},{"v":1242007,"d":"1,242"},{"v":1291685,"d":"1,292"},{"v":1343353,"d":"1,343"}]
["Non-pensionable"," ",{"v":222558.3,"d":"223"},{"v":240164.52,"d":"240"},{"v":274502.48,"d":"275"},{"v":308613,"d":"309"},{"v":414948,"d":"415"},{"v":414948,"d":"415"},{"v":256208.94,"d":"256"},{"v":431549,"d":"432"},{"v":448810,"d":"449"},{"v":466763,"d":"467"}]
["Travel or Motor Vehicle"," ",{"v":21222560.56,"d":"21,223"},{"v":20995958.74,"d":"20,996"},{"v":10606146.43,"d":"10,606"},{"v":23105621,"d":"23,106"},{"v":22414808,"d":"22,415"},{"v":22414808,"d":"22,415"},{"v":6421806.68,"d":"6,422"},{"v":23311417,"d":"23,311"},{"v":24243871,"d":"24,244"},{"v":25213626,"d":"25,214"}]
["Voluntary Work"," ",0,0,0,0,0,0,0,0,0,0]
["Total Allowance"," ",{"$f":"SUM(C363:C368)","v":{"v":24591996.66,"d":"24,592"}},{"v":24167281.13,"d":"24,167"},{"v":13823289.67,"d":"13,823"},{"v":26891998,"d":"26,892"},{"v":26622320,"d":"26,622"},{"v":26622320,"d":"26,622"},{"v":8651678.89,"d":"8,652"},{"v":27687269,"d":"27,687"},{"v":28794758,"d":"28,795"},{"v":29946542,"d":"29,947"}]
["Service Related Benefits"," "]
["Acting"," ",{"v":216161.32,"d":"216"},{"v":334973.01,"d":"335"},{"v":207476.77,"d":"207"},{"v":507423,"d":"507"},{"v":647502,"d":"648"},{"v":647502,"d":"648"},{"v":204554.65,"d":"205"},{"v":716131,"d":"716"},{"v":743518,"d":"744"},{"v":771776,"d":"772"}]
["Bonus"," ",{"v":10259397.18,"d":"10,259"},{"v":10668058.09,"d":"10,668"},{"v":11322775.14,"d":"11,323"},{"v":12566134,"d":"12,566"},{"v":13782701,"d":"13,783"},{"v":13782701,"d":"13,783"},{"v":7646249.74,"d":"7,646"},{"v":13888285,"d":"13,888"},{"v":14443818,"d":"14,444"},{"v":15021570,"d":"15,022"}]
["Danger Allowance"," "]
["Entertainment"," ",0,0,0,0,0,0,0,0,0,0]
["Fire Brigade"," "]
["In-kind Benefits"," ",0,0,0,0,0,0,0,0,0,0]
["Leave Pay"," ",{"v":1750234.58,"d":"1,750"},{"v":1020255.12,"d":"1,020"},{"v":1840689.9,"d":"1,841"},{"v":2591675,"d":"2,592"},{"v":3652175,"d":"3,652"},{"v":3652175,"d":"3,652"},{"v":1187988.27,"d":"1,188"},{"v":3846059,"d":"3,846"},{"v":3998451,"d":"3,998"},{"v":4156246,"d":"4,156"}]
["Lifeguard/Duty Squads"," "]
["Long Service Award"," ",0,0,0,{"v":1204868,"d":"1,205"},{"v":1204868,"d":"1,205"},{"v":1204868,"d":"1,205"},{"v":807409.57,"d":"807"},{"v":1253071,"d":"1,253"},{"v":1303193,"d":"1,303"},{"v":1355321,"d":"1,355"}]
["Overtime"," ",{"v":19197132.39,"d":"19,197"},{"v":21206787.49,"d":"21,207"},{"v":24078248.74,"d":"24,078"},{"v":7173884,"d":"7,174"},{"v":25328950,"d":"25,329"},{"v":25328950,"d":"25,329"},{"v":16995298.53,"d":"16,995"},{"v":26342131,"d":"26,342"},{"v":27395811,"d":"27,396"},{"v":28491641,"d":"28,492"}]
["Scarcity"," ",0,0,0,0,0,0,0,0,0,0]
["Standby Allowance"," ",{"v":4910406.61,"d":"4,910"},{"v":5315054.54,"d":"5,315"},{"v":4899388.29,"d":"4,899"},{"v":5320725,"d":"5,321"},{"v":5896603,"d":"5,897"},{"v":5896603,"d":"5,897"},{"v":3382315.98,"d":"3,382"},{"v":6132476,"d":"6,132"},{"v":6377775,"d":"6,378"},{"v":6632886,"d":"6,633"}]
["Tools Allowance"," "]
["Uniform-Special-Protective Clothing"," "]
["Leave gratuity"," "]
["Long Term Service Award"," "]
["Total Service Related Benefits"," ",{"$f":"SUM(C371:C386)","v":{"v":36333332.08,"d":"36,333"}},{"v":38545128.25,"d":"38,545"},{"v":42348578.839999996,"d":"42,349"},{"v":29364709,"d":"29,365"},{"v":50512799,"d":"50,513"},{"v":50512799,"d":"50,513"},{"v":30223816.740000002,"d":"30,224"},{"v":52178153,"d":"52,178"},{"v":54262566,"d":"54,263"},{"v":56429440,"d":"56,429"}]
["Total Salaries and Allowances"," ",{"$f":"+C360+C361+C369+C387","v":{"v":207717288.44,"d":"207,717"}},{"v":216906865,"d":"216,907"},{"v":220279413.36,"d":"220,279"},{"v":249068418,"d":"249,068"},{"v":269124539,"d":"269,125"},{"v":269124539,"d":"269,125"},{"v":156420648.13,"d":"156,421"},{"v":280053304,"d":"280,053"},{"v":291189563,"d":"291,190"},{"v":302745786,"d":"302,746"}]
["Social Contributions"," "]
["Bargaining Council"," ",{"v":52753.84,"d":"53"},{"v":58211.34,"d":"58"},{"v":58782.05,"d":"59"},{"v":68054,"d":"68"},{"v":184772,"d":"185"},{"v":184772,"d":"185"},{"v":41867.2,"d":"42"},{"v":192183,"d":"192"},{"v":199866,"d":"200"},{"v":207855,"d":"208"}]
["Group Life Insurance"," ",0,0,0,0,0,0,0,0,0,0]
["Medical"," ",{"v":10477980.69,"d":"10,478"},{"v":10952865.4,"d":"10,953"},{"v":11509551.12,"d":"11,510"},{"v":14670105,"d":"14,670"},{"v":12925516,"d":"12,926"},{"v":12925516,"d":"12,926"},{"v":7966920.7,"d":"7,967"},{"v":13337596,"d":"13,338"},{"v":13868792,"d":"13,869"},{"v":14420822,"d":"14,421"}]
["Pension"," ",{"v":20665142.44,"d":"20,665"},{"v":21591302.31,"d":"21,591"},{"v":22977285.78,"d":"22,977"},{"v":26619638,"d":"26,620"},{"v":27236562,"d":"27,237"},{"v":27236562,"d":"27,237"},{"v":16015332.55,"d":"16,015"},{"v":28374640,"d":"28,375"},{"v":29501406,"d":"29,501"},{"v":30671757,"d":"30,672"}]
["Unemployment Insurance"," ",{"v":1003781.77,"d":"1,004"},{"v":1042730.33,"d":"1,043"},{"v":1064128.68,"d":"1,064"},{"v":1294986,"d":"1,295"},{"v":1335904,"d":"1,336"},{"v":1335904,"d":"1,336"},{"v":725415.29,"d":"725"},{"v":1303476,"d":"1,303"},{"v":1355612,"d":"1,356"},{"v":1409835,"d":"1,410"}]
["Total Social Contributions"," ",{"$f":"SUM(C390:C394)","v":{"v":32199658.74,"d":"32,200"}},{"v":33645109.379999995,"d":"33,645"},{"v":35609747.63,"d":"35,610"},{"v":42652783,"d":"42,653"},{"v":41682754,"d":"41,683"},{"v":41682754,"d":"41,683"},{"v":24749535.740000002,"d":"24,750"},{"v":43207895,"d":"43,208"},{"v":44925676,"d":"44,926"},{"v":46710269,"d":"46,710"}]
["Post-retirement Benefit"," "]
["Medical"," ",{"v":3094000,"d":"3,094"},{"v":3093001,"d":"3,093"},{"v":3409000,"d":"3,409"},0,0,0,0,0,0,0]
["Other Benefits"," "]
["Pension"," ",{"v":1150000,"d":"1,150"},{"v":1082000,"d":"1,082"},{"v":1816000,"d":"1,816"},0,0,0,0,0,0,0]
["Total Post-retirement Benefit",4,{"$f":"SUM(C397:C399)","v":{"v":4244000,"d":"4,244"}},{"v":4175001,"d":"4,175"},{"v":5225000,"d":"5,225"},0,0,0,0,0,0,0]
["Sub-Total",null,{"$f":"+C388+C395+C400","v":{"v":244160947.18,"d":"244,161"}},{"v":254726975.38,"d":"254,727"},{"v":261114160.99,"d":"261,114"},{"v":291721201,"d":"291,721"},{"v":310807293,"d":"310,807"},{"v":310807293,"d":"310,807"},{"v":181170183.87,"d":"181,170"},{"v":323261199,"d":"323,261"},{"v":336115239,"d":"336,115"},{"v":349456055,"d":"349,456"}]
["Less: Employees costs capitalised to PPE"," "]
["Total Employee Related Cost","1,5",{"$f":"C401+C402","v":{"v":244160947.18,"d":"244,161"}},{"$f":"D401+D402","v":{"v":254726975.38,"d":"254,727"}},{"v":261114160.99,"d":"261,114"},{"v":291721201,"d":"291,721"},{"v":310807293,"d":"310,807"},{"v":310807293,"d":"310,807"},{"v":181170183.87,"d":"181,170"},{"v":323261199,"d":"323,261"},{"v":336115239,"d":"336,115"},{"v":349456055,"d":"349,456"}]
["Remuneration of Councillors"," "]
["Allowances and Service Related Benefits"," "]
["Basic Salary"," ",{"v":3901688.05,"d":"3,902"},{"v":4586439.38,"d":"4,586"},{"v":5095410.85,"d":"5,095"},{"v":5349234,"d":"5,349"},{"v":5349234,"d":"5,349"},{"v":5349234,"d":"5,349"},{"v":3551483.71,"d":"3,551"},{"v":5563208,"d":"5,563"},{"v":5785737,"d":"5,786"},{"v":6017164,"d":"6,017"}]
["Cell phone Allowance"," ",{"v":491470,"d":"491"},{"v":547200,"d":"547"},{"v":518400,"d":"518"},{"v":545094,"d":"545"},{"v":545094,"d":"545"},{"v":545094,"d":"545"},{"v":345600,"d":"346"},{"v":566898,"d":"567"},{"v":589576,"d":"590"},{"v":613158,"d":"613"}]
["Housing Allowance"," "]
["In-kind Benefits"," "]
["Market Related Non-pensionable Allowance"," "]
["Motor Vehicle Allowance"," ",0,0,0,0,0,0,0,0,0,0]
["Office-bearer Allowance"," ",{"v":630666.57,"d":"631"},{"v":359735.91,"d":"360"},{"v":483928.75,"d":"484"},{"v":530121,"d":"530"},{"v":567783,"d":"568"},{"v":567783,"d":"568"},{"v":378356.27,"d":"378"},{"v":590495,"d":"590"},{"v":614116,"d":"614"},{"v":638679,"d":"639"}]
["Out of pocket Expenses"," ",{"v":166839.83,"d":"167"},{"v":7947.6,"d":"8"},{"v":9500,"d":"10"},{"v":1682,"d":"2"},{"v":4682,"d":"5"},{"v":4682,"d":"5"},{"v":5000,"d":"5"},{"v":4870,"d":"5"},{"v":5065,"d":"5"},{"v":5268,"d":"5"}]
["Travelling Allowance"," ",{"v":1175567.2,"d":"1,176"},{"v":1264924.45,"d":"1,265"},{"v":1387994.56,"d":"1,388"},{"v":1573379,"d":"1,573"},{"v":1574835,"d":"1,575"},{"v":1574835,"d":"1,575"},{"v":950064.86,"d":"950"},{"v":1637833,"d":"1,638"},{"v":1703346,"d":"1,703"},{"v":1771480,"d":"1,771"}]
["Use of Personal Facilities"," "]
["Total Allowances and Service Related Benefits"," ",{"$f":"SUM(C406:C415)","v":{"v":6366231.65,"d":"6,366"}},{"v":6766247.34,"d":"6,766"},{"v":7495234.16,"d":"7,495"},{"v":7999510,"d":"8,000"},{"v":8041628,"d":"8,042"},{"v":8041628,"d":"8,042"},{"v":5230504.840000001,"d":"5,231"},{"v":8363304,"d":"8,363"},{"v":8697840,"d":"8,698"},{"v":9045749,"d":"9,046"}]
["Social Contributions"," "]
["Medial Aid Benefits"," ",{"v":153076.2,"d":"153"},{"v":33097.2,"d":"33"},{"v":2103,"d":"2"},{"v":3322,"d":"3"},{"v":3322,"d":"3"},{"v":3322,"d":"3"},{"v":-2649.6,"d":"(3)"},{"v":3455,"d":"3"},{"v":3594,"d":"4"},{"v":3738,"d":"4"}]
["Pension Fund Contributions"," ",{"v":468568.22,"d":"469"},{"v":132555.67,"d":"133"},{"v":83932.08,"d":"84"},{"v":56489,"d":"56"},{"v":56489,"d":"56"},{"v":56489,"d":"56"},{"v":11752.98,"d":"12"},{"v":58750,"d":"59"},{"v":61101,"d":"61"},{"v":63544,"d":"64"}]
["Total Social Contributions"," ",{"$f":"SUM(C418:C419)","v":{"v":621644.4199999999,"d":"622"}},{"v":165652.87,"d":"166"},{"v":86035.08,"d":"86"},{"v":59811,"d":"60"},{"v":59811,"d":"60"},{"v":59811,"d":"60"},{"v":9103.38,"d":"9"},{"v":62205,"d":"62"},{"v":64695,"d":"65"},{"v":67282,"d":"67"}]
["Total Remuneration of Councillors","1,5",{"$f":"+C416+C420","v":{"v":6987876.07,"d":"6,988"}},{"v":6931900.21,"d":"6,932"},{"v":7581269.24,"d":"7,581"},{"v":8059321,"d":"8,059"},{"v":8101439,"d":"8,101"},{"v":8101439,"d":"8,101"},{"v":5239608.220000001,"d":"5,240"},{"v":8425509,"d":"8,426"},{"v":8762535,"d":"8,763"},{"v":9113031,"d":"9,113"}]
["Bulk Purchases - Electricity"," "]
["ESKOM"," ",0,0,0,0,0,0,0,0,0,0]
["Independent Power Producers"," "]
["Green Electricity"," "]
["Green Charges"," "]
["Green Rights and Certificates"," "]
["Total Green Electricity"," ",{"$f":"SUM(C426:C427)","v":0},0,0,0,0,0,0,0,0,0]
["Renewable, Cogen, etc"," "]
["Total Independent Power Producers"," ",{"$f":"+C428+C429","v":0},0,0,0,0,0,0,0,0,0]
["Self Generation"," "]
["Capitalisation Electricity Costs (Credit Account)"," "]
["Total Bulk Purchases - Electricity",1,{"$f":"+C423+C430+C431+C432","v":0},{"$f":"+D423+D430+D431+D432","v":0},0,0,0,0,0,0,0,0]
["Inventory Consumed"," "]
["Agricultural"," "]
["Consumables"," ",{"v":4560855.36,"d":"4,561"},{"v":4946088.36,"d":"4,946"},{"v":9621465.92,"d":"9,621"},{"v":8762999,"d":"8,763"},{"v":9178029,"d":"9,178"},{"v":9178029,"d":"9,178"},{"v":6696566.17,"d":"6,697"},{"v":8372504,"d":"8,373"},{"v":8648796,"d":"8,649"},{"v":8925561,"d":"8,926"}]
["Finished Goods"," "]
["Housing Stock"," "]
["Land"," "]
["Materials and Supplies"," ",{"v":3464484.77,"d":"3,464"},{"v":770124.87,"d":"770"},{"v":15961062.78,"d":"15,961"},{"v":1456363,"d":"1,456"},{"v":1314845,"d":"1,315"},{"v":1314845,"d":"1,315"},{"v":443935.5,"d":"444"},{"v":1731413,"d":"1,731"},{"v":1789059,"d":"1,789"},{"v":1846917,"d":"1,847"}]
["Water"," ",{"v":25395858.97,"d":"25,396"},{"v":27881714.92,"d":"27,882"},{"v":33244320.74,"d":"33,244"},{"v":29415760,"d":"29,416"},{"v":35537035,"d":"35,537"},{"v":35537035,"d":"35,537"},{"v":26595466.19,"d":"26,595"},{"v":29592391,"d":"29,592"},{"v":30568940,"d":"30,569"},{"v":31547146,"d":"31,547"}]
["Sub-total"," ",{"$f":"SUM(C435:C441)","v":{"v":33421199.1,"d":"33,421"}},{"v":33597928.150000006,"d":"33,598"},{"v":58826849.44,"d":"58,827"},{"v":39635122,"d":"39,635"},{"v":46029909,"d":"46,030"},{"v":46029909,"d":"46,030"},{"v":33735967.86,"d":"33,736"},{"v":39696308,"d":"39,696"},{"v":41006795,"d":"41,007"},{"v":42319624,"d":"42,320"}]
["Less: Capitalisation of inventory consumed"," "]
["Total Inventory Consumed",1,{"$f":"C442+C443","v":{"v":33421199.1,"d":"33,421"}},{"v":33597928.150000006,"d":"33,598"},{"v":58826849.44,"d":"58,827"},{"v":39635122,"d":"39,635"},{"v":46029909,"d":"46,030"},{"v":46029909,"d":"46,030"},{"v":33735967.86,"d":"33,736"},{"v":39696308,"d":"39,696"},{"v":41006795,"d":"41,007"},{"v":42319624,"d":"42,320"}]
["Debt Impairment"," "]
["Trade and Other Receivables from Exchange Transactions"," "]
["Electricity"," "]
["Shared Services"," "]
["Waste Management"," "]
["Waste Water Management"," ",{"v":-6845810.86,"d":"(6,846)"},{"v":-5015095.47,"d":"(5,015)"},{"v":7223520.82,"d":"7,224"},{"v":7986756,"d":"7,987"},{"v":7986756,"d":"7,987"},{"v":7986756,"d":"7,987"},0,{"v":8306227,"d":"8,306"},{"v":8580332,"d":"8,580"},{"v":8854903,"d":"8,855"}]
["Water"," ",{"v":5644267.63,"d":"5,644"},{"v":15810780.43,"d":"15,811"},{"v":-4316769.46,"d":"(4,317)"},{"v":23542910,"d":"23,543"},{"v":23542910,"d":"23,543"},{"v":23542910,"d":"23,543"},0,{"v":24484627,"d":"24,485"},{"v":25292620,"d":"25,293"},{"v":26101983,"d":"26,102"}]
["Non Specific Accounts"," ",0,0,0,0,0,0,0,0,0,0]
["Total Trade and Other Receivables from Exchange Transactions"," ",{"$f":"SUM(C447:C452)","v":{"v":-1201543.2300000004,"d":"(1,202)"}},{"$f":"SUM(D447:D452)","v":{"v":10795684.96,"d":"10,796"}},{"v":2906751.3600000003,"d":"2,907"},{"v":31529666,"d":"31,530"},{"v":31529666,"d":"31,530"},{"v":31529666,"d":"31,530"},0,{"v":32790854,"d":"32,791"},{"v":33872952,"d":"33,873"},{"v":34956886,"d":"34,957"}]
["Other Receivables from Non-exchange Revenue"," "]
["Property Rates"," "]
["Property Rates General"," "]
["Agricultural Properties"," "]
["Business and Commercial Properties"," "]
["Industrial Properties"," "]
["Mining Properties"," "]
["Public Benefit Organisations"," "]
["Public Service Infrastructure Properties"," "]
["Public Service Purposes Properties"," "]
["Residential Properties"," "]
["Residential Sectional Title Garages"," "]
["Sport Clubs and Fields"," "]
["Vacant Land"," "]
["Total Property Rates"," ",{"$f":"SUM(C456:C467)","v":0},{"$f":"SUM(D456:D467)","v":0},0,0,0,0,0,0,0,0]
["Service Charges"," "]
["Service Charges General"," "]
["Electricity"," "]
["Waste Management"," "]
["Waste Water Management"," "]
["Water"," "]
["Total Service Charges"," ",{"$f":"SUM(C470:C474)","v":0},{"$f":"SUM(D470:D474)","v":0},0,0,0,0,0,0,0,0]
["Non Specific Accounts"," "]
["Total Other Receivables from Non-exchange Revenue"," ",{"$f":"+C475+C468+C476","v":0},{"$f":"+D475+D468+D476","v":0},{"$f":"+E475+E468+E476","v":0},0,0,0,0,0,0,0]
["Total Debt Impairment",1,{"$f":"+C453+C477","v":{"v":-1201543.2300000004,"d":"(1,202)"}},{"$f":"+D453+D477","v":{"v":10795684.96,"d":"10,796"}},{"v":2906751.3600000003,"d":"2,907"},{"v":31529666,"d":"31,530"},{"v":31529666,"d":"31,530"},{"v":31529666,"d":"31,530"},0,{"v":32790854,"d":"32,791"},{"v":33872952,"d":"33,873"},{"v":34956886,"d":"34,957"}]
["Depreciation, Amortisation and Impairment"," "]
["Amortisation"," "]
["Intangible Assets"," ",{"v":133563.99,"d":"134"},{"v":201992.83,"d":"202"},{"v":109887.28,"d":"110"},{"v":287590,"d":"288"},{"v":287590,"d":"288"},{"v":287590,"d":"288"},{"v":82415.45,"d":"82"},{"v":4806921,"d":"4,807"},{"v":4966159,"d":"4,966"},{"v":5125801,"d":"5,126"}]
["Total Amortisation"," ",{"$f":"+C481","v":{"v":133563.99,"d":"134"}},{"v":201992.83,"d":"202"},{"v":109887.28,"d":"110"},{"v":287590,"d":"288"},{"v":287590,"d":"288"},{"v":287590,"d":"288"},{"v":82415.45,"d":"82"},{"v":4806921,"d":"4,807"},{"v":4966159,"d":"4,966"},{"v":5125801,"d":"5,126"}]
["Depreciation"," "]
["Biological or Cultivated Assets"," "]
["Coastal Infrastructure"," "]
["Community Assets"," ",{"v":128553.79,"d":"129"},{"v":113320.65,"d":"113"},{"v":83995.76,"d":"84"},{"v":177098,"d":"177"},{"v":177098,"d":"177"},{"v":177098,"d":"177"},{"v":62996.81,"d":"63"},{"v":188685,"d":"189"},{"v":194913,"d":"195"},{"v":201149,"d":"201"}]
["Computer Equipment"," ",{"v":2492124.42,"d":"2,492"},{"v":1646165.84,"d":"1,646"},{"v":2110971.61,"d":"2,111"},{"v":3242783,"d":"3,243"},{"v":3242783,"d":"3,243"},{"v":3242783,"d":"3,243"},{"v":1460424.88,"d":"1,460"},{"v":3372498,"d":"3,372"},{"v":3486255,"d":"3,486"},{"v":3600748,"d":"3,601"}]
["Electrical Infrastructure"," ",{"v":1549286,"d":"1,549"},{"v":1521300.86,"d":"1,521"},{"v":1484677.54,"d":"1,485"},{"v":1825802,"d":"1,826"},{"v":1825802,"d":"1,826"},{"v":1825802,"d":"1,826"},{"v":435952.11,"d":"436"},{"v":1898835,"d":"1,899"},{"v":1961497,"d":"1,961"},{"v":2024265,"d":"2,024"}]
["Furniture and Office Equipment"," ",{"v":593810.01,"d":"594"},{"v":691447.58,"d":"691"},{"v":706671.3,"d":"707"},{"v":829678,"d":"830"},{"v":829678,"d":"830"},{"v":829678,"d":"830"},{"v":725172.07,"d":"725"},{"v":867362,"d":"867"},{"v":897502,"d":"898"},{"v":928027,"d":"928"}]
["Heritage Assets"," "]
["Information and Communication Infrastructure"," ",{"v":39303.44,"d":"39"},{"v":68510.07,"d":"69"},{"v":64178.89,"d":"64"},{"v":41431,"d":"41"},{"v":41431,"d":"41"},{"v":41431,"d":"41"},{"v":76623,"d":"77"},{"v":43089,"d":"43"},{"v":44512,"d":"45"},{"v":45936,"d":"46"}]
["Investment Property"," "]
["Land"," "]
["Libraries"," "]
["Living resources"," "]
["Machinery and Equipment"," ",{"v":547745.47,"d":"548"},{"v":624441.97,"d":"624"},{"v":770285.07,"d":"770"},{"v":722378,"d":"722"},{"v":722378,"d":"722"},{"v":722378,"d":"722"},{"v":554660.14,"d":"555"},{"v":746782,"d":"747"},{"v":772111,"d":"772"},{"v":797634,"d":"798"}]
["Other Assets"," ",{"v":1178015.9,"d":"1,178"},{"v":1193249.09,"d":"1,193"},{"v":1193249.11,"d":"1,193"},{"v":1371640,"d":"1,372"},{"v":1371640,"d":"1,372"},{"v":1371640,"d":"1,372"},{"v":893796.8,"d":"894"},{"v":1426507,"d":"1,427"},{"v":1473721,"d":"1,474"},{"v":1521043,"d":"1,521"}]
["Rail Infrastructure"," "]
["Roads Infrastructure"," ",{"v":4193.89,"d":"4"},{"v":4193.89,"d":"4"},{"v":4193.9,"d":"4"},{"v":4909,"d":"5"},{"v":4909,"d":"5"},{"v":4909,"d":"5"},{"v":3145.42,"d":"3"},{"v":5106,"d":"5"},{"v":5274,"d":"5"},{"v":5443,"d":"5"}]
["Sanitation Infrastructure"," ",{"v":6813161.81,"d":"6,813"},{"v":6775647.15,"d":"6,776"},{"v":7745699.76,"d":"7,746"},{"v":8006463,"d":"8,006"},{"v":8006463,"d":"8,006"},{"v":8006463,"d":"8,006"},{"v":6093758.51,"d":"6,094"},{"v":8326722,"d":"8,327"},{"v":8601504,"d":"8,602"},{"v":8876753,"d":"8,877"}]
["Solid Waste Infrastructure"," "]
["Storm water Infrastructure"," "]
["Transport Assets"," ",{"v":7409187.68,"d":"7,409"},{"v":5089808.56,"d":"5,090"},{"v":6547425.36,"d":"6,547"},{"v":12023639,"d":"12,024"},{"v":12023639,"d":"12,024"},{"v":12023639,"d":"12,024"},{"v":5904901.36,"d":"5,905"},{"v":10723328,"d":"10,723"},{"v":11077197,"d":"11,077"},{"v":11431669,"d":"11,432"}]
["Water Supply Infrastructure"," ",{"v":71318461.89,"d":"71,318"},{"v":80482730.2,"d":"80,483"},{"v":93378884.45,"d":"93,379"},{"v":79254609,"d":"79,255"},{"v":79254609,"d":"79,255"},{"v":79254609,"d":"79,255"},{"v":73214180.27,"d":"73,214"},{"v":82433501,"d":"82,434"},{"v":85153806,"d":"85,154"},{"v":87878728,"d":"87,879"}]
["Zoo, Marine and Non-biological Animals"," "]
["Total Depreciation"," ",{"$f":"SUM(C484:C505)","v":{"v":92073844.3,"d":"92,074"}},{"v":98210815.86,"d":"98,211"},{"v":114090232.75,"d":"114,090"},{"v":107500430,"d":"107,500"},{"v":107500430,"d":"107,500"},{"v":107500430,"d":"107,500"},{"v":89425611.36999999,"d":"89,426"},{"v":110032415,"d":"110,032"},{"v":113668292,"d":"113,668"},{"v":117311395,"d":"117,311"}]
["Capital Impairment Losses and Reversals"," "]
["Biological or Cultivated Assets"," "]
["Construction Work-in-progress"," "]
["Heritage Assets"," "]
["Intangible Assets"," "]
["Investment Property"," "]
["Living resources"," "]
["Contributions to Provisions for landfill sites"," "]
["Property, Plant and Equipment"," "]
["Coastal Infrastructure"," "]
["Community Assets"," "]
["Computer Equipment"," ",0,0,0,0,0,0,0,0,0,0]
["Electrical Infrastructure"," ",{"v":26307.44,"d":"26"},{"v":254810.36,"d":"255"},0,0,0,0,0,0,0,0]
["Furniture and Office Equipment"," ",{"v":2000.57,"d":"2"},0,0,0,0,0,0,0,0,0]
["Housing"," "]
["Information and Communication Infrastructure"," "]
["Land"," "]
["Machinery and Equipment"," ",0,0,0,0,0,0,0,0,0,0]
["Operational Buildings"," "]
["Other Assets"," "]
["Rails Infrastructure"," "]
["Roads Infrastructure"," ",0,0,0,0,0,0,0,0,0,0]
["Sanitation Infrastructure"," ",{"v":249464.78,"d":"249"},{"v":1121576.48,"d":"1,122"},0,0,0,0,0,0,0,0]
["Solid Waste Infrastructure"," "]
["Storm water Infrastructure"," "]
["Transport Assets"," ",0,0,0,0,0,0,0,0,0,0]
["Water Supply Infrastructure"," ",{"v":301588.18,"d":"302"},{"v":137140914.64,"d":"137,141"},{"v":2116952.94,"d":"2,117"},0,0,0,0,0,0,0]
["Zoo, Marine and Non-biological Assets"," "]
["Total Property, Plant and Equipment"," ",{"$f":"SUM(C516:C534)","v":{"v":579360.97,"d":"579"}},{"v":138517301.48,"d":"138,517"},{"v":2116952.94,"d":"2,117"},0,0,0,0,0,0,0]
["Total Capital Impairment Losses and Reversals"," ",{"$f":"SUM(C508:C514)+C535","v":{"v":579360.97,"d":"579"}},{"$f":"SUM(D508:D514)+D535","v":{"v":138517301.48,"d":"138,517"}},{"v":2116952.94,"d":"2,117"},0,0,0,0,0,0,0]
["Total Depreciation, Amortisation and Impairment",1,{"$f":"+C482+C506+C536","v":{"v":92786769.25999999,"d":"92,787"}},{"$f":"+D482+D506+D536","v":{"v":236930110.17,"d":"236,930"}},{"v":116317072.97,"d":"116,317"},{"v":107788020,"d":"107,788"},{"v":107788020,"d":"107,788"},{"v":107788020,"d":"107,788"},{"v":89508026.82,"d":"89,508"},{"v":114839336,"d":"114,839"},{"v":118634451,"d":"118,634"},{"v":122437196,"d":"122,437"}]
["Interest, Dividends and Rent on Land"," "]
["Dividends Paid"," "]
["Interest Paid"," ",{"v":112875.21,"d":"113"},{"v":2152.72,"d":"2"},0,{"v":54200,"d":"54"},{"v":54200,"d":"54"},{"v":54200,"d":"54"},0,{"v":56327,"d":"56"},{"v":58477,"d":"58"},{"v":60694,"d":"61"}]
["Rent on Land"," "]
["Total Interest, Dividends and Rent on Land",1,{"$f":"SUM(C539:C541)","v":{"v":112875.21,"d":"113"}},{"v":2152.72,"d":"2"},0,{"v":54200,"d":"54"},{"v":54200,"d":"54"},{"v":54200,"d":"54"},0,{"v":56327,"d":"56"},{"v":58477,"d":"58"},{"v":60694,"d":"61"}]
["Contracted Services"," "]
["Consultants and Professional Services"," ",{"v":9377989.2,"d":"9,378"},{"v":11929342.15,"d":"11,929"},{"v":17016590.36,"d":"17,017"},{"v":19372555,"d":"19,373"},{"v":19589739,"d":"19,590"},{"v":19589739,"d":"19,590"},{"v":6972995.47,"d":"6,973"},{"v":20351255,"d":"20,351"},{"v":21169317,"d":"21,169"},{"v":21883656,"d":"21,884"}]
["Contractors"," ",{"v":57233784.76,"d":"57,234"},{"v":44213591.43,"d":"44,214"},{"v":66743195.61,"d":"66,743"},{"v":74651506,"d":"74,652"},{"v":75864376,"d":"75,864"},{"v":75864376,"d":"75,864"},{"v":47113174.89,"d":"47,113"},{"v":49356364,"d":"49,356"},{"v":52820740,"d":"52,821"},{"v":54479009,"d":"54,479"}]
["Outsourced Services"," ",{"v":67650984.69,"d":"67,651"},{"v":66551445.27,"d":"66,551"},{"v":75354877.41,"d":"75,355"},{"v":79831982,"d":"79,832"},{"v":108570562,"d":"108,571"},{"v":108570562,"d":"108,571"},{"v":61441495.29,"d":"61,441"},{"v":94699106,"d":"94,699"},{"v":98311329,"d":"98,311"},{"v":101468105,"d":"101,468"}]
["Total Contracted Services",1,{"$f":"SUM(C544:C546)","v":{"v":134262758.64999998,"d":"134,263"}},{"v":122694378.85,"d":"122,694"},{"v":159114663.38,"d":"159,115"},{"v":173856043,"d":"173,856"},{"v":204024677,"d":"204,025"},{"v":204024677,"d":"204,025"},{"v":115527665.65,"d":"115,528"},{"v":164406725,"d":"164,407"},{"v":172301386,"d":"172,301"},{"v":177830770,"d":"177,831"}]
["Transfers and Subsidies"," "]
["Capital"," "]
["Allocations In-kind"," ",0,0,0,0,0,0,0,0,0,0]
["Monetary Allocations"," "]
["Total Capital"," ",{"$f":"SUM(C550:C551)","v":0},0,0,0,0,0,0,0,0,0]
["Operational"," "]
["Allocations In-kind"," ",0,0,0,0,0,0,0,0,0,0]
["Monetary Allocations"," ",{"v":15290000,"d":"15,290"},0,0,{"v":23360014,"d":"23,360"},{"v":23360014,"d":"23,360"},{"v":23360014,"d":"23,360"},{"v":14000000,"d":"14,000"},{"v":23374415,"d":"23,374"},{"v":25889392,"d":"25,889"},{"v":25404968,"d":"25,405"}]
["Total Operational"," ",{"$f":"SUM(C554:C555)","v":{"v":15290000,"d":"15,290"}},0,0,{"v":23360014,"d":"23,360"},{"v":23360014,"d":"23,360"},{"v":23360014,"d":"23,360"},{"v":14000000,"d":"14,000"},{"v":23374415,"d":"23,374"},{"v":25889392,"d":"25,889"},{"v":25404968,"d":"25,405"}]
["Total Transfers and Subsidies",1,{"$f":"+C552+C556","v":{"v":15290000,"d":"15,290"}},0,0,{"v":23360014,"d":"23,360"},{"v":23360014,"d":"23,360"},{"v":23360014,"d":"23,360"},{"v":14000000,"d":"14,000"},{"v":23374415,"d":"23,374"},{"v":25889392,"d":"25,889"},{"v":25404968,"d":"25,405"}]
["Irrecoverable Debts Written Off"," "]
["Bad debt written off"," "]
["Exchange"," "]
["Electricity"," "]
["Non Specific Accounts"," ",0,0,0,0,{"v":13670,"d":"14"},{"v":13670,"d":"14"},{"v":10196.02,"d":"10"},{"v":14217,"d":"14"},{"v":14686,"d":"15"},{"v":15156,"d":"15"}]
["Waste Management"," "]
["Waste Water Management"," ",0,0,0,{"v":8503724,"d":"8,504"},{"v":8503724,"d":"8,504"},{"v":8503724,"d":"8,504"},{"v":253245.34,"d":"253"},{"v":9013948,"d":"9,014"},{"v":9311408,"d":"9,311"},{"v":9609373,"d":"9,609"}]
["Water"," ",0,0,{"v":16808958.27,"d":"16,809"},{"v":33822941,"d":"33,823"},{"v":33822941,"d":"33,823"},{"v":33822941,"d":"33,823"},{"v":9321269.11,"d":"9,321"},{"v":35852318,"d":"35,852"},{"v":37035444,"d":"37,035"},{"v":38220579,"d":"38,221"}]
["Total Exchange"," ",{"$f":"SUM(C561:C565)","v":0},0,{"v":16808958.27,"d":"16,809"},{"v":42326665,"d":"42,327"},{"v":42340335,"d":"42,340"},{"v":42340335,"d":"42,340"},{"v":9584710.469999999,"d":"9,585"},{"v":44880483,"d":"44,880"},{"v":46361538,"d":"46,362"},{"v":47845108,"d":"47,845"}]
["Non-exchange"," ",0,0,{"v":741714.71,"d":"742"},0,0,0,0,0,0,0]
["Non Specific Accounts"," "]
["Property Rates"," ",0,0,0,0,0,0,0,0,0,0]
["Service Charges"," "]
["Total Non-exchange"," ",{"$f":"SUM(C568:C570)","v":0},0,0,0,0,0,0,0,0,0]
["Total Irrecoverable Debts Written Off",1,{"$f":"+C566+C571+C559","v":0},0,{"v":16808958.27,"d":"16,809"},{"v":42326665,"d":"42,327"},{"v":42340335,"d":"42,340"},{"v":42340335,"d":"42,340"},{"v":9584710.469999999,"d":"9,585"},{"v":44880483,"d":"44,880"},{"v":46361538,"d":"46,362"},{"v":47845108,"d":"47,845"}]
["Operational Cost and Other Cost"," "]
["Operational Cost"," "]
["Achievements and Awards"," ",0,0,0,{"v":636841,"d":"637"},{"v":780000,"d":"780"},{"v":780000,"d":"780"},0,{"v":808860,"d":"809"},{"v":835553,"d":"836"},{"v":862291,"d":"862"}]
["Advertising, Publicity and Marketing"," ",{"v":1924629.19,"d":"1,925"},{"v":2749349.68,"d":"2,749"},{"v":2134976.88,"d":"2,135"},{"v":3186724,"d":"3,187"},{"v":3561417,"d":"3,561"},{"v":3561417,"d":"3,561"},{"v":1701253.45,"d":"1,701"},{"v":3645647,"d":"3,646"},{"v":3766682,"d":"3,767"},{"v":3888082,"d":"3,888"}]
["Assets less than the Capitalisation Threshold"," ",0,0,{"v":77864.2,"d":"78"},0,0,0,0,0,0,0]
["Atmospheric Emission Licence"," "]
["Bank Charges, Facility and Card Fees"," ",{"v":212177.68,"d":"212"},{"v":126646.36,"d":"127"},{"v":128632.69,"d":"129"},{"v":259332,"d":"259"},{"v":141276,"d":"141"},{"v":141276,"d":"141"},{"v":81279.26,"d":"81"},{"v":146570,"d":"147"},{"v":151568,"d":"152"},{"v":156609,"d":"157"}]
["Bargaining Council"," "]
["Bond Issue Amortisation Costs"," "]
["Brokers Fees"," "]
["Bursaries (Employees)"," ",{"v":343404.65,"d":"343"},{"v":62752.05,"d":"63"},{"v":119998,"d":"120"},{"v":113890,"d":"114"},{"v":421883,"d":"422"},{"v":421883,"d":"422"},{"v":320070,"d":"320"},{"v":200000,"d":"200"},{"v":206600,"d":"207"},{"v":213212,"d":"213"}]
["Cash Discount"," "]
["Cleaning Services"," "]
["Commission"," ",{"v":417982.68,"d":"418"},{"v":595416.37,"d":"595"},{"v":588656.22,"d":"589"},{"v":766710,"d":"767"},{"v":423227,"d":"423"},{"v":423227,"d":"423"},{"v":404267.93,"d":"404"},{"v":438886,"d":"439"},{"v":453369,"d":"453"},{"v":467876,"d":"468"}]
["Communication"," ",{"v":4170286.74,"d":"4,170"},{"v":3630358.86,"d":"3,630"},{"v":4648199.64,"d":"4,648"},{"v":3263386,"d":"3,263"},{"v":3714338,"d":"3,714"},{"v":3714338,"d":"3,714"},{"v":2505130.59,"d":"2,505"},{"v":3904095,"d":"3,904"},{"v":4033176,"d":"4,033"},{"v":4162531,"d":"4,163"}]
["Contribution to Provisions"," "]
["Copy Right Fees"," "]
["Cost relating to the Sale of Houses"," "]
["Courier and Delivery Services"," ",0,0,0,0,0,0,0,0,0,0]
["Deeds"," "]
["Drivers Licences and Permits"," "]
["Dumping Fees (District Council)"," "]
["Electricity Compliance Certificate"," "]
["Entertainment"," "]
["Entrance Fees"," "]
["Environmental Levy"," "]
["Eskom Connection Fees"," "]
["External Audit Fees"," ",{"v":4659814.06,"d":"4,660"},{"v":4572278.46,"d":"4,572"},{"v":5765461.56,"d":"5,765"},{"v":5827079,"d":"5,827"},{"v":7783184,"d":"7,783"},{"v":7783184,"d":"7,783"},{"v":5902247.54,"d":"5,902"},{"v":8591484,"d":"8,591"},{"v":8879422,"d":"8,879"},{"v":9168817,"d":"9,169"}]
["External Computer Service"," ",{"v":4026030.11,"d":"4,026"},{"v":4527358.68,"d":"4,527"},{"v":5527809.8,"d":"5,528"},{"v":6494000,"d":"6,494"},{"v":9753330,"d":"9,753"},{"v":9753330,"d":"9,753"},{"v":6957584,"d":"6,958"},{"v":9506265,"d":"9,506"},{"v":9823247,"d":"9,823"},{"v":10141484,"d":"10,141"}]
["Fines and Penalties"," "]
["Firearm Handling Fees"," "]
["Freight Services"," "]
["Full Time Union Representative"," "]
["Hire Charges"," ",{"v":476222.27,"d":"476"},{"v":1187788.89,"d":"1,188"},{"v":1119188.15,"d":"1,119"},{"v":2801784,"d":"2,802"},{"v":1216400,"d":"1,216"},{"v":1216400,"d":"1,216"},{"v":174915,"d":"175"},{"v":2322434,"d":"2,322"},{"v":2399076,"d":"2,399"},{"v":2475852,"d":"2,476"}]
["Honoraria (Voluntarily Workers)"," "]
["Indigent Relief"," "]
["Insurance Underwriting"," ",{"v":1184373.24,"d":"1,184"},{"v":2391988.98,"d":"2,392"},{"v":2179727.03,"d":"2,180"},{"v":3097272,"d":"3,097"},{"v":3770208,"d":"3,770"},{"v":3770208,"d":"3,770"},{"v":2077721.4,"d":"2,078"},{"v":3760000,"d":"3,760"},{"v":3885900,"d":"3,886"},{"v":4012412,"d":"4,012"}]
["Capitalisation of Wet Fuel Costs (Credit Account)"," "]
["Land Alienation Costs"," "]
["Learnerships and Internships"," ",{"v":94500,"d":"95"},{"v":166867.83,"d":"167"},0,0,0,0,0,0,0,0]
["Levies Paid - Water Resource Management Charges"," "]
["Licences"," ",{"v":424621.7,"d":"425"},{"v":452669.07,"d":"453"},{"v":432995.93,"d":"433"},{"v":2317272,"d":"2,317"},{"v":2317272,"d":"2,317"},{"v":2317272,"d":"2,317"},{"v":449182.65,"d":"449"},{"v":2407782,"d":"2,408"},{"v":2498814,"d":"2,499"},{"v":2592534,"d":"2,593"}]
["Management Fee"," "]
["Municipal Services"," ",{"v":22643933.89,"d":"22,644"},{"v":24422215.35,"d":"24,422"},{"v":36641125.35,"d":"36,641"},{"v":25678417,"d":"25,678"},{"v":30573422,"d":"30,573"},{"v":30573422,"d":"30,573"},{"v":21829853.31,"d":"21,830"},{"v":27271918,"d":"27,272"},{"v":28174845,"d":"28,175"},{"v":29079951,"d":"29,080"}]
["Office Decorations"," "]
["Parking Fees"," ",0,0,0,0,0,0,0,0,0,0]
["Permits"," "]
["Personnel Agency Fees [Personnel Recruitment Costs]"," "]
["Printing, Publications and Books"," ",{"v":772845.4,"d":"773"},{"v":1137382.34,"d":"1,137"},{"v":2064728.36,"d":"2,065"},{"v":1000328,"d":"1,000"},{"v":1850443,"d":"1,850"},{"v":1850443,"d":"1,850"},{"v":1139068.64,"d":"1,139"},{"v":1833779,"d":"1,834"},{"v":1894878,"d":"1,895"},{"v":1956207,"d":"1,956"}]
["Professional Bodies, Membership and Subscription"," ",{"v":2655820,"d":"2,656"},{"v":2889463.17,"d":"2,889"},{"v":2927523.11,"d":"2,928"},{"v":3322489,"d":"3,322"},{"v":3393841,"d":"3,394"},{"v":3393841,"d":"3,394"},{"v":3099771.19,"d":"3,100"},{"v":3674964,"d":"3,675"},{"v":3796383,"d":"3,796"},{"v":3918045,"d":"3,918"}]
["Registration Fees"," ",{"v":117289.07,"d":"117"},{"v":710697.92,"d":"711"},{"v":238270.65,"d":"238"},{"v":4174418,"d":"4,174"},{"v":4476918,"d":"4,477"},{"v":4476918,"d":"4,477"},{"v":562064.79,"d":"562"},{"v":4307247,"d":"4,307"},{"v":4271882,"d":"4,272"},{"v":4352454,"d":"4,352"}]
["Remuneration to Section 79 Committee Members"," "]
["Repayment of Forfeited Deposits"," "]
["Resettlement Cost"," "]
["Rewards Incentives"," "]
["Road Worthy Test"," "]
["Samples and Specimens"," ",0,0,0,0,0,0,0,0,0,0]
["Search Fees"," "]
["Seating Allowance for Traditional Leaders"," "]
["Servitudes and Land Surveys"," "]
["Signage"," ",0,0,{"v":36910,"d":"37"},{"v":106879,"d":"107"},{"v":260000,"d":"260"},{"v":260000,"d":"260"},{"v":130000,"d":"130"},{"v":200000,"d":"200"},{"v":206600,"d":"207"},{"v":213212,"d":"213"}]
["Skills Development Fund Levy"," ",{"v":1897729.58,"d":"1,898"},{"v":1983835.08,"d":"1,984"},{"v":2011390.33,"d":"2,011"},{"v":2511371,"d":"2,511"},{"v":2565740,"d":"2,566"},{"v":2565740,"d":"2,566"},{"v":1439714.78,"d":"1,440"},{"v":2662790,"d":"2,663"},{"v":2751251,"d":"2,751"},{"v":2839985,"d":"2,840"}]
["Small Differences Tolerances"," ",{"v":-0.02,"d":"(0)"},0,{"v":-0.01,"d":"(0)"},0,0,0,0,0,0,0]
["Storage of Assets and Goods"," "]
["Storage of Files (Archiving)"," "]
["Supplier Development Programme"," "]
["System Access and Information Fees"," "]
["Taking over Contractual Obligations"," "]
["Toll Gate Fees"," "]
["Transport Provided as Part of Departmental Activities"," ",{"v":147280.37,"d":"147"},{"v":561854.15,"d":"562"},0,0,0,0,0,0,0,0]
["Travel Agency and Visas"," "]
["Travel and Subsistence"," ",{"v":2827583.72,"d":"2,828"},{"v":2989815.61,"d":"2,990"},{"v":4197332.54,"d":"4,197"},{"v":7217542,"d":"7,218"},{"v":7769950,"d":"7,770"},{"v":7769950,"d":"7,770"},{"v":3055063.45,"d":"3,055"},{"v":7456493,"d":"7,456"},{"v":7704260,"d":"7,704"},{"v":7984384,"d":"7,984"}]
["Uniform and Protective Clothing"," ",{"v":3209452,"d":"3,209"},{"v":2740052.91,"d":"2,740"},{"v":4116482.17,"d":"4,116"},{"v":4690000,"d":"4,690"},{"v":7256593,"d":"7,257"},{"v":7256593,"d":"7,257"},{"v":3427866.46,"d":"3,428"},{"v":6864874,"d":"6,865"},{"v":7092070,"d":"7,092"},{"v":7319796,"d":"7,320"}]
["Vehicle Tracking"," ",{"v":258053.37,"d":"258"},{"v":205745.93,"d":"206"},{"v":244656.37,"d":"245"},{"v":545454,"d":"545"},{"v":322416,"d":"322"},{"v":322416,"d":"322"},{"v":164495.18,"d":"164"},{"v":334346,"d":"334"},{"v":345379,"d":"345"},{"v":356431,"d":"356"}]
["Ward Committees"," "]
["Warrantees and Guarantees"," "]
["Wet Fuel"," ",{"v":10523842.74,"d":"10,524"},{"v":12947234.77,"d":"12,947"},{"v":12398266.79,"d":"12,398"},{"v":18980147,"d":"18,980"},{"v":19904245,"d":"19,904"},{"v":19904245,"d":"19,904"},{"v":13116288.29,"d":"13,116"},{"v":20130440,"d":"20,130"},{"v":20814730,"d":"20,815"},{"v":21504557,"d":"21,505"}]
["Witness Fees"," "]
["Workmens Compensation Fund"," ",{"v":893770.88,"d":"894"},{"v":929521.7,"d":"930"},0,{"v":1818181,"d":"1,818"},{"v":2000000,"d":"2,000"},{"v":2000000,"d":"2,000"},0,{"v":2000000,"d":"2,000"},{"v":2066000,"d":"2,066"},{"v":2132112,"d":"2,132"}]
["Total Operational Cost"," ",{"$f":"SUM(C575:C651)","v":{"v":63881643.319999985,"d":"63,882"}},{"v":71981294.16000001,"d":"71,981"},{"v":87600195.76000002,"d":"87,600"},{"v":98809516,"d":"98,810"},{"v":114256103,"d":"114,256"},{"v":114256103,"d":"114,256"},{"v":68537837.91,"d":"68,538"},{"v":112468874,"d":"112,469"},{"v":116051685,"d":"116,052"},{"v":119798834,"d":"119,799"}]
["Operating Leases"," "]
["Biological Assets"," "]
["Community Assets"," "]
["Computer Equipment"," ",{"v":53149.19,"d":"53"},{"v":106298.38,"d":"106"},0,{"v":125454,"d":"125"},{"v":125454,"d":"125"},{"v":125454,"d":"125"},0,{"v":130096,"d":"130"},{"v":134389,"d":"134"},{"v":138690,"d":"139"}]
["Furniture and Office Equipment"," ",0,0,0,{"v":909090,"d":"909"},{"v":909090,"d":"909"},{"v":909090,"d":"909"},0,{"v":942727,"d":"943"},{"v":973837,"d":"974"},{"v":1005000,"d":"1,005"}]
["Heritage Assets"," "]
["Infrastructure"," "]
["Intangible Assets"," "]
["Investment Properties"," ",{"v":1253701.18,"d":"1,254"},{"v":480698.31,"d":"481"},{"v":417167.4,"d":"417"},{"v":545454,"d":"545"},{"v":480705,"d":"481"},{"v":480705,"d":"481"},{"v":360528.3,"d":"361"},{"v":498491,"d":"498"},{"v":514941,"d":"515"},{"v":531419,"d":"531"}]
["Land"," "]
["Libraries"," "]
["Machinery and Equipment"," ",0,0,0,0,0,0,0,0,0,0]
["Other Assets"," "]
["Transport Assets"," ",{"v":3932895.21,"d":"3,933"},{"v":1714663.62,"d":"1,715"},{"v":803997.46,"d":"804"},{"v":454545,"d":"455"},{"v":613780,"d":"614"},{"v":613780,"d":"614"},{"v":23700,"d":"24"},{"v":221690,"d":"222"},{"v":229006,"d":"229"},{"v":236334,"d":"236"}]
["Zoo, Marine and Non-biological Animals"," "]
["Total Operational Leases"," ",{"$f":"SUM(C654:C667)","v":{"v":5239745.58,"d":"5,240"}},{"v":2301660.31,"d":"2,302"},{"v":1221164.8599999999,"d":"1,221"},{"v":2034543,"d":"2,035"},{"v":2129029,"d":"2,129"},{"v":2129029,"d":"2,129"},{"v":384228.3,"d":"384"},{"v":1793004,"d":"1,793"},{"v":1852173,"d":"1,852"},{"v":1911443,"d":"1,911"}]
["Discontinued Operations"]
["Statutory Payments other than Income Taxes"]
["Total Operational Cost and Other Cost",1,{"$f":"+C668+C652+C669+C670","v":{"v":69121388.89999999,"d":"69,121"}},{"$f":"+D668+D652+D669+D670","v":{"v":74282954.47000001,"d":"74,283"}},{"v":88821360.62000002,"d":"88,821"},{"v":100844059,"d":"100,844"},{"v":116385132,"d":"116,385"},{"v":116385132,"d":"116,385"},{"v":68922066.21,"d":"68,922"},{"v":114261878,"d":"114,262"},{"v":117903858,"d":"117,904"},{"v":121710277,"d":"121,710"}]
["Disposal of Fixed and Intangible Assets"," "]
["Biological Assets"," "]
["Heritage Assets"," "]
["Intangible Assets"," ",0,0,0,0,0,0,0,0,0,0]
["Investment Property"," "]
["Living resources"," "]
["Property, Plant and Equipment"," ",{"v":2875378.1,"d":"2,875"},{"v":1190314.83,"d":"1,190"},0,0,0,0,{"v":1067422.72,"d":"1,067"},{"v":4653600,"d":"4,654"},{"v":4807170,"d":"4,807"},{"v":4961004,"d":"4,961"}]
["Total Disposal of Fixed and Intangible Assets",1,{"$f":"SUM(C673:C678)","v":{"v":2875378.1,"d":"2,875"}},{"v":1190314.83,"d":"1,190"},0,0,0,0,{"v":1067422.72,"d":"1,067"},{"v":4653600,"d":"4,654"},{"v":4807170,"d":"4,807"},{"v":4961004,"d":"4,961"}]
["Other Losses"," "]
["Inventory"," "]
["Decrease in net-realisable Value"," ",0,0,0,0,0,0,0,0,0,0]
["Total Inventory"," ",{"$f":"+C682","v":0},0,0,0,0,0,0,0,0,0]
["Water Losses"," "]
["Apparent Losses"," "]
["Customer Meter Inaccuracies"," ",0,0,0,0,0,0,0,0,0,0]
["Unauthoried Consumption"," ",0,0,0,0,0,0,0,0,0,0]
["Total Apparent Losses"," ",{"$f":"SUM(C686:C687)","v":0},{"$f":"SUM(D686:D687)","v":0},0,0,0,0,0,0,0,0]
["Data Transfer and Management Errors"," ",0,0,0,0,0,0,0,0,0,0]
["Real Losses"," "]
["Leakage and Overflows at Storage Tanks/Reservoirs"," ",0,0,0,0,0,0,0,0,0,0]
["Leakage on Service Connections up to the point of Customer Meter"," ",0,0,0,0,0,0,0,0,0,0]
["Leakage on Transmission and Distribution Mains"," ",0,0,0,0,0,0,0,0,0,0]
["Total Real Losses"," ",{"$f":"SUM(C691:C693)","v":0},0,0,0,0,0,0,0,0,0]
["Unavoidable Annual Real Losses"," ",0,0,0,0,0,0,0,0,0,0]
["Total Water Losses"," ",{"$f":"+C688+C689+C694+C695","v":0},{"$f":"+D688+D689+D694+D695","v":0},0,0,0,0,0,0,0,0]
["Fair Value Adjustment"," "]
["Actuarial Assessments"," "]
["Leave Gratuity"," "]
["Long Service Awards"," ",0,0,0,0,0,0,0,0,0,0]
["Medical"," ",0,0,0,0,0,0,0,0,0,0]
["Pension Funds"," "]
["Total Actuarial Assessments"," ",{"$f":"SUM(C699:C702)","v":0},0,0,0,0,0,0,0,0,0]
["Biological Assets"," "]
["Heritage Assets"," "]
["Interest rate Swaps"," "]
["Investment Property"," "]
["Investments"," "]
["Living resources"," "]
["Total Fair Value Adjustment"," ",{"$f":"SUM(C703:C709)","v":0},0,0,0,0,0,0,0,0,0]
["Foreign Exchange"," "]
["Discontinued Operations and Disposals of Non-current Assets"," "]
["Contributions to Provisions for landfill sites"," "]
["Total Other Losses",1,{"$f":"+C710+C711+C712+C713+C696+C683","v":0},{"$f":"+D710+D711+D712+D713+D696+D683","v":0},0,0,0,0,0,0,0,0]
["Total Expenditure"," ",{"$f":"+C714+C679+C671+C572+C557+C547+C542+C537+C478+C444+C433+C421+C403","v":{"v":597817649.24,"d":"597,818"}},{"v":741152399.74,"d":"741,152"},{"v":711491086.27,"d":"711,491"},{"v":819174311,"d":"819,174"},{"v":890420685,"d":"890,421"},{"v":890420685,"d":"890,421"},{"v":518755651.82000005,"d":"518,756"},{"v":870646634,"d":"870,647"},{"v":905713793,"d":"905,714"},{"v":936095613,"d":"936,096"}]
["Surplus/(Deficit)"," ",{"$f":"+C356-C715","v":{"v":-37403499.33000004,"d":"(37,403)"}},{"v":-149267288.94000006,"d":"(149,267)"},{"v":-55248848.76999998,"d":"(55,249)"},{"v":-95359665,"d":"(95,360)"},{"v":-166858491,"d":"(166,858)"},{"v":-166858491,"d":"(166,858)"},{"v":-19879546.420000017,"d":"(19,880)"},{"v":-129426136,"d":"(129,426)"},{"v":-124240607,"d":"(124,241)"},{"v":-130560447,"d":"(130,560)"}]
["Transfers and subsidies - capital (monetary allocations)"," "]
["Departmental Agencies and Accounts"," "]
["District Municipalities"," ",0,0,0,0,0,0,0,0,0,0]
["Foreign Government and International Organisations"," "]
["Higher Educational Institutions"," "]
["Households"," ",0,0,0,0,0,0,0,0,0,0]
["National Government"," ",{"v":283337677.17,"d":"283,338"},{"v":332319363.1,"d":"332,319"},{"v":293628810.22,"d":"293,629"},{"v":293458180,"d":"293,458"},{"v":293458180,"d":"293,458"},{"v":293458180,"d":"293,458"},{"v":174463971.68,"d":"174,464"},{"v":328866880,"d":"328,867"},{"v":389425968,"d":"389,426"},{"v":373731412,"d":"373,731"}]
["Non-Profit Institutions"," "]
["Parent Municipality"," "]
["Private Enterprises"," "]
["Provincial Governments"," ",0,0,{"v":24064325,"d":"24,064"},0,0,0,0,0,0,0]
["Public Corporations"," "]
["Total Transfers and subsidies - capital (monetary allocations)"," ",{"$f":"SUM(C718:C728)","v":{"v":283337677.17,"d":"283,338"}},{"v":332319363.1,"d":"332,319"},{"v":317693135.22,"d":"317,693"},{"v":293458180,"d":"293,458"},{"v":293458180,"d":"293,458"},{"v":293458180,"d":"293,458"},{"v":174463971.68,"d":"174,464"},{"v":328866880,"d":"328,867"},{"v":389425968,"d":"389,426"},{"v":373731412,"d":"373,731"}]
["Transfers and subsidies - capital (in-kind)"," "]
["Departmental Agencies and Accounts"," "]
["District Municipalities"," "]
["Foreign Government and International Organisations"," "]
["Higher Educational Institutions"," "]
["Households"," "]
["Local Municipalities"," "]
["National Government"," "]
["Non Profit Institutions"," "]
["Parent Municipality"," "]
["Private Enterprises"," "]
["Provincial Governments"," ",{"v":3887850,"d":"3,888"},0,0,0,0,0,0,0,0,0]
["Public Corporations"," "]
["Total Transfers and subsidies - capital (in-kind)"," ",{"$f":"SUM(C731:C742)","v":{"v":3887850,"d":"3,888"}},0,0,0,0,0,0,0,0,0]
["Surplus/(Deficit) after capital transfers and contributions"," ",{"$f":"+C716+C729+C743","v":{"v":249822027.83999997,"d":"249,822"}},{"v":183052074.15999997,"d":"183,052"},{"v":262444286.45000005,"d":"262,444"},{"v":198098515,"d":"198,099"},{"v":126599689,"d":"126,600"},{"v":126599689,"d":"126,600"},{"v":154584425.26,"d":"154,584"},{"v":199440744,"d":"199,441"},{"v":265185361,"d":"265,185"},{"v":243170965,"d":"243,171"}]
["Income Tax"," "]
["Continuing Operations"," "]
["Discontinued Operations"," "]
["Total Income Tax"," ",{"$f":"SUM(C746:C747)","v":0},0,0,0,0,0,0,0,0,0]
["Surplus/(Deficit) after income tax"," ",{"$f":"+C744-C748","v":{"v":249822027.83999997,"d":"249,822"}},{"v":183052074.15999997,"d":"183,052"},{"v":262444286.45000005,"d":"262,444"},{"v":198098515,"d":"198,099"},{"v":126599689,"d":"126,600"},{"v":126599689,"d":"126,600"},{"v":154584425.26,"d":"154,584"},{"v":199440744,"d":"199,441"},{"v":265185361,"d":"265,185"},{"v":243170965,"d":"243,171"}]
["Share of Surplus/Deficit attributable to Joint Venture"," "]
["Share of Surplus/Deficit attributable to Minorities"," "]
["Surplus/(Deficit) attributable to municipality"," ",{"$f":"+C749+C750+C751","v":{"v":249822027.83999997,"d":"249,822"}},{"v":183052074.15999997,"d":"183,052"},{"v":262444286.45000005,"d":"262,444"},{"v":198098515,"d":"198,099"},{"v":126599689,"d":"126,600"},{"v":126599689,"d":"126,600"},{"v":154584425.26,"d":"154,584"},{"v":199440744,"d":"199,441"},{"v":265185361,"d":"265,185"},{"v":243170965,"d":"243,171"}]
["Share of Surplus/Deficit attributable to Associate"," "]
["Intercompany/Parent-subsidiary Transactions"," ",0,0,0,0,0,0,0,0,0,0]
["Surplus/(Deficit) for the year"," ",{"$f":"+C752+C753+C754","v":{"v":249822027.83999997,"d":"249,822"}},{"v":183052074.15999997,"d":"183,052"},{"v":262444286.45000005,"d":"262,444"},{"v":198098515,"d":"198,099"},{"v":126599689,"d":"126,600"},{"v":126599689,"d":"126,600"},{"v":154584425.26,"d":"154,584"},{"v":199440744,"d":"199,441"},{"v":265185361,"d":"265,185"},{"v":243170965,"d":"243,171"}]
["Repairs and Maintenance by Expenditure Item",8]
["Employee related costs"," "]
["Inventory Consumed (Project Maintenance)"," ",{"v":3055050,"d":"3,055"},0,0,0,0,0,0,0,0,0]
["Contracted Services"," ",{"v":49412463.12,"d":"49,412"},{"v":43781491.79,"d":"43,781"},{"v":40466352.68,"d":"40,466"},{"v":45191844,"d":"45,192"},{"v":47245892,"d":"47,246"},{"v":47245892,"d":"47,246"},{"v":30305535.68,"d":"30,306"},{"v":30805280,"d":"30,805"},{"v":31821894,"d":"31,822"},{"v":32840238,"d":"32,840"}]
["Operational Costs"," "]
["Total Repairs and Maintenance Expenditure",9,{"$f":"SUM(C757:C760)","v":{"v":52467513.12,"d":"52,468"}},{"$f":"SUM(D757:D760)","v":{"v":43781491.79,"d":"43,781"}},{"v":40466352.68,"d":"40,466"},{"v":45191844,"d":"45,192"},{"v":47245892,"d":"47,246"},{"v":47245892,"d":"47,246"},{"v":30305535.68,"d":"30,306"},{"v":30805280,"d":"30,805"},{"v":31821894,"d":"31,822"},{"v":32840238,"d":"32,840"}]
[]
["check",null,{"$f":"C761-SA34c!C175","v":0},{"$f":"D761-SA34c!D175","v":0},{"$f":"E761-SA34c!E175","v":0},{"$f":"F761-SA34c!F175","v":0},{"$f":"G761-SA34c!G175","v":0},{"$f":"H761-SA34c!H175","v":0},null,{"$f":"J756-[3]SA34c!I767","v":0},{"$f":"K756-[3]SA34c!J767","v":0},{"$f":"L756-[3]SA34c!K767","v":0}]
["References"]
["1. Must reconcile with 'Budgeted Financial Performance (Revenue and Expenditure)"]
["2. Must reconcile to supporting documentation on staff salaries"]
[]
["4. Expenditure to meet any 'unfunded obligations'"]
["5 This total must agree with the total on SA22, but excluding councillor"]
["6. Include a note for each revenue item that is affected by 'revenue foregone'"]
[]
["8. Repairs and Maintenance is not a GRAP item. However to facilitate transparency, municipalities must provide a breakdown of the amounts included in the relevant GRAP items that will be spent on Repairs and Maintenance."]
["9. Must reconcile with Repairs and Maintenance by Asset Class (Total Repairs and Maintenance) on Table SA34c."]

{"sheet":"SA2","index":22,"n_rows":57,"n_cols":18,"rows_kept":57,"merged":[[1,2,2,2],[1,3,2,3],[1,4,2,4],[1,5,2,5],[1,6,2,6],[1,7,2,7],[1,8,2,8],[1,9,2,9],[1,10,2,10],[1,11,2,11],[1,12,2,12],[1,13,2,13],[1,14,2,14],[1,15,2,15],[1,16,2,16],[1,17,2,17]]}
[{"$f":"muni&\" - \"&TableA2","v":"DC43 Harry Gwala - Supporting Table SA2 Consolidated Matrix Financial Performance Budget (revenue source/expenditure type & dept.)"}]
[{"$f":"desc","v":"Description"},{"$f":"head27","v":"Ref"},{"$f":"'A3-FinPerf V'!A5","v":"Vote 01 - Summary Council"},{"$f":"'A3-FinPerf V'!A6","v":"Vote 02 - Summary Municipal Manager"},{"$f":"'A3-FinPerf V'!A7","v":"Vote 03 - Summary Budget And Treasury Office"},{"$f":"'A3-FinPerf V'!A8","v":"Vote 04 - Summary Corporate Services"},{"$f":"'A3-FinPerf V'!A9","v":"Vote 05 - Summary Social Services & Development Planing"},{"$f":"'A3-FinPerf V'!A10","v":"Vote 06 - Summary Infrastructure Services"},{"$f":"'A3-FinPerf V'!A11","v":"Vote 07 - Summary Water Services"},{"$f":"'A3-FinPerf V'!A12","v":"Vote 08 - "},{"$f":"'A3-FinPerf V'!A13","v":"Vote 09 - "},{"$f":"'A3-FinPerf V'!A14","v":"Vote 10 - "},{"$f":"'A3-FinPerf V'!A15","v":"Vote 11 - "},{"$f":"'A3-FinPerf V'!A16","v":"Vote 12 - "},{"$f":"'A3-FinPerf V'!A17","v":"Vote 13 - "},{"$f":"'A3-FinPerf V'!A18","v":"Vote 14 - "},{"$f":"'A3-FinPerf V'!A19","v":"Vote 15 - Other"},"Total"]
["R thousand",1,"R'000","R'000","R'000","R'000","R'000","R'000",{"$nulls":8},"R'000","R'000"]
["Revenue"]
["Exchange Revenue"]
["Service charges - Electricity",{"$nulls":16},{"$f":"SUM(C6:Q6)","v":0}]
["Service charges - Water",{"$nulls":6},{"v":1518844,"d":"1,519"},{"v":75977680,"d":"75,978"},{"$nulls":8},{"$f":"SUM(C7:Q7)","v":{"v":77496524,"d":"77,497"}}]
["Service charges - Waste Water Management",{"$nulls":6},{"v":3574826,"d":"3,575"},{"v":10766237,"d":"10,766"},{"$nulls":8},{"v":14341063,"d":"14,341"}]
["Service charges - Waste Management",{"$nulls":16},0]
["Sale of Goods and Rendering of Services",{"$nulls":3},{"v":159271,"d":"159"},null,0,{"$nulls":10},{"v":159271,"d":"159"}]
["Agency services",{"$nulls":16},0]
["Interest",{"$nulls":16},0]
["Interest earned from Receivables",{"$nulls":3},{"v":45961,"d":"46"},{"$nulls":3},{"v":13476875,"d":"13,477"},{"$nulls":8},{"v":13522836,"d":"13,523"}]
["Interest earned from Current and Non Current Assets",{"$nulls":3},{"v":26056144,"d":"26,056"},null,{"v":1515680,"d":"1,516"},{"$nulls":10},{"v":27571824,"d":"27,572"}]
["Dividends",{"$nulls":16},0]
["Rent on Land",{"$nulls":16},0]
["Rental from Fixed Assets",{"$nulls":16},0]
["Licence and permits",{"$nulls":16},0]
["Special rating levies",{"$nulls":16},0]
["Construction Contract Revenue",{"$nulls":16},0]
["Development Charges",{"$nulls":16},0]
["Operational Revenue",{"$nulls":3},{"v":162298,"d":"162"},{"v":434935,"d":"435"},{"v":88843,"d":"89"},null,0,{"$nulls":8},{"v":686076,"d":"686"}]
["Non-Exchange Revenue"]
["Property rates",{"$nulls":16},{"$f":"SUM(C24:Q24)","v":0}]
["Surcharges and Taxes",{"$nulls":16},0]
["Fines, penalties and forfeits",{"$nulls":3},{"v":353784,"d":"354"},null,0,null,0,{"$nulls":8},{"v":353784,"d":"354"}]
["Licences or permits",{"$nulls":16},0]
["Transfer and subsidies - Operational",{"$nulls":3},{"v":550084000,"d":"550,084"},0,{"v":23000000,"d":"23,000"},{"v":34005120,"d":"34,005"},0,{"$nulls":8},{"v":607089120,"d":"607,089"}]
["Interest",{"$nulls":7},0,{"$nulls":8},0]
["Fuel Levy",{"$nulls":16},0]
["Operational Revenue",{"$nulls":7},0,{"$nulls":8},0]
["Gains on disposal of Fixed and Intangible Assets",null,null,0,0,0,0,0,0,{"$nulls":8},0]
["Other Gains",{"$nulls":3},0,{"$nulls":12},0]
["Discontinued Operations",{"$nulls":16},0]
["Total Revenue (excluding capital transfers and contributions)",null,{"$f":"SUM(C6:C22)+SUM(C24:C34)","v":0},{"$f":"SUM(D6:D22)+SUM(D24:D34)","v":0},{"v":576861458,"d":"576,861"},{"v":434935,"d":"435"},{"v":24604523,"d":"24,605"},{"v":39098790,"d":"39,099"},{"v":100220792,"d":"100,221"},0,0,0,0,0,0,0,0,{"v":741220498,"d":"741,220"}]
["Expenditure"]
["Employee related costs",null,{"v":3506260,"d":"3,506"},{"v":18125653,"d":"18,126"},{"v":43744042,"d":"43,744"},{"v":33123923,"d":"33,124"},{"v":48993964,"d":"48,994"},{"v":31260808,"d":"31,261"},{"v":144506549,"d":"144,507"},{"$nulls":8},{"$f":"SUM(C37:Q37)","v":{"v":323261199,"d":"323,261"}}]
["Remuneration of councillors",null,{"v":8425509,"d":"8,426"},{"$nulls":14},{"$f":"SUM(C38:Q38)","v":{"v":8425509,"d":"8,426"}}]
["Bulk purchases - electricity",{"$nulls":7},0,{"$nulls":8},0]
["Inventory consumed",null,{"v":25926,"d":"26"},null,0,{"v":258613,"d":"259"},{"v":3380524,"d":"3,381"},0,{"v":36031245,"d":"36,031"},{"$nulls":8},{"v":39696308,"d":"39,696"}]
["Debt impairment",{"$nulls":4},0,0,0,{"v":32790854,"d":"32,791"},{"$nulls":8},{"v":32790854,"d":"32,791"}]
["Depreciation, amortisation and impairment",null,null,0,{"v":68359,"d":"68"},{"v":19546407,"d":"19,546"},{"v":914592,"d":"915"},{"v":92673521,"d":"92,674"},{"v":1636457,"d":"1,636"},{"$nulls":8},{"v":114839336,"d":"114,839"}]
["Interest, Dividends and Rent on Land",{"$nulls":3},0,{"v":14727,"d":"15"},{"v":41600,"d":"42"},{"$nulls":10},{"v":56327,"d":"56"}]
["Contracted services",null,{"v":5963293,"d":"5,963"},{"v":11082485,"d":"11,082"},{"v":17430727,"d":"17,431"},{"v":47010681,"d":"47,011"},{"v":10168326,"d":"10,168"},{"v":23403034,"d":"23,403"},{"v":49348179,"d":"49,348"},{"$nulls":8},{"v":164406725,"d":"164,407"}]
["Transfers and subsidies",null,0,0,0,0,{"v":23374415,"d":"23,374"},0,0,{"$nulls":8},{"v":23374415,"d":"23,374"}]
["Irrecoverable debts written off",{"$nulls":3},{"v":14217,"d":"14"},{"$nulls":3},{"v":44866266,"d":"44,866"},{"$nulls":8},{"v":44880483,"d":"44,880"}]
["Operational costs",null,{"v":5711646,"d":"5,712"},{"v":3042699,"d":"3,043"},{"v":15634634,"d":"15,635"},{"v":37030401,"d":"37,030"},{"v":15863013,"d":"15,863"},{"v":3988103,"d":"3,988"},{"v":32991382,"d":"32,991"},{"$nulls":8},{"$f":"SUM(C47:Q47)","v":{"v":114261878,"d":"114,262"}}]
["Disposal of Fixed and Intangible Assets",null,null,0,{"v":50000,"d":"50"},{"v":4518500,"d":"4,519"},{"v":70000,"d":"70"},{"v":8600,"d":"9"},{"v":6500,"d":"7"},{"$nulls":8},{"v":4653600,"d":"4,654"}]
["Other Losses",{"$nulls":3},0,{"$nulls":3},0,{"$nulls":8},0]
["Total Expenditure",null,{"$f":"SUM(C37:C49)","v":{"v":23632634,"d":"23,633"}},{"$f":"SUM(D37:D49)","v":{"v":32250837,"d":"32,251"}},{"v":76941979,"d":"76,942"},{"v":141503252,"d":"141,503"},{"v":102806434,"d":"102,806"},{"v":151334066,"d":"151,334"},{"v":342177432,"d":"342,177"},0,0,0,0,0,0,0,0,{"$f":"SUM(R37:R49)","v":{"v":870646634,"d":"870,647"}}]
["Surplus/(Deficit)",null,{"$f":"+C35-C50","v":{"v":-23632634,"d":"(23,633)"}},{"$f":"+D35-D50","v":{"v":-32250837,"d":"(32,251)"}},{"v":499919479,"d":"499,919"},{"v":-141068317,"d":"(141,068)"},{"v":-78201911,"d":"(78,202)"},{"v":-112235276,"d":"(112,235)"},{"v":-241956640,"d":"(241,957)"},0,0,0,0,0,0,0,0,{"$f":"+R35-R50","v":{"v":-129426136,"d":"(129,426)"}}]
["Transfers and subsidies - capital (monetary allocations)",{"$nulls":5},0,{"v":328866880,"d":"328,867"},0,{"$nulls":8},{"$f":"SUM(C52:Q52)","v":{"v":328866880,"d":"328,867"}}]
["Transfers and subsidies - capital (in-kind)",{"$nulls":6},0,{"$nulls":9},{"$f":"SUM(C53:Q53)","v":0}]
["Surplus/(Deficit) after capital transfers & contributions",null,{"$f":"SUM(C51:C53)","v":{"v":-23632634,"d":"(23,633)"}},{"$f":"SUM(D51:D53)","v":{"v":-32250837,"d":"(32,251)"}},{"v":499919479,"d":"499,919"},{"v":-141068317,"d":"(141,068)"},{"v":-78201911,"d":"(78,202)"},{"v":216631604,"d":"216,632"},{"v":-241956640,"d":"(241,957)"},0,0,0,0,0,0,0,0,{"$f":"SUM(R51:R53)","v":{"v":199440744,"d":"199,441"}}]
[{"$f":"head27a","v":"References"}]
["1. Departmental columns to be based on municipal organisation structure"]
[{"$nulls":17},{"$f":"'A4-FinPerf RE'!J54-R54","v":0}]

{"sheet":"SA3","index":23,"n_rows":380,"n_cols":12,"rows_kept":380,"merged":[[1,1,2,1],[1,5,1,8],[1,9,1,11]]}
[{"$f":"muni&\" - \"&TableA3","v":"DC43 Harry Gwala - Supporting Table SA3 Supportinging detail to 'Budgeted Financial Position'"}]
[{"$f":"desc","v":"Description"},{"$f":"head27","v":"Ref"},{"$f":"head1b","v":"2022/23"},{"$f":"head1A","v":"2023/24"},{"$f":"Head1","v":"2024/25"},{"$f":"Head2","v":"Current Year 2025/26"},{"$nulls":3},{"$f":"Head3","v":"2026/27 Medium Term Revenue & Expenditure Framework"}]
["R thousand",null,{"$f":"Head5","v":"Audited Outcome"},{"$f":"Head5","v":"Audited Outcome"},{"$f":"Head5","v":"Audited Outcome"},{"$f":"Head6","v":"Original Budget"},{"$f":"Head7","v":"Adjusted Budget"},{"$f":"Head8","v":"Full Year Forecast"},{"$f":"Head5b","v":"Pre-audit outcome"},{"$f":"Head9","v":"Budget Year 2026/27"},{"$f":"Head10","v":"Budget Year +1 2027/28"},{"$f":"Head11","v":"Budget Year +2 2028/29"}]
[]
["ASSETS"," "]
["Current Assets"," "]
["Cash and Cash Equivalents"," "]
["Call Deposits and Investments"," ",{"v":128096456.74,"d":"128,096"},{"v":143507899.44,"d":"143,508"},{"v":129017445.46,"d":"129,017"},{"v":114996372,"d":"114,996"},{"v":162410504,"d":"162,411"},{"v":162410504,"d":"162,411"},{"v":121977344.63,"d":"121,977"},{"v":99148810,"d":"99,149"},{"v":113177903,"d":"113,178"},{"v":181009133,"d":"181,009"}]
["Cash at Bank"," ",{"v":-3456197.29,"d":"(3,456)"},{"v":65922069.52,"d":"65,922"},{"v":132652126.13,"d":"132,652"},{"v":58655325,"d":"58,655"},{"v":50694860,"d":"50,695"},{"v":50694860,"d":"50,695"},{"v":-75449912.63,"d":"(75,450)"},{"v":121715621,"d":"121,716"},{"v":133570006,"d":"133,570"},{"v":78003422,"d":"78,003"}]
["Cash on Hand"," ",{"v":300,"d":"0"},{"v":300,"d":"0"},{"v":300,"d":"0"},{"v":15823,"d":"16"},{"v":15823,"d":"16"},{"v":15823,"d":"16"},0,{"v":15823,"d":"16"},{"v":15823,"d":"16"},{"v":15823,"d":"16"}]
["Total Cash and Cash Equivalents"," ",{"$f":"SUM(C8:C10)","v":{"v":124640559.44999999,"d":"124,641"}},{"v":209430268.96,"d":"209,430"},{"v":261669871.58999997,"d":"261,670"},{"v":173667520,"d":"173,668"},{"v":213121187,"d":"213,121"},{"v":213121187,"d":"213,121"},{"v":46527432,"d":"46,527"},{"v":220880254,"d":"220,880"},{"v":246763732,"d":"246,764"},{"v":259028378,"d":"259,028"}]
["Short term Investments"," "]
["Deposit Taking Institutions"," "]
["Trade and other receivables from exchange transactions"," "]
["Electricity"," "]
["Waste Management"," ",0,0,0,0,0,0,0,0,0,0]
["Waste Water Management"," ",{"v":63018181.45,"d":"63,018"},{"v":56527086.4,"d":"56,527"},{"v":63879688.26,"d":"63,880"},{"v":55385408,"d":"55,385"},{"v":60718841,"d":"60,719"},{"v":60718841,"d":"60,719"},{"v":-1192072.16,"d":"(1,192)"},{"v":51958551,"d":"51,959"},{"v":48650402,"d":"48,650"},{"v":45404480,"d":"45,404"}]
["Water"," ",{"v":178639167.78,"d":"178,639"},{"v":176498794.41,"d":"176,499"},{"v":171769129.84,"d":"171,769"},{"v":147466315,"d":"147,466"},{"v":153997434,"d":"153,997"},{"v":153997434,"d":"153,997"},{"v":-7434144.5,"d":"(7,434)"},{"v":135159437,"d":"135,159"},{"v":116159175,"d":"116,159"},{"v":97055886,"d":"97,056"}]
["Other trade receivables from exchange transactions"," ",{"v":1103155.3,"d":"1,103"},{"v":1143023.75,"d":"1,143"},{"v":1115788.89,"d":"1,116"},{"v":1143023,"d":"1,143"},{"v":1115789,"d":"1,116"},{"v":1115789,"d":"1,116"},{"v":23324.5,"d":"23"},{"v":1115789,"d":"1,116"},{"v":1115789,"d":"1,116"},{"v":1115789,"d":"1,116"}]
["VAT Receivable Input Tax Accrual"," "]
["Gross: Trade and other receivables from exchange transactions"," ",{"$f":"SUM(C15:C20)","v":{"v":242760504.53000003,"d":"242,761"}},{"$f":"SUM(D15:D20)","v":{"v":234168904.56,"d":"234,169"}},{"v":236764606.98999998,"d":"236,765"},{"v":203994746,"d":"203,995"},{"v":215832064,"d":"215,832"},{"v":215832064,"d":"215,832"},{"v":-8602892.16,"d":"(8,603)"},{"v":188233777,"d":"188,234"},{"v":165925366,"d":"165,925"},{"v":143576155,"d":"143,576"}]
["Less: Impairment for debt"," "]
["Impairment for Electricity"," "]
["Impairment for Waste Management"," ",{"v":-19388165.74,"d":"(19,388)"},{"v":-20098742.33,"d":"(20,099)"},{"v":-19369005.6,"d":"(19,369)"},{"v":-20098742,"d":"(20,099)"},{"v":-19369006,"d":"(19,369)"},{"v":-19369006,"d":"(19,369)"},0,0,0,0]
["Impairment for Waste Water Management"," ",{"v":-55457047.54,"d":"(55,457)"},{"v":-50441952.07,"d":"(50,442)"},{"v":-57431197.66,"d":"(57,431)"},{"v":-44425402,"d":"(44,425)"},{"v":-56914229,"d":"(56,914)"},{"v":-56914229,"d":"(56,914)"},{"v":4895617.49,"d":"4,896"},{"v":-49900281,"d":"(49,900)"},{"v":-44588874,"d":"(44,589)"},{"v":-40979501,"d":"(40,980)"}]
["Impairment for Water"," ",{"v":-135177472.43,"d":"(135,177)"},{"v":-150989770.06,"d":"(150,990)"},{"v":-146589236.93,"d":"(146,589)"},{"v":-115149921,"d":"(115,150)"},{"v":-136309205,"d":"(136,309)"},{"v":-136309205,"d":"(136,309)"},0,{"v":-112456887,"d":"(112,457)"},{"v":-90421444,"d":"(90,421)"},{"v":-72200865,"d":"(72,201)"}]
["Impairment for other trade receivalbes from exchange transactions"," ",{"v":-602062.11,"d":"(602)"},{"v":-602062.11,"d":"(602)"},{"v":-602010.96,"d":"(602)"},{"v":-602062,"d":"(602)"},{"v":-602011,"d":"(602)"},{"v":-602011,"d":"(602)"},0,{"v":-14561226,"d":"(14,561)"},{"v":-14561226,"d":"(14,561)"},{"v":-14561226,"d":"(14,561)"}]
["Total Less: Impairment for debt"," ",{"$f":"SUM(C23:C27)","v":{"v":-210624747.82000002,"d":"(210,625)"}},{"v":-222132526.57000002,"d":"(222,133)"},{"v":-223991451.15,"d":"(223,991)"},{"v":-180276127,"d":"(180,276)"},{"v":-213194451,"d":"(213,194)"},{"v":-213194451,"d":"(213,194)"},{"v":4895617.49,"d":"4,896"},{"$f":"SUM(J23:J27)","v":{"v":-176918394,"d":"(176,918)"}},{"v":-149571544,"d":"(149,572)"},{"v":-127741592,"d":"(127,742)"}]
["Total net Trade and other receivables from Exchange Transactions"," ",{"$f":"+C28+C21","v":{"v":32135756.71000001,"d":"32,136"}},{"$f":"+D28+D21","v":{"v":12036377.98999998,"d":"12,036"}},{"v":12773155.839999974,"d":"12,773"},{"v":23718619,"d":"23,719"},{"v":2637613,"d":"2,638"},{"v":2637613,"d":"2,638"},{"v":-3707274.67,"d":"(3,707)"},{"v":11315383,"d":"11,315"},{"v":16353822,"d":"16,354"},{"v":15834563,"d":"15,835"}]
["Receivables from non-exchange transactions"," "]
["Property rates"," "]
["Agricultural Properties"," ",{"v":4423880.74,"d":"4,424"},{"v":4417880.74,"d":"4,418"},{"v":3570412.6,"d":"3,570"},{"v":4417881,"d":"4,418"},{"v":3570413,"d":"3,570"},{"v":3570413,"d":"3,570"},{"v":-11400,"d":"(11)"},{"v":3570413,"d":"3,570"},{"v":3570413,"d":"3,570"},{"v":3570413,"d":"3,570"}]
["Business and Commercial Properties"," "]
["Industrial Properties"," "]
["Mining Properties"," "]
["Public Benefit Organisations"," "]
["Public Service Infrastructure Properties"," "]
["Public Service Purposes Properties"," "]
["Residential Properties"," "]
["Residential Sectional Title Garages"," "]
["Sports Clubs and Fields"," "]
["Vacant Land"," "]
["Property Rates General"," "]
["Gross: Property rates"," ",{"$f":"SUM(C32:C43)","v":{"v":4423880.74,"d":"4,424"}},{"$f":"SUM(D32:D43)","v":{"v":4417880.74,"d":"4,418"}},{"v":3570412.6,"d":"3,570"},{"v":4417881,"d":"4,418"},{"v":3570413,"d":"3,570"},{"v":3570413,"d":"3,570"},{"v":-11400,"d":"(11)"},{"v":3570413,"d":"3,570"},{"v":3570413,"d":"3,570"},{"v":3570413,"d":"3,570"}]
["Less: Impairment of Property rates"," ",{"v":-2105752.59,"d":"(2,106)"},{"v":-2105752.59,"d":"(2,106)"},{"v":-1999999.16,"d":"(2,000)"},{"v":-2105753,"d":"(2,106)"},{"v":-2000000,"d":"(2,000)"},{"v":-2000000,"d":"(2,000)"},0,{"v":-2000000,"d":"(2,000)"},{"v":-2000000,"d":"(2,000)"},{"v":-2000000,"d":"(2,000)"}]
["Net Property rates"," ",{"$f":"+C44+C45","v":{"v":2318128.1500000004,"d":"2,318"}},{"$f":"+D44+D45","v":{"v":2312128.1500000004,"d":"2,312"}},{"v":1570413.4400000002,"d":"1,570"},{"v":2312128,"d":"2,312"},{"v":1570413,"d":"1,570"},{"v":1570413,"d":"1,570"},{"v":-11400,"d":"(11)"},{"v":1570413,"d":"1,570"},{"v":1570413,"d":"1,570"},{"v":1570413,"d":"1,570"}]
["Other receivables from non-exchange transactions"," ",0,0,0,0,0,0,0,0,0,0]
["Less:Impairment for other receivables from non-exchange transactions"," ",0,0,0,0,0,0,0,0,0,0]
["Net other receivables from non-exchange transactions"," ",{"$f":"+C47+C48","v":0},{"$f":"+D47+D48","v":0},0,0,0,0,0,0,0,0]
["Total net Receivables from non-exchange transactions"," ",{"$f":"+C46+C49","v":{"v":2318128.1500000004,"d":"2,318"}},{"$f":"+D46+D49","v":{"v":2312128.1500000004,"d":"2,312"}},{"v":1570413.4400000002,"d":"1,570"},{"v":2312128,"d":"2,312"},{"v":1570413,"d":"1,570"},{"v":1570413,"d":"1,570"},{"v":-11400,"d":"(11)"},{"v":1570413,"d":"1,570"},{"v":1570413,"d":"1,570"},{"v":1570413,"d":"1,570"}]
["Current Portion of Non-current Receivables"," "]
["Associates"," "]
["Bursary Obligations"," ",0,0,0,0,0,0,0,0,0,0]
["Car"," "]
["Computer and Electronic Equipment"," "]
["Employee Benefits"," "]
["Finance Lease Receivable"," "]
["Housing"," "]
["Housing Land Sales"," "]
["Housing Selling Schemes"," "]
["Intercompany/Parent-subsidiary Transactions"," "]
["Joint Ventures"," "]
["Operating Lease"," "]
["Public Organisation"," "]
["Sporting and Other Bodies"," "]
["Staff Loans/Recoveries"," ",0,0,0,0,0,0,0,0,0,0]
["Subsidiaries"," "]
["Total Current Portion of Non-current Receivables"," ",{"$f":"SUM(C52:C67)","v":0},{"$f":"SUM(D52:D67)","v":0},0,0,0,0,0,0,0,0]
["Inventory"," "]
["Agricultural"," "]
["Consumables"," ",0,0,0,0,0,0,0,0,0,0]
["Finished Goods"," "]
["Housing Stock"," "]
["Land"," "]
["Materials and Supplies"," "]
["Water"," ",{"v":715784.52,"d":"716"},{"v":858344.93,"d":"858"},{"v":962968.02,"d":"963"},{"v":858345,"d":"858"},{"v":962970,"d":"963"},{"v":962970,"d":"963"},{"v":25599.32,"d":"26"},{"v":962969,"d":"963"},{"v":962969,"d":"963"},{"v":962969,"d":"963"}]
["Work-in-progress"," "]
["Total Inventory"," ",{"$f":"SUM(C70:C77)","v":{"v":715784.52,"d":"716"}},{"$f":"SUM(D70:D77)","v":{"v":858344.93,"d":"858"}},{"v":962968.02,"d":"963"},{"v":858345,"d":"858"},{"v":962970,"d":"963"},{"v":962970,"d":"963"},{"v":25599.32,"d":"26"},{"v":962969,"d":"963"},{"v":962969,"d":"963"},{"v":962969,"d":"963"}]
["VAT Receivable"," "]
["Input Tax Capital"," ",{"v":9080895.87,"d":"9,081"},{"v":-4439341.73,"d":"(4,439)"},{"v":4387835.6,"d":"4,388"},{"v":-4439341,"d":"(4,439)"},{"v":4387836,"d":"4,388"},{"v":4387836,"d":"4,388"},{"v":-3168479.57,"d":"(3,168)"},{"v":4387836,"d":"4,388"},{"v":4387836,"d":"4,388"},{"v":4387836,"d":"4,388"}]
["Input Tax General"," ",{"v":25515249.78,"d":"25,515"},{"v":23603841.28,"d":"23,604"},{"v":24720179.12,"d":"24,720"},{"v":23603841,"d":"23,604"},{"v":24720180,"d":"24,720"},{"v":24720180,"d":"24,720"},{"v":-5991680.49,"d":"(5,992)"},{"v":24720180,"d":"24,720"},{"v":24720180,"d":"24,720"},{"v":24720180,"d":"24,720"}]
["VAT Control (Receivable)"," ",0,{"v":-0.01,"d":"(0)"},{"v":3017157.58,"d":"3,017"},0,{"v":3017158,"d":"3,017"},{"v":3017158,"d":"3,017"},{"v":-925886.13,"d":"(926)"},{"v":3017158,"d":"3,017"},{"v":3017158,"d":"3,017"},{"v":3017158,"d":"3,017"}]
["Total VAT Receivable"," ",{"$f":"SUM(C80:C82)","v":{"v":34596145.65,"d":"34,596"}},{"$f":"SUM(D80:D82)","v":{"v":19164499.54,"d":"19,164"}},{"v":32125172.299999997,"d":"32,125"},{"v":19164500,"d":"19,165"},{"v":32125174,"d":"32,125"},{"v":32125174,"d":"32,125"},{"v":-10086046.190000001,"d":"(10,086)"},{"v":32125174,"d":"32,125"},{"v":32125174,"d":"32,125"},{"v":32125174,"d":"32,125"}]
["Other current assets"," "]
["Construction Contracts and Receivables"," "]
["Control, Clearing and Interface Accounts"," ",{"v":-4723.09,"d":"(5)"},{"v":-229168.08,"d":"(229)"},{"v":-307313.93,"d":"(307)"},{"v":-229168,"d":"(229)"},{"v":-307315,"d":"(307)"},{"v":-307315,"d":"(307)"},{"v":-224396.65,"d":"(224)"},{"v":-307315,"d":"(307)"},{"v":-307315,"d":"(307)"},{"v":-307315,"d":"(307)"}]
["Deposits"," ",0,0,0,0,0,0,0,0,0,0]
["Fair Value Adjustments"," "]
["Income Tax Receivable"," "]
["Operating Lease - Straight Lining"," "]
["Intercompany/Parent-subsidiary Transactions"," "]
["Total Other current assets"," ",{"$f":"SUM(C85:C91)","v":{"v":-4723.09,"d":"(5)"}},{"$f":"SUM(D85:D91)","v":{"v":-229168.08,"d":"(229)"}},{"v":-307313.93,"d":"(307)"},{"v":-229168,"d":"(229)"},{"v":-307315,"d":"(307)"},{"v":-307315,"d":"(307)"},{"v":-224396.65,"d":"(224)"},{"v":-307315,"d":"(307)"},{"v":-307315,"d":"(307)"},{"v":-307315,"d":"(307)"}]
["Total Current Assets"," ",{"$f":"+C11+C29+C50+C68+C78+C83+C92","v":{"v":194401651.39000002,"d":"194,402"}},{"$f":"+D11+D29+D50+D68+D78+D83+D92","v":{"v":243572451.48999998,"d":"243,572"}},{"v":308794267.25999993,"d":"308,794"},{"v":219491944,"d":"219,492"},{"v":250110042,"d":"250,110"},{"v":250110042,"d":"250,110"},{"v":32523913.81,"d":"32,524"},{"v":266546878,"d":"266,547"},{"v":297468795,"d":"297,469"},{"v":309214182,"d":"309,214"}]
["Non-current Assets"," "]
["Investments"," "]
["Bank Repurchase Agreements"," "]
["Bankers Acceptance Certificate"," "]
["Deposit Taking Institutions"," "]
["Derivative Financial Assets"," "]
["Guaranteed Endowment Policies (Sinking)"," "]
["Interest Rate Swaps"," "]
["Listed/Unlisted Bonds and Stocks"," "]
["Municipal Bonds"," "]
["National Government Securities"," "]
["Negotiable Certificate of Deposits"," "]
["Unamortised Debt Expense"," "]
["Unamortised Preference Share Expense"," "]
["Total Investments"," ",{"$f":"SUM(C96:C107)","v":0},{"$f":"SUM(D96:D107)","v":0},0,0,0,0,0,0,0,0]
["Investment Property"," "]
["Investment Property at Cost / Fair Value"," ",0,0,0,0,0,0,0,0,0,0]
["Less: Accumulated Depreciation"," ",0,0,0,0,0,0,0,0,0,0]
["Less: Accumulated Impairment"," ",0,0,0,0,0,0,0,0,0,0]
["Total Investment Property"," ",{"$f":"SUM(C110:C112)","v":0},{"$f":"SUM(D110:D112)","v":0},0,0,0,0,0,0,0,0]
["Property, Plant and Equipment"," "]
["Property, Plant and Equipment at Cost / Revaluation"," ",{"v":2949319530.72,"d":"2,949,320"},{"v":3209118848.09,"d":"3,209,119"},{"v":3512403214.4,"d":"3,512,403"},{"v":3855624660,"d":"3,855,625"},{"v":3893859912,"d":"3,893,860"},{"v":3893859912,"d":"3,893,860"},{"v":182588659.79,"d":"182,589"},{"v":4251934196,"d":"4,251,934"},{"v":4663832217,"d":"4,663,832"},{"v":5078698429,"d":"5,078,698"}]
["Leases recognised as Property, Plant and Equipment",3,0,0,0,{"v":1180000,"d":"1,180"},{"v":1180000,"d":"1,180"},{"v":1180000,"d":"1,180"},{"v":119385,"d":"119"},{"v":1157000,"d":"1,157"},{"v":1078480,"d":"1,078"},{"v":1040000,"d":"1,040"}]
["Less: Accumulated Depreciation"," ",{"v":-764630469.68,"d":"(764,630)"},{"v":-860642049.41,"d":"(860,642)"},{"v":-955761076.98,"d":"(955,761)"},{"v":-1062767440,"d":"(1,062,767)"},{"v":-1079812576,"d":"(1,079,813)"},{"v":-1079812576,"d":"(1,079,813)"},{"v":-85173485.21,"d":"(85,173)"},{"v":-1188226895,"d":"(1,188,227)"},{"v":-1298744389,"d":"(1,298,744)"},{"v":-1412306672,"d":"(1,412,307)"}]
["Less: Accumulated Impairment"," ",{"v":-12293014.14,"d":"(12,293)"},{"v":-26314825.29,"d":"(26,315)"},{"v":-28388931.79,"d":"(28,389)"},{"v":10054303,"d":"10,054"},{"v":-28388941,"d":"(28,389)"},{"v":-28388941,"d":"(28,389)"},{"v":1571392.61,"d":"1,571"},{"v":-17959116,"d":"(17,959)"},{"v":-17684334,"d":"(17,684)"},{"v":-17409086,"d":"(17,409)"}]
["Total Property, Plant and Equipment",2,{"$f":"SUM(C115:C118)","v":{"v":2172396046.9,"d":"2,172,396"}},{"$f":"SUM(D115:D118)","v":{"v":2322161973.3900003,"d":"2,322,162"}},{"v":2528253205.63,"d":"2,528,253"},{"v":2804091523,"d":"2,804,092"},{"v":2786838395,"d":"2,786,838"},{"v":2786838395,"d":"2,786,838"},{"v":99105952.19,"d":"99,106"},{"v":3046905185,"d":"3,046,905"},{"v":3348481974,"d":"3,348,482"},{"v":3650022671,"d":"3,650,023"}]
["Construction Work-in-progress"," "]
["Acquisitions"," ",{"v":-91925711.05,"d":"(91,926)"},{"v":45797351.01,"d":"45,797"},{"v":16923152.16,"d":"16,923"},0,0,0,0,0,0,0]
["Opening Balance"," ",{"v":809930723.39,"d":"809,931"},{"v":718005012.34,"d":"718,005"},{"v":763802363.35,"d":"763,802"},{"v":763802364,"d":"763,802"},{"v":780725517,"d":"780,726"},{"v":780725517,"d":"780,726"},0,{"v":780725517,"d":"780,726"},{"v":780725517,"d":"780,726"},{"v":780725517,"d":"780,726"}]
["Prior period corrections"," ",0,0,0,0,0,0,0,0,0,0]
["Transfer to Heritage asset"," ",0,0,0,0,0,0,0,0,0,0]
["Transfer to Intangible Assets"," ",0,0,0,0,0,0,0,0,0,0]
["Transfer to Investment property"," ",0,0,0,0,0,0,0,0,0,0]
["Transfer to PPE"," ",0,0,0,0,0,0,0,0,0,0]
["Less: Accumulated Impairment"," ",0,{"v":-124278459,"d":"(124,278)"},{"v":-124278459,"d":"(124,278)"},{"v":-124278459,"d":"(124,278)"},{"v":-124278461,"d":"(124,278)"},{"v":-124278461,"d":"(124,278)"},0,{"v":-124278461,"d":"(124,278)"},{"v":-124278461,"d":"(124,278)"},{"v":-124278461,"d":"(124,278)"}]
["Total Construction Work-in-progress",2,{"$f":"SUM(C121:C128)","v":{"v":718005012.34,"d":"718,005"}},{"$f":"SUM(D121:D128)","v":{"v":639523904.35,"d":"639,524"}},{"v":656447056.51,"d":"656,447"},{"v":639523905,"d":"639,524"},{"v":656447056,"d":"656,447"},{"v":656447056,"d":"656,447"},0,{"v":656447056,"d":"656,447"},{"v":656447056,"d":"656,447"},{"v":656447056,"d":"656,447"}]
["Biological Assets"," "]
["Biological Assets at Cost / Fair Value"," "]
["Less: Accumulated Depreciation"," "]
["Less: Accumulated Impairment"," "]
["Total Biological Assets"," ",{"$f":"SUM(C131:C133)","v":0},{"$f":"SUM(D131:D133)","v":0},0,0,0,0,0,0,0,0]
["Living resources"," "]
["Living resources at Cost / Revaluation"," "]
["Less: Accumulated Depreciation"," "]
["Less: Accumulated Impairment"," "]
["Total Living resources"," ",{"$f":"SUM(C136:C138)","v":0},{"$f":"SUM(D136:D138)","v":0},0,0,0,0,0,0,0,0]
["Heritage Assets"," "]
["Heritage Assets at Cost  / Revaluation"," "]
["Less: Accumulated Impairment"," "]
["Total Heritage Assets"," ",{"$f":"SUM(C141:C142)","v":0},{"$f":"SUM(D141:D142)","v":0},0,0,0,0,0,0,0,0]
["Intangible Assets"," "]
["Intangible Assets at Cost / Revaluation"," ",{"v":1607125.63,"d":"1,607"},{"v":613578,"d":"614"},{"v":613578,"d":"614"},{"v":4443136,"d":"4,443"},{"v":1568123,"d":"1,568"},{"v":1568123,"d":"1,568"},0,{"v":3002805,"d":"3,003"},{"v":3098374,"d":"3,098"},{"v":3182186,"d":"3,182"}]
["Less: Accumulated Amortisation"," ",{"v":-815354.95,"d":"(815)"},{"v":-208010.42,"d":"(208)"},{"v":-317897.7,"d":"(318)"},{"v":-1486985,"d":"(1,487)"},{"v":-317899,"d":"(318)"},{"v":-317899,"d":"(318)"},{"v":-82415.45,"d":"(82)"},{"v":-317899,"d":"(318)"},{"v":-317899,"d":"(318)"},{"v":-317899,"d":"(318)"}]
["Less: Accumulated Impairment"," ",{"v":-276315.77,"d":"(276)"},{"v":-92105.5,"d":"(92)"},0,{"v":-128790,"d":"(129)"},0,0,0,0,0,0]
["Total Intangible Assets"," ",{"$f":"SUM(C145:C147)","v":{"v":515454.9099999999,"d":"515"}},{"$f":"SUM(D145:D147)","v":{"v":313462.07999999996,"d":"313"}},{"v":295680.3,"d":"296"},{"v":2827361,"d":"2,827"},{"v":1250224,"d":"1,250"},{"v":1250224,"d":"1,250"},{"v":-82415.45,"d":"(82)"},{"v":2684906,"d":"2,685"},{"v":2780475,"d":"2,780"},{"v":2864287,"d":"2,864"}]
["Trade and other receivables from exchange transactions"," "]
["Electricity"," "]
["Property Rental Debtors"," "]
["Service Charges"," "]
["Waste Management"," "]
["Waste Water Management"," "]
["Water"," "]
["Total Trade and other Receivables from Exchange Transactions"," ",{"$f":"SUM(C150:C155)","v":0},{"$f":"SUM(D150:D155)","v":0},0,0,0,0,0,0,0,0]
["Non-current Receivables from Non-exchange Transactions"," "]
["Associates"," "]
["Bursary Obligations"," "]
["Car"," "]
["Computer and Electronic Equipment"," "]
["Employee Benefits"," "]
["Finance Lease Receivable"," ",0,0,0,0,0,0,0,0,0,0]
["Housing Land Sales"," "]
["Housing Loans"," "]
["Housing Selling Schemes"," "]
["Intercompany/Parent-subsidiary Transactions"," "]
["Joint Ventures"," "]
["Operating Lease"," "]
["Property Rates"," "]
["Public Organisation"," "]
["Sporting and Other Bodies"," "]
["Staff Loans/Recoveries"," "]
["Subsidiaries"," "]
["Total Non-current Receivables from Non-exchange Transactions"," ",{"$f":"SUM(C158:C174)","v":0},{"$f":"SUM(D158:D174)","v":0},0,0,0,0,0,0,0,0]
["Other non-current assets"," "]
["Deferred Tax Assets"," "]
["Defined Benefit Asset"," "]
["Intercompany/Parent-subsidiary Transactions"," "]
["Investment in Associate"," "]
["Investment in Joint Venture"," "]
["Investment in Subsidiary"," ",{"v":100,"d":"0"},{"v":100,"d":"0"},{"v":100,"d":"0"},{"v":100,"d":"0"},{"v":100,"d":"0"},{"v":100,"d":"0"},0,{"v":100,"d":"0"},{"v":100,"d":"0"},{"v":100,"d":"0"}]
["Operating Lease Receivable"," "]
["Deposits"," "]
["Total Other non-current assets"," ",{"$f":"SUM(C177:C184)","v":{"v":100,"d":"0"}},{"$f":"SUM(D177:D184)","v":{"v":100,"d":"0"}},{"v":100,"d":"0"},{"v":100,"d":"0"},{"v":100,"d":"0"},{"v":100,"d":"0"},0,{"v":100,"d":"0"},{"v":100,"d":"0"},{"v":100,"d":"0"}]
["Total Non Current Assets"," ",{"$f":"+C185+C175+C156+C148+C143+C139+C134+C129+C119+C113+C108","v":{"v":2890916614.15,"d":"2,890,917"}},{"$f":"+D185+D175+D156+D148+D143+D139+D134+D129+D119+D113+D108","v":{"v":2961999439.8200006,"d":"2,961,999"}},{"$f":"+E185+E175+E156+E148+E143+E139+E134+E129+E119+E113+E108","v":{"v":3184996042.44,"d":"3,184,996"}},{"v":3446442889,"d":"3,446,443"},{"v":3444535775,"d":"3,444,536"},{"v":3444535775,"d":"3,444,536"},{"v":99023536.74,"d":"99,024"},{"v":3706037247,"d":"3,706,037"},{"v":4007709605,"d":"4,007,710"},{"v":4309334114,"d":"4,309,334"}]
["TOTAL ASSETS"," ",{"$f":"+C186+C93","v":{"v":3085318265.54,"d":"3,085,318"}},{"$f":"+D186+D93","v":{"v":3205571891.3100004,"d":"3,205,572"}},{"v":3493790309.7,"d":"3,493,790"},{"v":3665934833,"d":"3,665,935"},{"v":3694645817,"d":"3,694,646"},{"v":3694645817,"d":"3,694,646"},{"v":131547450.55,"d":"131,547"},{"v":3972584125,"d":"3,972,584"},{"v":4305178400,"d":"4,305,178"},{"v":4618548296,"d":"4,618,548"}]
["Liabilities"," "]
["Current Liabilities"," "]
["Bank Overdraft"," "]
["ABSA"," "]
["First National Bank"," "]
["Nedbank"," "]
["Rand Merchant Bank"," "]
["Standard Bank"," "]
["Unspecified"," "]
["Total Bank Overdraft"," ",{"$f":"SUM(C191:C196)","v":0},{"$f":"SUM(D191:D196)","v":0},0,0,{"$f":"SUM(G191:G196)","v":0},{"$f":"SUM(H191:H196)","v":0},{"$f":"SUM(I191:I196)","v":0},{"$f":"SUM(J191:J196)","v":0},{"$f":"SUM(K191:K196)","v":0},{"$f":"SUM(L191:L196)","v":0}]
["Financial Liabilities"," "]
["Concessionary Loan"," ",{"v":12805814.69,"d":"12,806"},{"v":12805814.69,"d":"12,806"},{"v":12805814.69,"d":"12,806"},{"v":8005815,"d":"8,006"},{"v":10405815,"d":"10,406"},{"v":10405815,"d":"10,406"},{"v":-1500000,"d":"(1,500)"},{"v":8005815,"d":"8,006"},{"v":5605815,"d":"5,606"},{"v":3205815,"d":"3,206"}]
["Short-term Borrowings"," "]
["Current portion of Finance Lease Liabilities"," ",0,0,0,0,0,0,0,0,0,0]
["Current portion of Non-current Borrowings"," ",0,0,0,0,0,0,0,0,0,0]
["Current portion of Operating Lease Liabilities"," "]
["Unamortised Premium on Long-term Debts"," "]
["Total Financial Liabilities"," ",{"$f":"SUM(C199:C204)","v":{"v":12805814.69,"d":"12,806"}},{"$f":"SUM(D199:D204)","v":{"v":12805814.69,"d":"12,806"}},{"v":12805814.69,"d":"12,806"},{"$f":"SUM(F199:F204)","v":{"v":8005815,"d":"8,006"}},{"v":10405815,"d":"10,406"},{"v":10405815,"d":"10,406"},{"v":-1500000,"d":"(1,500)"},{"v":8005815,"d":"8,006"},{"v":5605815,"d":"5,606"},{"v":3205815,"d":"3,206"}]
["Consumer Deposits"," "]
["Building Plans"," "]
["Buying Card"," "]
["Electricity"," "]
["Hiring of Decorative Items"," "]
["Library Books"," "]
["Posters"," "]
["Refuse"," "]
["Rental Properties"," ",0,0,0,0,0,0,0,0,0,0]
["Sewer"," "]
["Street Closure"," "]
["Valuation Appeal"," "]
["Water"," ",{"v":2415086.48,"d":"2,415"},{"v":3178970.38,"d":"3,179"},{"v":3440893.19,"d":"3,441"},{"v":3748469,"d":"3,748"},{"v":4010393,"d":"4,010"},{"v":4010393,"d":"4,010"},{"v":73771.91,"d":"74"},{"v":4010393,"d":"4,010"},{"v":4010393,"d":"4,010"},{"v":4010393,"d":"4,010"}]
["Wayleave"," "]
["Total Consumer Deposits"," ",{"$f":"SUM(C207:C219)","v":{"v":2415086.48,"d":"2,415"}},{"$f":"SUM(D207:D219)","v":{"v":3178970.38,"d":"3,179"}},{"v":3440893.19,"d":"3,441"},{"v":3748469,"d":"3,748"},{"v":4010393,"d":"4,010"},{"v":4010393,"d":"4,010"},{"v":73771.91,"d":"74"},{"v":4010393,"d":"4,010"},{"v":4010393,"d":"4,010"},{"v":4010393,"d":"4,010"}]
["Trade and Other Payable Exchange Transactions"," "]
["Accrued Interest"," ",0,0,0,0,0,0,0,0,0,0]
["Advance Payments"," ",{"v":6582349.16,"d":"6,582"},{"v":6388837.91,"d":"6,389"},{"v":6487069.19,"d":"6,487"},{"v":6388838,"d":"6,389"},{"v":6487070,"d":"6,487"},{"v":6487070,"d":"6,487"},{"v":-173389.31,"d":"(173)"},{"v":6487070,"d":"6,487"},{"v":6487070,"d":"6,487"},{"v":6487070,"d":"6,487"}]
["Affiliates, Related Parties and Associated Companies"," "]
["Agency Fees Payable"," "]
["Auditor-General of South Africa"," ",{"v":-303122096.29,"d":"(303,122)"},{"v":-388828029.93,"d":"(388,828)"},0,0,{"v":-15621490,"d":"(15,621)"},{"v":-15621490,"d":"(15,621)"},0,0,0,0]
["Bonus"," ",{"v":4406580.27,"d":"4,407"},{"v":4608264.24,"d":"4,608"},{"v":5135828.72,"d":"5,136"},{"v":4608264,"d":"4,608"},{"v":5135829,"d":"5,136"},{"v":5135829,"d":"5,136"},0,{"v":5135829,"d":"5,136"},{"v":5135829,"d":"5,136"},{"v":5135829,"d":"5,136"}]
["Compensation Commission (COID)"," "]
["Control, Clearing and Interface Accounts"," ",{"v":4792078.84,"d":"4,792"},{"v":-731475.84,"d":"(731)"},{"v":-1427541.97,"d":"(1,428)"},{"v":-343963,"d":"(344)"},{"v":-343962,"d":"(344)"},{"v":-343962,"d":"(344)"},{"v":-102673.08,"d":"(103)"},{"v":-343962,"d":"(344)"},{"v":-343962,"d":"(344)"},{"v":-343962,"d":"(344)"}]
["Deferred Revenue"," "]
["Dividends Declared"," "]
["Electricity Bulk Purchase"," ",0,0,0,0,0,0,0,0,0,0]
["Fair Value Adjustment"," "]
["Intercompany/Parent-subsidiary Transactions"," ",0,0,0,0,0,0,0,0,0,0]
["Leave Accrual"," ",0,0,0,0,0,0,0,0,0,0]
["Long Service Award"," ",0,0,0,0,0,0,0,{"v":15209000,"d":"15,209"},{"v":15209000,"d":"15,209"},{"v":15209000,"d":"15,209"}]
["Municipal Debt Relief"," "]
["Overtime"," ",0,0,0,0,0,0,0,0,0,0]
["Payables and Accruals"," ",{"v":333979510.86,"d":"333,980"},{"v":406295276.17,"d":"406,295"},{"v":75528289.82,"d":"75,528"},{"v":19500364,"d":"19,500"},{"v":93182899,"d":"93,183"},{"v":93182899,"d":"93,183"},{"v":-64899818.06,"d":"(64,900)"},{"v":77561409,"d":"77,561"},{"v":77561409,"d":"77,561"},{"v":77561409,"d":"77,561"}]
["PAYE Deductions"," ",0,0,0,0,0,0,0,0,0,0]
["Pension and Retirement Contributions"," ",0,0,0,0,0,0,0,{"v":19767000,"d":"19,767"},{"v":19767000,"d":"19,767"},{"v":19767000,"d":"19,767"}]
["Retentions"," ",{"v":45690126.2,"d":"45,690"},{"v":59368998.54,"d":"59,369"},{"v":62462584.96,"d":"62,463"},{"v":56368999,"d":"56,369"},{"v":64462585,"d":"64,463"},{"v":64462585,"d":"64,463"},{"v":-16751626.28,"d":"(16,752)"},{"v":66462585,"d":"66,463"},{"v":68462585,"d":"68,463"},{"v":70462585,"d":"70,463"}]
["Standby"," ",0,0,0,0,0,0,0,0,0,0]
["Tender documentation"," "]
["Unallocated Deposits"," ",{"v":-460783.37,"d":"(461)"},{"v":-166731.02,"d":"(167)"},{"v":-45776.76,"d":"(46)"},{"v":-166731,"d":"(167)"},{"v":-45777,"d":"(46)"},{"v":-45777,"d":"(46)"},0,{"v":-45777,"d":"(46)"},{"v":-45777,"d":"(46)"},{"v":-45777,"d":"(46)"}]
["Water Inventory Bulk Purchases"," ",0,0,0,0,0,0,0,0,0,0]
["VAT Payables Output Tax Accrual"," ",0,0,0,0,0,0,0,0,0,0]
["VAT Payables Output Tax Provision for Doubtful Debt Impairment"," "]
["Total Trade and Other Payable Exchange Transactions","2, 5",{"$f":"SUM(C222:C248)","v":{"v":91867765.66999997,"d":"91,868"}},{"$f":"SUM(D222:D248)","v":{"v":86935140.07000007,"d":"86,935"}},{"v":148140453.96,"d":"148,140"},{"v":86355771,"d":"86,356"},{"v":153257154,"d":"153,257"},{"v":153257154,"d":"153,257"},{"v":-81927506.73,"d":"(81,928)"},{"v":190233154,"d":"190,233"},{"v":192233154,"d":"192,233"},{"v":194233154,"d":"194,233"}]
["Trade and Other Payable Non-exchange Transactions"," "]
["Transfers and Subsidies Payable"," "]
["Capital"," "]
["Operational"," "]
["Total Transfers and Subsidies Payable"," ",{"$f":"SUM(C252:C253)","v":0},{"$f":"SUM(D252:D253)","v":0},0,0,0,0,0,0,0,0]
["Transfers and Subsidies Unspent"," "]
["Capital"," ",{"v":48145109.28,"d":"48,145"},{"v":41955746.18,"d":"41,956"},{"v":64819180.96,"d":"64,819"},{"v":1169348,"d":"1,169"},{"v":1169348,"d":"1,169"},{"v":1169348,"d":"1,169"},{"v":78825447.74,"d":"78,825"},{"v":1169348,"d":"1,169"},{"v":1169348,"d":"1,169"},{"v":1169348,"d":"1,169"}]
["Operational"," ",{"v":-26968528.95,"d":"(26,969)"},{"v":-31455746.32,"d":"(31,456)"},{"v":-64819181.12,"d":"(64,819)"},{"v":314113,"d":"314"},{"v":314113,"d":"314"},{"v":314113,"d":"314"},{"v":-18790030.18,"d":"(18,790)"},{"v":314113,"d":"314"},{"v":314113,"d":"314"},{"v":314113,"d":"314"}]
["Total Transfers and Subsidies Unspent"," ",{"$f":"SUM(C256:C257)","v":{"v":21176580.330000002,"d":"21,177"}},{"$f":"SUM(D256:D257)","v":{"v":10499999.86,"d":"10,500"}},{"v":-0.1599999964237213,"d":"(0)"},{"v":1483461,"d":"1,483"},{"v":1483461,"d":"1,483"},{"v":1483461,"d":"1,483"},{"v":60035417.559999995,"d":"60,035"},{"v":1483461,"d":"1,483"},{"v":1483461,"d":"1,483"},{"v":1483461,"d":"1,483"}]
["VAT Payables Output Tax Accrual"," ",0,0,0,0,0,0,0,0,0,0]
["VAT Payables Output Tax Provision for Doubtful Debt Impairment"," ",0,0,0,0,0,0,0,0,0,0]
["Total Trade and Other Payable Non-exchange Transactions",2,{"$f":"+C254+C258+C259+C260","v":{"v":21176580.330000002,"d":"21,177"}},{"$f":"+D254+D258+D259+D260","v":{"v":10499999.86,"d":"10,500"}},{"v":-0.1599999964237213,"d":"(0)"},{"v":1483461,"d":"1,483"},{"v":1483461,"d":"1,483"},{"v":1483461,"d":"1,483"},{"v":60035417.559999995,"d":"60,035"},{"v":1483461,"d":"1,483"},{"v":1483461,"d":"1,483"},{"v":1483461,"d":"1,483"}]
["Provision"," "]
["Alien Vegetation"," "]
["Bonus"," "]
["Decommissioning, Restoration and Similar Liabilities"," "]
["Ex-gratia Pension"," "]
["Insurance Claims"," "]
["Leave"," ",{"v":16171402.47,"d":"16,171"},{"v":16385435.99,"d":"16,385"},{"v":16526651.66,"d":"16,527"},{"v":16385436,"d":"16,385"},{"v":16526652,"d":"16,527"},{"v":16526652,"d":"16,527"},0,{"v":16526652,"d":"16,527"},{"v":16526652,"d":"16,527"},{"v":16526652,"d":"16,527"}]
["Litigation"," "]
["Pension Fund Investment Return Shortfall"," "]
["Staff Parity"," "]
["Impairment"," "]
["Total Provision"," ",{"$f":"SUM(C263:C272)","v":{"v":16171402.47,"d":"16,171"}},{"$f":"SUM(D263:D272)","v":{"v":16385435.99,"d":"16,385"}},{"v":16526651.66,"d":"16,527"},{"v":16385436,"d":"16,385"},{"v":16526652,"d":"16,527"},{"v":16526652,"d":"16,527"},0,{"v":16526652,"d":"16,527"},{"v":16526652,"d":"16,527"},{"v":16526652,"d":"16,527"}]
["VAT Payable"," "]
["VAT Payable: Output Tax"," ",{"v":7535223.8,"d":"7,535"},{"v":5281993.41,"d":"5,282"},{"v":6654799.62,"d":"6,655"},{"v":5281994,"d":"5,282"},{"v":6654799,"d":"6,655"},{"v":6654799,"d":"6,655"},{"v":-946361.93,"d":"(946)"},{"v":6654799,"d":"6,655"},{"v":6654799,"d":"6,655"},{"v":6654799,"d":"6,655"}]
["VAT Payable: VAT Control"," ",0,0,0,0,0,0,0,0,0,0]
["Total VAT Payable"," ",{"$f":"SUM(C275:C276)","v":{"v":7535223.8,"d":"7,535"}},{"$f":"SUM(D275:D276)","v":{"v":5281993.41,"d":"5,282"}},{"v":6654799.62,"d":"6,655"},{"v":5281994,"d":"5,282"},{"v":6654799,"d":"6,655"},{"v":6654799,"d":"6,655"},{"v":-946361.93,"d":"(946)"},{"v":6654799,"d":"6,655"},{"v":6654799,"d":"6,655"},{"v":6654799,"d":"6,655"}]
["Other current liabilities"," "]
["Employee Benefits"," "]
["Post-employment Benefits"," ",0,0,0,0,0,0,0,0,0,0]
["Other Long-Term Benefits"," ",0,0,0,0,0,0,0,0,0,0]
["Termination Benefits"," "]
["Total Employee Benefits"," ",{"$f":"SUM(C280:C282)","v":0},{"$f":"SUM(D280:D282)","v":0},0,0,0,0,0,0,0,0]
["Deferred Tax Liabilities"," "]
["Income Tax Payable"," "]
["Intercompany/Parent-subsidiary Transactions"," "]
["Total Other current liabilities"," ",{"$f":"SUM(C283:C286)","v":0},{"$f":"SUM(D283:D286)","v":0},{"$f":"SUM(E283:E286)","v":0},{"$f":"SUM(F283:F286)","v":0},0,0,{"$f":"SUM(I283:I286)","v":0},{"$f":"SUM(J283:J286)","v":0},0,0]
["Total Current Liabilities"," ",{"$f":"+C287+C277+C273+C261+C249+C220+C205+C197","v":{"v":151971873.43999997,"d":"151,972"}},{"v":135087354.40000007,"d":"135,087"},{"v":187568612.96,"d":"187,569"},{"v":121260946,"d":"121,261"},{"v":192338274,"d":"192,338"},{"v":192338274,"d":"192,338"},{"v":-24264679.19000001,"d":"(24,265)"},{"v":226914274,"d":"226,914"},{"v":226514274,"d":"226,514"},{"v":226114274,"d":"226,114"}]
["Non-current Liabilities"," "]
["Financial Liabilities"," "]
["Borrowings"," "]
["Annuity and Bullet Loans"," ",{"v":-0.02,"d":"(0)"},{"v":-0.02,"d":"(0)"},{"v":-0.02,"d":"(0)"},0,0,0,0,0,0,0]
["Bankers Acceptance Certificate"," "]
["Concessionary Loan"," ",0,0,0,0,0,0,0,0,0,0]
["Derivative Financial Liability"," "]
["Finance Lease Liability"," ",0,0,0,0,0,0,0,0,0,0]
["Government Loans"," "]
["Intercompany/Parent-subsidiary Transactions"," "]
["Local Registered Stock"," "]
["Marketable Bonds"," "]
["Non-annuity Loans"," "]
["Non-marketable Bonds"," ",0,0,0,0,0,0,0,0,0,0]
["PPP Liabilities"," "]
["Securities"," "]
["Interest Rate Swaps"," "]
["Total Borrowings",4,{"$f":"SUM(C292:C305)","v":{"v":-0.02,"d":"(0)"}},{"$f":"SUM(D292:D305)","v":{"v":-0.02,"d":"(0)"}},{"v":-0.02,"d":"(0)"},0,0,0,0,0,0,0]
["Operating Lease Liability"," "]
["Total Financial Liabilities"," ",{"$f":"+C306+C307","v":{"v":-0.02,"d":"(0)"}},{"$f":"+D306+D307","v":{"v":-0.02,"d":"(0)"}},{"v":-0.02,"d":"(0)"},0,0,0,0,0,0,0]
["Provisions"," "]
["Alien Vegetation"," "]
["Bonus"," "]
["Decommissioning, Restoration and Similar Liabilities"," "]
["Ex-gratia Pension"," "]
["Impairment"," "]
["Insurance Claims"," "]
["Leave"," "]
["Litigation"," "]
["Pension Fund Investment Return Shortfall"," "]
["Staff Parity"," "]
["Total Provisions"," ",{"$f":"SUM(C310:C319)","v":0},{"$f":"SUM(D310:D319)","v":0},0,0,0,0,0,0,0,0]
["Long term Trade and other Payables"," "]
["Bulk Water"," "]
["Electricity Bulk Purchase"," "]
["Municipal Debt Relief"," "]
["Payables and Accruals"," "]
["Total Long term Trade and other Payables"," ",{"$f":"SUM(C322:C325)","v":0},{"$f":"SUM(D322:D325)","v":0},0,0,0,0,0,0,0,0]
["Other non-current liabilities"," "]
["Employee Benefits"," "]
["Post-employment Benefits"," ",0,0,0,0,0,0,0,0,0,0]
["Other Long-Term Benefits"," ",0,0,0,0,0,0,0,0,0,0]
["Termination Benefits"," "]
["Total Employee Benefits"," ",{"$f":"SUM(C329:C331)","v":0},{"$f":"SUM(D329:D331)","v":0},0,0,0,0,0,0,0,0]
["Deferred Tax Liabilities"," "]
["Intercompany/Parent-subsidiary Transactions"," "]
["Total Other non-current liabilities"," ",{"$f":"+C332+C333+C334","v":0},{"$f":"+D332+D333+D334","v":0},0,0,0,0,0,0,0,0]
["Total non current liabilities"," ",{"$f":"+C335+C326+C320+C308","v":{"v":-0.02,"d":"(0)"}},{"$f":"+D335+D326+D320+D308","v":{"v":-0.02,"d":"(0)"}},{"v":-0.02,"d":"(0)"},0,0,0,0,0,0,0]
["TOTAL LIABILITIES"," ",{"$f":"+C336+C288","v":{"v":151971873.41999996,"d":"151,972"}},{"$f":"+D336+D288","v":{"v":135087354.38000005,"d":"135,087"}},{"v":187568612.94,"d":"187,569"},{"v":121260946,"d":"121,261"},{"v":192338274,"d":"192,338"},{"v":192338274,"d":"192,338"},{"v":-24264679.19000001,"d":"(24,265)"},{"v":226914274,"d":"226,914"},{"v":226514274,"d":"226,514"},{"v":226114274,"d":"226,114"}]
["CHANGES IN NET ASSETS"," ",{"$f":"+C187-C337","v":{"v":2933346392.12,"d":"2,933,346"}},{"v":3070484536.9300003,"d":"3,070,485"},{"v":3306221696.7599998,"d":"3,306,222"},{"v":3544673887,"d":"3,544,674"},{"v":3502307543,"d":"3,502,308"},{"v":3502307543,"d":"3,502,308"},{"v":155812129.74,"d":"155,812"},{"v":3745669851,"d":"3,745,670"},{"v":4078664126,"d":"4,078,664"},{"v":4392434022,"d":"4,392,434"}]
["COMMUNITY WEALTH/EQUITY"," "]
["Accumulated Surplus/(Deficit)"," "]
["Changes in Accounting Policy"," ",0,0,0,0,0,0,0,0,0,0]
["Correction of Prior Period Error"," ",{"v":-1051860.59,"d":"(1,052)"},{"v":-1601578.07,"d":"(1,602)"},{"v":-163910.79,"d":"(164)"},0,0,0,{"v":1227704.48,"d":"1,228"},0,0,0]
["Depreciation Offsets"," ",0,0,0,0,0,0,0,0,0,0]
["Opening Balance"," ",{"v":2729825222.05,"d":"2,729,825"},{"v":2941982926.86,"d":"2,941,983"},{"v":3075126821.58,"d":"3,075,127"},{"v":3316039372,"d":"3,316,039"},{"v":3340731854,"d":"3,340,732"},{"v":3340731854,"d":"3,340,732"},0,{"v":3546229107,"d":"3,546,229"},{"v":3813478765,"d":"3,813,479"},{"v":4149263057,"d":"4,149,263"}]
["Transfers to/from operating revenue and expenditure"," ",{"v":213209565.4,"d":"213,210"},{"v":322380640.81,"d":"322,381"},{"v":230267821.51,"d":"230,268"},{"v":198643969,"d":"198,644"},{"v":198643969,"d":"198,644"},{"v":198643969,"d":"198,644"},{"v":183499058.74,"d":"183,499"},{"v":200116868,"d":"200,117"},{"v":278047766,"d":"278,048"},{"v":256450161,"d":"256,450"}]
["Transfers to/from Reserves"," ",0,0,0,0,0,0,0,0,0,0]
["Total Accumulated Surplus/(Deficit)",1,{"$f":"SUM(C341:C346)","v":{"v":2941982926.86,"d":"2,941,983"}},{"$f":"SUM(D341:D346)","v":{"v":3262761989.6,"d":"3,262,762"}},{"$f":"SUM(E341:E346)","v":{"v":3305230732.3,"d":"3,305,231"}},{"$f":"SUM(F341:F346)","v":{"v":3514683341,"d":"3,514,683"}},{"v":3539375823,"d":"3,539,376"},{"v":3539375823,"d":"3,539,376"},{"v":184726763.22,"d":"184,727"},{"v":3746345975,"d":"3,746,346"},{"v":4091526531,"d":"4,091,527"},{"v":4405713218,"d":"4,405,713"}]
["Reserves and Funds"," "]
["Capital Replacement Reserve"," "]
["Capitalisation Reserve"," "]
["Compensation for Occupational Injuries and Diseases"," "]
["Employee Benefit Reserve"," "]
["Housing Development Fund"," "]
["Investment in associate account"," "]
["Non-current Provisions Reserve"," "]
["Revaluation Reserve"," "]
["Self  Insurance Reserve"," "]
["Valuation Reserve"," "]
["Total Reserves and Funds",2,{"$f":"SUM(C349:C358)","v":0},{"$f":"SUM(D349:D358)","v":0},0,0,0,0,0,0,0,0]
["Other"," "]
["Equity"," "]
["Capital Contributed by Other Government Units"," "]
["Ordinary Shares"," "]
["Preference Shares"," "]
["Share Premium"," ",0,0,0,0,0,0,0,0,0,0]
["Total Equity"," ",{"$f":"SUM(C362:C365)","v":0},{"$f":"SUM(D362:D365)","v":0},0,0,0,0,0,0,0,0]
["Non-controlling Interest"," "]
["Opening Balance"," "]
["Movement during the year"," "]
["Total Non-controlling Interest"," ",{"$f":"SUM(C368:C369)","v":0},{"$f":"SUM(D368:D369)","v":0},0,0,0,0,0,0,0,0]
["Intercompany/Parent-subsidiary Transactions"," "]
["Total Other",2,{"$f":"+C366+C370+C371","v":0},{"$f":"+D366+D370+D371","v":0},0,0,0,0,0,0,0,0]
["TOTAL COMMUNITY WEALTH/EQUITY",2,{"$f":"+C347+C359+C372","v":{"v":2941982926.86,"d":"2,941,983"}},{"$f":"+D347+D359+D372","v":{"v":3262761989.6,"d":"3,262,762"}},{"v":3305230732.3,"d":"3,305,231"},{"v":3514683341,"d":"3,514,683"},{"v":3539375823,"d":"3,539,376"},{"v":3539375823,"d":"3,539,376"},{"v":184726763.22,"d":"184,727"},{"v":3746345975,"d":"3,746,346"},{"v":4091526531,"d":"4,091,527"},{"v":4405713218,"d":"4,405,713"}]
[]
["References"]
["1. Must reconcile with Table A4 Budgeted Financial Performance (revenue and expenditure)"]
["2. Must reconcile with Table A6 Budgeted Financial Position"]
["3. Leases treated as assets to be depreciated as the same as purchased/constructed assets.  Includes PPP asset element accounted for as finance leases"]
["4. Borrowing must reconcile to Table A17"]
["5. Trade Payable should only include Trade Payables from Exchance Transactions (\"True Creditors\")"]

{"sheet":"SA4","index":24,"n_rows":14,"n_cols":13,"rows_kept":14,"merged":[[1,3,2,3],[1,7,1,9],[1,10,1,12]]}
[{"$f":"muni&\" - \"&TableA4","v":"DC43 Harry Gwala - Supporting Table SA4 Reconciliation of IDP strategic objectives and budget (revenue)"}]
["Strategic Objective","MTDP Service Outcome","IUDF",{"$f":"head27","v":"Ref"},{"$f":"head1b","v":"2022/23"},{"$f":"head1A","v":"2023/24"},{"$f":"Head1","v":"2024/25"},{"$f":"Head2","v":"Current Year 2025/26"},null,null,{"$f":"Head3","v":"2026/27 Medium Term Revenue & Expenditure Framework"}]
["R thousand",{"$nulls":3},{"$f":"Head5","v":"Audited Outcome"},{"$f":"Head5","v":"Audited Outcome"},{"$f":"Head5","v":"Audited Outcome"},{"$f":"Head6","v":"Original Budget"},{"$f":"Head7","v":"Adjusted Budget"},{"$f":"Head8","v":"Full Year Forecast"},{"$f":"Head9","v":"Budget Year 2026/27"},{"$f":"Head10","v":"Budget Year +1 2027/28"},{"$f":"Head11","v":"Budget Year +2 2028/29"}]
["GOOD GOVERNANCE",{"$nulls":3},0,0,0,0,0,0,0,0,0]
["FINANCIAL VIABILITY AND MANAGEMENT",{"$nulls":3},{"v":449162359.49,"d":"449,162"},{"v":489676302.13,"d":"489,676"},{"v":523056098.02,"d":"523,056"},{"v":549506961,"d":"549,507"},{"v":547435394,"d":"547,435"},{"v":547435394,"d":"547,435"},{"v":576861458,"d":"576,861"},{"v":607831921,"d":"607,832"},{"v":624485064,"d":"624,485"}]
["LOCAL ECONOMIC DEVELOPMENT AND SOCIAL DEVELOPMENT",{"$nulls":3},0,0,0,{"v":24461600,"d":"24,462"},{"v":24461600,"d":"24,462"},{"v":24461600,"d":"24,462"},{"v":24515680,"d":"24,516"},{"v":27065697,"d":"27,066"},{"v":26612668,"d":"26,613"}]
["BASIC SERVICE DELIVERY",{"$nulls":3},{"v":110847589.26,"d":"110,848"},{"v":101748615.24,"d":"101,749"},{"v":132755738.05,"d":"132,756"},{"v":149418078,"d":"149,418"},{"v":151171070,"d":"151,171"},{"v":151171070,"d":"151,171"},{"v":139319582,"d":"139,320"},{"v":146020362,"d":"146,020"},{"v":153848917,"d":"153,849"}]
["MUNICIPAL TRANSFORMATION AND INSTITUTIONAL DEVELOPMENT",{"$nulls":3},{"v":372203.22,"d":"372"},{"v":418238.91,"d":"418"},{"v":392879.51,"d":"393"},{"v":410316,"d":"410"},{"v":410316,"d":"410"},{"v":410316,"d":"410"},{"v":434935,"d":"435"},{"v":461032,"d":"461"},{"v":488693,"d":"489"}]
["CROSS-CUTTING",{"$nulls":3},{"v":31997.94,"d":"32"},{"v":41954.52,"d":"42"},{"v":37521.92,"d":"38"},{"v":17691,"d":"18"},{"v":83814,"d":"84"},{"v":83814,"d":"84"},{"v":88843,"d":"89"},{"v":94174,"d":"94"},{"v":99824,"d":"100"}]
["Allocations to other priorities",null,null,2]
[{"$f":"'A4-FinPerf RE'!A35","v":"Total Revenue (excluding capital transfers and contributions)"},null,null,1,{"$f":"SUM(E4:E10)","v":{"v":560414149.9100001,"d":"560,414"}},{"v":591885110.8,"d":"591,885"},{"v":656242237.4999999,"d":"656,242"},{"v":723814646,"d":"723,815"},{"v":723562194,"d":"723,562"},{"v":723562194,"d":"723,562"},{"v":741220498,"d":"741,220"},{"v":781473186,"d":"781,473"},{"v":805535166,"d":"805,535"}]
[{"$f":"head27a","v":"References"}]
[{"$f":"\"1. Total revenue must reconcile to \"&'Template names'!F103","v":"1. Total revenue must reconcile to Table A4 Budgeted Financial Performance (revenue and expenditure)"}]
["2. Balance of allocations not directly linked to an IDP strategic objective"]

{"sheet":"SA5","index":25,"n_rows":14,"n_cols":13,"rows_kept":14,"merged":[[1,3,2,3],[1,7,1,9],[1,10,1,12]]}
[{"$f":"muni&\" - \"&TableA5","v":"DC43 Harry Gwala - Supporting Table SA5 Reconciliation of IDP strategic objectives and budget (operating expenditure)"}]
["Strategic Objective","MTDP Service Outcome","IUDF",{"$f":"head27","v":"Ref"},{"$f":"head1b","v":"2022/23"},{"$f":"head1A","v":"2023/24"},{"$f":"Head1","v":"2024/25"},{"$f":"Head2","v":"Current Year 2025/26"},null,null,{"$f":"Head3","v":"2026/27 Medium Term Revenue & Expenditure Framework"}]
["R thousand",{"$nulls":3},{"$f":"Head5","v":"Audited Outcome"},{"$f":"Head5","v":"Audited Outcome"},{"$f":"Head5","v":"Audited Outcome"},{"$f":"Head6","v":"Original Budget"},{"$f":"Head7","v":"Adjusted Budget"},{"$f":"Head8","v":"Full Year Forecast"},{"$f":"Head9","v":"Budget Year 2026/27"},{"$f":"Head10","v":"Budget Year +1 2027/28"},{"$f":"Head11","v":"Budget Year +2 2028/29"}]
["GOOD GOVERNANCE",{"$nulls":3},{"v":43866849.47,"d":"43,867"},{"v":43299818.86,"d":"43,300"},{"v":45974832.15,"d":"45,975"},{"v":55264098,"d":"55,264"},{"v":56725970,"d":"56,726"},{"v":56725970,"d":"56,726"},{"v":59493665,"d":"59,494"},{"v":61692457,"d":"61,692"},{"v":63946515,"d":"63,947"}]
["FINANCIAL VIABILITY AND MANAGEMENT",{"$nulls":3},{"v":59115259.52,"d":"59,115"},{"v":67326470.81,"d":"67,326"},{"v":69650395.42,"d":"69,650"},{"v":64749470,"d":"64,749"},{"v":76726737,"d":"76,727"},{"v":76726737,"d":"76,727"},{"v":76941979,"d":"76,942"},{"v":79836577,"d":"79,837"},{"v":82901961,"d":"82,902"}]
["LOCAL ECONOMIC DEVELOPMENT AND SOCIAL DEVELOPMENT",{"$nulls":3},{"v":24513535,"d":"24,514"},{"v":10946350.2,"d":"10,946"},{"v":10277437.8,"d":"10,277"},{"v":65514043,"d":"65,514"},{"v":67068439,"d":"67,068"},{"v":67068439,"d":"67,068"},{"v":69585768,"d":"69,586"},{"v":73694617,"d":"73,695"},{"v":74769457,"d":"74,769"}]
["BASIC SERVICE DELIVERY",{"$nulls":3},{"v":358108582.58,"d":"358,109"},{"v":502975908.64,"d":"502,976"},{"v":457262479.45,"d":"457,262"},{"v":494371210,"d":"494,371"},{"v":531452093,"d":"531,452"},{"v":531452093,"d":"531,452"},{"v":493511498,"d":"493,511"},{"v":513336160,"d":"513,336"},{"v":531187046,"d":"531,187"}]
["MUNICIPAL TRANSFORMATION AND INSTITUTIONAL DEVELOPMENT",{"$nulls":3},{"v":90484095.68,"d":"90,484"},{"v":93010336.99,"d":"93,010"},{"v":106565849.97,"d":"106,566"},{"v":110298861,"d":"110,299"},{"v":130947210,"d":"130,947"},{"v":130947210,"d":"130,947"},{"v":141503252,"d":"141,503"},{"v":146404733,"d":"146,405"},{"v":151365282,"d":"151,365"}]
["CROSS-CUTTING",{"$nulls":3},{"v":22005642.76,"d":"22,006"},{"v":23593514.24,"d":"23,594"},{"v":22501806.19,"d":"22,502"},{"v":28976629,"d":"28,977"},{"v":27500236,"d":"27,500"},{"v":27500236,"d":"27,500"},{"v":29610472,"d":"29,610"},{"v":30749249,"d":"30,749"},{"v":31925352,"d":"31,925"}]
["Allocations to other priorities"]
[{"$f":"'A4-FinPerf RE'!A50","v":"Total Expenditure"},null,null,1,{"$f":"SUM(E4:E10)","v":{"v":598093965.01,"d":"598,094"}},{"v":741152399.74,"d":"741,152"},{"v":712232800.98,"d":"712,233"},{"v":819174311,"d":"819,174"},{"v":890420685,"d":"890,421"},{"v":890420685,"d":"890,421"},{"v":870646634,"d":"870,647"},{"v":905713793,"d":"905,714"},{"v":936095613,"d":"936,096"}]
[{"$f":"head27a","v":"References"}]
[{"$f":"\"1. Total expenditure must reconcile to \"&'Template names'!F103","v":"1. Total expenditure must reconcile to Table A4 Budgeted Financial Performance (revenue and expenditure)"}]
["2. Balance of allocations not directly linked to an IDP strategic objective"]

{"sheet":"SA6","index":26,"n_rows":15,"n_cols":13,"rows_kept":15,"merged":[[1,3,2,3],[1,7,1,9],[1,10,1,12]]}
[{"$f":"muni&\" - \"&TableA6","v":"DC43 Harry Gwala - Supporting Table SA6 Reconciliation of IDP strategic objectives and budget (capital expenditure)"}]
["Strategic Objective","MTDP Service Outcome","IUDF",{"$f":"head27","v":"Ref"},{"$f":"head1b","v":"2022/23"},{"$f":"head1A","v":"2023/24"},{"$f":"Head1","v":"2024/25"},{"$f":"Head2","v":"Current Year 2025/26"},null,null,{"$f":"Head3","v":"2026/27 Medium Term Revenue & Expenditure Framework"}]
["R thousand",{"$nulls":3},{"$f":"Head5","v":"Audited Outcome"},{"$f":"Head5","v":"Audited Outcome"},{"$f":"Head5","v":"Audited Outcome"},{"$f":"Head6","v":"Original Budget"},{"$f":"Head7","v":"Adjusted Budget"},{"$f":"Head8","v":"Full Year Forecast"},{"$f":"Head9","v":"Budget Year 2026/27"},{"$f":"Head10","v":"Budget Year +1 2027/28"},{"$f":"Head11","v":"Budget Year +2 2028/29"}]
["GOOD GOVERNANCE",{"$nulls":3},0,0,0,{"v":1363636,"d":"1,364"},{"v":500000,"d":"500"},{"v":500000,"d":"500"},0,0,0]
["FINANCIAL VIABILITY AND MANAGEMENT",{"$nulls":3},{"v":274912.4,"d":"275"},0,0,{"v":2459089,"d":"2,459"},{"v":2279810,"d":"2,280"},{"v":2279810,"d":"2,280"},{"v":150229,"d":"150"},{"v":156239,"d":"156"},{"v":1852047,"d":"1,852"}]
["LOCAL ECONOMIC DEVELOPMENT AND SOCIAL DEVELOPMENT",{"$nulls":3},{"v":138085,"d":"138"},0,0,{"v":7101000,"d":"7,101"},{"v":6472000,"d":"6,472"},{"v":6472000,"d":"6,472"},{"v":3652314,"d":"3,652"},{"v":3772842,"d":"3,773"},{"v":5542079,"d":"5,542"}]
["BASIC SERVICE DELIVERY",{"$nulls":3},{"v":260707908.95,"d":"260,708"},{"v":304232651.93,"d":"304,233"},{"v":337074318.86,"d":"337,074"},{"v":282625467,"d":"282,625"},{"v":310940192,"d":"310,940"},{"v":310940192,"d":"310,940"},{"v":315345024,"d":"315,345"},{"v":369180051,"d":"369,180"},{"v":364336264,"d":"364,336"}]
["MUNICIPAL TRANSFORMATION AND INSTITUTIONAL DEVELOPMENT",{"$nulls":3},{"v":7726790.75,"d":"7,727"},{"v":4384610.47,"d":"4,385"},{"v":12000505.38,"d":"12,001"},{"v":8510543,"d":"8,511"},{"v":11405208,"d":"11,405"},{"v":11405208,"d":"11,405"},{"v":10201348,"d":"10,201"},{"v":10609402,"d":"10,609"},{"v":11861417,"d":"11,861"}]
["CROSS-CUTTING",{"$nulls":3},{"v":269950,"d":"270"},{"v":986239.14,"d":"986"},0,0,0,0,0,0,0]
["Allocations to other priorities",null,null,3]
["Total Capital Expenditure",null,null,1,{"$f":"SUM(E4:E10)","v":{"v":269117647.1,"d":"269,118"}},{"v":309603501.54,"d":"309,604"},{"v":349074824.24,"d":"349,075"},{"v":302059735,"d":"302,060"},{"v":331597210,"d":"331,597"},{"v":331597210,"d":"331,597"},{"v":329348915,"d":"329,349"},{"v":383718534,"d":"383,719"},{"v":383591807,"d":"383,592"}]
[{"$f":"head27a","v":"References"}]
["1. Total capital expenditure must reconcile to Budgeted Capital Expenditure"]
["2. IUDF code must be used on Table SA36"]
["3. Balance of allocations not directly linked to an IDP strategic objective"]

{"sheet":"SA7","index":27,"n_rows":35,"n_cols":11,"rows_kept":35,"merged":[[1,0,2,0],[1,1,2,1],[1,5,1,7],[1,8,1,10],[24,0,24,10],[29,0,30,0],[29,1,30,1],[29,5,29,7],[29,8,29,10],[33,0,33,10]]}
[{"$f":"muni&\" - \"&TableA7","v":"DC43 Harry Gwala - Supporting Table SA7 Measureable performance objectives"}]
["Description","Unit of measurement",{"$f":"head1b","v":"2022/23"},{"$f":"head1A","v":"2023/24"},{"$f":"Head1","v":"2024/25"},{"$f":"Head2","v":"Current Year 2025/26"},null,null,{"$f":"Head3","v":"2026/27 Medium Term Revenue & Expenditure Framework"}]
[null,null,{"$f":"Head5","v":"Audited Outcome"},{"$f":"Head5","v":"Audited Outcome"},{"$f":"Head5","v":"Audited Outcome"},{"$f":"Head6","v":"Original Budget"},{"$f":"Head7","v":"Adjusted Budget"},{"$f":"Head8","v":"Full Year Forecast"},{"$f":"Head9","v":"Budget Year 2026/27"},{"$f":"Head10","v":"Budget Year +1 2027/28"},{"$f":"Head11","v":"Budget Year +2 2028/29"}]
["06 - Summary Infrastructure Services"]
["Energy Sources"]
["Electricity"]
["Formal Settlement Households Receiving Electricity","Households",0,0,0,{"v":3096,"d":"3 096 "},{"v":3096,"d":"3 096 "},{"v":3096,"d":"3 096 "},{"v":3158,"d":"3 158 "},{"v":3158,"d":"3 158 "},{"v":3158,"d":"3 158 "}]
["Waste Water Management"]
["Sewerage"]
["Flush Toilet (Connected To Sewerage)","Households",0,0,0,{"v":105039,"d":"105 039 "},{"v":105039,"d":"105 039 "},{"v":105039,"d":"105 039 "},{"v":111341,"d":"111 341 "},{"v":118022,"d":"118 022 "},{"v":125103,"d":"125 103 "}]
["Flush Toilet (With Septic Tank)","Households",0,0,0,{"v":16935,"d":"16 935 "},{"v":16935,"d":"16 935 "},{"v":16935,"d":"16 935 "},{"v":17951,"d":"17 951 "},{"v":19028,"d":"19 028 "},{"v":20170,"d":"20 170 "}]
["Formal Settlement Households Receiving Sanitation","Households",0,0,0,0,0,0,0,0,0]
["Pit Toilet (Ventilated)","Households",0,0,0,{"v":60424,"d":"60 424 "},{"v":60424,"d":"60 424 "},{"v":60424,"d":"60 424 "},{"v":64049,"d":"64 049 "},{"v":67892,"d":"67 892 "},{"v":71966,"d":"71 966 "}]
["Water Management"]
["Water Distribution"]
["Formal Settlement Households Receiving Water","Households",0,0,0,{"v":3096,"d":"3 096 "},{"v":3096,"d":"3 096 "},{"v":3096,"d":"3 096 "},{"v":3158,"d":"3 158 "},{"v":3158,"d":"3 158 "},{"v":3158,"d":"3 158 "}]
["Informal Settlements (R000)","Rand Value",0,0,0,0,0,0,0,0,0]
["Other Water Supply (< Min.Service Level)","Households",0,0,0,{"v":39798,"d":"39 798 "},{"v":39798,"d":"39 798 "},{"v":39798,"d":"39 798 "},{"v":42186,"d":"42 186 "},{"v":44717,"d":"44 717 "},{"v":47400,"d":"47 400 "}]
["Other Water Supply (At Least Min.Service Level)","Households",0,0,0,{"v":39798,"d":"39 798 "},{"v":39798,"d":"39 798 "},{"v":39798,"d":"39 798 "},{"v":42186,"d":"42 186 "},{"v":44717,"d":"44 717 "},{"v":47400,"d":"47 400 "}]
["Piped Water Inside Dwelling","Households",0,0,0,{"v":67272,"d":"67 272 "},{"v":67272,"d":"67 272 "},{"v":67272,"d":"67 272 "},{"v":71308,"d":"71 308 "},{"v":75587,"d":"75 587 "},{"v":80122,"d":"80 122 "}]
["Piped Water Inside Yard (But Not In Dwelling)","Households",0,0,0,{"v":27352,"d":"27 352 "},{"v":27352,"d":"27 352 "},{"v":27352,"d":"27 352 "},{"v":28993,"d":"28 993 "},{"v":30733,"d":"30 733 "},{"v":32577,"d":"32 577 "}]
["Using Public Tap (< Min.Service Level)","Households",0,0,0,{"v":47975,"d":"47 975 "},{"v":47975,"d":"47 975 "},{"v":47975,"d":"47 975 "},{"v":50854,"d":"50 854 "},{"v":53905,"d":"53 905 "},{"v":57139,"d":"57 139 "}]
["Using Public Tap (At Least Min.Service Level)","Households",0,0,0,{"v":47975,"d":"47 975 "},{"v":47975,"d":"47 975 "},{"v":47975,"d":"47 975 "},{"v":50854,"d":"50 854 "},{"v":53905,"d":"53 905 "},{"v":57139,"d":"57 139 "}]
[]
["1. Include a measurable performance objective for each revenue source (within a relevant function) and each vote (MFMA s17(3)(b))"]
["2. Include all Basic Services performance targets from 'Basic Service Delivery' to ensure Table SA7 represents all strategic responsibilities"]
["3. Only include prior year comparative information for individual measures where relevant activity occurred in that year/s"]
[]
[{"$f":"muni&\" - \"&\"Entities measureable performance objectives\"","v":"DC43 Harry Gwala - Entities measureable performance objectives"}]
[{"$f":"A2","v":"Description"},"Unit of measurement",{"$f":"head1b","v":"2022/23"},{"$f":"head1A","v":"2023/24"},{"$f":"Head1","v":"2024/25"},{"$f":"Head2","v":"Current Year 2025/26"},null,null,{"$f":"Head3","v":"2026/27 Medium Term Revenue & Expenditure Framework"}]
[null,null,{"$f":"Head5","v":"Audited Outcome"},{"$f":"Head5","v":"Audited Outcome"},{"$f":"Head5","v":"Audited Outcome"},{"$f":"Head6","v":"Original Budget"},{"$f":"Head7","v":"Adjusted Budget"},{"$f":"Head8","v":"Full Year Forecast"},{"$f":"Head9","v":"Budget Year 2026/27"},{"$f":"Head10","v":"Budget Year +1 2027/28"},{"$f":"Head11","v":"Budget Year +2 2028/29"}]
["Entity 1 - (name of entity)"]
[]
["1. Include a measurable performance objective as agreed with the parent municipality (MFMA s87(5)(d))"]
["2. Only include prior year comparative information for individual measures where relevant activity occurred in that year/s"]

{"sheet":"SA8","index":28,"n_rows":53,"n_cols":12,"rows_kept":53,"merged":[[1,0,2,0],[1,1,2,1],[1,5,1,8],[1,9,1,11],[25,0,28,0],[29,0,31,0],[32,0,34,0]]}
[{"$f":"muni&\" - \"&TableA8","v":"DC43 Harry Gwala - Supporting Table SA8 Performance indicators and benchmarks"}]
["Description of financial indicator","Basis of calculation",{"$f":"head1b","v":"2022/23"},{"$f":"head1A","v":"2023/24"},{"$f":"Head1","v":"2024/25"},{"$f":"Head2","v":"Current Year 2025/26"},{"$nulls":3},{"$f":"Head3","v":"2026/27 Medium Term Revenue & Expenditure Framework"}]
[null,null,{"$f":"Head5","v":"Audited Outcome"},{"$f":"Head5","v":"Audited Outcome"},{"$f":"Head5","v":"Audited Outcome"},{"$f":"Head6","v":"Original Budget"},{"$f":"Head7","v":"Adjusted Budget"},{"$f":"Head8","v":"Full Year Forecast"},{"$f":"Head5b","v":"Pre-audit outcome"},{"$f":"Head9","v":"Budget Year 2026/27"},{"$f":"Head10","v":"Budget Year +1 2027/28"},{"$f":"Head11","v":"Budget Year +2 2028/29"}]
["Borrowing Management"]
[]
["Credit Rating",{"$nulls":4},0,"0,6%","0,6%",0]
["Capital Charges to Operating Expenditure","Interest & Principal Paid /Operating Expenditure",{"$f":"IF(ISERROR(('A4-FinPerf RE'!C43-'A7-CFlow'!C38)/'A4-FinPerf RE'!C50),0,(('A4-FinPerf RE'!C43-'A7-CFlow'!C38)/'A4-FinPerf RE'!C50))","v":{"v":1.8881210707562282E-4,"d":"0.0%"}},{"$f":"IF(ISERROR(('A4-FinPerf RE'!D43-'A7-CFlow'!D38)/'A4-FinPerf RE'!D50),0,(('A4-FinPerf RE'!D43-'A7-CFlow'!D38)/'A4-FinPerf RE'!D50))","v":{"v":2.90455782205547e-06,"d":"0.0%"}},{"$f":"IF(ISERROR(('A4-FinPerf RE'!E43-'A7-CFlow'!E38)/'A4-FinPerf RE'!E50),0,(('A4-FinPerf RE'!E43-'A7-CFlow'!E38)/'A4-FinPerf RE'!E50))","v":{"v":0,"d":"0.0%"}},{"$f":"IF(ISERROR(('A4-FinPerf RE'!F43-'A7-CFlow'!F38)/'A4-FinPerf RE'!F50),0,(('A4-FinPerf RE'!F43-'A7-CFlow'!F38)/'A4-FinPerf RE'!F50))","v":{"v":2.9959435580982226E-3,"d":"0.3%"}},{"$f":"IF(ISERROR(('A4-FinPerf RE'!G43-'A7-CFlow'!G38)/'A4-FinPerf RE'!G50),0,(('A4-FinPerf RE'!G43-'A7-CFlow'!G38)/'A4-FinPerf RE'!G50))","v":{"v":0.002756225277942639,"d":"0.3%"}},{"$f":"IF(ISERROR(('A4-FinPerf RE'!H43-'A7-CFlow'!H38)/'A4-FinPerf RE'!H50),0,(('A4-FinPerf RE'!H43-'A7-CFlow'!H38)/'A4-FinPerf RE'!H50))","v":{"v":0.002756225277942639,"d":"0.3%"}},{"$f":"IF(ISERROR(('A4-FinPerf RE'!I43-'A7-CFlow'!I38)/'A4-FinPerf RE'!I50),0,(('A4-FinPerf RE'!I43-'A7-CFlow'!I38)/'A4-FinPerf RE'!I50))","v":{"v":1.9276898410486797E-3,"d":"0.2%"}},{"$f":"IF(ISERROR(('A4-FinPerf RE'!J43-'A7-CFlow'!J38)/'A4-FinPerf RE'!J50),0,(('A4-FinPerf RE'!J43-'A7-CFlow'!J38)/'A4-FinPerf RE'!J50))","v":{"v":2.8212674397130903E-3,"d":"0.3%"}},{"$f":"IF(ISERROR(('A4-FinPerf RE'!K43-'A7-CFlow'!K38)/'A4-FinPerf RE'!K50),0,(('A4-FinPerf RE'!K43-'A7-CFlow'!K38)/'A4-FinPerf RE'!K50))","v":{"v":2.7144082589896034E-3,"d":"0.3%"}},{"$f":"IF(ISERROR(('A4-FinPerf RE'!L43-'A7-CFlow'!L38)/'A4-FinPerf RE'!L50),0,(('A4-FinPerf RE'!L43-'A7-CFlow'!L38)/'A4-FinPerf RE'!L50))","v":{"v":2.6286780600476975E-3,"d":"0.3%"}}]
["Capital Charges to Own Revenue","Finance charges & Repayment of borrowing /Own Revenue",{"$f":"IF(ISERROR(('A4-FinPerf RE'!C43-'A7-CFlow'!C38)/('A4-FinPerf RE'!C35-'A4-FinPerf RE'!C32)),0,(('A4-FinPerf RE'!C43-'A7-CFlow'!C38)/('A4-FinPerf RE'!C35-'A4-FinPerf RE'!C32)))","v":{"v":2.0141391864949746E-4,"d":"0.0%"}},{"$f":"IF(ISERROR(('A4-FinPerf RE'!D43-'A7-CFlow'!D38)/('A4-FinPerf RE'!D35-'A4-FinPerf RE'!D32)),0,(('A4-FinPerf RE'!D43-'A7-CFlow'!D38)/('A4-FinPerf RE'!D35-'A4-FinPerf RE'!D32)))","v":{"v":3.637057193566424E-6,"d":"0.0%"}},{"$f":"IF(ISERROR(('A4-FinPerf RE'!E43-'A7-CFlow'!E38)/('A4-FinPerf RE'!E35-'A4-FinPerf RE'!E32)),0,(('A4-FinPerf RE'!E43-'A7-CFlow'!E38)/('A4-FinPerf RE'!E35-'A4-FinPerf RE'!E32)))","v":{"v":0,"d":"0.0%"}},{"$f":"IF(ISERROR(('A4-FinPerf RE'!F43-'A7-CFlow'!F38)/('A4-FinPerf RE'!F35-'A4-FinPerf RE'!F32)),0,(('A4-FinPerf RE'!F43-'A7-CFlow'!F38)/('A4-FinPerf RE'!F35-'A4-FinPerf RE'!F32)))","v":{"v":3.3906470580038527E-3,"d":"0.3%"}},{"$f":"IF(ISERROR(('A4-FinPerf RE'!G43-'A7-CFlow'!G38)/('A4-FinPerf RE'!G35-'A4-FinPerf RE'!G32)),0,(('A4-FinPerf RE'!G43-'A7-CFlow'!G38)/('A4-FinPerf RE'!G35-'A4-FinPerf RE'!G32)))","v":{"v":0.003391830060153751,"d":"0.3%"}},{"$f":"IF(ISERROR(('A4-FinPerf RE'!H43-'A7-CFlow'!H38)/('A4-FinPerf RE'!H35-'A4-FinPerf RE'!H32)),0,(('A4-FinPerf RE'!H43-'A7-CFlow'!H38)/('A4-FinPerf RE'!H35-'A4-FinPerf RE'!H32)))","v":{"v":0.003391830060153751,"d":"0.3%"}},{"$f":"IF(ISERROR(('A4-FinPerf RE'!I43-'A7-CFlow'!I38)/('A4-FinPerf RE'!I35-'A4-FinPerf RE'!I32)),0,(('A4-FinPerf RE'!I43-'A7-CFlow'!I38)/('A4-FinPerf RE'!I35-'A4-FinPerf RE'!I32)))","v":{"v":2.0064112385183327E-3,"d":"0.2%"}},{"$f":"IF(ISERROR(('A4-FinPerf RE'!J43-'A7-CFlow'!J38)/('A4-FinPerf RE'!J35-'A4-FinPerf RE'!J32)),0,(('A4-FinPerf RE'!J43-'A7-CFlow'!J38)/('A4-FinPerf RE'!J35-'A4-FinPerf RE'!J32)))","v":{"v":3.3138951319179517E-3,"d":"0.3%"}},{"$f":"IF(ISERROR(('A4-FinPerf RE'!K43-'A7-CFlow'!K38)/('A4-FinPerf RE'!K35-'A4-FinPerf RE'!K32)),0,(('A4-FinPerf RE'!K43-'A7-CFlow'!K38)/('A4-FinPerf RE'!K35-'A4-FinPerf RE'!K32)))","v":{"v":3.1459518305212843E-3,"d":"0.3%"}},{"$f":"IF(ISERROR(('A4-FinPerf RE'!L43-'A7-CFlow'!L38)/('A4-FinPerf RE'!L35-'A4-FinPerf RE'!L32)),0,(('A4-FinPerf RE'!L43-'A7-CFlow'!L38)/('A4-FinPerf RE'!L35-'A4-FinPerf RE'!L32)))","v":{"v":0.003054731939536455,"d":"0.3%"}}]
["Borrowed funding of 'own' capital expenditure","Borrowing/Capital expenditure excl. transfers and grants and contributions",{"$f":"IF(ISERROR(C53/C52),0,(C53/C52))","v":{"v":0,"d":"0.0%"}},{"$f":"IF(ISERROR(D53/D52),0,(D53/D52))","v":{"v":0,"d":"0.0%"}},{"$f":"IF(ISERROR(E53/E52),0,(E53/E52))","v":{"v":0,"d":"0.0%"}},{"v":0,"d":"0.0%"},{"v":0,"d":"0.0%"},{"v":0,"d":"0.0%"},{"v":0,"d":"0.0%"},{"v":0,"d":"0.0%"},{"v":0,"d":"0.0%"},{"v":0,"d":"0.0%"}]
["Safety of Capital"]
["Gearing","Long Term Borrowing/ Funds & Reserves",{"$f":"IF(ISERROR(('A6-FinPos'!C42/'A6-FinPos'!C49)),0,(('A6-FinPos'!C42/'A6-FinPos'!C49)))","v":{"v":0,"d":"0.0%"}},{"$f":"IF(ISERROR(('A6-FinPos'!D42/'A6-FinPos'!D49)),0,(('A6-FinPos'!D42/'A6-FinPos'!D49)))","v":{"v":0,"d":"0.0%"}},{"$f":"IF(ISERROR(('A6-FinPos'!E42/'A6-FinPos'!E49)),0,(('A6-FinPos'!E42/'A6-FinPos'!E49)))","v":{"v":0,"d":"0.0%"}},{"$f":"IF(ISERROR(('A6-FinPos'!F42/'A6-FinPos'!F49)),0,(('A6-FinPos'!F42/'A6-FinPos'!F49)))","v":{"v":0,"d":"0.0%"}},{"$f":"IF(ISERROR(('A6-FinPos'!G42/'A6-FinPos'!G49)),0,(('A6-FinPos'!G42/'A6-FinPos'!G49)))","v":{"v":0,"d":"0.0%"}},{"$f":"IF(ISERROR(('A6-FinPos'!H42/'A6-FinPos'!H49)),0,(('A6-FinPos'!H42/'A6-FinPos'!H49)))","v":{"v":0,"d":"0.0%"}},{"$f":"IF(ISERROR(('A6-FinPos'!I42/'A6-FinPos'!I49)),0,(('A6-FinPos'!I42/'A6-FinPos'!I49)))","v":{"v":0,"d":"0.0%"}},{"$f":"IF(ISERROR(('A6-FinPos'!J42/'A6-FinPos'!J49)),0,(('A6-FinPos'!J42/'A6-FinPos'!J49)))","v":{"v":0,"d":"0.0%"}},{"$f":"IF(ISERROR(('A6-FinPos'!K42/'A6-FinPos'!K49)),0,(('A6-FinPos'!K42/'A6-FinPos'!K49)))","v":{"v":0,"d":"0.0%"}},{"$f":"IF(ISERROR(('A6-FinPos'!L42/'A6-FinPos'!L49)),0,(('A6-FinPos'!L42/'A6-FinPos'!L49)))","v":{"v":0,"d":"0.0%"}}]
["Liquidity"]
["Current Ratio","Current assets/current liabilities",{"$f":"IF(ISERROR('A6-FinPos'!C14/'A6-FinPos'!C38),0,('A6-FinPos'!C14/'A6-FinPos'!C38))","v":{"v":1.2791949391000415,"d":"1.3"}},{"$f":"IF(ISERROR('A6-FinPos'!D14/'A6-FinPos'!D38),0,('A6-FinPos'!D14/'A6-FinPos'!D38))","v":{"v":1.803073667197378,"d":"1.8"}},{"$f":"IF(ISERROR('A6-FinPos'!E14/'A6-FinPos'!E38),0,('A6-FinPos'!E14/'A6-FinPos'!E38))","v":{"v":1.646300318517853,"d":"1.6"}},{"$f":"IF(ISERROR('A6-FinPos'!F14/'A6-FinPos'!F38),0,('A6-FinPos'!F14/'A6-FinPos'!F38))","v":{"v":1.810079429860295,"d":"1.8"}},{"$f":"IF(ISERROR('A6-FinPos'!G14/'A6-FinPos'!G38),0,('A6-FinPos'!G14/'A6-FinPos'!G38))","v":{"v":1.3003654280478778,"d":"1.3"}},{"$f":"IF(ISERROR('A6-FinPos'!H14/'A6-FinPos'!H38),0,('A6-FinPos'!H14/'A6-FinPos'!H38))","v":{"v":1.3003654280478778,"d":"1.3"}},{"$f":"IF(ISERROR('A6-FinPos'!I14/'A6-FinPos'!I38),0,('A6-FinPos'!I14/'A6-FinPos'!I38))","v":{"v":-1.3403809527143384,"d":"(1.3)"}},{"$f":"IF(ISERROR('A6-FinPos'!J14/'A6-FinPos'!J38),0,('A6-FinPos'!J14/'A6-FinPos'!J38))","v":{"v":1.1746589286842308,"d":"1.2"}},{"$f":"IF(ISERROR('A6-FinPos'!K14/'A6-FinPos'!K38),0,('A6-FinPos'!K14/'A6-FinPos'!K38))","v":{"v":1.3132452527031475,"d":"1.3"}},{"$f":"IF(ISERROR('A6-FinPos'!L14/'A6-FinPos'!L38),0,('A6-FinPos'!L14/'A6-FinPos'!L38))","v":{"v":1.3675128797928078,"d":"1.4"}}]
["Current Ratio adjusted for aged debtors","Current assets less debtors > 90 days/current liabilities",{"$f":"IF(ISERROR(('A6-FinPos'!C14-'SA8'!C49)/'A6-FinPos'!C38),0,(('A6-FinPos'!C14-'SA8'!C49)/'A6-FinPos'!C38))","v":{"v":1.2791949391000415,"d":"1.3"}},{"$f":"IF(ISERROR(('A6-FinPos'!D14-'SA8'!D49)/'A6-FinPos'!D38),0,(('A6-FinPos'!D14-'SA8'!D49)/'A6-FinPos'!D38))","v":{"v":1.803073667197378,"d":"1.8"}},{"$f":"IF(ISERROR(('A6-FinPos'!E14-'SA8'!E49)/'A6-FinPos'!E38),0,(('A6-FinPos'!E14-'SA8'!E49)/'A6-FinPos'!E38))","v":{"v":1.646300318517853,"d":"1.6"}},{"$f":"IF(ISERROR(('A6-FinPos'!F14-'SA8'!F49)/'A6-FinPos'!F38),0,(('A6-FinPos'!F14-'SA8'!F49)/'A6-FinPos'!F38))","v":{"v":1.810079429860295,"d":"1.8"}},{"$f":"IF(ISERROR(('A6-FinPos'!G14-'SA8'!G49)/'A6-FinPos'!G38),0,(('A6-FinPos'!G14-'SA8'!G49)/'A6-FinPos'!G38))","v":{"v":1.3003654280478778,"d":"1.3"}},{"$f":"IF(ISERROR(('A6-FinPos'!H14-'SA8'!H49)/'A6-FinPos'!H38),0,(('A6-FinPos'!H14-'SA8'!H49)/'A6-FinPos'!H38))","v":{"v":1.3003654280478778,"d":"1.3"}},{"$f":"IF(ISERROR(('A6-FinPos'!I14-'SA8'!I49)/'A6-FinPos'!I38),0,(('A6-FinPos'!I14-'SA8'!I49)/'A6-FinPos'!I38))","v":{"v":-1.3403809527143384,"d":"(1.3)"}},{"$f":"IF(ISERROR(('A6-FinPos'!J14-'SA8'!J49)/'A6-FinPos'!J38),0,(('A6-FinPos'!J14-'SA8'!J49)/'A6-FinPos'!J38))","v":{"v":1.1746589286842308,"d":"1.2"}},{"$f":"IF(ISERROR(('A6-FinPos'!K14-'SA8'!K49)/'A6-FinPos'!K38),0,(('A6-FinPos'!K14-'SA8'!K49)/'A6-FinPos'!K38))","v":{"v":1.3132452527031475,"d":"1.3"}},{"$f":"IF(ISERROR(('A6-FinPos'!L14-'SA8'!L49)/'A6-FinPos'!L38),0,(('A6-FinPos'!L14-'SA8'!L49)/'A6-FinPos'!L38))","v":{"v":1.3675128797928078,"d":"1.4"}}]
["Liquidity Ratio","Monetary Assets/Current Liabilities",{"$f":"IF(ISERROR(('A6-FinPos'!C6+'A6-FinPos'!C7+'A6-FinPos'!C8)/'A6-FinPos'!C38),0,(('A6-FinPos'!C6+'A6-FinPos'!C7+'A6-FinPos'!C8)/'A6-FinPos'!C38))","v":{"v":1.031614025748632,"d":"1.0"}},{"$f":"IF(ISERROR(('A6-FinPos'!D6+'A6-FinPos'!D7+'A6-FinPos'!D8)/'A6-FinPos'!D38),0,(('A6-FinPos'!D6+'A6-FinPos'!D7+'A6-FinPos'!D8)/'A6-FinPos'!D38))","v":{"v":1.6394328539015335,"d":"1.6"}},{"$f":"IF(ISERROR(('A6-FinPos'!E6+'A6-FinPos'!E7+'A6-FinPos'!E8)/'A6-FinPos'!E38),0,(('A6-FinPos'!E6+'A6-FinPos'!E7+'A6-FinPos'!E8)/'A6-FinPos'!E38))","v":{"v":1.4631607234229875,"d":"1.5"}},{"$f":"IF(ISERROR(('A6-FinPos'!F6+'A6-FinPos'!F7+'A6-FinPos'!F8)/'A6-FinPos'!F38),0,(('A6-FinPos'!F6+'A6-FinPos'!F7+'A6-FinPos'!F8)/'A6-FinPos'!F38))","v":{"v":1.6277799696532138,"d":"1.6"}},{"$f":"IF(ISERROR(('A6-FinPos'!G6+'A6-FinPos'!G7+'A6-FinPos'!G8)/'A6-FinPos'!G38),0,(('A6-FinPos'!G6+'A6-FinPos'!G7+'A6-FinPos'!G8)/'A6-FinPos'!G38))","v":{"v":1.1217673711681535,"d":"1.1"}},{"$f":"IF(ISERROR(('A6-FinPos'!H6+'A6-FinPos'!H7+'A6-FinPos'!H8)/'A6-FinPos'!H38),0,(('A6-FinPos'!H6+'A6-FinPos'!H7+'A6-FinPos'!H8)/'A6-FinPos'!H38))","v":{"v":1.1217673711681535,"d":"1.1"}},{"$f":"IF(ISERROR(('A6-FinPos'!I6+'A6-FinPos'!I7+'A6-FinPos'!I8)/'A6-FinPos'!I38),0,(('A6-FinPos'!I6+'A6-FinPos'!I7+'A6-FinPos'!I8)/'A6-FinPos'!I38))","v":{"v":-1.7647114554742225,"d":"(1.8)"}},{"$f":"IF(ISERROR(('A6-FinPos'!J6+'A6-FinPos'!J8)/'A6-FinPos'!J38),0,(('A6-FinPos'!J6+'A6-FinPos'!J8)/'A6-FinPos'!J38))","v":{"v":1.0232747059358638,"d":"1.0"}},{"$f":"IF(ISERROR(('A6-FinPos'!K6+'A6-FinPos'!K8)/'A6-FinPos'!K38),0,(('A6-FinPos'!K6+'A6-FinPos'!K8)/'A6-FinPos'!K38))","v":{"v":1.1615937015960416,"d":"1.2"}},{"$f":"IF(ISERROR(('A6-FinPos'!L6+'A6-FinPos'!L8)/'A6-FinPos'!L38),0,(('A6-FinPos'!L6+'A6-FinPos'!L8)/'A6-FinPos'!L38))","v":{"v":1.215593054510128,"d":"1.2"}}]
["Revenue Management"]
["Annual Debtors Collection Rate (Payment Level %)","Last 12 Mths Receipts/Last 12 Mths Billing",{"$f":"IF(ISERROR(('A7-CFlow'!B6+'A7-CFlow'!B7+'A7-CFlow'!B22+'A7-CFlow'!B23)/SUM('A4-FinPerf RE'!B5:B10)),0,('A7-CFlow'!B6+'A7-CFlow'!B7+'A7-CFlow'!B22+'A7-CFlow'!B23)/(SUM('A4-FinPerf RE'!B5:B10)))","v":{"v":0,"d":"0.0%"}},{"$f":"IF(ISERROR(('A7-CFlow'!C6+'A7-CFlow'!C7+'A7-CFlow'!C22+'A7-CFlow'!C23)/SUM('A4-FinPerf RE'!C5:C10)),0,('A7-CFlow'!C6+'A7-CFlow'!C7+'A7-CFlow'!C22+'A7-CFlow'!C23)/(SUM('A4-FinPerf RE'!C5:C10)))","v":{"v":0.6514071006832161,"d":"65.1%"}},{"$f":"IF(ISERROR(('A7-CFlow'!D6+'A7-CFlow'!D7+'A7-CFlow'!D22+'A7-CFlow'!D23)/SUM('A4-FinPerf RE'!D5:D10)),0,('A7-CFlow'!D6+'A7-CFlow'!D7+'A7-CFlow'!D22+'A7-CFlow'!D23)/(SUM('A4-FinPerf RE'!D5:D10)))","v":{"v":0.8569423549915353,"d":"85.7%"}},{"$f":"IF(ISERROR(('A7-CFlow'!E6+'A7-CFlow'!E7+'A7-CFlow'!E22+'A7-CFlow'!E23)/SUM('A4-FinPerf RE'!E5:E10)),0,('A7-CFlow'!E6+'A7-CFlow'!E7+'A7-CFlow'!E22+'A7-CFlow'!E23)/(SUM('A4-FinPerf RE'!E5:E10)))","v":{"v":0.9089932040471458,"d":"90.9%"}},{"$f":"IF(ISERROR(('A7-CFlow'!F6+'A7-CFlow'!F7+'A7-CFlow'!F22+'A7-CFlow'!F23)/SUM('A4-FinPerf RE'!F5:F10)),0,('A7-CFlow'!F6+'A7-CFlow'!F7+'A7-CFlow'!F22+'A7-CFlow'!F23)/(SUM('A4-FinPerf RE'!F5:F10)))","v":{"v":0.8686996642813586,"d":"86.9%"}},{"$f":"IF(ISERROR(('A7-CFlow'!G6+'A7-CFlow'!G7+'A7-CFlow'!G22+'A7-CFlow'!G23)/SUM('A4-FinPerf RE'!G5:G10)),0,('A7-CFlow'!G6+'A7-CFlow'!G7+'A7-CFlow'!G22+'A7-CFlow'!G23)/(SUM('A4-FinPerf RE'!G5:G10)))","v":{"v":0.9178557863548463,"d":"91.8%"}},{"$f":"IF(ISERROR(('A7-CFlow'!H6+'A7-CFlow'!H7+'A7-CFlow'!H22+'A7-CFlow'!H23)/SUM('A4-FinPerf RE'!H5:H10)),0,('A7-CFlow'!H6+'A7-CFlow'!H7+'A7-CFlow'!H22+'A7-CFlow'!H23)/(SUM('A4-FinPerf RE'!H5:H10)))","v":{"v":0.9178557863548463,"d":"91.8%"}},{"$f":"IF(ISERROR(('A7-CFlow'!I6+'A7-CFlow'!I7+'A7-CFlow'!I22+'A7-CFlow'!I23)/SUM('A4-FinPerf RE'!I5:I10)),0,('A7-CFlow'!I6+'A7-CFlow'!I7+'A7-CFlow'!I22+'A7-CFlow'!I23)/(SUM('A4-FinPerf RE'!I5:I10)))","v":{"v":0.9944650602421196,"d":"99.4%"}},{"$f":"IF(ISERROR(('A7-CFlow'!J6+'A7-CFlow'!J7+'A7-CFlow'!J22+'A7-CFlow'!J23)/SUM('A4-FinPerf RE'!J5:J10)),0,('A7-CFlow'!J6+'A7-CFlow'!J7+'A7-CFlow'!J22+'A7-CFlow'!J23)/(SUM('A4-FinPerf RE'!J5:J10)))","v":{"v":0.9178158562763089,"d":"91.8%"}},{"$f":"IF(ISERROR(('A7-CFlow'!K6+'A7-CFlow'!K7+'A7-CFlow'!K22+'A7-CFlow'!K23)/SUM('A4-FinPerf RE'!K5:K10)),0,('A7-CFlow'!K6+'A7-CFlow'!K7+'A7-CFlow'!K22+'A7-CFlow'!K23)/(SUM('A4-FinPerf RE'!K5:K10)))","v":{"v":0.9178168516422559,"d":"91.8%"}}]
["Current Debtors Collection Rate (Cash receipts % of Ratepayer & Other revenue)",null,{"$f":"IF(ISERROR(('A7-CFlow'!C6+'A7-CFlow'!C7)/SUM('A4-FinPerf RE'!C5:C10)),0,(('A7-CFlow'!C6+'A7-CFlow'!C7)/SUM('A4-FinPerf RE'!C5:C10)))","v":{"v":0.6514071006832161,"d":"65.1%"}},{"$f":"IF(ISERROR(('A7-CFlow'!D6+'A7-CFlow'!D7)/SUM('A4-FinPerf RE'!D5:D10)),0,(('A7-CFlow'!D6+'A7-CFlow'!D7)/SUM('A4-FinPerf RE'!D5:D10)))","v":{"v":0.8569423549915353,"d":"85.7%"}},{"$f":"IF(ISERROR(('A7-CFlow'!E6+'A7-CFlow'!E7)/SUM('A4-FinPerf RE'!E5:E10)),0,(('A7-CFlow'!E6+'A7-CFlow'!E7)/SUM('A4-FinPerf RE'!E5:E10)))","v":{"v":0.9089932040471458,"d":"90.9%"}},{"$f":"IF(ISERROR(('A7-CFlow'!F6+'A7-CFlow'!F7)/SUM('A4-FinPerf RE'!F5:F10)),0,(('A7-CFlow'!F6+'A7-CFlow'!F7)/SUM('A4-FinPerf RE'!F5:F10)))","v":{"v":0.8686996642813586,"d":"86.9%"}},{"$f":"IF(ISERROR(('A7-CFlow'!G6+'A7-CFlow'!G7)/SUM('A4-FinPerf RE'!G5:G10)),0,(('A7-CFlow'!G6+'A7-CFlow'!G7)/SUM('A4-FinPerf RE'!G5:G10)))","v":{"v":0.9178557863548463,"d":"91.8%"}},{"$f":"IF(ISERROR(('A7-CFlow'!H6+'A7-CFlow'!H7)/SUM('A4-FinPerf RE'!H5:H10)),0,(('A7-CFlow'!H6+'A7-CFlow'!H7)/SUM('A4-FinPerf RE'!H5:H10)))","v":{"v":0.9178557863548463,"d":"91.8%"}},{"$f":"IF(ISERROR(('A7-CFlow'!I6+'A7-CFlow'!I7)/SUM('A4-FinPerf RE'!I5:I10)),0,(('A7-CFlow'!I6+'A7-CFlow'!I7)/SUM('A4-FinPerf RE'!I5:I10)))","v":{"v":0.9944650602421196,"d":"99.4%"}},{"$f":"IF(ISERROR(('A7-CFlow'!J6+'A7-CFlow'!J7)/SUM('A4-FinPerf RE'!J5:J10)),0,(('A7-CFlow'!J6+'A7-CFlow'!J7)/SUM('A4-FinPerf RE'!J5:J10)))","v":{"v":0.9178158562763089,"d":"91.8%"}},{"$f":"IF(ISERROR(('A7-CFlow'!K6+'A7-CFlow'!K7)/SUM('A4-FinPerf RE'!K5:K10)),0,(('A7-CFlow'!K6+'A7-CFlow'!K7)/SUM('A4-FinPerf RE'!K5:K10)))","v":{"v":0.9178168516422559,"d":"91.8%"}},{"$f":"IF(ISERROR(('A7-CFlow'!L6+'A7-CFlow'!L7)/SUM('A4-FinPerf RE'!L5:L10)),0,(('A7-CFlow'!L6+'A7-CFlow'!L7)/SUM('A4-FinPerf RE'!L5:L10)))","v":{"v":0.917817893139271,"d":"91.8%"}}]
["Outstanding Debtors to Revenue","Total Outstanding Debtors to Annual Revenue",{"$f":"IF(ISERROR(('A6-FinPos'!C9+'A6-FinPos'!C11+'A6-FinPos'!C12+'A6-FinPos'!C17)/'A4-FinPerf RE'!C35),0,(('A6-FinPos'!C9+'A6-FinPos'!C11+'A6-FinPos'!C12+'A6-FinPos'!C17)/'A4-FinPerf RE'!C35))","v":{"v":0.06714687401458942,"d":"6.7%"}},{"$f":"IF(ISERROR(('A6-FinPos'!D9+'A6-FinPos'!D11+'A6-FinPos'!D12+'A6-FinPos'!D17)/'A4-FinPerf RE'!D35),0,(('A6-FinPos'!D9+'A6-FinPos'!D11+'A6-FinPos'!D12+'A6-FinPos'!D17)/'A4-FinPerf RE'!D35))","v":{"v":0.03773531756832293,"d":"3.8%"}},{"$f":"IF(ISERROR(('A6-FinPos'!E9+'A6-FinPos'!E11+'A6-FinPos'!E12+'A6-FinPos'!E17)/'A4-FinPerf RE'!E35),0,(('A6-FinPos'!E9+'A6-FinPos'!E11+'A6-FinPos'!E12+'A6-FinPos'!E17)/'A4-FinPerf RE'!E35))","v":{"v":0.05281365901109039,"d":"5.3%"}},{"$f":"IF(ISERROR(('A6-FinPos'!F9+'A6-FinPos'!F11+'A6-FinPos'!F12+'A6-FinPos'!F17)/'A4-FinPerf RE'!F35),0,(('A6-FinPos'!F9+'A6-FinPos'!F11+'A6-FinPos'!F12+'A6-FinPos'!F17)/'A4-FinPerf RE'!F35))","v":{"v":0.030857310118590775,"d":"3.1%"}},{"$f":"IF(ISERROR(('A6-FinPos'!G9+'A6-FinPos'!G11+'A6-FinPos'!G12+'A6-FinPos'!G17)/'A4-FinPerf RE'!G35),0,(('A6-FinPos'!G9+'A6-FinPos'!G11+'A6-FinPos'!G12+'A6-FinPos'!G17)/'A4-FinPerf RE'!G35))","v":{"v":0.04789990036433551,"d":"4.8%"}},{"$f":"IF(ISERROR(('A6-FinPos'!H9+'A6-FinPos'!H11+'A6-FinPos'!H12+'A6-FinPos'!H17)/'A4-FinPerf RE'!H35),0,(('A6-FinPos'!H9+'A6-FinPos'!H11+'A6-FinPos'!H12+'A6-FinPos'!H17)/'A4-FinPerf RE'!H35))","v":{"v":0.04789990036433551,"d":"4.8%"}},{"$f":"IF(ISERROR(('A6-FinPos'!I9+'A6-FinPos'!I11+'A6-FinPos'!I12+'A6-FinPos'!I17)/'A4-FinPerf RE'!I35),0,(('A6-FinPos'!I9+'A6-FinPos'!I11+'A6-FinPos'!I12+'A6-FinPos'!I17)/'A4-FinPerf RE'!I35))","v":{"v":-0.020189074523672305,"d":"-2.0%"}},{"$f":"IF(ISERROR(('A6-FinPos'!J9+'A6-FinPos'!J11+'A6-FinPos'!J12+'A6-FinPos'!J17)/'A4-FinPerf RE'!J35),0,(('A6-FinPos'!J9+'A6-FinPos'!J11+'A6-FinPos'!J12+'A6-FinPos'!J17)/'A4-FinPerf RE'!J35))","v":{"v":0.04675876624232267,"d":"4.7%"}},{"$f":"IF(ISERROR(('A6-FinPos'!K9+'A6-FinPos'!K11+'A6-FinPos'!K12+'A6-FinPos'!K17)/'A4-FinPerf RE'!K35),0,(('A6-FinPos'!K9+'A6-FinPos'!K11+'A6-FinPos'!K12+'A6-FinPos'!K17)/'A4-FinPerf RE'!K35))","v":{"v":0.044350281776654586,"d":"4.4%"}},{"$f":"IF(ISERROR(('A6-FinPos'!L9+'A6-FinPos'!L11+'A6-FinPos'!L12+'A6-FinPos'!L17)/'A4-FinPerf RE'!L35),0,(('A6-FinPos'!L9+'A6-FinPos'!L11+'A6-FinPos'!L12+'A6-FinPos'!L17)/'A4-FinPerf RE'!L35))","v":{"v":0.043025503370761595,"d":"4.3%"}}]
["Longstanding Debtors Recovered","Debtors > 12 Mths Recovered/Total Debtors > 12 Months Old"]
["Creditors Management"]
["Creditors System Efficiency","% of Creditors Paid Within Terms (within`MFMA' s 65(e))"]
["Creditors to Cash and Investments",null,{"$f":"IF(ISERROR('SA3'!C249/'A7-CFlow'!C43),0,('SA3'!C249/'A7-CFlow'!C43))","v":{"v":0.07036518082899285,"d":"7.0%"}},{"$f":"IF(ISERROR('SA3'!D249/'A7-CFlow'!D43),0,('SA3'!D249/'A7-CFlow'!D43))","v":{"v":0.053508369424455846,"d":"5.4%"}},{"$f":"IF(ISERROR('SA3'!E249/'A7-CFlow'!E43),0,('SA3'!E249/'A7-CFlow'!E43))","v":{"v":0.10973350945979335,"d":"11.0%"}},{"$f":"IF(ISERROR('SA3'!F249/'A7-CFlow'!F43),0,('SA3'!F249/'A7-CFlow'!F43))","v":{"v":0.4701380048379221,"d":"47.0%"}},{"$f":"IF(ISERROR('SA3'!G249/'A7-CFlow'!G43),0,('SA3'!G249/'A7-CFlow'!G43))","v":{"v":0.6868785347578847,"d":"68.7%"}},{"$f":"IF(ISERROR('SA3'!H249/'A7-CFlow'!H43),0,('SA3'!H249/'A7-CFlow'!H43))","v":{"v":0.6868785347578847,"d":"68.7%"}},{"$f":"IF(ISERROR('SA3'!I249/'A7-CFlow'!I43),0,('SA3'!I249/'A7-CFlow'!I43))","v":{"v":-0.06738488706654112,"d":"-6.7%"}},{"$f":"IF(ISERROR('SA3'!J249/'A7-CFlow'!J43),0,('SA3'!J249/'A7-CFlow'!J43))","v":{"v":0.8612501595547785,"d":"86.1%"}},{"$f":"IF(ISERROR('SA3'!K249/'A7-CFlow'!K43),0,('SA3'!K249/'A7-CFlow'!K43))","v":{"v":0.7790170477726444,"d":"77.9%"}},{"$f":"IF(ISERROR('SA3'!L249/'A7-CFlow'!L43),0,('SA3'!L249/'A7-CFlow'!L43))","v":{"v":0.7498527979818489,"d":"75.0%"}}]
[]
["Other Indicators"]
["Electricity Distribution Losses (2)","Total Volume Losses (kW) technical",0,0,0,0,0,0,0,0,0,0]
[null,"Total Volume Losses (kW) non technical",0,0,0,0,0,0,0,0,0,0]
[null,"Total Cost of Losses (Rand '000)",0,0,0,0,0,0,0,0,0,0]
[null,"% Volume (units purchased and generated less units sold)/units purchased and generated",0,0,0,0,0,0,0,0,0,0]
["Water Volumes :System input","Bulk Purchase",20000000,0,0,21919350,21919350,21919350,0,21919350,21919350,0]
[null,"Water treatment works",6829038,0,0,7132164,7132164,7132164,0,7132164,7132164,0]
[null,"Natural sources",0,0,0,0,0,0,0,0,0,0]
["Water Distribution Losses (2)","Total Volume Losses (kℓ)",0,0,0,{"v":2994815,"d":"2,995"},{"v":2994815,"d":"2,995"},{"v":2994815,"d":"2,995"},0,{"v":2994815,"d":"2,995"},{"v":2994815,"d":"2,995"},0]
[null,"Total Cost of Losses (Rand '000)",0,0,0,0,0,0,0,0,0,0]
[null,"% Volume (units purchased and generated less units sold)/units purchased and generated",0,{"v":0,"d":"0.0%"},{"v":0,"d":"0.0%"},{"v":0,"d":"0.0%"},{"v":0,"d":"0.0%"},{"v":0,"d":"0.0%"},{"v":0,"d":"0.0%"},{"v":0,"d":"0.0%"},{"v":0,"d":"0.0%"},{"v":0,"d":"0.0%"}]
["Employee costs","Employee costs/(Total Revenue - capital revenue)",{"$f":"IF(ISERROR('A4-FinPerf RE'!C37/'A4-FinPerf RE'!C35),0,('A4-FinPerf RE'!C37/'A4-FinPerf RE'!C35))","v":{"v":0.43567948314511895,"d":"43.6%"}},{"$f":"IF(ISERROR('A4-FinPerf RE'!D37/'A4-FinPerf RE'!D35),0,('A4-FinPerf RE'!D37/'A4-FinPerf RE'!D35))","v":{"v":0.430365573879207,"d":"43.0%"}},{"$f":"IF(ISERROR('A4-FinPerf RE'!E37/'A4-FinPerf RE'!E35),0,('A4-FinPerf RE'!E37/'A4-FinPerf RE'!E35))","v":{"v":0.3978929518232968,"d":"39.8%"}},{"$f":"IF(ISERROR('A4-FinPerf RE'!F37/'A4-FinPerf RE'!F35),0,('A4-FinPerf RE'!F37/'A4-FinPerf RE'!F35))","v":{"v":0.40303301765463306,"d":"40.3%"}},{"$f":"IF(ISERROR('A4-FinPerf RE'!G37/'A4-FinPerf RE'!G35),0,('A4-FinPerf RE'!G37/'A4-FinPerf RE'!G35))","v":{"v":0.42955159290702244,"d":"43.0%"}},{"$f":"IF(ISERROR('A4-FinPerf RE'!H37/'A4-FinPerf RE'!H35),0,('A4-FinPerf RE'!H37/'A4-FinPerf RE'!H35))","v":{"v":0.42955159290702244,"d":"43.0%"}},{"$f":"IF(ISERROR('A4-FinPerf RE'!I37/'A4-FinPerf RE'!I35),0,('A4-FinPerf RE'!I37/'A4-FinPerf RE'!I35))","v":{"v":0.36315666737483315,"d":"36.3%"}},{"$f":"IF(ISERROR('A4-FinPerf RE'!J37/'A4-FinPerf RE'!J35),0,('A4-FinPerf RE'!J37/'A4-FinPerf RE'!J35))","v":{"v":0.43612015570567775,"d":"43.6%"}},{"$f":"IF(ISERROR('A4-FinPerf RE'!K37/'A4-FinPerf RE'!K35),0,('A4-FinPerf RE'!K37/'A4-FinPerf RE'!K35))","v":{"v":0.4301046344538301,"d":"43.0%"}},{"$f":"IF(ISERROR('A4-FinPerf RE'!L37/'A4-FinPerf RE'!L35),0,('A4-FinPerf RE'!L37/'A4-FinPerf RE'!L35))","v":{"v":0.43381849700649816,"d":"43.4%"}}]
["Remuneration","Total remuneration/(Total Revenue - capital revenue)",{"$f":"IF(ISERROR('SA22'!C256/'A4-FinPerf RE'!C35),0,('SA22'!C256/'A4-FinPerf RE'!C35))","v":{"v":0.4481486116835797,"d":"44.8%"}},{"$f":"IF(ISERROR('SA22'!D256/'A4-FinPerf RE'!D35),0,('SA22'!D256/'A4-FinPerf RE'!D35))","v":{"v":0.442077137632907,"d":"44.2%"}},{"$f":"IF(ISERROR('SA22'!E256/'A4-FinPerf RE'!E35),0,('SA22'!E256/'A4-FinPerf RE'!E35))","v":{"v":0.40944549874389946,"d":"40.9%"}},{"$f":"IF(ISERROR('SA22'!F256/'A4-FinPerf RE'!F35),0,('SA22'!F256/'A4-FinPerf RE'!F35))","v":{"v":0.4141675270826172,"d":"41.4%"}},{"$f":"IF(ISERROR('SA22'!G256/'A4-FinPerf RE'!G35),0,('SA22'!G256/'A4-FinPerf RE'!G35))","v":{"v":0.44074819641558,"d":"44.1%"}},{"$f":"IF(ISERROR('SA22'!H256/'A4-FinPerf RE'!H35),0,('SA22'!H256/'A4-FinPerf RE'!H35))","v":{"v":0.44074819641558,"d":"44.1%"}},{"$f":"IF(ISERROR('SA22'!I256/'A4-FinPerf RE'!I35),0,('SA22'!I256/'A4-FinPerf RE'!I35))","v":{"v":0.6648678988825348,"d":"66.5%"}},{"$f":"IF(ISERROR('SA22'!I256/'A4-FinPerf RE'!J35),0,('SA22'!I256/'A4-FinPerf RE'!J35))","v":{"v":0.4474872307160615,"d":"44.7%"}},{"$f":"IF(ISERROR('SA22'!J256/'A4-FinPerf RE'!K35),0,('SA22'!J256/'A4-FinPerf RE'!K35))","v":{"v":0.4413174759907885,"d":"44.1%"}},{"$f":"IF(ISERROR('SA22'!K256/'A4-FinPerf RE'!L35),0,('SA22'!K256/'A4-FinPerf RE'!L35))","v":{"v":0.44513151149008934,"d":"44.5%"}}]
["Repairs & Maintenance","R&M/(Total Revenue excluding capital revenue)",{"$f":"IF(ISERROR('A9-Asset'!C184/'A4-FinPerf RE'!C35),0,('A9-Asset'!C184/'A4-FinPerf RE'!C35))","v":{"v":0.09362274869117072,"d":"9.4%"}},{"$f":"IF(ISERROR('A9-Asset'!D184/'A4-FinPerf RE'!D35),0,('A9-Asset'!D184/'A4-FinPerf RE'!D35))","v":{"v":0.07396957786423168,"d":"7.4%"}},{"$f":"IF(ISERROR('A9-Asset'!E184/'A4-FinPerf RE'!E35),0,('A9-Asset'!E184/'A4-FinPerf RE'!E35))","v":{"v":0.061663743001607686,"d":"6.2%"}},{"$f":"IF(ISERROR('A9-Asset'!F184/'A4-FinPerf RE'!F35),0,('A9-Asset'!F184/'A4-FinPerf RE'!F35))","v":{"v":0.06243565842407671,"d":"6.2%"}},{"$f":"IF(ISERROR('A9-Asset'!G184/'A4-FinPerf RE'!G35),0,('A9-Asset'!G184/'A4-FinPerf RE'!G35))","v":{"v":0.0652962418321154,"d":"6.5%"}},{"$f":"IF(ISERROR('A9-Asset'!H184/'A4-FinPerf RE'!H35),0,('A9-Asset'!H184/'A4-FinPerf RE'!H35))","v":{"v":0.0652962418321154,"d":"6.5%"}},{"$f":"IF(ISERROR('A9-Asset'!I184/'A4-FinPerf RE'!I35),0,('A9-Asset'!I184/'A4-FinPerf RE'!I35))","v":{"v":0.061749359543488765,"d":"6.2%"}},{"$f":"IF(ISERROR('A9-Asset'!I184/'A4-FinPerf RE'!J35),0,('A9-Asset'!I184/'A4-FinPerf RE'!J35))","v":{"v":0.04156021060281039,"d":"4.2%"}},{"$f":"IF(ISERROR('A9-Asset'!J184/'A4-FinPerf RE'!K35),0,('A9-Asset'!J184/'A4-FinPerf RE'!K35))","v":{"v":0.040720391396768925,"d":"4.1%"}},{"$f":"IF(ISERROR('A9-Asset'!K184/'A4-FinPerf RE'!L35),0,('A9-Asset'!K184/'A4-FinPerf RE'!L35))","v":{"v":0.04076822389154392,"d":"4.1%"}}]
["Finance charges & Depreciation","FC&D/(Total Revenue - capital revenue)",{"$f":"IF(ISERROR(('A4-FinPerf RE'!C43+'A4-FinPerf RE'!C42)/'A4-FinPerf RE'!C35),0,(('A4-FinPerf RE'!C43+'A4-FinPerf RE'!C42)/'A4-FinPerf RE'!C35))","v":{"v":0.16576962677498286,"d":"16.6%"}},{"$f":"IF(ISERROR(('A4-FinPerf RE'!D43+'A4-FinPerf RE'!D42)/'A4-FinPerf RE'!D35),0,(('A4-FinPerf RE'!D43+'A4-FinPerf RE'!D42)/'A4-FinPerf RE'!D35))","v":{"v":0.4003011033167554,"d":"40.0%"}},{"$f":"IF(ISERROR(('A4-FinPerf RE'!E43+'A4-FinPerf RE'!E42)/'A4-FinPerf RE'!E35),0,(('A4-FinPerf RE'!E43+'A4-FinPerf RE'!E42)/'A4-FinPerf RE'!E35))","v":{"v":0.17724716015402772,"d":"17.7%"}},{"$f":"IF(ISERROR(('A4-FinPerf RE'!F43+'A4-FinPerf RE'!F42)/'A4-FinPerf RE'!F35),0,(('A4-FinPerf RE'!F43+'A4-FinPerf RE'!F42)/'A4-FinPerf RE'!F35))","v":{"v":0.1489914864198534,"d":"14.9%"}},{"$f":"IF(ISERROR(('A4-FinPerf RE'!G43+'A4-FinPerf RE'!G42)/'A4-FinPerf RE'!G35),0,(('A4-FinPerf RE'!G43+'A4-FinPerf RE'!G42)/'A4-FinPerf RE'!G35))","v":{"v":0.14904346978637195,"d":"14.9%"}},{"$f":"IF(ISERROR(('A4-FinPerf RE'!H43+'A4-FinPerf RE'!H42)/'A4-FinPerf RE'!H35),0,(('A4-FinPerf RE'!H43+'A4-FinPerf RE'!H42)/'A4-FinPerf RE'!H35))","v":{"v":0.14904346978637195,"d":"14.9%"}},{"$f":"IF(ISERROR(('A4-FinPerf RE'!I43+'A4-FinPerf RE'!I42)/'A4-FinPerf RE'!I35),0,(('A4-FinPerf RE'!I43+'A4-FinPerf RE'!I42)/'A4-FinPerf RE'!I35))","v":{"v":0.17941935051836616,"d":"17.9%"}},{"$f":"IF(ISERROR(('A4-FinPerf RE'!J43+'A4-FinPerf RE'!J42)/'A4-FinPerf RE'!J35),0,(('A4-FinPerf RE'!J43+'A4-FinPerf RE'!J42)/'A4-FinPerf RE'!J35))","v":{"v":0.1550087501762532,"d":"15.5%"}},{"$f":"IF(ISERROR(('A4-FinPerf RE'!K43+'A4-FinPerf RE'!K42)/'A4-FinPerf RE'!K35),0,(('A4-FinPerf RE'!K43+'A4-FinPerf RE'!K42)/'A4-FinPerf RE'!K35))","v":{"v":0.1518835580367565,"d":"15.2%"}},{"$f":"IF(ISERROR(('A4-FinPerf RE'!L43+'A4-FinPerf RE'!L42)/'A4-FinPerf RE'!L35),0,(('A4-FinPerf RE'!L43+'A4-FinPerf RE'!L42)/'A4-FinPerf RE'!L35))","v":{"v":0.15207019528182833,"d":"15.2%"}}]
["IDP regulation financial viability indicators"]
["i. Debt coverage","(Total Operating Revenue - Operating Grants)/Debt service payments due within financial year)",{"$f":"IF(ISERROR(('A4-FinPerf RE'!C35-'A4-FinPerf RE'!C32)/('A7-CFlow'!D11-'A7-CFlow'!D38)),0,(('A4-FinPerf RE'!C35-'A4-FinPerf RE'!C32)/('A7-CFlow'!D11-'A7-CFlow'!D38)))","v":{"v":25.487245579511804,"d":"25.5"}},{"$f":"IF(ISERROR(('A4-FinPerf RE'!D35-'A4-FinPerf RE'!D32)/('A7-CFlow'!E11-'A7-CFlow'!E38)),0,(('A4-FinPerf RE'!D35-'A4-FinPerf RE'!D32)/('A7-CFlow'!E11-'A7-CFlow'!E38)))","v":{"v":21.12980396834419,"d":"21.1"}},{"$f":"IF(ISERROR(('A4-FinPerf RE'!E35-'A4-FinPerf RE'!E32)/('A7-CFlow'!F11-'A7-CFlow'!F38)),0,(('A4-FinPerf RE'!E35-'A4-FinPerf RE'!E32)/('A7-CFlow'!F11-'A7-CFlow'!F38)))","v":{"v":23.070022979596647,"d":"23.1"}},{"$f":"IF(ISERROR(('A4-FinPerf RE'!F35-'A4-FinPerf RE'!F32)/('A7-CFlow'!G11-'A7-CFlow'!G38)),0,(('A4-FinPerf RE'!F35-'A4-FinPerf RE'!F32)/('A7-CFlow'!G11-'A7-CFlow'!G38)))","v":{"v":25.448018130660447,"d":"25.4"}},{"$f":"IF(ISERROR(('A4-FinPerf RE'!G35-'A4-FinPerf RE'!G32)/('A7-CFlow'!H11-'A7-CFlow'!H38)),0,(('A4-FinPerf RE'!G35-'A4-FinPerf RE'!G32)/('A7-CFlow'!H11-'A7-CFlow'!H38)))","v":{"v":25.43914237343638,"d":"25.4"}},{"$f":"IF(ISERROR(('A4-FinPerf RE'!H35-'A4-FinPerf RE'!H32)/('A7-CFlow'!I11-'A7-CFlow'!I38)),0,(('A4-FinPerf RE'!H35-'A4-FinPerf RE'!H32)/('A7-CFlow'!I11-'A7-CFlow'!I38)))","v":{"v":42.89666056130397,"d":"42.9"}},{"$f":"IF(ISERROR(('A4-FinPerf RE'!I35-'A4-FinPerf RE'!I32)/('A7-CFlow'!J11-'A7-CFlow'!J38)),0,(('A4-FinPerf RE'!I35-'A4-FinPerf RE'!I32)/('A7-CFlow'!J11-'A7-CFlow'!J38)))","v":{"v":16.629028936611565,"d":"16.6"}},{"$f":"IF(ISERROR(('A4-FinPerf RE'!J35-'A4-FinPerf RE'!J32)/('A7-CFlow'!K11-'A7-CFlow'!K38)),0,(('A4-FinPerf RE'!J35-'A4-FinPerf RE'!J32)/('A7-CFlow'!K11-'A7-CFlow'!K38)))","v":{"v":23.467329217292814,"d":"23.5"}},{"$f":"IF(ISERROR(('A4-FinPerf RE'!K35-'A4-FinPerf RE'!K32)/('A7-CFlow'!L11-'A7-CFlow'!L38)),0,(('A4-FinPerf RE'!K35-'A4-FinPerf RE'!K32)/('A7-CFlow'!L11-'A7-CFlow'!L38)))","v":{"v":23.47517036303892,"d":"23.5"}},{"$f":"IF(ISERROR(('A4-FinPerf RE'!L35-'A4-FinPerf RE'!L32)/('A7-CFlow'!L11-'A7-CFlow'!L38)),0,(('A4-FinPerf RE'!L35-'A4-FinPerf RE'!L32)/('A7-CFlow'!L11-'A7-CFlow'!L38)))","v":{"v":24.197983493279878,"d":"24.2"}}]
["ii.O/S Service Debtors to Revenue","Total outstanding service debtors/annual revenue received for services",{"$f":"IF(ISERROR(('A6-FinPos'!C9+'A6-FinPos'!C11+'A6-FinPos'!C12)/SUM('A4-FinPerf RE'!C5:C11)),0,(('A6-FinPos'!C9+'A6-FinPos'!C11+'A6-FinPos'!C12)/SUM('A4-FinPerf RE'!C5:C11)))","v":{"v":0.47988435900072907,"d":"48.0%"}},{"$f":"IF(ISERROR(('A6-FinPos'!D9+'A6-FinPos'!D11+'A6-FinPos'!D12)/SUM('A4-FinPerf RE'!D5:D11)),0,(('A6-FinPos'!D9+'A6-FinPos'!D11+'A6-FinPos'!D12)/SUM('A4-FinPerf RE'!D5:D11)))","v":{"v":0.3070707137593857,"d":"30.7%"}},{"$f":"IF(ISERROR(('A6-FinPos'!E9+'A6-FinPos'!E11+'A6-FinPos'!E12)/SUM('A4-FinPerf RE'!E5:E11)),0,(('A6-FinPos'!E9+'A6-FinPos'!E11+'A6-FinPos'!E12)/SUM('A4-FinPerf RE'!E5:E11)))","v":{"v":0.4520260170556728,"d":"45.2%"}},{"$f":"IF(ISERROR(('A6-FinPos'!F9+'A6-FinPos'!F11+'A6-FinPos'!F12)/SUM('A4-FinPerf RE'!F5:F11)),0,(('A6-FinPos'!F9+'A6-FinPos'!F11+'A6-FinPos'!F12)/SUM('A4-FinPerf RE'!F5:F11)))","v":{"v":0.27112132017002427,"d":"27.1%"}},{"$f":"IF(ISERROR(('A6-FinPos'!G9+'A6-FinPos'!G11+'A6-FinPos'!G12)/SUM('A4-FinPerf RE'!G5:G11)),0,(('A6-FinPos'!G9+'A6-FinPos'!G11+'A6-FinPos'!G12)/SUM('A4-FinPerf RE'!G5:G11)))","v":{"v":0.3993579287757998,"d":"39.9%"}},{"$f":"IF(ISERROR(('A6-FinPos'!H9+'A6-FinPos'!H11+'A6-FinPos'!H12)/SUM('A4-FinPerf RE'!H5:H11)),0,(('A6-FinPos'!H9+'A6-FinPos'!H11+'A6-FinPos'!H12)/SUM('A4-FinPerf RE'!H5:H11)))","v":{"v":0.3993579287757998,"d":"39.9%"}},{"$f":"IF(ISERROR(('A6-FinPos'!I9+'A6-FinPos'!I11+'A6-FinPos'!I12)/SUM('A4-FinPerf RE'!I5:I11)),0,(('A6-FinPos'!I9+'A6-FinPos'!I11+'A6-FinPos'!I12)/SUM('A4-FinPerf RE'!I5:I11)))","v":{"v":-0.17872144213977845,"d":"-17.9%"}},{"$f":"IF(ISERROR(('A6-FinPos'!J9+'A6-FinPos'!J11+'A6-FinPos'!J12)/SUM('A4-FinPerf RE'!J5:J11)),0,(('A6-FinPos'!J9+'A6-FinPos'!J11+'A6-FinPos'!J12)/SUM('A4-FinPerf RE'!J5:J11)))","v":{"v":0.3767363011462848,"d":"37.7%"}},{"$f":"IF(ISERROR(('A6-FinPos'!K9+'A6-FinPos'!K11+'A6-FinPos'!K12)/SUM('A4-FinPerf RE'!K5:K11)),0,(('A6-FinPos'!K9+'A6-FinPos'!K11+'A6-FinPos'!K12)/SUM('A4-FinPerf RE'!K5:K11)))","v":{"v":0.35541200022424907,"d":"35.5%"}},{"$f":"IF(ISERROR(('A6-FinPos'!L9+'A6-FinPos'!L11+'A6-FinPos'!L12)/SUM('A4-FinPerf RE'!L5:L11)),0,(('A6-FinPos'!L9+'A6-FinPos'!L11+'A6-FinPos'!L12)/SUM('A4-FinPerf RE'!L5:L11)))","v":{"v":0.3352947117583641,"d":"33.5%"}}]
["iii. Cost coverage","(Available cash + Investments)/monthly fixed operational expenditure",{"$f":"IF(ISERROR('A7-CFlow'!C43/'SA8'!C50),0,('A7-CFlow'!C43/'SA8'!C50))","v":{"v":15.292598153501139,"d":"15.3"}},{"$f":"IF(ISERROR('A7-CFlow'!D43/'SA8'!D50),0,('A7-CFlow'!D43/'SA8'!D50))","v":{"v":16.865402351598156,"d":"16.9"}},{"$f":"IF(ISERROR('A7-CFlow'!E43/'SA8'!E50),0,('A7-CFlow'!E43/'SA8'!E50))","v":{"v":13.343543179555486,"d":"13.3"}},{"$f":"IF(ISERROR('A7-CFlow'!F43/'SA8'!F50),0,('A7-CFlow'!F43/'SA8'!F50))","v":{"v":1.8155272387059957,"d":"1.8"}},{"$f":"IF(ISERROR('A7-CFlow'!G43/'SA8'!G50),0,('A7-CFlow'!G43/'SA8'!G50))","v":{"v":3.527544020008284,"d":"3.5"}},{"$f":"IF(ISERROR('A7-CFlow'!H43/'SA8'!H50),0,('A7-CFlow'!H43/'SA8'!H50))","v":{"v":2.240148178762074,"d":"2.2"}},{"$f":"IF(ISERROR('A7-CFlow'!I43/'SA8'!I50),0,('A7-CFlow'!I43/'SA8'!I50))","v":{"v":11.65673885510011,"d":"11.7"}},{"$f":"IF(ISERROR('A7-CFlow'!J43/'SA8'!J50),0,('A7-CFlow'!J43/'SA8'!J50))","v":{"v":2.05540112752323,"d":"2.1"}},{"$f":"IF(ISERROR('A7-CFlow'!K43/'SA8'!K50),0,('A7-CFlow'!K43/'SA8'!K50))","v":0},{"$f":"IF(ISERROR('A7-CFlow'!L43/'SA8'!L50),0,('A7-CFlow'!L43/'SA8'!L50))","v":0}]
[{"$f":"head27a","v":"References"}]
["1. Consumer debtors > 12 months old are excluded from current assets"]
["2. Only include if services provided by the municipality"]
[]
["Calculation data"]
["Debtors > 90 days"]
["Monthly fixed operational expenditure",null,{"$f":"(('A4-FinPerf RE'!E37+'A4-FinPerf RE'!E38+'A4-FinPerf RE'!E41+'A4-FinPerf RE'!E43+'A4-FinPerf RE'!E39+'A4-FinPerf RE'!E44+'SA1'!E305+'A7-CFlow'!E38)+(('A4-FinPerf RE'!E40+'A4-FinPerf RE'!E47)*'SA8'!E51))/12","v":{"v":85373693.23283334,"d":"85,374"}},{"$f":"(('A4-FinPerf RE'!F37+'A4-FinPerf RE'!F38+'A4-FinPerf RE'!F41+'A4-FinPerf RE'!F43+'A4-FinPerf RE'!F39+'A4-FinPerf RE'!F44+'SA1'!F305+'A7-CFlow'!F38)+(('A4-FinPerf RE'!F40+'A4-FinPerf RE'!F47)*'SA8'!F51))/12","v":{"v":96333410.28333335,"d":"96,333"}},{"$f":"(('A4-FinPerf RE'!G37+'A4-FinPerf RE'!G38+'A4-FinPerf RE'!G41+'A4-FinPerf RE'!G43+'A4-FinPerf RE'!G39+'A4-FinPerf RE'!G44+'SA1'!G305+'A7-CFlow'!G38)+(('A4-FinPerf RE'!G40+'A4-FinPerf RE'!G47)*'SA8'!G51))/12","v":{"v":101172675.95,"d":"101,173"}},{"$f":"(('A4-FinPerf RE'!H37+'A4-FinPerf RE'!H38+'A4-FinPerf RE'!H41+'A4-FinPerf RE'!H43+'A4-FinPerf RE'!H39+'A4-FinPerf RE'!H44+'SA1'!H305+'A7-CFlow'!H38)+(('A4-FinPerf RE'!H40+'A4-FinPerf RE'!H47)*'SA8'!H51))/12","v":{"v":101172675.95,"d":"101,173"}},{"$f":"(('A4-FinPerf RE'!I37+'A4-FinPerf RE'!I38+'A4-FinPerf RE'!I41+'A4-FinPerf RE'!I43+'A4-FinPerf RE'!I39+'A4-FinPerf RE'!I44+'SA1'!I305+'A7-CFlow'!I38)+(('A4-FinPerf RE'!I40+'A4-FinPerf RE'!I47)*'SA8'!I51))/12","v":{"v":63251141.79566667,"d":"63,251"}},{"$f":"(('A4-FinPerf RE'!J37+'A4-FinPerf RE'!J38+'A4-FinPerf RE'!J41+'A4-FinPerf RE'!J43+'A4-FinPerf RE'!J39+'A4-FinPerf RE'!J44+'SA1'!J305+'A7-CFlow'!J38)+(('A4-FinPerf RE'!J40+'A4-FinPerf RE'!J47)*'SA8'!J51))/12","v":{"v":99601084.03333335,"d":"99,601"}},{"$f":"(('A4-FinPerf RE'!K37+'A4-FinPerf RE'!K38+'A4-FinPerf RE'!K41+'A4-FinPerf RE'!K43+'A4-FinPerf RE'!K39+'A4-FinPerf RE'!K44+'SA1'!K305+'A7-CFlow'!K38)+(('A4-FinPerf RE'!K40+'A4-FinPerf RE'!K47)*'SA8'!K51))/12","v":{"v":104301406.85000001,"d":"104,301"}},{"$f":"(('A4-FinPerf RE'!L37+'A4-FinPerf RE'!L38+'A4-FinPerf RE'!L41+'A4-FinPerf RE'!L43+'A4-FinPerf RE'!L39+'A4-FinPerf RE'!L44+'SA1'!L305+'A7-CFlow'!L38)+(('A4-FinPerf RE'!L40+'A4-FinPerf RE'!L47)*'SA8'!L51))/12","v":{"v":107463332.11666667,"d":"107,463"}},{"$f":"(('A4-FinPerf RE'!M37+'A4-FinPerf RE'!M38+'A4-FinPerf RE'!M41+'A4-FinPerf RE'!M43+'A4-FinPerf RE'!M39+'A4-FinPerf RE'!M44+'SA1'!M305+'A7-CFlow'!M38)+(('A4-FinPerf RE'!M40+'A4-FinPerf RE'!M47)*'SA8'!M51))/12","v":0},{"$f":"(('A4-FinPerf RE'!N37+'A4-FinPerf RE'!N38+'A4-FinPerf RE'!N41+'A4-FinPerf RE'!N43+'A4-FinPerf RE'!N39+'A4-FinPerf RE'!N44+'SA1'!N305+'A7-CFlow'!N38)+(('A4-FinPerf RE'!N40+'A4-FinPerf RE'!N47)*'SA8'!N51))/12","v":0}]
["Fixed operational expenditure % assumption",null,{"v":0.4,"d":"40.0%"},{"$f":"$C$51","v":{"v":0.4,"d":"40.0%"}},{"$f":"$C$51","v":{"v":0.4,"d":"40.0%"}},{"v":0.4,"d":"40.0%"},{"v":0.4,"d":"40.0%"},{"v":0.4,"d":"40.0%"},{"v":0.4,"d":"40.0%"},{"v":0.4,"d":"40.0%"},{"v":0.4,"d":"40.0%"},{"v":0.4,"d":"40.0%"}]
["Own capex",null,{"$f":"'A5-Capex'!C40-'A5-Capex'!C70-'A5-Capex'!C72","v":{"v":17808767.27000001,"d":"17,809"}},{"$f":"'A5-Capex'!D40-'A5-Capex'!D70-'A5-Capex'!D72","v":{"v":11555047.48000002,"d":"11,555"}},{"$f":"'A5-Capex'!E40-'A5-Capex'!E70-'A5-Capex'!E72","v":{"v":73070067.5,"d":"73,070"}},{"$f":"'A5-Capex'!F40-'A5-Capex'!F70-'A5-Capex'!F72","v":{"v":41912356,"d":"41,912"}},{"$f":"'A5-Capex'!G40-'A5-Capex'!G70-'A5-Capex'!G72","v":{"v":76086187,"d":"76,086"}},{"$f":"'A5-Capex'!H40-'A5-Capex'!H70-'A5-Capex'!H72","v":{"v":76086187,"d":"76,086"}},{"$f":"'A5-Capex'!I40-'A5-Capex'!I70-'A5-Capex'!I72","v":{"v":23748673,"d":"23,749"}},{"$f":"'A5-Capex'!J40-'A5-Capex'!J70-'A5-Capex'!J72","v":{"v":43222755,"d":"43,223"}},{"$f":"'A5-Capex'!K40-'A5-Capex'!K70-'A5-Capex'!K72","v":{"v":44927653,"d":"44,928"}},{"$f":"'A5-Capex'!L40-'A5-Capex'!L70-'A5-Capex'!L72","v":{"v":50615891,"d":"50,616"}}]
["Borrowing",null,{"$f":"'A7-CFlow'!C34+'A7-CFlow'!C35","v":0},{"$f":"'A7-CFlow'!D34+'A7-CFlow'!D35","v":0},{"$f":"'A7-CFlow'!E34+'A7-CFlow'!E35","v":0},{"$f":"'A7-CFlow'!F34+'A7-CFlow'!F35","v":0},{"$f":"'A7-CFlow'!G34+'A7-CFlow'!G35","v":0},{"$f":"'A7-CFlow'!H34+'A7-CFlow'!H35","v":0},{"$f":"'A7-CFlow'!I34+'A7-CFlow'!I35","v":0},{"$f":"'A7-CFlow'!J34+'A7-CFlow'!J35","v":0},{"$f":"'A7-CFlow'!K34+'A7-CFlow'!K35","v":0},{"$f":"'A7-CFlow'!L34+'A7-CFlow'!L35","v":0}]

{"sheet":"SA9","index":29,"n_rows":310,"n_cols":13,"rows_kept":310,"merged":[[1,0,2,0],[1,1,2,1],[1,2,2,2],[1,3,2,3],[1,4,2,4],[1,5,2,5],[1,10,1,12],[62,0,63,0],[62,7,62,9],[62,10,62,12],[108,0,109,0],[108,7,108,9],[108,10,108,12],[154,0,155,0],[154,7,154,9],[154,10,154,12],[200,0,201,0],[200,7,200,9],[200,10,200,12],[246,0,247,0],[246,7,246,9],[246,10,246,12]]}
[{"$f":"muni&\" - \"&TableA9","v":"DC43 Harry Gwala - Supporting Table SA9 Social, economic and demographic statistics and assumptions"}]
["Description of economic indicator","Ref.","Basis of calculation",{"$f":"Head44","v":"2001 Census"},"2007 Survey",{"$f":"Head45","v":"2011 Census"},{"$f":"head1b","v":"2022/23"},{"$f":"head1A","v":"2023/24"},{"$f":"Head1","v":"2024/25"},{"$f":"Head2","v":"Current Year 2025/26"},{"$f":"Head3","v":"2026/27 Medium Term Revenue & Expenditure Framework"}]
[{"$nulls":6},{"$f":"Head5A","v":"Outcome"},"Outcome","Outcome",{"$f":"Head6","v":"Original Budget"},"Outcome","Outcome","Outcome"]
["Demographics"]
["Population",null,"Stats SA Community survey",0,0,0,0,0,0,{"v":563893,"d":"564"},{"v":563893,"d":"564"},{"v":563893,"d":"564"},{"v":563893,"d":"564"}]
["Females aged 5 - 14",null,"Stats SA Community survey",0,0,0,0,0,0,{"v":194960,"d":"195"},{"v":194960,"d":"195"},{"v":194960,"d":"195"},{"v":194960,"d":"195"}]
["Males aged 5 - 14",null,"Stats SA Community survey",0,0,0,0,0,0,{"v":184769,"d":"185"},{"v":184769,"d":"185"},{"v":184769,"d":"185"},{"v":184796,"d":"185"}]
["Females aged 15 - 34",null,"Stats SA Community survey",0,0,0,0,0,0,{"v":104978,"d":"105"},{"v":104978,"d":"105"},{"v":104978,"d":"105"},{"v":104978,"d":"105"}]
["Males aged 15 - 34",null,"Stats SA Community survey",0,0,0,0,0,0,{"v":79187,"d":"79"},{"v":79187,"d":"79"},{"v":79187,"d":"79"},{"v":79187,"d":"79"}]
["Unemployment",null,null,0,0,0,0,0,0,{"v":132966,"d":"133"},{"v":132966,"d":"133"},{"v":132966,"d":"133"},{"v":132966,"d":"133"}]
[]
["Monthly household income (no. of households)","1, 12"]
["No income",null,null,0,0,0,0,0,0,0,0,0,0]
["R1 - R1 600",null,"Stats SA Community survey",0,0,0,0,0,0,{"v":204265,"d":"204,265"},{"v":204265,"d":"204,265"},{"v":204265,"d":"204,265"},{"v":205265,"d":"205,265"}]
["R1 601 - R3 200",null,"Stats SA Community survey",0,0,0,0,0,0,{"v":100000,"d":"100,000"},{"v":100000,"d":"100,000"},{"v":100000,"d":"100,000"},{"v":100000,"d":"100,000"}]
["R3 201 - R6 400",null,"Stats SA Community survey",0,0,0,0,0,0,{"v":150000,"d":"150,000"},{"v":150000,"d":"150,000"},{"v":150000,"d":"150,000"},{"v":150000,"d":"150,000"}]
["R6 401 - R12 800",null,"Stats SA Community survey",0,0,0,0,0,0,{"v":50000,"d":"50,000"},{"v":50000,"d":"50,000"},{"v":50000,"d":"50,000"},{"v":50000,"d":"50,000"}]
["R12 801 - R25 600",null,"Stats SA Community survey",0,0,0,0,0,0,{"v":20000,"d":"20,000"},{"v":20000,"d":"20,000"},{"v":20000,"d":"20,000"},{"v":20000,"d":"20,000"}]
["R25 601 - R51 200",null,"Stats SA Community survey",0,0,0,0,0,0,{"v":15000,"d":"15,000"},{"v":15000,"d":"15,000"},{"v":15000,"d":"15,000"},{"v":15000,"d":"15,000"}]
["R52 201 - R102 400",null,"Stats SA Community survey",0,0,0,0,0,0,{"v":9000,"d":"9,000"},{"v":9000,"d":"9,000"},{"v":9000,"d":"9,000"},{"v":9000,"d":"9,000"}]
["R102 401 - R204 800",null,"Stats SA Community survey",0,0,0,0,0,0,{"v":7000,"d":"7,000"},{"v":7000,"d":"7,000"},{"v":7000,"d":"7,000"},{"v":7000,"d":"7,000"}]
["R204 801 - R409 600",null,"Stats SA Community survey",0,0,0,0,0,0,{"v":4500,"d":"4,500"},{"v":4500,"d":"4,500"},{"v":4500,"d":"4,500"},{"v":4500,"d":"4,500"}]
["R409 601 - R819 200",null,"Stats SA Community survey",0,0,0,0,0,0,{"v":3900,"d":"3,900"},{"v":3900,"d":"3,900"},{"v":3900,"d":"3,900"},{"v":3900,"d":"3,900"}]
[" > R819 200",null,"Stats SA Community survey",0,0,0,0,0,0,228,228,228,228]
[]
[]
["Poverty profiles (no. of households)"]
["< R2 060 per household per month",13,"Stats SA Community survey",0,0,0,{"v":0,"d":"0.00"},{"v":0,"d":"0.00"},{"v":0,"d":"0.00"},{"v":2346,"d":"2346.00"},{"v":2346,"d":"2346.00"},{"v":2346,"d":"2346.00"},{"v":2346,"d":"2346.00"}]
["Insert description",2]
[]
["Household/demographics (000)"]
["Number of people in municipal area",null,"Stats SA Community survey",0,0,0,0,0,0,{"v":563893,"d":"564"},{"v":563893,"d":"564"},{"v":563893,"d":"564"},{"v":563893,"d":"564"}]
["Number of poor people in municipal area",null,"Stats SA Community survey",0,0,0,0,0,0,{"v":2346,"d":"2"},{"v":2346,"d":"2"},{"v":2346,"d":"2"},0]
["Number of households in municipal area",null,"Stats SA Community survey",0,0,0,0,0,0,{"v":115086,"d":"115"},{"v":115086,"d":"115"},{"v":115086,"d":"115"},0]
["Number of poor households in municipal area",null,"Stats SA Community survey",0,0,0,0,0,0,{"v":2346,"d":"2"},{"v":2346,"d":"2"},{"v":2346,"d":"2"},0]
["Definition of poor household (R per month)",null,null,0,0,0,0,0,0,0,0,0,0]
[]
["Housing statistics",3]
["Formal",null,"Stats SA Community survey",0,0,0,0,0,0,{"v":76128,"d":"76,128"},{"v":76128,"d":"76,128"},{"v":76128,"d":"76,128"},{"v":76128,"d":"76,128"}]
["Informal",null,"Stats SA Community survey",0,0,0,0,0,0,{"v":34973,"d":"34,973"},{"v":34973,"d":"34,973"},{"v":34973,"d":"34,973"},0]
["Total number of households",null,null,{"$f":"SUM(D39:D40)","v":0},{"$f":"SUM(E39:E40)","v":0},0,0,0,0,{"v":111101,"d":"111,101"},{"v":111101,"d":"111,101"},{"v":111101,"d":"111,101"},{"v":76128,"d":"76,128"}]
["Dwellings provided by municipality",4,null,0,0,0,0,0,0,0,0,0,0]
["Dwellings provided by province/s"]
["Dwellings provided by private sector",5]
["Total new housing dwellings",null,null,{"$f":"SUM(D42:D44)","v":0},{"$f":"SUM(E42:E44)","v":0},0,0,0,0,0,0,0,0]
[]
["Economic",6]
["Inflation/inflation outlook (CPIX)",{"$nulls":5},{"v":0,"d":"0.0%"},{"v":0,"d":"0.0%"},{"v":0,"d":"0.0%"},{"v":0.044,"d":"4.4%"},{"v":0.045,"d":"4.5%"},{"v":0.025,"d":"2.5%"},{"v":0.037,"d":"3.7%"}]
["Interest rate - borrowing"]
["Interest rate - investment",{"$nulls":5},{"v":0,"d":"0.0%"},{"v":0,"d":"0.0%"},{"v":0,"d":"0.0%"},{"v":0.09,"d":"9.0%"},{"v":0.09,"d":"9.0%"},{"v":0.09,"d":"9.0%"},{"v":0,"d":"0.0%"}]
["Remuneration increases",{"$nulls":5},{"v":0,"d":"0.0%"},{"v":0,"d":"0.0%"},{"v":0,"d":"0.0%"},{"v":0.047,"d":"4.7%"},{"v":0.047,"d":"4.7%"},{"v":0,"d":"0.0%"},{"v":0,"d":"0.0%"}]
["Consumption growth (electricity)",{"$nulls":5},{"v":0,"d":"0.0%"},{"v":0,"d":"0.0%"},{"v":0,"d":"0.0%"},{"v":0,"d":"0.0%"},{"v":0,"d":"0.0%"},{"v":0,"d":"0.0%"},{"v":0,"d":"0.0%"}]
["Consumption growth (water)"]
[]
["Collection rates",7]
["Property tax/service charges",{"$nulls":5},{"v":0,"d":"0.0%"},{"v":0,"d":"0.0%"},{"v":0,"d":"0.0%"},{"v":0,"d":"0.0%"},{"v":0,"d":"0.0%"},{"v":0,"d":"0.0%"},{"v":0,"d":"0.0%"}]
["Rental of facilities & equipment"]
["Interest - external investments",{"$nulls":5},{"v":0,"d":"0.0%"},{"v":0,"d":"0.0%"},{"v":0,"d":"0.0%"},{"v":0.09,"d":"9.0%"},{"v":0.09,"d":"9.0%"},{"v":0,"d":"0.0%"},{"v":0,"d":"0.0%"}]
["Interest - debtors",{"$nulls":5},{"v":0,"d":"0.0%"},{"v":0,"d":"0.0%"},{"v":0,"d":"0.0%"},{"v":0,"d":"0.0%"},{"v":0,"d":"0.0%"},{"v":0,"d":"0.0%"},{"v":0,"d":"0.0%"}]
["Revenue from agency services"]
[]
["Detail on the provision of municipal services for A10"]
["Total municipal services",{"$nulls":3},{"$f":"head1b","v":"2022/23"},{"$f":"head1A","v":"2023/24"},{"$f":"Head1","v":"2024/25"},{"$f":"Head2","v":"Current Year 2025/26"},null,null,{"$f":"Head3","v":"2026/27 Medium Term Revenue & Expenditure Framework"}]
[null,"Ref.",null,null,{"$f":"Head5A","v":"Outcome"},{"$f":"Head5A","v":"Outcome"},{"$f":"Head5A","v":"Outcome"},{"$f":"Head6","v":"Original Budget"},{"$f":"Head7","v":"Adjusted Budget"},{"$f":"Head8","v":"Full Year Forecast"},{"$f":"Head9","v":"Budget Year 2026/27"},{"$f":"Head10","v":"Budget Year +1 2027/28"},{"$f":"Head11","v":"Budget Year +2 2028/29"}]
[null,null,"Household service targets (000)"]
[null,null,"Water:"]
[null,null,"Piped water inside dwelling",null,{"$f":"E113+E159+E205","v":0},{"$f":"F113+F159+F205","v":0},0,{"v":67272,"d":"67,272"},{"v":67272,"d":"67,272"},{"v":67272,"d":"67,272"},{"v":71308,"d":"71,308"},{"v":75587,"d":"75,587"},{"v":80122,"d":"80,122"}]
[null,null,"Piped water inside yard (but not in dwelling)",null,{"$f":"E114+E160+E206","v":0},{"$f":"F114+F160+F206","v":0},0,{"v":27352,"d":"27,352"},{"v":27352,"d":"27,352"},{"v":27352,"d":"27,352"},{"v":28993,"d":"28,993"},{"v":30733,"d":"30,733"},{"v":32577,"d":"32,577"}]
[null,8,"Using public tap (at least min.service level)",null,{"$f":"E115+E161+E207","v":0},0,0,{"v":47975,"d":"47,975"},{"v":47975,"d":"47,975"},{"v":47975,"d":"47,975"},{"v":50854,"d":"50,854"},{"v":53905,"d":"53,905"},{"v":57139,"d":"57,139"}]
[null,10,"Other water supply (at least min.service level)",null,{"$f":"E116+E162+E208","v":0},0,0,{"v":39798,"d":"39,798"},{"v":39798,"d":"39,798"},{"v":39798,"d":"39,798"},{"v":42186,"d":"42,186"},{"v":44717,"d":"44,717"},{"v":47400,"d":"47,400"}]
[null,null,"Minimum Service Level and Above sub-total",null,{"$f":"SUM(E67:E70)","v":0},{"$f":"SUM(F67:F70)","v":0},0,{"v":182397,"d":"182,397"},{"v":182397,"d":"182,397"},{"v":182397,"d":"182,397"},{"v":193341,"d":"193,341"},{"v":204942,"d":"204,942"},{"v":217238,"d":"217,238"}]
[null,9,"Using public tap (< min.service level)",null,{"$f":"E118+E164+E210","v":0},{"$f":"F118+F164+F210","v":0},0,{"v":47975,"d":"47,975"},{"v":47975,"d":"47,975"},{"v":47975,"d":"47,975"},{"v":50854,"d":"50,854"},{"v":53905,"d":"53,905"},{"v":57139,"d":"57,139"}]
[null,10,"Other water supply (< min.service level)",null,{"$f":"E119+E165+E211","v":0},0,0,{"v":39798,"d":"39,798"},{"v":39798,"d":"39,798"},{"v":39798,"d":"39,798"},{"v":42186,"d":"42,186"},{"v":44717,"d":"44,717"},{"v":47400,"d":"47,400"}]
[null,null,"No water supply",null,0,0,0,0,0,0,0,0,0]
[null,null,"Below Minimum Service Level sub-total",null,{"$f":"SUM(E72:E74)","v":0},{"$f":"SUM(F72:F74)","v":0},0,{"v":87773,"d":"87,773"},{"v":87773,"d":"87,773"},{"v":87773,"d":"87,773"},{"v":93040,"d":"93,040"},{"v":98622,"d":"98,622"},{"v":104539,"d":"104,539"}]
[null,null,"Total number of households",null,{"$f":"E71+E75","v":0},{"$f":"F71+F75","v":0},0,{"v":270170,"d":"270,170"},{"v":270170,"d":"270,170"},{"v":270170,"d":"270,170"},{"v":286381,"d":"286,381"},{"v":303564,"d":"303,564"},{"v":321777,"d":"321,777"}]
[null,null,"Sanitation/sewerage:"]
[null,null,"Flush toilet (connected to sewerage)",null,{"$f":"E124+E170+E216","v":0},{"$f":"F124+F170+F216","v":0},0,{"v":105039,"d":"105,039"},{"v":105039,"d":"105,039"},{"v":105039,"d":"105,039"},{"v":111341,"d":"111,341"},{"v":118022,"d":"118,022"},{"v":125103,"d":"125,103"}]
[null,null,"Flush toilet (with septic tank)",null,{"$f":"E125+E171+E217","v":0},{"$f":"F125+F171+F217","v":0},0,{"v":16935,"d":"16,935"},{"v":16935,"d":"16,935"},{"v":16935,"d":"16,935"},{"v":17951,"d":"17,951"},{"v":19028,"d":"19,028"},{"v":20170,"d":"20,170"}]
[null,null,"Chemical toilet",null,{"$f":"E126+E172+E218","v":0},{"$f":"F126+F172+F218","v":0},0,0,0,0,0,0,0]
[null,null,"Pit toilet (ventilated)",null,{"$f":"E127+E173+E219","v":0},{"$f":"F127+F173+F219","v":0},0,{"v":60424,"d":"60,424"},{"v":60424,"d":"60,424"},{"v":60424,"d":"60,424"},{"v":64049,"d":"64,049"},{"v":67892,"d":"67,892"},{"v":71966,"d":"71,966"}]
[null,null,"Other toilet provisions (> min.service level)",null,{"$f":"E128+E174+E220","v":0},{"$f":"F128+F174+F220","v":0},0,0,0,0,0,0,0]
[null,null,"Minimum Service Level and Above sub-total",null,{"$f":"SUM(E78:E82)","v":0},{"$f":"SUM(F78:F82)","v":0},0,{"v":182398,"d":"182,398"},{"v":182398,"d":"182,398"},{"v":182398,"d":"182,398"},{"v":193341,"d":"193,341"},{"v":204942,"d":"204,942"},{"v":217239,"d":"217,239"}]
[null,null,"Bucket toilet",null,{"$f":"E130+E176+E222","v":0},{"$f":"F130+F176+F222","v":0},0,0,0,0,0,0,0]
[null,null,"Other toilet provisions (< min.service level)",null,{"$f":"E131+E177+E223","v":0},{"$f":"F131+F177+F223","v":0},0,0,0,0,0,0,0]
[null,null,"No toilet provisions",null,{"$f":"E132+E178+E224","v":0},0,0,0,0,0,0,0,0]
[null,null,"Below Minimum Service Level sub-total",null,{"$f":"SUM(E84:E86)","v":0},{"$f":"SUM(F84:F86)","v":0},0,0,0,0,0,0,0]
[null,null,"Total number of households",null,{"$f":"E83+E87","v":0},{"$f":"F83+F87","v":0},0,{"v":182398,"d":"182,398"},{"v":182398,"d":"182,398"},{"v":182398,"d":"182,398"},{"v":193341,"d":"193,341"},{"v":204942,"d":"204,942"},{"v":217239,"d":"217,239"}]
[null,null,"Energy:"]
[null,null,"Electricity (at least min.service level)",null,{"$f":"E136+E182+E228","v":0},{"$f":"F136+F182+F228","v":0},0,0,0,0,0,0,0]
[null,null,"Electricity - prepaid (min.service level)",null,{"$f":"E137+E183+E229","v":0},{"$f":"F137+F183+F229","v":0},0,0,0,0,0,0,0]
[null,null,"Minimum Service Level and Above sub-total",null,{"$f":"SUM(E90:E91)","v":0},{"$f":"SUM(F90:F91)","v":0},0,0,0,0,0,0,0]
[null,null,"Electricity (< min.service level)",null,{"$f":"E139+E185+E231","v":0},{"$f":"F139+F185+F231","v":0},0,0,0,0,0,0,0]
[null,null,"Electricity - prepaid (< min. service level)",null,{"$f":"E140+E186+E232","v":0},{"$f":"F140+F186+F232","v":0},0,0,0,0,0,0,0]
[null,null,"Other energy sources",null,{"$f":"E141+E187+E233","v":0},{"$f":"F141+F187+F233","v":0},0,0,0,0,0,0,0]
[null,null,"Below Minimum Service Level sub-total",null,{"$f":"SUM(E93:E95)","v":0},{"$f":"SUM(F93:F95)","v":0},0,0,0,0,0,0,0]
[null,null,"Total number of households",null,{"$f":"E92+E96","v":0},{"$f":"F92+F96","v":0},0,0,0,0,0,0,0]
[null,null,"Refuse:"]
[null,null,"Removed at least once a week",null,{"$f":"E145+E191+E237","v":0},{"$f":"F145+F191+F237","v":0},0,0,0,0,0,0,0]
[null,null,"Minimum Service Level and Above sub-total",null,{"$f":"SUM(E99)","v":0},{"$f":"SUM(F99)","v":0},0,0,0,0,0,0,0]
[null,null,"Removed less frequently than once a week",null,{"$f":"E147+E193+E239","v":0},{"$f":"F147+F193+F239","v":0},0,0,0,0,0,0,0]
[null,null,"Using communal refuse dump",null,{"$f":"E148+E194+E240","v":0},{"$f":"F148+F194+F240","v":0},0,0,0,0,0,0,0]
[null,null,"Using own refuse dump",null,{"$f":"E149+E195+E241","v":0},{"$f":"F149+F195+F241","v":0},0,0,0,0,0,0,0]
[null,null,"Other rubbish disposal",null,{"$f":"E150+E196+E242","v":0},{"$f":"F150+F196+F242","v":0},0,0,0,0,0,0,0]
[null,null,"No rubbish disposal",null,{"$f":"E151+E197+E243","v":0},{"$f":"F151+F197+F243","v":0},0,0,0,0,0,0,0]
[null,null,"Below Minimum Service Level sub-total",null,{"$f":"SUM(E101:E105)","v":0},0,0,0,0,0,0,0,0]
[null,null,"Total number of households",null,{"$f":"E100+E106","v":0},{"$f":"F100+F106","v":0},0,0,0,0,0,0,0]
[]
["Municipal in-house services",{"$nulls":3},{"$f":"head1b","v":"2022/23"},{"$f":"head1A","v":"2023/24"},{"$f":"Head1","v":"2024/25"},{"$f":"Head2","v":"Current Year 2025/26"},null,null,{"$f":"Head3","v":"2026/27 Medium Term Revenue & Expenditure Framework"}]
[null,"Ref.",null,null,{"$f":"Head5A","v":"Outcome"},{"$f":"Head5A","v":"Outcome"},{"$f":"Head5A","v":"Outcome"},{"$f":"Head6","v":"Original Budget"},{"$f":"Head7","v":"Adjusted Budget"},{"$f":"Head8","v":"Full Year Forecast"},{"$f":"Head9","v":"Budget Year 2026/27"},{"$f":"Head10","v":"Budget Year +1 2027/28"},{"$f":"Head11","v":"Budget Year +2 2028/29"}]
[null,null,"Household service targets (000)"]
[null,null,"Water:"]
[null,null,"Piped water inside dwelling",null,0,0,0,{"v":67272,"d":"67,272"},{"v":67272,"d":"67,272"},{"v":67272,"d":"67,272"},{"v":71308,"d":"71,308"},{"v":75587,"d":"75,587"},{"v":80122,"d":"80,122"}]
[null,null,"Piped water inside yard (but not in dwelling)",null,0,0,0,{"v":27352,"d":"27,352"},{"v":27352,"d":"27,352"},{"v":27352,"d":"27,352"},{"v":28993,"d":"28,993"},{"v":30733,"d":"30,733"},{"v":32577,"d":"32,577"}]
[null,8,"Using public tap (at least min.service level)",null,0,0,0,{"v":47975,"d":"47,975"},{"v":47975,"d":"47,975"},{"v":47975,"d":"47,975"},{"v":50854,"d":"50,854"},{"v":53905,"d":"53,905"},{"v":57139,"d":"57,139"}]
[null,10,"Other water supply (at least min.service level)",null,0,0,0,{"v":39798,"d":"39,798"},{"v":39798,"d":"39,798"},{"v":39798,"d":"39,798"},{"v":42186,"d":"42,186"},{"v":44717,"d":"44,717"},{"v":47400,"d":"47,400"}]
[null,null,"Minimum Service Level and Above sub-total",null,{"$f":"SUM(E113:E116)","v":0},{"$f":"SUM(F113:F116)","v":0},0,{"v":182397,"d":"182,397"},{"v":182397,"d":"182,397"},{"v":182397,"d":"182,397"},{"v":193341,"d":"193,341"},{"v":204942,"d":"204,942"},{"v":217238,"d":"217,238"}]
[null,9,"Using public tap (< min.service level)",null,0,0,0,{"v":47975,"d":"47,975"},{"v":47975,"d":"47,975"},{"v":47975,"d":"47,975"},{"v":50854,"d":"50,854"},{"v":53905,"d":"53,905"},{"v":57139,"d":"57,139"}]
[null,10,"Other water supply (< min.service level)",null,0,0,0,{"v":39798,"d":"39,798"},{"v":39798,"d":"39,798"},{"v":39798,"d":"39,798"},{"v":42186,"d":"42,186"},{"v":44717,"d":"44,717"},{"v":47400,"d":"47,400"}]
[null,null,"No water supply"]
[null,null,"Below Minimum Service Level sub-total",null,{"$f":"SUM(E118:E120)","v":0},{"$f":"SUM(F118:F120)","v":0},0,{"v":87773,"d":"87,773"},{"v":87773,"d":"87,773"},{"v":87773,"d":"87,773"},{"v":93040,"d":"93,040"},{"v":98622,"d":"98,622"},{"v":104539,"d":"104,539"}]
[null,null,"Total number of households",null,{"$f":"E117+E121","v":0},{"$f":"F117+F121","v":0},0,{"v":270170,"d":"270,170"},{"v":270170,"d":"270,170"},{"v":270170,"d":"270,170"},{"v":286381,"d":"286,381"},{"v":303564,"d":"303,564"},{"v":321777,"d":"321,777"}]
[null,null,"Sanitation/sewerage:"]
[null,null,"Flush toilet (connected to sewerage)",null,0,0,0,{"v":105039,"d":"105,039"},{"v":105039,"d":"105,039"},{"v":105039,"d":"105,039"},{"v":111341,"d":"111,341"},{"v":118022,"d":"118,022"},{"v":125103,"d":"125,103"}]
[null,null,"Flush toilet (with septic tank)",null,0,0,0,{"v":16935,"d":"16,935"},{"v":16935,"d":"16,935"},{"v":16935,"d":"16,935"},{"v":17951,"d":"17,951"},{"v":19028,"d":"19,028"},{"v":20170,"d":"20,170"}]
[null,null,"Chemical toilet"]
[null,null,"Pit toilet (ventilated)",null,0,0,0,{"v":60424,"d":"60,424"},{"v":60424,"d":"60,424"},{"v":60424,"d":"60,424"},{"v":64049,"d":"64,049"},{"v":67892,"d":"67,892"},{"v":71966,"d":"71,966"}]
[null,null,"Other toilet provisions (> min.service level)"]
[null,null,"Minimum Service Level and Above sub-total",null,{"$f":"SUM(E124:E128)","v":0},{"$f":"SUM(F124:F128)","v":0},0,{"v":182398,"d":"182,398"},{"v":182398,"d":"182,398"},{"v":182398,"d":"182,398"},{"v":193341,"d":"193,341"},{"v":204942,"d":"204,942"},{"v":217239,"d":"217,239"}]
[null,null,"Bucket toilet"]
[null,null,"Other toilet provisions (< min.service level)"]
[null,null,"No toilet provisions"]
[null,null,"Below Minimum Service Level sub-total",null,{"$f":"SUM(E130:E132)","v":0},{"$f":"SUM(F130:F132)","v":0},0,0,0,0,0,0,0]
[null,null,"Total number of households",null,{"$f":"E129+E133","v":0},{"$f":"F129+F133","v":0},0,{"v":182398,"d":"182,398"},{"v":182398,"d":"182,398"},{"v":182398,"d":"182,398"},{"v":193341,"d":"193,341"},{"v":204942,"d":"204,942"},{"v":217239,"d":"217,239"}]
[null,null,"Energy:"]
[null,null,"Electricity (at least min.service level)"]
[null,null,"Electricity - prepaid (min.service level)"]
[null,null,"Minimum Service Level and Above sub-total",null,{"$f":"SUM(E136:E137)","v":0},{"$f":"SUM(F136:F137)","v":0},0,0,0,0,0,0,0]
[null,null,"Electricity (< min.service level)"]
[null,null,"Electricity - prepaid (< min. service level)"]
[null,null,"Other energy sources"]
[null,null,"Below Minimum Service Level sub-total",null,{"$f":"SUM(E139:E141)","v":0},{"$f":"SUM(F139:F141)","v":0},0,0,0,0,0,0,0]
[null,null,"Total number of households",null,{"$f":"E138+E142","v":0},{"$f":"F138+F142","v":0},0,0,0,0,0,0,0]
[null,null,"Refuse:"]
[null,null,"Removed at least once a week"]
[null,null,"Minimum Service Level and Above sub-total",null,{"$f":"SUM(E145)","v":0},{"$f":"SUM(F145)","v":0},0,0,0,0,0,0,0]
[null,null,"Removed less frequently than once a week"]
[null,null,"Using communal refuse dump"]
[null,null,"Using own refuse dump"]
[null,null,"Other rubbish disposal"]
[null,null,"No rubbish disposal"]
[null,null,"Below Minimum Service Level sub-total",null,{"$f":"SUM(E147:E151)","v":0},{"$f":"SUM(F147:F151)","v":0},0,0,0,0,0,0,0]
[null,null,"Total number of households",null,{"$f":"E146+E152","v":0},{"$f":"F146+F152","v":0},0,0,0,0,0,0,0]
[]
["Municipal entity services",{"$nulls":3},{"$f":"head1b","v":"2022/23"},{"$f":"head1A","v":"2023/24"},{"$f":"Head1","v":"2024/25"},{"$f":"Head2","v":"Current Year 2025/26"},null,null,{"$f":"Head3","v":"2026/27 Medium Term Revenue & Expenditure Framework"}]
[null,"Ref.",null,null,{"$f":"Head5A","v":"Outcome"},{"$f":"Head5A","v":"Outcome"},{"$f":"Head5A","v":"Outcome"},{"$f":"Head6","v":"Original Budget"},{"$f":"Head7","v":"Adjusted Budget"},{"$f":"Head8","v":"Full Year Forecast"},{"$f":"Head9","v":"Budget Year 2026/27"},{"$f":"Head10","v":"Budget Year +1 2027/28"},{"$f":"Head11","v":"Budget Year +2 2028/29"}]
[null,null,"Household service targets (000)"]
["Name of municipal entity",null,"Water:"]
[null,null,"Piped water inside dwelling"]
[null,null,"Piped water inside yard (but not in dwelling)"]
[null,8,"Using public tap (at least min.service level)"]
[null,10,"Other water supply (at least min.service level)"]
[null,null,"Minimum Service Level and Above sub-total",null,{"$f":"SUM(E159:E162)","v":0},{"$f":"SUM(F159:F162)","v":0},0,0,0,0,0,0,0]
[null,9,"Using public tap (< min.service level)"]
[null,10,"Other water supply (< min.service level)"]
[null,null,"No water supply"]
[null,null,"Below Minimum Service Level sub-total",null,{"$f":"SUM(E164:E166)","v":0},{"$f":"SUM(F164:F166)","v":0},0,0,0,0,0,0,0]
[null,null,"Total number of households",null,{"$f":"E163+E167","v":0},{"$f":"F163+F167","v":0},0,0,0,0,0,0,0]
["Name of municipal entity",null,"Sanitation/sewerage:"]
[null,null,"Flush toilet (connected to sewerage)"]
[null,null,"Flush toilet (with septic tank)"]
[null,null,"Chemical toilet"]
[null,null,"Pit toilet (ventilated)"]
[null,null,"Other toilet provisions (> min.service level)"]
[null,null,"Minimum Service Level and Above sub-total",null,{"$f":"SUM(E170:E174)","v":0},{"$f":"SUM(F170:F174)","v":0},0,0,0,0,0,0,0]
[null,null,"Bucket toilet"]
[null,null,"Other toilet provisions (< min.service level)"]
[null,null,"No toilet provisions"]
[null,null,"Below Minimum Service Level sub-total",null,{"$f":"SUM(E176:E178)","v":0},{"$f":"SUM(F176:F178)","v":0},0,0,0,0,0,0,0]
[null,null,"Total number of households",null,{"$f":"E175+E179","v":0},{"$f":"F175+F179","v":0},0,0,0,0,0,0,0]
["Name of municipal entity",null,"Energy:"]
[null,null,"Electricity (at least min.service level)"]
[null,null,"Electricity - prepaid (min.service level)"]
[null,null,"Minimum Service Level and Above sub-total",null,{"$f":"SUM(E182:E183)","v":0},{"$f":"SUM(F182:F183)","v":0},0,0,0,0,0,0,0]
[null,null,"Electricity (< min.service level)"]
[null,null,"Electricity - prepaid (< min. service level)"]
[null,null,"Other energy sources"]
[null,null,"Below Minimum Service Level sub-total",null,{"$f":"SUM(E185:E187)","v":0},{"$f":"SUM(F185:F187)","v":0},0,0,0,0,0,0,0]
[null,null,"Total number of households",null,{"$f":"E184+E188","v":0},{"$f":"F184+F188","v":0},0,0,0,0,0,0,0]
["Name of municipal entity",null,"Refuse:"]
[null,null,"Removed at least once a week"]
[null,null,"Minimum Service Level and Above sub-total",null,{"$f":"SUM(E191)","v":0},{"$f":"SUM(F191)","v":0},0,0,0,0,0,0,0]
[null,null,"Removed less frequently than once a week"]
[null,null,"Using communal refuse dump"]
[null,null,"Using own refuse dump"]
[null,null,"Other rubbish disposal"]
[null,null,"No rubbish disposal"]
[null,null,"Below Minimum Service Level sub-total",null,{"$f":"SUM(E193:E197)","v":0},{"$f":"SUM(F193:F197)","v":0},0,0,0,0,0,0,0]
[null,null,"Total number of households",null,{"$f":"E192+E198","v":0},{"$f":"F192+F198","v":0},0,0,0,0,0,0,0]
[]
["Services provided by 'external mechanisms'",{"$nulls":3},{"$f":"head1b","v":"2022/23"},{"$f":"head1A","v":"2023/24"},{"$f":"Head1","v":"2024/25"},{"$f":"Head2","v":"Current Year 2025/26"},null,null,{"$f":"Head3","v":"2026/27 Medium Term Revenue & Expenditure Framework"}]
[null,"Ref.",null,null,{"$f":"Head5A","v":"Outcome"},{"$f":"Head5A","v":"Outcome"},{"$f":"Head5A","v":"Outcome"},{"$f":"Head6","v":"Original Budget"},{"$f":"Head7","v":"Adjusted Budget"},{"$f":"Head8","v":"Full Year Forecast"},{"$f":"Head9","v":"Budget Year 2026/27"},{"$f":"Head10","v":"Budget Year +1 2027/28"},{"$f":"Head11","v":"Budget Year +2 2028/29"}]
["Names of service providers",null,"Household service targets (000)"]
[null,null,"Water:"]
[null,null,"Piped water inside dwelling"]
[null,null,"Piped water inside yard (but not in dwelling)"]
[null,8,"Using public tap (at least min.service level)"]
[null,10,"Other water supply (at least min.service level)"]
[null,null,"Minimum Service Level and Above sub-total",null,{"$f":"SUM(E205:E208)","v":0},{"$f":"SUM(F205:F208)","v":0},0,0,0,0,0,0,0]
[null,9,"Using public tap (< min.service level)"]
[null,10,"Other water supply (< min.service level)"]
[null,null,"No water supply"]
[null,null,"Below Minimum Service Level sub-total",null,{"$f":"SUM(E210:E212)","v":0},{"$f":"SUM(F210:F212)","v":0},0,0,0,0,0,0,0]
[null,null,"Total number of households",null,{"$f":"E209+E213","v":0},{"$f":"F209+F213","v":0},0,0,0,0,0,0,0]
["Names of service providers",null,"Sanitation/sewerage:"]
[null,null,"Flush toilet (connected to sewerage)"]
[null,null,"Flush toilet (with septic tank)"]
[null,null,"Chemical toilet"]
[null,null,"Pit toilet (ventilated)"]
[null,null,"Other toilet provisions (> min.service level)"]
[null,null,"Minimum Service Level and Above sub-total",null,{"$f":"SUM(E216:E220)","v":0},{"$f":"SUM(F216:F220)","v":0},0,0,0,0,0,0,0]
[null,null,"Bucket toilet"]
[null,null,"Other toilet provisions (< min.service level)"]
[null,null,"No toilet provisions"]
[null,null,"Below Minimum Service Level sub-total",null,{"$f":"SUM(E222:E224)","v":0},{"$f":"SUM(F222:F224)","v":0},0,0,0,0,0,0,0]
[null,null,"Total number of households",null,{"$f":"E221+E225","v":0},{"$f":"F221+F225","v":0},0,0,0,0,0,0,0]
["Names of service providers",null,"Energy:"]
[null,null,"Electricity (at least min.service level)"]
[null,null,"Electricity - prepaid (min.service level)"]
[null,null,"Minimum Service Level and Above sub-total",null,{"$f":"SUM(E228:E229)","v":0},{"$f":"SUM(F228:F229)","v":0},0,0,0,0,0,0,0]
[null,null,"Electricity (< min.service level)"]
[null,null,"Electricity - prepaid (< min. service level)"]
[null,null,"Other energy sources"]
[null,null,"Below Minimum Service Level sub-total",null,{"$f":"SUM(E231:E233)","v":0},{"$f":"SUM(F231:F233)","v":0},0,0,0,0,0,0,0]
[null,null,"Total number of households",null,{"$f":"E230+E234","v":0},{"$f":"F230+F234","v":0},0,0,0,0,0,0,0]
["Names of service providers",null,"Refuse:"]
[null,null,"Removed at least once a week"]
[null,null,"Minimum Service Level and Above sub-total",null,{"$f":"SUM(E237)","v":0},{"$f":"SUM(F237)","v":0},0,0,0,0,0,0,0]
[null,null,"Removed less frequently than once a week"]
[null,null,"Using communal refuse dump"]
[null,null,"Using own refuse dump"]
[null,null,"Other rubbish disposal"]
[null,null,"No rubbish disposal"]
[null,null,"Below Minimum Service Level sub-total",null,{"$f":"SUM(E239:E243)","v":0},{"$f":"SUM(F239:F243)","v":0},0,0,0,0,0,0,0]
[null,null,"Total number of households",null,{"$f":"E238+E244","v":0},{"$f":"F238+F244","v":0},0,0,0,0,0,0,0]
[]
["Detail of Free Basic Services (FBS) provided",{"$nulls":3},{"$f":"head1b","v":"2022/23"},{"$f":"head1A","v":"2023/24"},{"$f":"Head1","v":"2024/25"},{"$f":"Head2","v":"Current Year 2025/26"},null,null,{"$f":"Head3","v":"2026/27 Medium Term Revenue & Expenditure Framework"}]
[{"$nulls":4},{"$f":"Head5A","v":"Outcome"},{"$f":"Head5A","v":"Outcome"},{"$f":"Head5A","v":"Outcome"},{"$f":"Head6","v":"Original Budget"},{"$f":"Head7","v":"Adjusted Budget"},{"$f":"Head8","v":"Full Year Forecast"},{"$f":"Head9","v":"Budget Year 2026/27"},{"$f":"Head10","v":"Budget Year +1 2027/28"},{"$f":"Head11","v":"Budget Year +2 2028/29"}]
["Electricity","Ref.","Location of households for each type of FBS"]
["List type of FBS service",null,"Formal settlements -  (50 kwh per indigent household per month Rands)"]
[null,null,"Number of HH receiving this type of FBS",null,0,0,0,{"v":3096,"d":"3,096"},{"v":3096,"d":"3,096"},{"v":3096,"d":"3,096"},{"v":3158,"d":"3,158"},{"v":3158,"d":"3,158"},{"v":3158,"d":"3,158"}]
[null,null,"Informal settlements (Rands)"]
[null,null,"Number of HH receiving this type of FBS"]
[null,null,"Informal settlements targeted for upgrading (Rands)"]
[null,null,"Number of HH receiving this type of FBS"]
[null,null,"Living in informal backyard rental agreement (Rands)"]
[null,null,"Number of HH receiving this type of FBS"]
[null,null,"Other (Rands)"]
[null,null,"Number of HH receiving this type of FBS"]
[null,null,"Total cost of FBS - Electricity for informal settlements",null,{"$f":"E252+E254+E256+E258","v":0},{"$f":"F252+F254+F256+F258","v":0},{"$f":"G252+G254+G256+G258","v":0},0,0,0,0,0,0]
["Water","Ref.","Location of households for each type of FBS"]
["List type of FBS service",null,"Formal settlements -  (6 kilolitre per indigent household per month Rands)",null,{"v":1775224.79,"d":"1,775,225"},{"v":1827745.36,"d":"1,827,745"},{"v":3314889.92,"d":"3,314,890"},{"v":-767622,"d":"(767,622)"},0,0,0,0,0]
[null,null,"Number of HH receiving this type of FBS",null,0,0,0,{"v":3096,"d":"3,096"},{"v":3096,"d":"3,096"},{"v":3096,"d":"3,096"},{"v":3158,"d":"3,158"},{"v":3158,"d":"3,158"},{"v":3158,"d":"3,158"}]
[null,null,"Informal settlements (Rands)",null,0,0,0,0,0,0,0,0,0]
[null,null,"Number of HH receiving this type of FBS"]
[null,null,"Informal settlements targeted for upgrading (Rands)"]
[null,null,"Number of HH receiving this type of FBS"]
[null,null,"Living in informal backyard rental agreement (Rands)"]
[null,null,"Number of HH receiving this type of FBS"]
[null,null,"Other (Rands)"]
[null,null,"Number of HH receiving this type of FBS"]
[null,null,"Total cost of FBS - Water  for informal settlements",null,{"$f":"E264+E266+E268+E270","v":0},{"$f":"F264+F266+F268+F270","v":0},0,0,0,0,0,0,0]
["Sanitation","Ref.","Location of households for each type of FBS"]
["List type of FBS service",null,"Formal settlements -  (free sanitation service to indigent households)"]
[null,null,"Number of HH receiving this type of FBS",null,0,0,0,0,0,0,0,0,0]
[null,null,"Informal settlements (Rands)"]
[null,null,"Number of HH receiving this type of FBS"]
[null,null,"Informal settlements targeted for upgrading (Rands)"]
[null,null,"Number of HH receiving this type of FBS"]
[null,null,"Living in informal backyard rental agreement (Rands)"]
[null,null,"Number of HH receiving this type of FBS"]
[null,null,"Other (Rands)"]
[null,null,"Number of HH receiving this type of FBS"]
[null,null,"Total cost of FBS - Sanitation for informal settlements",null,{"$f":"E276+E278+E280+E282","v":0},{"$f":"F276+F278+F280+F282","v":0},0,0,0,0,0,0,0]
["Refuse Removal","Ref.","Location of households for each type of FBS"]
["List type of FBS service",null,"Formal settlements -  (removed once a week to indigent households)"]
[null,null,"Number of HH receiving this type of FBS"]
[null,null,"Informal settlements (Rands)"]
[null,null,"Number of HH receiving this type of FBS"]
[null,null,"Informal settlements targeted for upgrading (Rands)"]
[null,null,"Number of HH receiving this type of FBS"]
[null,null,"Living in informal backyard rental agreement (Rands)"]
[null,null,"Number of HH receiving this type of FBS"]
[null,null,"Other (Rands)"]
[null,null,"Number of HH receiving this type of FBS"]
[null,null,"Total cost of FBS - Refuse Removal for informal settlements",null,{"$f":"E288+E290+E292+E294","v":0},{"$f":"F288+F290+F292+F294","v":0},0,0,0,0,0,0,0]
[{"$f":"head27a","v":"References"}]
["1. Monthly household income threshold. Should include all sources of income."]
["2. Show the poverty analysis the municipality uses to determine its indigents policy and the provision of services"]
["3. Include total of all housing units within the municipality"]
["4. Number of subsidised dwellings to be constructed by the municipality under agency agreement with province"]
["5. Provide estimate based on building approval information. Include any non-subsidised dwellings constructed by the municipality"]
["6. Insert actual or estimated % increases assumed as a basis for budget calculations"]
["7. Insert actual or estimated % collection rate assumed as a basis for budget calculations for each revenue group"]
["8. Stand distance <= 200m from dwelling"]
["9. Stand distance > 200m from dwelling"]
["10. Borehole, spring, rain-water tank etc."]
["11. Must agree to total number of households in municipal area"]
["12. Household income categories assume an average 4 person household. Stats SA - Census 2011 Questionnaire"]
["13. Based on National poverty line of R515 per capita per month (2008 prices), assuming an average household size of 4 persons"]

{"sheet":"SA10","index":30,"n_rows":132,"n_cols":13,"rows_kept":132,"merged":[[1,0,2,0],[1,1,2,1],[1,2,2,2],[1,6,1,9],[1,10,1,12]]}
[{"$f":"muni &\" \" & TableA10","v":"DC43 Harry Gwala Supporting Table SA10 Funding measurement"}]
[{"$f":"desc","v":"Description"},"MFMA section",{"$f":"head27","v":"Ref"},{"$f":"head1b","v":"2022/23"},{"$f":"head1A","v":"2023/24"},{"$f":"Head1","v":"2024/25"},{"$f":"Head2","v":"Current Year 2025/26"},{"$nulls":3},{"$f":"Head3","v":"2026/27 Medium Term Revenue & Expenditure Framework"}]
[{"$nulls":3},{"$f":"Head5","v":"Audited Outcome"},{"$f":"Head5","v":"Audited Outcome"},{"$f":"Head5","v":"Audited Outcome"},{"$f":"Head6","v":"Original Budget"},{"$f":"Head7","v":"Adjusted Budget"},{"$f":"Head8","v":"Full Year Forecast"},{"$f":"Head5b","v":"Pre-audit outcome"},{"$f":"Head9","v":"Budget Year 2026/27"},{"$f":"Head10","v":"Budget Year +1 2027/28"},{"$f":"Head11","v":"Budget Year +2 2028/29"}]
["Funding measures"]
[{"$f":"LEFT('A7-CFlow'!A43,37)&\" - R'000\"","v":"Cash/cash equivalents at the year end - R'000"},"18(1)b",1,{"$f":"'A7-CFlow'!C43","v":{"v":1305585583.4899998,"d":"1,305,586"}},{"$f":"'A7-CFlow'!D43","v":{"v":1624701724.3300002,"d":"1,624,702"}},{"$f":"'A7-CFlow'!E43","v":{"v":1350001970.1299999,"d":"1,350,002"}},{"$f":"'A7-CFlow'!F43","v":{"v":183681749,"d":"183,682"}},{"$f":"'A7-CFlow'!G43","v":{"v":223121187,"d":"223,121"}},{"$f":"'A7-CFlow'!H43","v":{"v":223121187,"d":"223,121"}},{"$f":"'A7-CFlow'!I43","v":{"v":1215814261.87,"d":"1,215,814"}},{"$f":"'A7-CFlow'!J43","v":{"v":220880254,"d":"220,880"}},{"$f":"'A7-CFlow'!K43","v":{"v":246763732,"d":"246,764"}},{"$f":"'A7-CFlow'!L43","v":{"v":259028378,"d":"259,028"}}]
["Cash + investments at the yr end less applications - R'000","18(1)b",2,{"$f":"'A8-ResRecon'!C8-'A8-ResRecon'!C18","v":{"v":1951797835.0199997,"d":"1,951,798"}},{"$f":"'A8-ResRecon'!D8-'A8-ResRecon'!D18","v":{"v":1833619148.41,"d":"1,833,619"}},{"$f":"'A8-ResRecon'!E8-'A8-ResRecon'!E18","v":{"v":1450029864.6699998,"d":"1,450,030"}},{"$f":"'A8-ResRecon'!F8-'A8-ResRecon'!F18","v":{"v":117737081,"d":"117,737"}},{"$f":"'A8-ResRecon'!G8-'A8-ResRecon'!G18","v":{"v":58422920,"d":"58,423"}},{"$f":"'A8-ResRecon'!H8-'A8-ResRecon'!H18","v":{"v":58422920,"d":"58,423"}},{"$f":"'A8-ResRecon'!I8-'A8-ResRecon'!I18","v":{"v":1133834699.3799999,"d":"1,133,835"}},{"$f":"'A8-ResRecon'!J8-'A8-ResRecon'!J18","v":{"v":28729987,"d":"28,730"}},{"$f":"'A8-ResRecon'!K8-'A8-ResRecon'!K18","v":{"v":58719465,"d":"58,719"}},{"$f":"'A8-ResRecon'!L8-'A8-ResRecon'!L18","v":{"v":69138111,"d":"69,138"}}]
["Cash year end/monthly employee/supplier payments","18(1)b",3,{"$f":"IF(ISERROR('SA8'!C43),0,('SA8'!C43))","v":{"v":15.292598153501139,"d":"15.3"}},{"$f":"IF(ISERROR('SA8'!D43),0,('SA8'!D43))","v":{"v":16.865402351598156,"d":"16.9"}},{"$f":"IF(ISERROR('SA8'!E43),0,('SA8'!E43))","v":{"v":13.343543179555486,"d":"13.3"}},{"$f":"IF(ISERROR('SA8'!F43),0,('SA8'!F43))","v":{"v":1.8155272387059957,"d":"1.8"}},{"$f":"IF(ISERROR('SA8'!G43),0,('SA8'!G43))","v":{"v":3.527544020008284,"d":"3.5"}},{"$f":"IF(ISERROR('SA8'!H43),0,('SA8'!H43))","v":{"v":2.240148178762074,"d":"2.2"}},{"$f":"IF(ISERROR('SA8'!I43),0,('SA8'!I43))","v":{"v":11.65673885510011,"d":"11.7"}},{"$f":"IF(ISERROR('SA8'!J43),0,('SA8'!J43))","v":{"v":2.05540112752323,"d":"2.1"}},{"$f":"IF(ISERROR('SA8'!K43),0,('SA8'!K43))","v":0},{"$f":"IF(ISERROR('SA8'!L43),0,('SA8'!L43))","v":0}]
["Surplus/(Deficit) excluding depreciation offsets: R'000","18(1)",4,{"$f":"'A4-FinPerf RE'!C54+'SA3'!C343","v":{"v":249822027.83999997,"d":"249,822"}},{"$f":"'A4-FinPerf RE'!D54+'SA3'!D343","v":{"v":183052074.15999985,"d":"183,052"}},{"$f":"'A4-FinPerf RE'!E54+'SA3'!E343","v":{"v":262444286.45000005,"d":"262,444"}},{"$f":"'A4-FinPerf RE'!F54+'SA3'!F343","v":{"v":198098515,"d":"198,099"}},{"$f":"'A4-FinPerf RE'!G54+'SA3'!G343","v":{"v":126599689,"d":"126,600"}},{"$f":"'A4-FinPerf RE'!H54+'SA3'!H343","v":{"v":126599689,"d":"126,600"}},{"$f":"'A4-FinPerf RE'!I54+'SA3'!I343","v":{"v":154584425.26000005,"d":"154,584"}},{"$f":"'A4-FinPerf RE'!J54+'SA3'!J343","v":{"v":199440744,"d":"199,441"}},{"$f":"'A4-FinPerf RE'!K54+'SA3'!K343","v":{"v":265185361,"d":"265,185"}},{"$f":"'A4-FinPerf RE'!L54+'SA3'!L343","v":{"v":243170965,"d":"243,171"}}]
["Service charge rev % change - macro CPIX target exclusive","18(1)a,(2)",5,"N.A.",{"$f":"IF(ISERROR(E36-E61),0,(E36-E61))","v":{"v":-0.12586168292159844,"d":"(12.6%)"}},{"$f":"IF(ISERROR(F36-F61),0,(F36-F61))","v":{"v":-0.005216161955028109,"d":"(0.5%)"}},{"v":6.0602513023407245E-3,"d":"0.6%"},{"v":1.899559107923221E-3,"d":"0.2%"},{"v":-0.06,"d":"(6.0%)"},{"v":-0.4104154369214182,"d":"(41.0%)"},{"$f":"IF(ISERROR(K36-K61),0,(K36-K61))","v":{"v":1.8375050420127437E-7,"d":"0.0%"}},{"v":-2.3955332717484623E-9,"d":"(0.0%)"},{"v":-1.5614110837613993E-8,"d":"(0.0%)"}]
["Cash receipts % of Ratepayer & Other revenue","18(1)a,(2)",6,{"$f":"IF(ISERROR(D53/D54),0,(D53/D54))","v":{"v":22.506246536606195,"d":"2250.6%"}},{"$f":"IF(ISERROR(E53/E54),0,(E53/E54))","v":{"v":22.492779168684862,"d":"2249.3%"}},{"v":18.453887240531525,"d":"1845.4%"},{"v":1.4705525684220782,"d":"147.1%"},{"v":1.5610738024394963,"d":"156.1%"},{"v":1.5610738024394963,"d":"156.1%"},{"v":23.488096139180826,"d":"2348.8%"},{"v":1.2488578111708541,"d":"124.9%"},{"v":1.238466804022864,"d":"123.8%"},{"v":1.284288931234247,"d":"128.4%"}]
["Debt impairment expense as a % of total billable revenue","18(1)a,(2)",7,{"$f":"IF(ISERROR('A4-FinPerf RE'!C41/'SA10'!D43),0,('A4-FinPerf RE'!C41/'SA10'!D43))","v":{"v":-0.015469088409679534,"d":"(1.5%)"}},{"$f":"IF(ISERROR('A4-FinPerf RE'!D41/'SA10'!E43),0,('A4-FinPerf RE'!D41/'SA10'!E43))","v":{"v":0.1487867771373359,"d":"14.9%"}},{"$f":"IF(ISERROR('A4-FinPerf RE'!E41/'SA10'!F43),0,('A4-FinPerf RE'!E41/'SA10'!F43))","v":{"v":0.03798031407868849,"d":"3.8%"}},{"$f":"IF(ISERROR('A4-FinPerf RE'!F41/'SA10'!G43),0,('A4-FinPerf RE'!F41/'SA10'!G43))","v":{"v":0.38644552890839895,"d":"38.6%"}},{"$f":"IF(ISERROR('A4-FinPerf RE'!G41/'SA10'!H43),0,('A4-FinPerf RE'!G41/'SA10'!H43))","v":{"v":0.3639190972383892,"d":"36.4%"}},{"$f":"IF(ISERROR('A4-FinPerf RE'!H41/'SA10'!I43),0,('A4-FinPerf RE'!H41/'SA10'!I43))","v":{"v":0.3639190972383892,"d":"36.4%"}},{"$f":"IF(ISERROR('A4-FinPerf RE'!I41/'SA10'!J43),0,('A4-FinPerf RE'!I41/'SA10'!J43))","v":{"v":0,"d":"0.0%"}},{"$f":"IF(ISERROR('A4-FinPerf RE'!J41/'SA10'!K43),0,('A4-FinPerf RE'!J41/'SA10'!K43))","v":{"v":0.3570526520911313,"d":"35.7%"}},{"$f":"IF(ISERROR('A4-FinPerf RE'!K41/'SA10'!L43),0,('A4-FinPerf RE'!K41/'SA10'!L43))","v":{"v":0.3479579136433245,"d":"34.8%"}},{"$f":"IF(ISERROR('A4-FinPerf RE'!L41/'SA10'!M43),0,('A4-FinPerf RE'!L41/'SA10'!M43))","v":{"v":0.33876657302173296,"d":"33.9%"}}]
["Capital payments % of capital expenditure","18(1)c;19",8,{"$f":"IF(ISERROR(-'A7-CFlow'!C29/'A5-Capex'!C63),0,(-'A7-CFlow'!C29/'A5-Capex'!C63))","v":{"v":0,"d":"0.0%"}},{"$f":"IF(ISERROR(-'A7-CFlow'!D29/'A5-Capex'!D63),0,(-'A7-CFlow'!D29/'A5-Capex'!D63))","v":{"v":0,"d":"0.0%"}},{"$f":"IF(ISERROR(-'A7-CFlow'!E29/'A5-Capex'!E63),0,(-'A7-CFlow'!E29/'A5-Capex'!E63))","v":{"v":0,"d":"0.0%"}},{"$f":"IF(ISERROR(-'A7-CFlow'!F29/'A5-Capex'!F63),0,(-'A7-CFlow'!F29/'A5-Capex'!F63))","v":{"v":0,"d":"0.0%"}},{"$f":"IF(ISERROR(-'A7-CFlow'!G29/'A5-Capex'!G63),0,(-'A7-CFlow'!G29/'A5-Capex'!G63))","v":{"v":0,"d":"0.0%"}},{"$f":"IF(ISERROR(-'A7-CFlow'!H29/'A5-Capex'!H63),0,(-'A7-CFlow'!H29/'A5-Capex'!H63))","v":{"v":0,"d":"0.0%"}},{"$f":"IF(ISERROR(-'A7-CFlow'!I29/'A5-Capex'!I63),0,(-'A7-CFlow'!I29/'A5-Capex'!I63))","v":{"v":0,"d":"0.0%"}},{"$f":"IF(ISERROR(-'A7-CFlow'!J29/'A5-Capex'!J63),0,(-'A7-CFlow'!J29/'A5-Capex'!J63))","v":{"v":0,"d":"0.0%"}},{"$f":"IF(ISERROR(-'A7-CFlow'!K29/'A5-Capex'!K63),0,(-'A7-CFlow'!K29/'A5-Capex'!K63))","v":{"v":0,"d":"0.0%"}},{"$f":"IF(ISERROR(-'A7-CFlow'!L29/'A5-Capex'!L63),0,(-'A7-CFlow'!L29/'A5-Capex'!L63))","v":{"v":0,"d":"0.0%"}}]
["Borrowing receipts % of capital expenditure (excl. transfers)","18(1)c",9,{"$f":"IF(ISERROR('A7-CFlow'!C35/'SA10'!D52),0,('A7-CFlow'!C35/'SA10'!D52))","v":{"v":0,"d":"0.0%"}},{"$f":"IF(ISERROR('A7-CFlow'!D35/'SA10'!E52),0,('A7-CFlow'!D35/'SA10'!E52))","v":{"v":0,"d":"0.0%"}},{"$f":"IF(ISERROR('A7-CFlow'!E35/'SA10'!F52),0,('A7-CFlow'!E35/'SA10'!F52))","v":{"v":0,"d":"0.0%"}},{"$f":"IF(ISERROR('A7-CFlow'!F35/'SA10'!G52),0,('A7-CFlow'!F35/'SA10'!G52))","v":{"v":0,"d":"0.0%"}},{"$f":"IF(ISERROR('A7-CFlow'!G35/'SA10'!H52),0,('A7-CFlow'!G35/'SA10'!H52))","v":{"v":0,"d":"0.0%"}},{"$f":"IF(ISERROR('A7-CFlow'!H35/'SA10'!I52),0,('A7-CFlow'!H35/'SA10'!I52))","v":{"v":0,"d":"0.0%"}},{"$f":"IF(ISERROR('A7-CFlow'!I35/'SA10'!J52),0,('A7-CFlow'!I35/'SA10'!J52))","v":{"v":0,"d":"0.0%"}},{"$f":"IF(ISERROR('A7-CFlow'!J35/'SA10'!K52),0,('A7-CFlow'!J35/'SA10'!K52))","v":{"v":0,"d":"0.0%"}},{"$f":"IF(ISERROR('A7-CFlow'!K35/'SA10'!L52),0,('A7-CFlow'!K35/'SA10'!L52))","v":{"v":0,"d":"0.0%"}},{"$f":"IF(ISERROR('A7-CFlow'!L35/'SA10'!M52),0,('A7-CFlow'!L35/'SA10'!M52))","v":{"v":0,"d":"0.0%"}}]
["Grants % of Govt. legislated/gazetted allocations","18(1)a",10,{"$nulls":7},{"$f":"IF(ISERROR(K56/K68),0,(K56/K68))","v":{"v":0,"d":"0.0%"}},{"$f":"IF(ISERROR(L56/L68),0,(L56/L68))","v":{"v":0,"d":"0.0%"}},{"$f":"IF(ISERROR(M56/M68),0,(M56/M68))","v":{"v":0,"d":"0.0%"}}]
["Current consumer debtors % change - incr(decr)","18(1)a",11,"N.A.",{"$f":"IF(ISERROR(ROUND((SUM('A6-FinPos'!D8:D10)-SUM('A6-FinPos'!C8:C10))/SUM('A6-FinPos'!C8:C10),3)),0,(ROUND((SUM('A6-FinPos'!D8:D10)-SUM('A6-FinPos'!C8:C10))/SUM('A6-FinPos'!C8:C10),3)))","v":{"v":-0.584,"d":"(58.4%)"}},{"$f":"IF(ISERROR(ROUND((SUM('A6-FinPos'!E8:E10)-SUM('A6-FinPos'!D8:D10))/SUM('A6-FinPos'!D8:D10),3)),0,(ROUND((SUM('A6-FinPos'!E8:E10)-SUM('A6-FinPos'!D8:D10))/SUM('A6-FinPos'!D8:D10),3)))","v":{"v":0,"d":"0.0%"}},{"$f":"IF(ISERROR(ROUND((SUM('A6-FinPos'!F8:F10)-SUM('A6-FinPos'!E8:E10))/SUM('A6-FinPos'!E8:E10),3)),0,(ROUND((SUM('A6-FinPos'!F8:F10)-SUM('A6-FinPos'!E8:E10))/SUM('A6-FinPos'!E8:E10),3)))","v":{"v":0.815,"d":"81.5%"}},{"$f":"IF(ISERROR(ROUND((SUM('A6-FinPos'!G8:G10)-SUM('A6-FinPos'!F8:F10))/SUM('A6-FinPos'!F8:F10),3)),0,(ROUND((SUM('A6-FinPos'!G8:G10)-SUM('A6-FinPos'!F8:F10))/SUM('A6-FinPos'!F8:F10),3)))","v":{"v":-0.838,"d":"(83.8%)"}},{"$f":"IF(ISERROR(ROUND((SUM('A6-FinPos'!H8:H10)-SUM('A6-FinPos'!G8:G10))/SUM('A6-FinPos'!G8:G10),3)),0,(ROUND((SUM('A6-FinPos'!H8:H10)-SUM('A6-FinPos'!G8:G10))/SUM('A6-FinPos'!G8:G10),3)))","v":{"v":0,"d":"0.0%"}},{"$f":"IF(ISERROR(ROUND((SUM('A6-FinPos'!I8:I10)-SUM('A6-FinPos'!H8:H10))/SUM('A6-FinPos'!H8:H10),3)),0,(ROUND((SUM('A6-FinPos'!I8:I10)-SUM('A6-FinPos'!H8:H10))/SUM('A6-FinPos'!H8:H10),3)))","v":{"v":-1.884,"d":"(188.4%)"}},{"$f":"IF(ISERROR(ROUND((SUM('A6-FinPos'!J8:J10)-SUM('A6-FinPos'!I8:I10))/SUM('A6-FinPos'!I8:I10),3)),0,(ROUND((SUM('A6-FinPos'!J8:J10)-SUM('A6-FinPos'!I8:I10))/SUM('A6-FinPos'!I8:I10),3)))","v":{"v":-4.465,"d":"(446.5%)"}},{"$f":"IF(ISERROR(ROUND((SUM('A6-FinPos'!K8:K10)-SUM('A6-FinPos'!J8:J10))/SUM('A6-FinPos'!J8:J10),3)),0,(ROUND((SUM('A6-FinPos'!K8:K10)-SUM('A6-FinPos'!J8:J10))/SUM('A6-FinPos'!J8:J10),3)))","v":{"v":0.391,"d":"39.1%"}},{"$f":"IF(ISERROR(ROUND((SUM('A6-FinPos'!L8:L10)-SUM('A6-FinPos'!K8:K10))/SUM('A6-FinPos'!K8:K10),3)),0,(ROUND((SUM('A6-FinPos'!L8:L10)-SUM('A6-FinPos'!K8:K10))/SUM('A6-FinPos'!K8:K10),3)))","v":{"v":-0.029,"d":"(2.9%)"}}]
["Long term receivables % change - incr(decr)","18(1)a",12,"N.A.",{"$f":"IF(ISERROR(ROUND((SUM('A6-FinPos'!D23:D24)-SUM('A6-FinPos'!C23:C24))/SUM('A6-FinPos'!C23:C24),3)),0,(ROUND((SUM('A6-FinPos'!D23:D24)-SUM('A6-FinPos'!C23:C24))/SUM('A6-FinPos'!C23:C24),3)))","v":{"v":0,"d":"0.0%"}},{"$f":"IF(ISERROR(ROUND((SUM('A6-FinPos'!E23:E24)-SUM('A6-FinPos'!D23:D24))/SUM('A6-FinPos'!D23:D24),3)),0,(ROUND((SUM('A6-FinPos'!E23:E24)-SUM('A6-FinPos'!D23:D24))/SUM('A6-FinPos'!D23:D24),3)))","v":{"v":0,"d":"0.0%"}},{"$f":"IF(ISERROR(ROUND((SUM('A6-FinPos'!F23:F24)-SUM('A6-FinPos'!E23:E24))/SUM('A6-FinPos'!E23:E24),3)),0,(ROUND((SUM('A6-FinPos'!F23:F24)-SUM('A6-FinPos'!E23:E24))/SUM('A6-FinPos'!E23:E24),3)))","v":{"v":0,"d":"0.0%"}},{"$f":"IF(ISERROR(ROUND((SUM('A6-FinPos'!G23:G24)-SUM('A6-FinPos'!F23:F24))/SUM('A6-FinPos'!F23:F24),3)),0,(ROUND((SUM('A6-FinPos'!G23:G24)-SUM('A6-FinPos'!F23:F24))/SUM('A6-FinPos'!F23:F24),3)))","v":{"v":0,"d":"0.0%"}},{"$f":"IF(ISERROR(ROUND((SUM('A6-FinPos'!H23:H24)-SUM('A6-FinPos'!G23:G24))/SUM('A6-FinPos'!G23:G24),3)),0,(ROUND((SUM('A6-FinPos'!H23:H24)-SUM('A6-FinPos'!G23:G24))/SUM('A6-FinPos'!G23:G24),3)))","v":{"v":0,"d":"0.0%"}},{"$f":"IF(ISERROR(ROUND((SUM('A6-FinPos'!I23:I24)-SUM('A6-FinPos'!H23:H24))/SUM('A6-FinPos'!H23:H24),3)),0,(ROUND((SUM('A6-FinPos'!I23:I24)-SUM('A6-FinPos'!H23:H24))/SUM('A6-FinPos'!H23:H24),3)))","v":{"v":0,"d":"0.0%"}},{"$f":"IF(ISERROR(ROUND((SUM('A6-FinPos'!J23:J24)-SUM('A6-FinPos'!I23:I24))/SUM('A6-FinPos'!I23:I24),3)),0,(ROUND((SUM('A6-FinPos'!J23:J24)-SUM('A6-FinPos'!I23:I24))/SUM('A6-FinPos'!I23:I24),3)))","v":{"v":0,"d":"0.0%"}},{"$f":"IF(ISERROR(ROUND((SUM('A6-FinPos'!K23:K24)-SUM('A6-FinPos'!J23:J24))/SUM('A6-FinPos'!J23:J24),3)),0,(ROUND((SUM('A6-FinPos'!K23:K24)-SUM('A6-FinPos'!J23:J24))/SUM('A6-FinPos'!J23:J24),3)))","v":{"v":0,"d":"0.0%"}},{"$f":"IF(ISERROR(ROUND((SUM('A6-FinPos'!L23:L24)-SUM('A6-FinPos'!K23:K24))/SUM('A6-FinPos'!K23:K24),3)),0,(ROUND((SUM('A6-FinPos'!L23:L24)-SUM('A6-FinPos'!K23:K24))/SUM('A6-FinPos'!K23:K24),3)))","v":{"v":0,"d":"0.0%"}}]
["R&M % of Property Plant & Equipment","20(1)(vi)",13,{"$f":"'A9-Asset'!C223","v":{"v":0.023754202832331196,"d":"2.4%"}},{"$f":"'A9-Asset'!D223","v":{"v":0.01857241085188182,"d":"1.9%"}},{"$f":"'A9-Asset'!E223","v":{"v":0.015793360675751118,"d":"1.6%"}},{"$f":"'A9-Asset'!F223","v":{"v":0.016116394072491193,"d":"1.6%"}},{"$f":"'A9-Asset'!G223","v":{"v":0.016953222721764603,"d":"1.7%"}},{"$f":"'A9-Asset'!H223","v":{"v":0.016953222721764603,"d":"1.7%"}},{"$f":"'A9-Asset'!I223","v":{"v":0.010110350709846588,"d":"1.0%"}},{"$f":"'A9-Asset'!J223","v":{"v":0.009503379216937067,"d":"1.0%"}},{"$f":"'A9-Asset'!K223","v":{"v":0.008997269595315344,"d":"0.9%"}},{"$f":"'A9-Asset'!L223","v":{"v":0,"d":"0.0%"}}]
["Asset renewal % of capital budget",{"$f":"B17","v":"20(1)(vi)"},14,{"$f":"IF(ISERROR(D58/D57),0,(D58/D57))","v":{"v":0.023257686990976963,"d":"2.3%"}},{"v":0.015509801297837094,"d":"1.6%"},{"v":0.0871251880344426,"d":"8.7%"},{"v":0.0727427242164534,"d":"7.3%"},{"v":0.060009458463175853,"d":"6.0%"},{"v":0.060009458463175853,"d":"6.0%"},{"v":0,"d":"0.0%"},{"v":0.07689374352424996,"d":"7.7%"},{"v":0.11685914290499191,"d":"11.7%"},{"$f":"IF(ISERROR(M58/M57),0,((M58/M57)))","v":{"v":0.13582154271610916,"d":"13.6%"}}]
[]
[{"$f":"head27a","v":"References"}]
["1. Positive cash balances indicative of minimum compliance - subject to 2"]
["2. Deduct cash and investment applications (defined) from cash balances"]
["3. Indicative of sufficient liquidity to meet average monthly operating payments"]
["4. Indicative of funded operational requirements"]
["5. Indicative of adherence to macro-economic targets (prior to 2003/04 revenue not available for high capacity municipalities and later for other capacity classifications)"]
["6. Realistic average cash collection forecasts as % of annual billed revenue"]
["7. Realistic average increase in debt impairment (doubtful debt) provision"]
["8. Indicative of planned capital expenditure level & cash payment timing"]
["9. Indicative of compliance with borrowing 'only' for the capital budget - should not exceed 100% unless refinancing"]
["10. Substantiation of National/Province allocations included in budget"]
["11. Indicative of realistic current arrear debtor collection targets (prior to 2003/04 revenue not available for high capacity municipalities and later for other capacity classifications)"]
["12. Indicative of realistic long term arrear debtor collection targets (prior to 2003/04 revenue not available for high capacity municipalities and later for other capacity classifications)"]
["13. Indicative of a credible allowance for repairs & maintenance of assets - functioning assets revenue protection"]
["14. Indicative of a credible allowance for asset renewal (requires analysis of asset renewal projects as % of total capital projects - detailed capital plan) - functioning assets revenue protection"]
["Supporting indicators"]
["% incr total service charges (incl prop rates)","18(1)a",null,{"$f":"IF(ISERROR((D44/C44)-1),0,((D44/C44)-1))","v":{"v":0,"d":"0.0%"}},{"v":-0.06586168292159844,"d":"(6.6%)"},{"$f":"IF(ISERROR((F44/E44)-1),0,((F44/E44)-1))","v":{"v":0.05478383804497189,"d":"5.5%"}},{"$f":"IF(ISERROR((G44/F44)-1),0,((G44/F44)-1))","v":{"v":0.06606025130234072,"d":"6.6%"}},{"$f":"IF(ISERROR((H44/G44)-1),0,((H44/G44)-1))","v":{"v":0.06189955910792322,"d":"6.2%"}},{"$f":"IF(ISERROR((I44/H44)-1),0,((I44/H44)-1))","v":{"v":0,"d":"0.0%"}},{"$f":"IF(ISERROR((J44/I44)-1),0,((J44/I44)-1))","v":{"v":-0.3504154369214182,"d":"(35.0%)"}},{"$f":"IF(ISERROR((K44/H44)-1),0,((K44/H44)-1))","v":{"v":0.0600001837505042,"d":"6.0%"}},{"$f":"IF(ISERROR((L44/K44)-1),0,((L44/K44)-1))","v":{"v":0.059999997604466726,"d":"6.0%"}},{"$f":"IF(ISERROR((M44/L44)-1),0,((M44/L44)-1))","v":{"v":0.05999998438588916,"d":"6.0%"}}]
["% incr Property Tax","18(1)a",null,{"v":0,"d":"0.0%"},{"v":0,"d":"0.0%"},{"$f":"IF(ISERROR((F45/E45)-1),0,((F45/E45)-1))","v":{"v":0,"d":"0.0%"}},{"v":0,"d":"0.0%"},{"v":0,"d":"0.0%"},{"v":0,"d":"0.0%"},{"v":0,"d":"0.0%"},{"$f":"IF(ISERROR((K45/H45)-1),0,((K45/H45)-1))","v":{"v":0,"d":"0.0%"}},{"v":0,"d":"0.0%"},{"v":0,"d":"0.0%"}]
[{"$f":"\"% incr \"&'A4-FinPerf RE'!A6","v":"% incr Service charges - Electricity"},"18(1)a",null,{"v":0,"d":"0.0%"},{"v":0,"d":"0.0%"},{"v":0,"d":"0.0%"},{"v":0,"d":"0.0%"},{"v":0,"d":"0.0%"},{"v":0,"d":"0.0%"},{"v":0,"d":"0.0%"},{"v":0,"d":"0.0%"},{"v":0,"d":"0.0%"},{"$f":"IF(ISERROR((M46/L46)-1),0,((M46/L46)-1))","v":{"v":0,"d":"0.0%"}}]
[{"$f":"\"% incr \"&'A4-FinPerf RE'!A7","v":"% incr Service charges - Water"},"18(1)a",null,{"v":0,"d":"0.0%"},{"v":-0.08094465718452548,"d":"(8.1%)"},{"v":0.07396827880886492,"d":"7.4%"},{"v":0.06881250352923862,"d":"6.9%"},{"v":0.07402363821226632,"d":"7.4%"},{"v":0,"d":"0.0%"},{"v":-0.3510894637827534,"d":"(35.1%)"},{"v":0.06000012036670266,"d":"6.0%"},{"v":0.059999994322325945,"d":"6.0%"},{"v":0.05999998904393955,"d":"6.0%"}]
[{"$f":"\"% incr \"&'A4-FinPerf RE'!A8","v":"% incr Service charges - Waste Water Management"},"18(1)a",null,{"v":0,"d":"0.0%"},{"v":0.00815455760005901,"d":"0.8%"},{"v":-0.03103916808259799,"d":"(3.1%)"},{"v":0.052413538792686065,"d":"5.2%"},{"v":8.4702831397431844E-4,"d":"0.1%"},{"v":0,"d":"0.0%"},{"v":-0.34677311564872026,"d":"(34.7%)"},{"v":0.06000052626529473,"d":"6.0%"},{"v":0.06000001534056443,"d":"6.0%"},{"v":0.059999959214623644,"d":"6.0%"}]
[{"$f":"\"% incr \"&'A4-FinPerf RE'!A9","v":"% incr Service charges - Waste Management"},"18(1)a",null,{"v":0,"d":"0.0%"},{"v":0,"d":"0.0%"},{"v":0,"d":"0.0%"},{"v":0,"d":"0.0%"},{"v":0,"d":"0.0%"},{"v":0,"d":"0.0%"},{"v":0,"d":"0.0%"},{"v":0,"d":"0.0%"},{"v":0,"d":"0.0%"},{"v":0,"d":"0.0%"}]
[{"$f":"\"% incr in \"&'A4-FinPerf RE'!A10","v":"% incr in Sale of Goods and Rendering of Services"},"18(1)a",null,{"v":0,"d":"0.0%"},{"v":0,"d":"0.0%"},{"v":0,"d":"0.0%"},{"v":0,"d":"0.0%"},{"v":0,"d":"0.0%"},{"$f":"IF(ISERROR((I50/H50)-1),0,((I50/H50)-1))","v":{"v":0,"d":"0.0%"}},{"v":0,"d":"0.0%"},{"v":0,"d":"0.0%"},{"$f":"IF(ISERROR((L50/K50)-1),0,((L50/K50)-1))","v":{"v":0,"d":"0.0%"}},{"v":0,"d":"0.0%"}]
["Total billable revenue","18(1)a",null,{"$f":"SUM(D45:D50)","v":{"v":77673822.67,"d":"77,674"}},{"$f":"SUM(E45:E50)","v":{"v":72558093.99,"d":"72,558"}},{"v":76533104.86,"d":"76,533"},{"v":81588901,"d":"81,589"},{"v":86639218,"d":"86,639"},{"v":86639218,"d":"86,639"},{"v":56279498.57,"d":"56,279"},{"v":91837587,"d":"91,838"},{"v":97347842,"d":"97,348"},{"v":103188711,"d":"103,189"}]
["Service charges",null,null,{"$f":"SUM(D45:D50)","v":{"v":77673822.67,"d":"77,674"}},{"$f":"SUM(E45:E50)","v":{"v":72558093.99,"d":"72,558"}},{"v":76533104.86,"d":"76,533"},{"v":81588901,"d":"81,589"},{"v":86639218,"d":"86,639"},{"v":86639218,"d":"86,639"},{"$f":"SUM(J45:J50)","v":{"v":56279498.57,"d":"56,279"}},{"v":91837587,"d":"91,838"},{"v":97347842,"d":"97,348"},{"v":103188711,"d":"103,189"}]
["Property rates",null,null,{"$f":"'A4-FinPerf RE'!C24","v":0},{"$f":"'A4-FinPerf RE'!D24","v":0},{"$f":"'A4-FinPerf RE'!E24","v":0},{"$f":"'A4-FinPerf RE'!F24","v":0},{"$f":"'A4-FinPerf RE'!G24","v":0},{"$f":"'A4-FinPerf RE'!H24","v":0},{"$f":"'A4-FinPerf RE'!I24","v":0},{"$f":"'A4-FinPerf RE'!J24","v":0},{"$f":"'A4-FinPerf RE'!K24","v":0},{"$f":"'A4-FinPerf RE'!L24","v":0}]
["Service charges - electricity revenue",null,null,{"$f":"'A4-FinPerf RE'!C6","v":0},{"$f":"'A4-FinPerf RE'!D6","v":0},{"$f":"'A4-FinPerf RE'!E6","v":0},{"$f":"'A4-FinPerf RE'!F6","v":0},{"$f":"'A4-FinPerf RE'!G6","v":0},{"$f":"'A4-FinPerf RE'!H6","v":0},{"$f":"'A4-FinPerf RE'!I6","v":0},{"$f":"'A4-FinPerf RE'!J6","v":0},{"$f":"'A4-FinPerf RE'!K6","v":0},{"$f":"'A4-FinPerf RE'!L6","v":0}]
["Service charges - water revenue",null,null,{"$f":"'A4-FinPerf RE'!C7","v":{"v":64524972.02,"d":"64,525"}},{"$f":"'A4-FinPerf RE'!D7","v":{"v":59302020.28,"d":"59,302"}},{"$f":"'A4-FinPerf RE'!E7","v":{"v":63688488.65,"d":"63,688"}},{"$f":"'A4-FinPerf RE'!F7","v":{"v":68071053,"d":"68,071"}},{"$f":"'A4-FinPerf RE'!G7","v":{"v":73109920,"d":"73,110"}},{"$f":"'A4-FinPerf RE'!H7","v":{"v":73109920,"d":"73,110"}},{"$f":"'A4-FinPerf RE'!I7","v":{"v":47441797.39,"d":"47,442"}},{"$f":"'A4-FinPerf RE'!J7","v":{"v":77496524,"d":"77,497"}},{"$f":"'A4-FinPerf RE'!K7","v":{"v":82146315,"d":"82,146"}},{"$f":"'A4-FinPerf RE'!L7","v":{"v":87075093,"d":"87,075"}}]
["Service charges - sanitation revenue",null,null,{"$f":"'A4-FinPerf RE'!C8","v":{"v":13148850.65,"d":"13,149"}},{"$f":"'A4-FinPerf RE'!D8","v":{"v":13256073.709999999,"d":"13,256"}},{"$f":"'A4-FinPerf RE'!E8","v":{"v":12844616.21,"d":"12,845"}},{"$f":"'A4-FinPerf RE'!F8","v":{"v":13517848,"d":"13,518"}},{"$f":"'A4-FinPerf RE'!G8","v":{"v":13529298,"d":"13,529"}},{"$f":"'A4-FinPerf RE'!H8","v":{"v":13529298,"d":"13,529"}},{"$f":"'A4-FinPerf RE'!I8","v":{"v":8837701.18,"d":"8,838"}},{"$f":"'A4-FinPerf RE'!J8","v":{"v":14341063,"d":"14,341"}},{"$f":"'A4-FinPerf RE'!K8","v":{"v":15201527,"d":"15,202"}},{"$f":"'A4-FinPerf RE'!L8","v":{"v":16113618,"d":"16,114"}}]
["Service charges - refuse removal",null,null,{"$f":"'A4-FinPerf RE'!C9","v":0},{"$f":"'A4-FinPerf RE'!D9","v":0},{"$f":"'A4-FinPerf RE'!E9","v":0},{"$f":"'A4-FinPerf RE'!F9","v":0},{"$f":"'A4-FinPerf RE'!G9","v":0},{"$f":"'A4-FinPerf RE'!H9","v":0},{"$f":"'A4-FinPerf RE'!I9","v":0},{"$f":"'A4-FinPerf RE'!J9","v":0},{"$f":"'A4-FinPerf RE'!K9","v":0},{"$f":"'A4-FinPerf RE'!L9","v":0}]
[]
[{"$f":"'A4-FinPerf RE'!A11","v":"Agency services"},null,null,{"$f":"'A4-FinPerf RE'!C11","v":0},{"$f":"'A4-FinPerf RE'!D11","v":0},{"$f":"'A4-FinPerf RE'!E11","v":0},{"$f":"'A4-FinPerf RE'!F11","v":0},{"$f":"'A4-FinPerf RE'!G11","v":0},{"$f":"'A4-FinPerf RE'!H11","v":0},{"$f":"'A4-FinPerf RE'!I11","v":0},{"$f":"'A4-FinPerf RE'!J11","v":0},{"$f":"'A4-FinPerf RE'!K11","v":0},{"$f":"'A4-FinPerf RE'!L11","v":0}]
["Capital expenditure excluding capital grant funding",null,null,{"$f":"'A5-Capex'!C63-'A5-Capex'!C70","v":{"v":17808767.27000001,"d":"17,809"}},{"$f":"'A5-Capex'!D63-'A5-Capex'!D70","v":{"v":11555047.47999996,"d":"11,555"}},{"$f":"'A5-Capex'!E63-'A5-Capex'!E70","v":{"v":73070067.5,"d":"73,070"}},{"$f":"'A5-Capex'!F63-'A5-Capex'!F70","v":{"v":41912356,"d":"41,912"}},{"$f":"'A5-Capex'!G63-'A5-Capex'!G70","v":{"v":76086187,"d":"76,086"}},{"$f":"'A5-Capex'!H63-'A5-Capex'!H70","v":{"v":76086187,"d":"76,086"}},{"$f":"'A5-Capex'!I63-'A5-Capex'!I70","v":{"v":23748673,"d":"23,749"}},{"$f":"'A5-Capex'!J63-'A5-Capex'!J70","v":{"v":43222755,"d":"43,223"}},{"$f":"'A5-Capex'!K63-'A5-Capex'!K70","v":{"v":44927653,"d":"44,928"}},{"$f":"'A5-Capex'!L63-'A5-Capex'!L70","v":{"v":50615891,"d":"50,616"}}]
["Cash receipts from ratepayers","18(1)a",null,{"$f":"'A7-CFlow'!C6+'A7-CFlow'!C7+'A7-CFlow'!C8","v":{"v":1874141111.81,"d":"1,874,141"}},{"$f":"'A7-CFlow'!D6+'A7-CFlow'!D7+'A7-CFlow'!D8","v":{"v":1868047766.75,"d":"1,868,048"}},{"$f":"'A7-CFlow'!E6+'A7-CFlow'!E7+'A7-CFlow'!E8","v":{"v":1577092050.78,"d":"1,577,092"}},{"$f":"'A7-CFlow'!F6+'A7-CFlow'!F7+'A7-CFlow'!F8","v":{"v":141863446,"d":"141,863"}},{"$f":"'A7-CFlow'!G6+'A7-CFlow'!G7+'A7-CFlow'!G8","v":{"v":144727466,"d":"144,727"}},{"$f":"'A7-CFlow'!H6+'A7-CFlow'!H7+'A7-CFlow'!H8","v":{"v":144727466,"d":"144,727"}},{"$f":"'A7-CFlow'!I6+'A7-CFlow'!I7+'A7-CFlow'!I8","v":{"v":1423783258.52,"d":"1,423,783"}},{"$f":"'A7-CFlow'!J6+'A7-CFlow'!J7+'A7-CFlow'!J8","v":{"v":116189632,"d":"116,190"}},{"$f":"'A7-CFlow'!K6+'A7-CFlow'!K7+'A7-CFlow'!K8","v":{"v":122127364,"d":"122,127"}},{"$f":"'A7-CFlow'!L6+'A7-CFlow'!L7+'A7-CFlow'!L8","v":{"v":134235121,"d":"134,235"}}]
["Ratepayer & Other revenue","18(1)a",null,{"$f":"SUM('A4-FinPerf RE'!C6:C11+'A4-FinPerf RE'!C18+'A4-FinPerf RE'!C22+SUM('A4-FinPerf RE'!C24:C27)+'A4-FinPerf RE'!C31)","v":{"v":83272042.22,"d":"83,272"}},{"$f":"SUM('A4-FinPerf RE'!D6:D11+'A4-FinPerf RE'!D18+'A4-FinPerf RE'!D22+SUM('A4-FinPerf RE'!D24:D27)+'A4-FinPerf RE'!D31)","v":{"v":83050998.4,"d":"83,051"}},{"$f":"SUM('A4-FinPerf RE'!E6:E11+'A4-FinPerf RE'!E18+'A4-FinPerf RE'!E22+SUM('A4-FinPerf RE'!E24:E27)+'A4-FinPerf RE'!E31)","v":{"v":85461238.07,"d":"85,461"}},{"$f":"SUM('A4-FinPerf RE'!F6:F11+'A4-FinPerf RE'!F18+'A4-FinPerf RE'!F22+SUM('A4-FinPerf RE'!F24:F27)+'A4-FinPerf RE'!F31)","v":{"v":96469483,"d":"96,469"}},{"$f":"SUM('A4-FinPerf RE'!G6:G11+'A4-FinPerf RE'!G18+'A4-FinPerf RE'!G22+SUM('A4-FinPerf RE'!G24:G27)+'A4-FinPerf RE'!G31)","v":{"v":92710201,"d":"92,710"}},{"$f":"SUM('A4-FinPerf RE'!H6:H11+'A4-FinPerf RE'!H18+'A4-FinPerf RE'!H22+SUM('A4-FinPerf RE'!H24:H27)+'A4-FinPerf RE'!H31)","v":{"v":92710201,"d":"92,710"}},{"$f":"SUM('A4-FinPerf RE'!I6:I11+'A4-FinPerf RE'!I18+'A4-FinPerf RE'!I22+SUM('A4-FinPerf RE'!I24:I27)+'A4-FinPerf RE'!I31)","v":{"v":60617227.129999995,"d":"60,617"}},{"$f":"SUM('A4-FinPerf RE'!J6:J11)+'A4-FinPerf RE'!J18+'A4-FinPerf RE'!J22+SUM('A4-FinPerf RE'!J24:J27)+'A4-FinPerf RE'!J31","v":{"v":93036718,"d":"93,037"}},{"$f":"SUM('A4-FinPerf RE'!K6:K11)+'A4-FinPerf RE'!K18+'A4-FinPerf RE'!K22+SUM('A4-FinPerf RE'!K24:K27)+'A4-FinPerf RE'!K31","v":{"v":98611738,"d":"98,612"}},{"$f":"SUM('A4-FinPerf RE'!L6:L11)+'A4-FinPerf RE'!L18+'A4-FinPerf RE'!L22+SUM('A4-FinPerf RE'!L24:L27)+'A4-FinPerf RE'!L31","v":{"v":104520967,"d":"104,521"}}]
["Change in consumer debtors (current and non-current)",null,null,"N/A",{"$f":"SUM('A6-FinPos'!D8:D10)+SUM('A6-FinPos'!D23:D24)-(SUM('A6-FinPos'!C8:C10)+SUM('A6-FinPos'!C23:C24))","v":{"v":-20105378.72000003,"d":"(20,105)"}},{"$f":"SUM('A6-FinPos'!E8:E10)+SUM('A6-FinPos'!E23:E24)-(SUM('A6-FinPos'!D8:D10)+SUM('A6-FinPos'!D23:D24))","v":{"v":-4936.8600000068545,"d":"(5)"}},{"$f":"SUM('A6-FinPos'!F8:F10)+SUM('A6-FinPos'!F23:F24)-(SUM('A6-FinPos'!E8:E10)+SUM('A6-FinPos'!E23:E24))","v":{"v":11687177.720000027,"d":"11,687"}},{"$f":"SUM('A6-FinPos'!G8:G10)+SUM('A6-FinPos'!G23:G24)-(SUM('A6-FinPos'!F8:F10)+SUM('A6-FinPos'!F23:F24))","v":{"v":-21822721,"d":"(21,823)"}},{"$f":"SUM('A6-FinPos'!H8:H10)+SUM('A6-FinPos'!H23:H24)-(SUM('A6-FinPos'!G8:G10)+SUM('A6-FinPos'!G23:G24))","v":0},{"$f":"SUM('A6-FinPos'!I8:I10)+SUM('A6-FinPos'!I23:I24)-(SUM('A6-FinPos'!H8:H10)+SUM('A6-FinPos'!H23:H24))","v":{"v":-7926700.67,"d":"(7,927)"}},{"$f":"SUM('A6-FinPos'!J8:J10)+SUM('A6-FinPos'!J23:J24)-(SUM('A6-FinPos'!I8:I10)+SUM('A6-FinPos'!I23:I24))","v":{"v":16604470.67,"d":"16,604"}},{"$f":"SUM('A6-FinPos'!K8:K10)+SUM('A6-FinPos'!K23:K24)-(SUM('A6-FinPos'!J8:J10)+SUM('A6-FinPos'!J23:J24))","v":{"v":5038439,"d":"5,038"}},{"$f":"SUM('A6-FinPos'!L8:L10)+SUM('A6-FinPos'!L23:L24)-(SUM('A6-FinPos'!K8:K10)+SUM('A6-FinPos'!K23:K24))","v":{"v":-519259,"d":"(519)"}}]
["Operating and Capital Grant Revenue","18(1)a",null,{"$f":"'A4-FinPerf RE'!C28+'A4-FinPerf RE'!C52","v":{"v":735797419.53,"d":"735,797"}},{"$f":"'A4-FinPerf RE'!D28+'A4-FinPerf RE'!D52","v":{"v":809851580.47,"d":"809,852"}},{"$f":"'A4-FinPerf RE'!E28+'A4-FinPerf RE'!E52","v":{"v":852401325.02,"d":"852,401"}},{"$f":"'A4-FinPerf RE'!F28+'A4-FinPerf RE'!F52","v":{"v":890447000,"d":"890,447"}},{"$f":"'A4-FinPerf RE'!G28+'A4-FinPerf RE'!G52","v":{"v":890447000,"d":"890,447"}},{"$f":"'A4-FinPerf RE'!H28+'A4-FinPerf RE'!H52","v":{"v":890447000,"d":"890,447"}},{"$f":"'A4-FinPerf RE'!I28+'A4-FinPerf RE'!I52","v":{"v":591477001.86,"d":"591,477"}},{"$f":"'A4-FinPerf RE'!J28+'A4-FinPerf RE'!J52","v":{"v":935956000,"d":"935,956"}},{"$f":"'A4-FinPerf RE'!K28+'A4-FinPerf RE'!K52","v":{"v":1028768000,"d":"1,028,768"}},{"$f":"'A4-FinPerf RE'!L28+'A4-FinPerf RE'!L52","v":{"v":1028662001,"d":"1,028,662"}}]
["Capital expenditure - total",{"$f":"B17","v":"20(1)(vi)"},null,{"$f":"'A5-Capex'!C63","v":{"v":269117647.1,"d":"269,118"}},{"$f":"'A5-Capex'!D63","v":{"v":309603501.53999996,"d":"309,604"}},{"$f":"'A5-Capex'!E63","v":{"v":349074824.24,"d":"349,075"}},{"$f":"'A5-Capex'!F63","v":{"v":302059735,"d":"302,060"}},{"$f":"'A5-Capex'!G63","v":{"v":331597210,"d":"331,597"}},{"$f":"'A5-Capex'!H63","v":{"v":331597210,"d":"331,597"}},{"$f":"'A5-Capex'!I63","v":{"v":189598986.28,"d":"189,599"}},{"$f":"'A5-Capex'!J63","v":{"v":329348915,"d":"329,349"}},{"$f":"'A5-Capex'!K63","v":{"v":383718534,"d":"383,719"}},{"$f":"'A5-Capex'!L63","v":{"v":383591807,"d":"383,592"}}]
["Capital expenditure - renewal",{"$f":"B18","v":"20(1)(vi)"},null,{"$f":"'A9-Asset'!C40","v":{"v":6259054,"d":"6,259"}},{"$f":"'A9-Asset'!D40","v":{"v":4801888.79,"d":"4,802"}},{"$f":"'A9-Asset'!E40","v":{"v":30413209.7,"d":"30,413"}},{"$f":"'A9-Asset'!F40","v":{"v":21972648,"d":"21,973"}},{"$f":"'A9-Asset'!G40","v":{"v":19898969,"d":"19,899"}},{"$f":"'A9-Asset'!H40","v":{"v":19898969,"d":"19,899"}},null,{"$f":"'A9-Asset'!I40","v":{"v":25324871,"d":"25,325"}},{"$f":"'A9-Asset'!J40","v":{"v":44841019,"d":"44,841"}},{"$f":"'A9-Asset'!K40","v":{"v":52100031,"d":"52,100"}}]
[]
["Supporting benchmarks"]
["Growth guideline maximum",null,null,{"v":0.06,"d":"6.0%"},{"v":0.06,"d":"6.0%"},{"v":0.06,"d":"6.0%"},{"v":0.06,"d":"6.0%"},{"v":0.06,"d":"6.0%"},{"v":0.06,"d":"6.0%"},{"v":0.06,"d":"6.0%"},{"v":0.06,"d":"6.0%"},{"v":0.06,"d":"6.0%"},{"v":0.06,"d":"6.0%"}]
["CPI guideline",null,null,{"v":0.043,"d":"4.3%"},{"v":0.039,"d":"3.9%"},{"v":0.046,"d":"4.6%"},{"v":0.05,"d":"5.0%"},{"v":0.05,"d":"5.0%"},{"v":0.05,"d":"5.0%"},{"v":0.05,"d":"5.0%"},{"v":0.054,"d":"5.4%"},{"v":0.056,"d":"5.6%"},{"v":0.054,"d":"5.4%"}]
["DoRA operating grants total MFY"]
["DoRA capital grants total MFY"]
["Provincial operating grants"]
["Provincial capital grants"]
["District Municipality grants"]
["Total gazetted/advised national, provincial and district grants",{"$nulls":9},{"$f":"SUM(K63:K67)","v":0},{"$f":"SUM(L63:L67)","v":0},{"$f":"SUM(M63:M67)","v":0}]
["Average annual collection rate (arrears inclusive)"]
[]
["DoRA operating"]
[]
[{"$nulls":10},{"$f":"SUM(K72:K72)","v":0},{"$f":"SUM(L72:L72)","v":0},{"$f":"SUM(M72:M72)","v":0}]
[]
[]
[{"$nulls":10},{"$f":"SUM(K74:K75)","v":0},{"$f":"SUM(L74:L75)","v":0},{"$f":"SUM(M74:M75)","v":0}]
["Trend"]
[{"$f":"A55","v":"Change in consumer debtors (current and non-current)"},null,null,{"$f":"D55","v":"N/A"},{"v":-20105378.72000003,"d":"(20,105)"},{"v":-4936.8600000068545,"d":"(5)"},{"v":11687177.720000027,"d":"11,687"},{"v":-21822721,"d":"(21,823)"},0,{"v":-7926700.67,"d":"(7,927)"},{"v":16604470.67,"d":"16,604"},{"v":5038439,"d":"5,038"},{"v":-519259,"d":"(519)"}]
[]
["Total Operating Revenue",null,null,{"$f":"'A1-Sum'!B10","v":{"v":560414149.91,"d":"560,414"}},{"$f":"'A1-Sum'!C10","v":{"v":591885110.8,"d":"591,885"}},{"$f":"'A1-Sum'!D10","v":{"v":656242237.5,"d":"656,242"}},{"$f":"'A1-Sum'!E10","v":{"v":723814646,"d":"723,815"}},{"$f":"'A1-Sum'!F10","v":{"v":723562194,"d":"723,562"}},{"$f":"'A1-Sum'!G10","v":{"v":723562194,"d":"723,562"}},{"$f":"'A1-Sum'!H10","v":{"v":498876105.40000004,"d":"498,876"}},{"$f":"'A1-Sum'!I10","v":{"v":741220498,"d":"741,220"}},{"$f":"'A1-Sum'!J10","v":{"v":781473186,"d":"781,473"}},{"$f":"'A1-Sum'!K10","v":{"v":805535166,"d":"805,535"}}]
["Total Operating Expenditure",null,null,{"$f":"'A1-Sum'!B18","v":{"v":597817649.24,"d":"597,818"}},{"$f":"'A1-Sum'!C18","v":{"v":741152399.7400001,"d":"741,152"}},{"$f":"'A1-Sum'!D18","v":{"v":711491086.27,"d":"711,491"}},{"$f":"'A1-Sum'!E18","v":{"v":819174311,"d":"819,174"}},{"$f":"'A1-Sum'!F18","v":{"v":890420685,"d":"890,421"}},{"$f":"'A1-Sum'!G18","v":{"v":890420685,"d":"890,421"}},{"$f":"'A1-Sum'!H18","v":{"v":518755651.82,"d":"518,756"}},{"$f":"'A1-Sum'!I18","v":{"v":870646634,"d":"870,647"}},{"$f":"'A1-Sum'!J18","v":{"v":905713793,"d":"905,714"}},{"$f":"'A1-Sum'!K18","v":{"v":936095613,"d":"936,096"}}]
["Operating Performance Surplus/(Deficit)",null,null,{"$f":"D80-D81","v":{"v":-37403499.33000004,"d":"(37,403)"}},{"$f":"E80-E81","v":{"v":-149267288.94000018,"d":"(149,267)"}},{"v":-55248848.76999998,"d":"(55,249)"},{"v":-95359665,"d":"(95,360)"},{"v":-166858491,"d":"(166,858)"},{"v":-166858491,"d":"(166,858)"},{"v":-19879546.419999957,"d":"(19,880)"},{"$f":"K80-K81","v":{"v":-129426136,"d":"(129,426)"}},{"v":-124240607,"d":"(124,241)"},{"v":-130560447,"d":"(130,560)"}]
["Cash and Cash Equivalents (30 June 2012)",{"$nulls":9},{"$f":"'A7-CFlow'!J43","v":{"v":220880254,"d":"220,880"}}]
["Revenue"]
["% Increase in Total Operating Revenue",{"$nulls":3},{"$f":"IF(ISERROR(('A1-Sum'!C10-'A1-Sum'!B10)/'A1-Sum'!B10),0,(('A1-Sum'!C10-'A1-Sum'!B10)/'A1-Sum'!B10))","v":{"v":0.05615661363128337,"d":"5.6%"}},{"$f":"IF(ISERROR(('A1-Sum'!D10-'A1-Sum'!C10)/'A1-Sum'!C10),0,(('A1-Sum'!D10-'A1-Sum'!C10)/'A1-Sum'!C10))","v":{"v":0.10873246433419162,"d":"10.9%"}},{"$f":"IF(ISERROR(('A1-Sum'!E10-'A1-Sum'!D10)/'A1-Sum'!D10),0,(('A1-Sum'!E10-'A1-Sum'!D10)/'A1-Sum'!D10))","v":{"v":0.10296869759164198,"d":"10.3%"}},{"$f":"IF(ISERROR(('A1-Sum'!F10-'A1-Sum'!E10)/'A1-Sum'!E10),0,(('A1-Sum'!F10-'A1-Sum'!E10)/'A1-Sum'!E10))","v":{"v":-3.4877990020666145E-4,"d":"(0.0%)"}},{"$f":"IF(ISERROR(('A1-Sum'!G10-'A1-Sum'!F10)/'A1-Sum'!F10),0,(('A1-Sum'!G10-'A1-Sum'!F10)/'A1-Sum'!F10))","v":{"v":0,"d":"0.0%"}},{"$f":"IF(ISERROR(('A1-Sum'!H10-'A1-Sum'!G10)/'A1-Sum'!G10),0,(('A1-Sum'!H10-'A1-Sum'!G10)/'A1-Sum'!G10))","v":{"v":-0.31052767884110866,"d":"(31.1%)"}},{"$f":"IF(ISERROR(('A1-Sum'!I10-'A1-Sum'!F10)/'A1-Sum'!F10),0,(('A1-Sum'!I10-'A1-Sum'!F10)/'A1-Sum'!F10))","v":{"v":0.024404680269958935,"d":"2.4%"}},{"$f":"IF(ISERROR(('A1-Sum'!J10-'A1-Sum'!I10)/'A1-Sum'!I10),0,(('A1-Sum'!J10-'A1-Sum'!I10)/'A1-Sum'!I10))","v":{"v":0.05430595633635593,"d":"5.4%"}},{"$f":"IF(ISERROR(('A1-Sum'!K10-'A1-Sum'!J10)/'A1-Sum'!J10),0,(('A1-Sum'!K10-'A1-Sum'!J10)/'A1-Sum'!J10))","v":{"v":0.03079053821815967,"d":"3.1%"}}]
["% Increase in Property Rates Revenue",{"$nulls":3},{"$f":"IF(ISERROR(('A4-FinPerf RE'!D24-'A4-FinPerf RE'!C24)/'A4-FinPerf RE'!C24),0,(('A4-FinPerf RE'!D24-'A4-FinPerf RE'!C24)/'A4-FinPerf RE'!C24))","v":{"v":0,"d":"0.0%"}},{"$f":"IF(ISERROR(('A4-FinPerf RE'!E24-'A4-FinPerf RE'!D24)/'A4-FinPerf RE'!D24),0,(('A4-FinPerf RE'!E24-'A4-FinPerf RE'!D24)/'A4-FinPerf RE'!D24))","v":{"v":0,"d":"0.0%"}},{"$f":"IF(ISERROR(('A4-FinPerf RE'!F24-'A4-FinPerf RE'!E24)/'A4-FinPerf RE'!E24),0,(('A4-FinPerf RE'!F24-'A4-FinPerf RE'!E24)/'A4-FinPerf RE'!E24))","v":{"v":0,"d":"0.0%"}},{"$f":"IF(ISERROR(('A4-FinPerf RE'!G24-'A4-FinPerf RE'!F24)/'A4-FinPerf RE'!F24),0,(('A4-FinPerf RE'!G24-'A4-FinPerf RE'!F24)/'A4-FinPerf RE'!F24))","v":{"v":0,"d":"0.0%"}},{"$f":"IF(ISERROR(('A4-FinPerf RE'!H24-'A4-FinPerf RE'!G24)/'A4-FinPerf RE'!G24),0,(('A4-FinPerf RE'!H24-'A4-FinPerf RE'!G24)/'A4-FinPerf RE'!G24))","v":{"v":0,"d":"0.0%"}},{"$f":"IF(ISERROR(('A4-FinPerf RE'!I24-'A4-FinPerf RE'!H24)/'A4-FinPerf RE'!H24),0,(('A4-FinPerf RE'!I24-'A4-FinPerf RE'!H24)/'A4-FinPerf RE'!H24))","v":{"v":0,"d":"0.0%"}},{"$f":"IF(ISERROR(('A4-FinPerf RE'!J24-'A4-FinPerf RE'!I24)/'A4-FinPerf RE'!I24),0,(('A4-FinPerf RE'!J24-'A4-FinPerf RE'!I24)/'A4-FinPerf RE'!I24))","v":{"v":0,"d":"0.0%"}},{"$f":"IF(ISERROR(('A4-FinPerf RE'!K24-'A4-FinPerf RE'!J24)/'A4-FinPerf RE'!J24),0,(('A4-FinPerf RE'!K24-'A4-FinPerf RE'!J24)/'A4-FinPerf RE'!J24))","v":{"v":0,"d":"0.0%"}},{"$f":"IF(ISERROR(('A4-FinPerf RE'!L24-'A4-FinPerf RE'!K24)/'A4-FinPerf RE'!K24),0,(('A4-FinPerf RE'!L24-'A4-FinPerf RE'!K24)/'A4-FinPerf RE'!K24))","v":{"v":0,"d":"0.0%"}}]
["% Increase in Electricity Revenue",{"$nulls":3},{"$f":"IF(ISERROR(('A4-FinPerf RE'!D6-'A4-FinPerf RE'!C6)/'A4-FinPerf RE'!C6),0,(('A4-FinPerf RE'!D6-'A4-FinPerf RE'!C6)/'A4-FinPerf RE'!C6))","v":{"v":0,"d":"0.0%"}},{"$f":"IF(ISERROR(('A4-FinPerf RE'!E6-'A4-FinPerf RE'!D6)/'A4-FinPerf RE'!D6),0,(('A4-FinPerf RE'!E6-'A4-FinPerf RE'!D6)/'A4-FinPerf RE'!D6))","v":{"v":0,"d":"0.0%"}},{"$f":"IF(ISERROR(('A4-FinPerf RE'!F6-'A4-FinPerf RE'!E6)/'A4-FinPerf RE'!E6),0,(('A4-FinPerf RE'!F6-'A4-FinPerf RE'!E6)/'A4-FinPerf RE'!E6))","v":{"v":0,"d":"0.0%"}},{"$f":"IF(ISERROR(('A4-FinPerf RE'!G6-'A4-FinPerf RE'!F6)/'A4-FinPerf RE'!F6),0,(('A4-FinPerf RE'!G6-'A4-FinPerf RE'!F6)/'A4-FinPerf RE'!F6))","v":{"v":0,"d":"0.0%"}},{"$f":"IF(ISERROR(('A4-FinPerf RE'!H6-'A4-FinPerf RE'!G6)/'A4-FinPerf RE'!G6),0,(('A4-FinPerf RE'!H6-'A4-FinPerf RE'!G6)/'A4-FinPerf RE'!G6))","v":{"v":0,"d":"0.0%"}},{"$f":"IF(ISERROR(('A4-FinPerf RE'!I6-'A4-FinPerf RE'!H6)/'A4-FinPerf RE'!H6),0,(('A4-FinPerf RE'!I6-'A4-FinPerf RE'!H6)/'A4-FinPerf RE'!H6))","v":{"v":0,"d":"0.0%"}},{"$f":"IF(ISERROR(('A4-FinPerf RE'!J6-'A4-FinPerf RE'!G6)/'A4-FinPerf RE'!G6),0,(('A4-FinPerf RE'!J6-'A4-FinPerf RE'!G6)/'A4-FinPerf RE'!G6))","v":{"v":0,"d":"0.0%"}},{"$f":"IF(ISERROR(('A4-FinPerf RE'!K6-'A4-FinPerf RE'!J6)/'A4-FinPerf RE'!J6),0,(('A4-FinPerf RE'!K6-'A4-FinPerf RE'!J6)/'A4-FinPerf RE'!J6))","v":{"v":0,"d":"0.0%"}},{"$f":"IF(ISERROR(('A4-FinPerf RE'!L6-'A4-FinPerf RE'!K6)/'A4-FinPerf RE'!K6),0,(('A4-FinPerf RE'!L6-'A4-FinPerf RE'!K6)/'A4-FinPerf RE'!K6))","v":{"v":0,"d":"0.0%"}}]
["% Increase in Property Rates & Services Charges",{"$nulls":3},{"$f":"IF(ISERROR((('A1-Sum'!C5+'A1-Sum'!C6)-('A1-Sum'!B5+'A1-Sum'!B6))/('A1-Sum'!B5+'A1-Sum'!B6)),0,((('A1-Sum'!C5+'A1-Sum'!C6)-('A1-Sum'!B5+'A1-Sum'!B6))/('A1-Sum'!B5+'A1-Sum'!B6)))","v":{"v":-0.06586168292159847,"d":"(6.6%)"}},{"$f":"IF(ISERROR((('A1-Sum'!D5+'A1-Sum'!D6)-('A1-Sum'!C5+'A1-Sum'!C6))/('A1-Sum'!C5+'A1-Sum'!C6)),0,((('A1-Sum'!D5+'A1-Sum'!D6)-('A1-Sum'!C5+'A1-Sum'!C6))/('A1-Sum'!C5+'A1-Sum'!C6)))","v":{"v":0.05478383804497185,"d":"5.5%"}},{"$f":"IF(ISERROR((('A1-Sum'!E5+'A1-Sum'!E6)-('A1-Sum'!D5+'A1-Sum'!D6))/('A1-Sum'!D5+'A1-Sum'!D6)),0,((('A1-Sum'!E5+'A1-Sum'!E6)-('A1-Sum'!D5+'A1-Sum'!D6))/('A1-Sum'!D5+'A1-Sum'!D6)))","v":{"v":0.0660602513023408,"d":"6.6%"}},{"$f":"IF(ISERROR((('A1-Sum'!F5+'A1-Sum'!F6)-('A1-Sum'!E5+'A1-Sum'!E6))/('A1-Sum'!E5+'A1-Sum'!E6)),0,((('A1-Sum'!F5+'A1-Sum'!F6)-('A1-Sum'!E5+'A1-Sum'!E6))/('A1-Sum'!E5+'A1-Sum'!E6)))","v":{"v":0.06189955910792327,"d":"6.2%"}},{"$f":"IF(ISERROR((('A1-Sum'!G5+'A1-Sum'!G6)-('A1-Sum'!F5+'A1-Sum'!F6))/('A1-Sum'!F5+'A1-Sum'!F6)),0,((('A1-Sum'!G5+'A1-Sum'!G6)-('A1-Sum'!F5+'A1-Sum'!F6))/('A1-Sum'!F5+'A1-Sum'!F6)))","v":{"v":0,"d":"0.0%"}},{"$f":"IF(ISERROR((('A1-Sum'!H5+'A1-Sum'!H6)-('A1-Sum'!G5+'A1-Sum'!G6))/('A1-Sum'!G5+'A1-Sum'!G6)),0,((('A1-Sum'!H5+'A1-Sum'!H6)-('A1-Sum'!G5+'A1-Sum'!G6))/('A1-Sum'!G5+'A1-Sum'!G6)))","v":{"v":-0.3504154369214182,"d":"(35.0%)"}},{"$f":"IF(ISERROR((('A1-Sum'!I5+'A1-Sum'!I6)-('A1-Sum'!F5+'A1-Sum'!F6))/('A1-Sum'!F5+'A1-Sum'!F6)),0,((('A1-Sum'!I5+'A1-Sum'!I6)-('A1-Sum'!F5+'A1-Sum'!F6))/('A1-Sum'!F5+'A1-Sum'!F6)))","v":{"v":0.0600001837505043,"d":"6.0%"}},{"$f":"IF(ISERROR((('A1-Sum'!J5+'A1-Sum'!J6)-('A1-Sum'!I5+'A1-Sum'!I6))/('A1-Sum'!I5+'A1-Sum'!I6)),0,((('A1-Sum'!J5+'A1-Sum'!J6)-('A1-Sum'!I5+'A1-Sum'!I6))/('A1-Sum'!I5+'A1-Sum'!I6)))","v":{"v":0.05999999760446668,"d":"6.0%"}},{"$f":"IF(ISERROR((('A1-Sum'!K5+'A1-Sum'!K6)-('A1-Sum'!J5+'A1-Sum'!J6))/('A1-Sum'!J5+'A1-Sum'!J6)),0,((('A1-Sum'!K5+'A1-Sum'!K6)-('A1-Sum'!J5+'A1-Sum'!J6))/('A1-Sum'!J5+'A1-Sum'!J6)))","v":{"v":0.05999998438588911,"d":"6.0%"}}]
["Expenditure"]
["% Increase in Total Operating Expenditure",null,null,{"$f":"IF(ISERROR(('A1-Sum'!B18-'A1-Sum'!A18)/'A1-Sum'!A18),0,(('A1-Sum'!B18-'A1-Sum'!A18)/'A1-Sum'!A18))","v":{"v":0,"d":"0.0%"}},{"$f":"IF(ISERROR(('A1-Sum'!C18-'A1-Sum'!B18)/'A1-Sum'!B18),0,(('A1-Sum'!C18-'A1-Sum'!B18)/'A1-Sum'!B18))","v":{"v":0.23976333031020453,"d":"24.0%"}},{"$f":"IF(ISERROR(('A1-Sum'!D18-'A1-Sum'!C18)/'A1-Sum'!C18),0,(('A1-Sum'!D18-'A1-Sum'!C18)/'A1-Sum'!C18))","v":{"v":-0.04002053218798925,"d":"(4.0%)"}},{"$f":"IF(ISERROR(('A1-Sum'!E18-'A1-Sum'!D18)/'A1-Sum'!D18),0,(('A1-Sum'!E18-'A1-Sum'!D18)/'A1-Sum'!D18))","v":{"v":0.15134866312174133,"d":"15.1%"}},{"$f":"IF(ISERROR(('A1-Sum'!F18-'A1-Sum'!E18)/'A1-Sum'!E18),0,(('A1-Sum'!F18-'A1-Sum'!E18)/'A1-Sum'!E18))","v":{"v":0.0869733987544441,"d":"8.7%"}},{"$f":"IF(ISERROR(('A1-Sum'!G18-'A1-Sum'!F18)/'A1-Sum'!F18),0,(('A1-Sum'!G18-'A1-Sum'!F18)/'A1-Sum'!F18))","v":{"v":0,"d":"0.0%"}},{"$f":"IF(ISERROR(('A1-Sum'!H18-'A1-Sum'!G18)/'A1-Sum'!G18),0,(('A1-Sum'!H18-'A1-Sum'!G18)/'A1-Sum'!G18))","v":{"v":-0.41740386251247075,"d":"(41.7%)"}},{"$f":"IF(ISERROR(('A1-Sum'!I18-'A1-Sum'!F18)/'A1-Sum'!F18),0,(('A1-Sum'!I18-'A1-Sum'!F18)/'A1-Sum'!F18))","v":{"v":-0.022207537777494468,"d":"(2.2%)"}},{"$f":"IF(ISERROR(('A1-Sum'!J18-'A1-Sum'!I18)/'A1-Sum'!I18),0,(('A1-Sum'!J18-'A1-Sum'!I18)/'A1-Sum'!I18))","v":{"v":0.04027714302287189,"d":"4.0%"}},{"$f":"IF(ISERROR(('A1-Sum'!K18-'A1-Sum'!J18)/'A1-Sum'!J18),0,(('A1-Sum'!K18-'A1-Sum'!J18)/'A1-Sum'!J18))","v":{"v":0.03354461446299295,"d":"3.4%"}}]
["% Increase in Employee Costs",null,null,{"$f":"IF(ISERROR(('A1-Sum'!B11-'A1-Sum'!A11)/'A1-Sum'!A11),0,(('A1-Sum'!B11-'A1-Sum'!A11)/'A1-Sum'!A11))","v":{"v":0,"d":"0.0%"}},{"$f":"IF(ISERROR(('A1-Sum'!C11-'A1-Sum'!B11)/'A1-Sum'!B11),0,(('A1-Sum'!C11-'A1-Sum'!B11)/'A1-Sum'!B11))","v":{"v":0.04327484932391958,"d":"4.3%"}},{"$f":"IF(ISERROR(('A1-Sum'!D11-'A1-Sum'!C11)/'A1-Sum'!C11),0,(('A1-Sum'!D11-'A1-Sum'!C11)/'A1-Sum'!C11))","v":{"v":0.025074633734694388,"d":"2.5%"}},{"$f":"IF(ISERROR(('A1-Sum'!E11-'A1-Sum'!D11)/'A1-Sum'!D11),0,(('A1-Sum'!E11-'A1-Sum'!D11)/'A1-Sum'!D11))","v":{"v":0.11721708196121987,"d":"11.7%"}},{"$f":"IF(ISERROR(('A1-Sum'!F11-'A1-Sum'!E11)/'A1-Sum'!E11),0,(('A1-Sum'!F11-'A1-Sum'!E11)/'A1-Sum'!E11))","v":{"v":0.06542579673528767,"d":"6.5%"}},{"$f":"IF(ISERROR(('A1-Sum'!G11-'A1-Sum'!F11)/'A1-Sum'!F11),0,(('A1-Sum'!G11-'A1-Sum'!F11)/'A1-Sum'!F11))","v":{"v":0,"d":"0.0%"}},{"$f":"IF(ISERROR(('A1-Sum'!H11-'A1-Sum'!G11)/'A1-Sum'!G11),0,(('A1-Sum'!H11-'A1-Sum'!G11)/'A1-Sum'!G11))","v":{"v":-0.41709802842367666,"d":"(41.7%)"}},{"$f":"IF(ISERROR(('A1-Sum'!I11-'A1-Sum'!F11)/'A1-Sum'!F11),0,(('A1-Sum'!I11-'A1-Sum'!F11)/'A1-Sum'!F11))","v":{"v":0.04006954238361453,"d":"4.0%"}},{"$f":"IF(ISERROR(('A1-Sum'!J11-'A1-Sum'!I11)/'A1-Sum'!I11),0,(('A1-Sum'!J11-'A1-Sum'!I11)/'A1-Sum'!I11))","v":{"v":0.03976363398936722,"d":"4.0%"}},{"$f":"IF(ISERROR(('A1-Sum'!K11-'A1-Sum'!J11)/'A1-Sum'!J11),0,(('A1-Sum'!K11-'A1-Sum'!J11)/'A1-Sum'!J11))","v":{"v":0.03969119650656482,"d":"4.0%"}}]
["% Increase in Electricity Bulk Purchases",null,null,{"$f":"IF(ISERROR(('SA1'!C86-'SA1'!B86)/'SA1'!B86),0,(('SA1'!C86-'SA1'!B86)/'SA1'!B86))","v":{"v":0,"d":"0.0%"}},{"$f":"IF(ISERROR(('SA1'!D86-'SA1'!C86)/'SA1'!C86),0,(('SA1'!D86-'SA1'!C86)/'SA1'!C86))","v":{"v":0,"d":"0.0%"}},{"$f":"IF(ISERROR(('SA1'!E86-'SA1'!D86)/'SA1'!D86),0,(('SA1'!E86-'SA1'!D86)/'SA1'!D86))","v":{"v":0,"d":"0.0%"}},{"$f":"IF(ISERROR(('SA1'!F86-'SA1'!E86)/'SA1'!E86),0,(('SA1'!F86-'SA1'!E86)/'SA1'!E86))","v":{"v":0,"d":"0.0%"}},{"$f":"IF(ISERROR(('SA1'!G86-'SA1'!F86)/'SA1'!F86),0,(('SA1'!G86-'SA1'!F86)/'SA1'!F86))","v":{"v":0,"d":"0.0%"}},{"$f":"IF(ISERROR(('SA1'!H86-'SA1'!G86)/'SA1'!G86),0,(('SA1'!H86-'SA1'!G86)/'SA1'!G86))","v":{"v":0,"d":"0.0%"}},{"$f":"IF(ISERROR(('SA1'!I86-'SA1'!H86)/'SA1'!H86),0,(('SA1'!I86-'SA1'!H86)/'SA1'!H86))","v":{"v":0,"d":"0.0%"}},{"$f":"IF(ISERROR(('SA1'!J86-'SA1'!G86)/'SA1'!G86),0,(('SA1'!J86-'SA1'!G86)/'SA1'!G86))","v":{"v":0,"d":"0.0%"}},{"$f":"IF(ISERROR(('SA1'!K86-'SA1'!J86)/'SA1'!J86),0,(('SA1'!K86-'SA1'!J86)/'SA1'!J86))","v":{"v":0,"d":"0.0%"}},{"$f":"IF(ISERROR(('SA1'!L86-'SA1'!K86)/'SA1'!K86),0,(('SA1'!L86-'SA1'!K86)/'SA1'!K86))","v":{"v":0,"d":"0.0%"}}]
["Average Cost Per Budgeted Employee Position (Remuneration)",null,null,{"$f":"IF(ISERROR('A1-Sum'!B11/('SA24'!B36+'SA24'!C36-'SA24'!A5)),0,('A1-Sum'!B11/('SA24'!B36+'SA24'!C36-'SA24'!A5)))","v":0},{"$f":"IF(ISERROR('A1-Sum'!C11/('SA24'!C36+'SA24'!D36-'SA24'!B5)),0,('A1-Sum'!C11/('SA24'!C36+'SA24'!D36-'SA24'!B5)))","v":299678.79456470587},{"$f":"IF(ISERROR('A1-Sum'!D11/('SA24'!D36+'SA24'!E36-'SA24'!C5)),0,('A1-Sum'!D11/('SA24'!D36+'SA24'!E36-'SA24'!C5)))","v":592095.6031519275},{"$f":"IF(ISERROR('A1-Sum'!E11/('SA24'!F36-'SA24'!F5)),0,('A1-Sum'!E11/('SA24'!F36-'SA24'!F5)))","v":574254.3326771654},{"$f":"IF(ISERROR('A1-Sum'!F11/('SA24'!G36-'SA24'!G5)),0,('A1-Sum'!F11/('SA24'!G36-'SA24'!G5)))","v":736510.172985782},{"$f":"IF(ISERROR('A1-Sum'!G11/('SA24'!H36-'SA24'!H5)),0,('A1-Sum'!G11/('SA24'!H36-'SA24'!H5)))","v":6216145.86},{"$f":"IF(ISERROR('A1-Sum'!H11/('SA24'!I36-'SA24'!I5)),0,('A1-Sum'!H11/('SA24'!I36-'SA24'!I5)))","v":356634.22021653544},{"$f":"IF(ISERROR('A1-Sum'!I11/('SA24'!I36-'SA24'!I5)),0,('A1-Sum'!I11/('SA24'!I36-'SA24'!I5)))","v":636340.9429133858},{"$f":"IF(ISERROR('A1-Sum'!J11/('SA24'!J36-'SA24'!J5)),0,('A1-Sum'!J11/('SA24'!J36-'SA24'!J5)))","v":676288.2072434608},{"$f":"IF(ISERROR('A1-Sum'!K11/('SA24'!K36-'SA24'!K5)),0,('A1-Sum'!K11/('SA24'!K36-'SA24'!K5)))","v":6989121.1}]
["Average Cost Per Councillor (Remuneration)",null,null,{"$f":"IF(ISERROR('A1-Sum'!B12/'SA24'!A5),0,('A1-Sum'!B12/'SA24'!A5))","v":0},{"$f":"IF(ISERROR('A1-Sum'!C12/'SA24'!B5),0,('A1-Sum'!C12/'SA24'!B5))","v":0},{"$f":"IF(ISERROR('A1-Sum'!D12/'SA24'!C5),0,('A1-Sum'!D12/'SA24'!C5))","v":291587.2784615385},{"$f":"IF(ISERROR('A1-Sum'!E12/'SA24'!F5),0,('A1-Sum'!E12/'SA24'!F5))","v":251853.78125},{"$f":"IF(ISERROR('A1-Sum'!F12/'SA24'!G5),0,('A1-Sum'!F12/'SA24'!G5))","v":0},{"$f":"IF(ISERROR('A1-Sum'!G12/'SA24'!H5),0,('A1-Sum'!G12/'SA24'!H5))","v":253169.96875},{"$f":"IF(ISERROR('A1-Sum'!H12/'SA24'!I5),0,('A1-Sum'!H12/'SA24'!I5))","v":163737.75687500002},{"$f":"IF(ISERROR('A1-Sum'!I12/'SA24'!I5),0,('A1-Sum'!I12/'SA24'!I5))","v":263297.15625},{"$f":"IF(ISERROR('A1-Sum'!J12/'SA24'!J5),0,('A1-Sum'!J12/'SA24'!J5))","v":0},{"$f":"IF(ISERROR('A1-Sum'!K12/'SA24'!K5),0,('A1-Sum'!K12/'SA24'!K5))","v":284782.21875}]
["R&M % of PPE",null,null,{"$f":"'A9-Asset'!C223","v":{"v":0.023754202832331196,"d":"2.4%"}},{"$f":"'A9-Asset'!D223","v":{"v":0.01857241085188182,"d":"1.9%"}},{"$f":"'A9-Asset'!E223","v":{"v":0.015793360675751118,"d":"1.6%"}},{"$f":"'A9-Asset'!F223","v":{"v":0.016116394072491193,"d":"1.6%"}},{"$f":"'A9-Asset'!G223","v":{"v":0.016953222721764603,"d":"1.7%"}},{"$f":"'A9-Asset'!H223","v":{"v":0.016953222721764603,"d":"1.7%"}},{"$f":"'A9-Asset'!I223","v":{"v":0.010110350709846588,"d":"1.0%"}},{"$f":"'A9-Asset'!I223","v":{"v":0.010110350709846588,"d":"1.0%"}},{"$f":"'A9-Asset'!J223","v":{"v":0.009503379216937067,"d":"1.0%"}},{"$f":"'A9-Asset'!K223","v":{"v":0.008997269595315344,"d":"0.9%"}}]
["Asset Renewal and R&M as a % of PPE",null,null,{"$f":"'A9-Asset'!C224","v":{"v":0.029120367649258492,"d":"2.9%"}},{"$f":"'A9-Asset'!D224","v":{"v":0.027028178992274627,"d":"2.7%"}},{"$f":"'A9-Asset'!E224","v":{"v":0.030626133651087573,"d":"3.1%"}},{"$f":"'A9-Asset'!F224","v":{"v":0.030925370048986094,"d":"3.1%"}},{"$f":"'A9-Asset'!G224","v":{"v":0.02975926740093589,"d":"3.0%"}},{"$f":"'A9-Asset'!H224","v":{"v":0.02975926740093589,"d":"3.0%"}},{"$f":"'A9-Asset'!I224","v":{"v":0.03927595206740902,"d":"3.9%"}},{"$f":"'A9-Asset'!I224","v":{"v":0.03927595206740902,"d":"3.9%"}},{"$f":"'A9-Asset'!J224","v":{"v":0.057372905242344306,"d":"5.7%"}},{"$f":"'A9-Asset'!K224","v":{"v":0.06109713338818876,"d":"6.1%"}}]
["Debt Impairment % of Total Billable Revenue",null,null,{"$f":"'SA10'!D11","v":{"v":-0.015469088409679534,"d":"(1.5%)"}},{"$f":"'SA10'!E11","v":{"v":0.1487867771373359,"d":"14.9%"}},{"$f":"'SA10'!F11","v":{"v":0.03798031407868849,"d":"3.8%"}},{"$f":"'SA10'!G11","v":{"v":0.38644552890839895,"d":"38.6%"}},{"$f":"'SA10'!H11","v":{"v":0.3639190972383892,"d":"36.4%"}},{"$f":"'SA10'!I11","v":{"v":0.3639190972383892,"d":"36.4%"}},{"$f":"'SA10'!J11","v":{"v":0,"d":"0.0%"}},{"$f":"'SA10'!K11","v":{"v":0.3570526520911313,"d":"35.7%"}},{"$f":"'SA10'!L11","v":{"v":0.3479579136433245,"d":"34.8%"}},{"$f":"'SA10'!M11","v":{"v":0.33876657302173296,"d":"33.9%"}}]
["Capital Revenue"]
["Internally Funded & Other (R'000)",null,null,{"$f":"'A1-Sum'!B30","v":{"v":17808767.27,"d":"17,809"}},{"$f":"'A1-Sum'!C30","v":{"v":11555047.48,"d":"11,555"}},{"$f":"'A1-Sum'!D30","v":{"v":73070067.5,"d":"73,070"}},{"$f":"'A1-Sum'!E30","v":{"v":41912356,"d":"41,912"}},{"$f":"'A1-Sum'!F30","v":{"v":76086187,"d":"76,086"}},{"$f":"'A1-Sum'!G30","v":{"v":76086187,"d":"76,086"}},{"$f":"'A1-Sum'!H30","v":{"v":23748673,"d":"23,749"}},{"$f":"'A1-Sum'!I30","v":{"v":43222755,"d":"43,223"}},{"$f":"'A1-Sum'!J30","v":{"v":44927653,"d":"44,928"}},{"$f":"'A1-Sum'!K30","v":{"v":50615891,"d":"50,616"}}]
["Borrowing (R'000)",null,null,{"$f":"'A1-Sum'!B29","v":0},{"$f":"'A1-Sum'!C29","v":0},{"$f":"'A1-Sum'!D29","v":0},{"$f":"'A1-Sum'!E29","v":0},{"$f":"'A1-Sum'!F29","v":0},{"$f":"'A1-Sum'!G29","v":0},{"$f":"'A1-Sum'!H29","v":0},{"$f":"'A1-Sum'!I29","v":0},{"$f":"'A1-Sum'!J29","v":0},{"$f":"'A1-Sum'!K29","v":0}]
["Grant Funding and Other (R'000)",null,null,{"$f":"'A1-Sum'!B27","v":{"v":251308879.83,"d":"251,309"}},{"$f":"'A1-Sum'!C27","v":{"v":298048454.06,"d":"298,048"}},{"$f":"'A1-Sum'!D27","v":{"v":276004756.74,"d":"276,005"}},{"$f":"'A1-Sum'!E27","v":{"v":260147379,"d":"260,147"}},{"$f":"'A1-Sum'!F27","v":{"v":255511023,"d":"255,511"}},{"$f":"'A1-Sum'!G27","v":{"v":255511023,"d":"255,511"}},{"$f":"'A1-Sum'!H27","v":{"v":165850313.28,"d":"165,850"}},{"$f":"'A1-Sum'!I27","v":{"v":286126160,"d":"286,126"}},{"$f":"'A1-Sum'!J27","v":{"v":338790881,"d":"338,791"}},{"$f":"'A1-Sum'!K27","v":{"v":332975916,"d":"332,976"}}]
["Internally Generated funds % of Non Grant Funding",null,null,{"$f":"IF(ISERROR(('A1-Sum'!B28+'A1-Sum'!B30)/('A1-Sum'!B31-'A1-Sum'!B27)),0,(('A1-Sum'!B28+'A1-Sum'!B30)/('A1-Sum'!B31-'A1-Sum'!B27)))","v":{"v":0.9999999999999993,"d":"100.0%"}},{"$f":"IF(ISERROR(('A1-Sum'!C28+'A1-Sum'!C30)/('A1-Sum'!C31-'A1-Sum'!C27)),0,(('A1-Sum'!C28+'A1-Sum'!C30)/('A1-Sum'!C31-'A1-Sum'!C27)))","v":{"v":0.9999999999999983,"d":"100.0%"}},{"$f":"IF(ISERROR(('A1-Sum'!D28+'A1-Sum'!D30)/('A1-Sum'!D31-'A1-Sum'!D27)),0,(('A1-Sum'!D28+'A1-Sum'!D30)/('A1-Sum'!D31-'A1-Sum'!D27)))","v":{"v":1,"d":"100.0%"}},{"$f":"IF(ISERROR(('A1-Sum'!E28+'A1-Sum'!E30)/('A1-Sum'!E31-'A1-Sum'!E27)),0,(('A1-Sum'!E28+'A1-Sum'!E30)/('A1-Sum'!E31-'A1-Sum'!E27)))","v":{"v":1,"d":"100.0%"}},{"$f":"IF(ISERROR(('A1-Sum'!F28+'A1-Sum'!F30)/('A1-Sum'!F31-'A1-Sum'!F27)),0,(('A1-Sum'!F28+'A1-Sum'!F30)/('A1-Sum'!F31-'A1-Sum'!F27)))","v":{"v":1,"d":"100.0%"}},{"$f":"IF(ISERROR(('A1-Sum'!G28+'A1-Sum'!G30)/('A1-Sum'!G31-'A1-Sum'!G27)),0,(('A1-Sum'!G28+'A1-Sum'!G30)/('A1-Sum'!G31-'A1-Sum'!G27)))","v":{"v":1,"d":"100.0%"}},{"$f":"IF(ISERROR(('A1-Sum'!H28+'A1-Sum'!H30)/('A1-Sum'!H31-'A1-Sum'!H27)),0,(('A1-Sum'!H28+'A1-Sum'!H30)/('A1-Sum'!H31-'A1-Sum'!H27)))","v":{"v":1,"d":"100.0%"}},{"$f":"IF(ISERROR(('A1-Sum'!I28+'A1-Sum'!I30)/('A1-Sum'!I31-'A1-Sum'!I27)),0,(('A1-Sum'!I28+'A1-Sum'!I30)/('A1-Sum'!I31-'A1-Sum'!I27)))","v":{"v":1,"d":"100.0%"}},{"$f":"IF(ISERROR(('A1-Sum'!J28+'A1-Sum'!J30)/('A1-Sum'!J31-'A1-Sum'!J27)),0,(('A1-Sum'!J28+'A1-Sum'!J30)/('A1-Sum'!J31-'A1-Sum'!J27)))","v":{"v":1,"d":"100.0%"}},{"$f":"IF(ISERROR(('A1-Sum'!K28+'A1-Sum'!K30)/('A1-Sum'!K31-'A1-Sum'!K27)),0,(('A1-Sum'!K28+'A1-Sum'!K30)/('A1-Sum'!K31-'A1-Sum'!K27)))","v":{"v":1,"d":"100.0%"}}]
["Borrowing % of Non Grant Funding",null,null,{"$f":"IF(ISERROR('A1-Sum'!B29/('A1-Sum'!B31-'A1-Sum'!B27)),0,('A1-Sum'!B29/('A1-Sum'!B31-'A1-Sum'!B27)))","v":{"v":0,"d":"0.0%"}},{"$f":"IF(ISERROR('A1-Sum'!C29/('A1-Sum'!C31-'A1-Sum'!C27)),0,('A1-Sum'!C29/('A1-Sum'!C31-'A1-Sum'!C27)))","v":{"v":0,"d":"0.0%"}},{"$f":"IF(ISERROR('A1-Sum'!D29/('A1-Sum'!D31-'A1-Sum'!D27)),0,('A1-Sum'!D29/('A1-Sum'!D31-'A1-Sum'!D27)))","v":{"v":0,"d":"0.0%"}},{"$f":"IF(ISERROR('A1-Sum'!E29/('A1-Sum'!E31-'A1-Sum'!E27)),0,('A1-Sum'!E29/('A1-Sum'!E31-'A1-Sum'!E27)))","v":{"v":0,"d":"0.0%"}},{"$f":"IF(ISERROR('A1-Sum'!F29/('A1-Sum'!F31-'A1-Sum'!F27)),0,('A1-Sum'!F29/('A1-Sum'!F31-'A1-Sum'!F27)))","v":{"v":0,"d":"0.0%"}},{"$f":"IF(ISERROR('A1-Sum'!G29/('A1-Sum'!G31-'A1-Sum'!G27)),0,('A1-Sum'!G29/('A1-Sum'!G31-'A1-Sum'!G27)))","v":{"v":0,"d":"0.0%"}},{"$f":"IF(ISERROR('A1-Sum'!H29/('A1-Sum'!H31-'A1-Sum'!H27)),0,('A1-Sum'!H29/('A1-Sum'!H31-'A1-Sum'!H27)))","v":{"v":0,"d":"0.0%"}},{"$f":"IF(ISERROR('A1-Sum'!I29/('A1-Sum'!I31-'A1-Sum'!I27)),0,('A1-Sum'!I29/('A1-Sum'!I31-'A1-Sum'!I27)))","v":{"v":0,"d":"0.0%"}},{"$f":"IF(ISERROR('A1-Sum'!J29/('A1-Sum'!J31-'A1-Sum'!J27)),0,('A1-Sum'!J29/('A1-Sum'!J31-'A1-Sum'!J27)))","v":{"v":0,"d":"0.0%"}},{"$f":"IF(ISERROR('A1-Sum'!K29/('A1-Sum'!K31-'A1-Sum'!K27)),0,('A1-Sum'!K29/('A1-Sum'!K31-'A1-Sum'!K27)))","v":{"v":0,"d":"0.0%"}}]
["Grant Funding % of Total Funding",null,null,{"$f":"IF(ISERROR('A1-Sum'!B27/'A1-Sum'!B31),0,('A1-Sum'!B27/'A1-Sum'!B31))","v":{"v":0.933825345673513,"d":"93.4%"}},{"$f":"IF(ISERROR('A1-Sum'!C27/'A1-Sum'!C31),0,('A1-Sum'!C27/'A1-Sum'!C31))","v":{"v":0.9626779173280534,"d":"96.3%"}},{"$f":"IF(ISERROR('A1-Sum'!D27/'A1-Sum'!D31),0,('A1-Sum'!D27/'A1-Sum'!D31))","v":{"v":0.7906750575350515,"d":"79.1%"}},{"$f":"IF(ISERROR('A1-Sum'!E27/'A1-Sum'!E31),0,('A1-Sum'!E27/'A1-Sum'!E31))","v":{"v":0.8612448097393716,"d":"86.1%"}},{"$f":"IF(ISERROR('A1-Sum'!F27/'A1-Sum'!F31),0,('A1-Sum'!F27/'A1-Sum'!F31))","v":{"v":0.7705463595426512,"d":"77.1%"}},{"$f":"IF(ISERROR('A1-Sum'!G27/'A1-Sum'!G31),0,('A1-Sum'!G27/'A1-Sum'!G31))","v":{"v":0.7705463595426512,"d":"77.1%"}},{"$f":"IF(ISERROR('A1-Sum'!H27/'A1-Sum'!H31),0,('A1-Sum'!H27/'A1-Sum'!H31))","v":{"v":0.8747426161607851,"d":"87.5%"}},{"$f":"IF(ISERROR('A1-Sum'!I27/'A1-Sum'!I31),0,('A1-Sum'!I27/'A1-Sum'!I31))","v":{"v":0.8687630259841603,"d":"86.9%"}},{"$f":"IF(ISERROR('A1-Sum'!J27/'A1-Sum'!J31),0,('A1-Sum'!J27/'A1-Sum'!J31))","v":{"v":0.8829150822305601,"d":"88.3%"}},{"$f":"IF(ISERROR('A1-Sum'!K27/'A1-Sum'!K31),0,('A1-Sum'!K27/'A1-Sum'!K31))","v":{"v":0.868047518022198,"d":"86.8%"}}]
["Capital Expenditure"]
["Total Capital Programme (R'000)",null,null,{"$f":"'A1-Sum'!B26","v":{"v":269117647.1,"d":"269,118"}},{"$f":"'A1-Sum'!C26","v":{"v":309603501.53999996,"d":"309,604"}},{"$f":"'A1-Sum'!D26","v":{"v":349074824.24,"d":"349,075"}},{"$f":"'A1-Sum'!E26","v":{"v":302059735,"d":"302,060"}},{"$f":"'A1-Sum'!F26","v":{"v":331597210,"d":"331,597"}},{"$f":"'A1-Sum'!G26","v":{"v":331597210,"d":"331,597"}},{"$f":"'A1-Sum'!H26","v":{"v":189598986.28,"d":"189,599"}},{"$f":"'A1-Sum'!I26","v":{"v":329348915,"d":"329,349"}},{"$f":"'A1-Sum'!J26","v":{"v":383718534,"d":"383,719"}},{"$f":"'A1-Sum'!K26","v":{"v":383591807,"d":"383,592"}}]
["Asset Renewal",null,null,{"$f":"'A1-Sum'!B51","v":{"v":11852610.879999999,"d":"11,853"}},{"$f":"'A1-Sum'!C51","v":{"v":19933122.65,"d":"19,933"}},{"$f":"'A1-Sum'!D51","v":{"v":38005098.14,"d":"38,005"}},{"$f":"'A1-Sum'!E51","v":{"v":41525724,"d":"41,526"}},{"$f":"'A1-Sum'!F51","v":{"v":35688377,"d":"35,688"}},{"$f":"'A1-Sum'!G51","v":{"v":35688377,"d":"35,688"}},{"$f":"'A1-Sum'!H51","v":0},{"$f":"'A1-Sum'!I51","v":{"v":88864822,"d":"88,865"}},{"$f":"'A1-Sum'!J51","v":{"v":160290245,"d":"160,290"}},{"$f":"'A1-Sum'!K51","v":{"v":190165684,"d":"190,166"}}]
["Asset Renewal % of Total Capital Expenditure",null,null,{"$f":"IF(ISERROR('A1-Sum'!B51/'A1-Sum'!B31),0,('A1-Sum'!B51/'A1-Sum'!B31))","v":{"v":0.044042488509108246,"d":"4.4%"}},{"$f":"IF(ISERROR('A1-Sum'!C51/'A1-Sum'!C31),0,('A1-Sum'!C51/'A1-Sum'!C31))","v":{"v":0.06438274293039507,"d":"6.4%"}},{"$f":"IF(ISERROR('A1-Sum'!D51/'A1-Sum'!D31),0,('A1-Sum'!D51/'A1-Sum'!D31))","v":{"v":0.10887378722525773,"d":"10.9%"}},{"$f":"IF(ISERROR('A1-Sum'!E51/'A1-Sum'!E31),0,('A1-Sum'!E51/'A1-Sum'!E31))","v":{"v":0.13747520502856828,"d":"13.7%"}},{"$f":"IF(ISERROR('A1-Sum'!F51/'A1-Sum'!F31),0,('A1-Sum'!F51/'A1-Sum'!F31))","v":{"v":0.10762568539102002,"d":"10.8%"}},{"$f":"IF(ISERROR('A1-Sum'!G51/'A1-Sum'!G31),0,('A1-Sum'!G51/'A1-Sum'!G31))","v":{"v":0.10762568539102002,"d":"10.8%"}},{"$f":"IF(ISERROR('A1-Sum'!H51/'A1-Sum'!H31),0,('A1-Sum'!H51/'A1-Sum'!H31))","v":{"v":0,"d":"0.0%"}},{"$f":"IF(ISERROR('A1-Sum'!I51/'A1-Sum'!I31),0,('A1-Sum'!I51/'A1-Sum'!I31))","v":{"v":0.26981968955325086,"d":"27.0%"}},{"$f":"IF(ISERROR('A1-Sum'!J51/'A1-Sum'!J31),0,('A1-Sum'!J51/'A1-Sum'!J31))","v":{"v":0.4177287016321187,"d":"41.8%"}},{"$f":"IF(ISERROR('A1-Sum'!K51/'A1-Sum'!K31),0,('A1-Sum'!K51/'A1-Sum'!K31))","v":{"v":0.4957501190842692,"d":"49.6%"}}]
["Cash"]
["Cash Receipts % of Rate Payer & Other",null,null,{"$f":"'SA10'!D10","v":{"v":22.506246536606195,"d":"2250.6%"}},{"$f":"'SA10'!E10","v":{"v":22.492779168684862,"d":"2249.3%"}},{"$f":"'SA10'!F10","v":{"v":18.453887240531525,"d":"1845.4%"}},{"$f":"'SA10'!G10","v":{"v":1.4705525684220782,"d":"147.1%"}},{"$f":"'SA10'!H10","v":{"v":1.5610738024394963,"d":"156.1%"}},{"$f":"'SA10'!I10","v":{"v":1.5610738024394963,"d":"156.1%"}},{"$f":"'SA10'!J10","v":{"v":23.488096139180826,"d":"2348.8%"}},{"$f":"'SA10'!K10","v":{"v":1.2488578111708541,"d":"124.9%"}},{"$f":"'SA10'!L10","v":{"v":1.238466804022864,"d":"123.8%"}},{"$f":"'SA10'!M10","v":{"v":1.284288931234247,"d":"128.4%"}}]
["Cash Coverage Ratio",null,null,{"$f":"'SA10'!D7","v":{"v":15.292598153501139,"d":"0"}},{"$f":"'SA10'!E7","v":{"v":16.865402351598156,"d":"0"}},{"$f":"'SA10'!F7","v":{"v":13.343543179555486,"d":"0"}},{"$f":"'SA10'!G7","v":{"v":1.8155272387059957,"d":"0"}},{"$f":"'SA10'!H7","v":{"v":3.527544020008284,"d":"0"}},{"$f":"'SA10'!I7","v":{"v":2.240148178762074,"d":"0"}},{"$f":"'SA10'!J7","v":{"v":11.65673885510011,"d":"0"}},{"$f":"'SA10'!K7","v":{"v":2.05540112752323,"d":"0"}},{"$f":"'SA10'!L7","v":0},{"$f":"'SA10'!M7","v":0}]
["Borrowing"]
[]
["Most recent Credit Rating ",{"$nulls":9},{"$f":"'SA8'!F6","v":0}]
["Capital Charges to Operating",null,null,{"$f":"'SA8'!C7","v":{"v":1.8881210707562282E-4,"d":"0.0%"}},{"$f":"'SA8'!D7","v":{"v":2.90455782205547e-06,"d":"0.0%"}},{"$f":"'SA8'!E7","v":{"v":0,"d":"0.0%"}},{"$f":"'SA8'!F7","v":{"v":2.9959435580982226E-3,"d":"0.3%"}},{"$f":"'SA8'!G7","v":{"v":0.002756225277942639,"d":"0.3%"}},{"$f":"'SA8'!H7","v":{"v":0.002756225277942639,"d":"0.3%"}},{"$f":"'SA8'!I7","v":{"v":1.9276898410486797E-3,"d":"0.2%"}},{"$f":"'SA8'!J7","v":{"v":2.8212674397130903E-3,"d":"0.3%"}},{"$f":"'SA8'!K7","v":{"v":2.7144082589896034E-3,"d":"0.3%"}},{"$f":"'SA8'!L7","v":{"v":2.6286780600476975E-3,"d":"0.3%"}}]
["Borrowing Receipts % of Capital Expenditure",null,null,{"$f":"'SA10'!D13","v":{"v":0,"d":"0.0%"}},{"$f":"'SA10'!E13","v":{"v":0,"d":"0.0%"}},{"$f":"'SA10'!F13","v":{"v":0,"d":"0.0%"}},{"$f":"'SA10'!G13","v":{"v":0,"d":"0.0%"}},{"$f":"'SA10'!H13","v":{"v":0,"d":"0.0%"}},{"$f":"'SA10'!I13","v":{"v":0,"d":"0.0%"}},{"$f":"'SA10'!J13","v":{"v":0,"d":"0.0%"}},{"$f":"'SA10'!K13","v":{"v":0,"d":"0.0%"}},{"$f":"'SA10'!L13","v":{"v":0,"d":"0.0%"}},{"$f":"'SA10'!M13","v":{"v":0,"d":"0.0%"}}]
["Reserves"]
["Uncommitted reserves after application of cash and investments",null,null,{"$f":"'A8-ResRecon'!C19","v":{"v":1951797835.0199997,"d":"1,951,798"}},{"$f":"'A8-ResRecon'!D19","v":{"v":1833619148.41,"d":"1,833,619"}},{"$f":"'A8-ResRecon'!E19","v":{"v":1450029864.6699998,"d":"1,450,030"}},{"$f":"'A8-ResRecon'!F19","v":{"v":117737081,"d":"117,737"}},{"$f":"'A8-ResRecon'!G19","v":{"v":58422920,"d":"58,423"}},{"$f":"'A8-ResRecon'!H19","v":{"v":58422920,"d":"58,423"}},{"$f":"'A8-ResRecon'!I19","v":{"v":1133834699.3799999,"d":"1,133,835"}},{"$f":"'A8-ResRecon'!J19","v":{"v":28729987,"d":"28,730"}},{"$f":"'A8-ResRecon'!K19","v":{"v":58719465,"d":"58,719"}},{"$f":"'A8-ResRecon'!L19","v":{"v":69138111,"d":"69,138"}}]
["Free Services"]
["Free Basic Services as a % of Equitable Share",null,null,{"$f":"IF(ISERROR('A10-SerDel'!C60/'SA18'!C8),0,('A10-SerDel'!C60/'SA18'!C8))","v":{"v":4.1077857326320515E-3,"d":"0.4%"}},{"$f":"IF(ISERROR('A10-SerDel'!D60/'SA18'!D8),0,('A10-SerDel'!D60/'SA18'!D8))","v":{"v":3.942241480832818E-3,"d":"0.4%"}},{"$f":"IF(ISERROR('A10-SerDel'!E60/'SA18'!E8),0,('A10-SerDel'!E60/'SA18'!E8))","v":{"v":0.006739814044083711,"d":"0.7%"}},{"$f":"IF(ISERROR('A10-SerDel'!F60/'SA18'!F8),0,('A10-SerDel'!F60/'SA18'!F8))","v":{"v":-1.4737276600156276E-3,"d":"(0.1%)"}},{"$f":"IF(ISERROR('A10-SerDel'!G60/'SA18'!G8),0,('A10-SerDel'!G60/'SA18'!G8))","v":{"v":0,"d":"0.0%"}},{"$f":"IF(ISERROR('A10-SerDel'!H60/'SA18'!H8),0,('A10-SerDel'!H60/'SA18'!H8))","v":{"v":0,"d":"0.0%"}},{"$f":"IF(ISERROR('A10-SerDel'!I60/'SA18'!I8),0,('A10-SerDel'!I60/'SA18'!I8))","v":{"v":0,"d":"0.0%"}},{"$f":"IF(ISERROR('A10-SerDel'!I60/'SA18'!I8),0,('A10-SerDel'!I60/'SA18'!I8))","v":{"v":0,"d":"0.0%"}},{"$f":"IF(ISERROR('A10-SerDel'!J60/'SA18'!J8),0,('A10-SerDel'!J60/'SA18'!J8))","v":{"v":0,"d":"0.0%"}},{"$f":"IF(ISERROR('A10-SerDel'!K60/'SA18'!K8),0,('A10-SerDel'!K60/'SA18'!K8))","v":{"v":0,"d":"0.0%"}}]
["Free Services as a % of Operating Revenue \n(excl operational transfers)",null,null,{"$f":"IF(ISERROR('A10-SerDel'!C79/('A1-Sum'!B10-'A1-Sum'!B8)),0,('A10-SerDel'!C79/('A1-Sum'!B10-'A1-Sum'!B8)))","v":{"v":0,"d":"0.0%"}},{"$f":"IF(ISERROR('A10-SerDel'!D79/('A1-Sum'!C10-'A1-Sum'!C8)),0,('A10-SerDel'!D79/('A1-Sum'!C10-'A1-Sum'!C8)))","v":{"v":0,"d":"0.0%"}},{"$f":"IF(ISERROR('A10-SerDel'!E79/('A1-Sum'!D10-'A1-Sum'!D8)),0,('A10-SerDel'!E79/('A1-Sum'!D10-'A1-Sum'!D8)))","v":{"v":0,"d":"0.0%"}},{"$f":"IF(ISERROR('A10-SerDel'!F79/('A1-Sum'!E10-'A1-Sum'!E8)),0,('A10-SerDel'!F79/('A1-Sum'!E10-'A1-Sum'!E8)))","v":{"v":0,"d":"0.0%"}},{"$f":"IF(ISERROR('A10-SerDel'!G79/('A1-Sum'!F10-'A1-Sum'!F8)),0,('A10-SerDel'!G79/('A1-Sum'!F10-'A1-Sum'!F8)))","v":{"v":0,"d":"0.0%"}},{"$f":"IF(ISERROR('A10-SerDel'!H79/('A1-Sum'!G10-'A1-Sum'!G8)),0,('A10-SerDel'!H79/('A1-Sum'!G10-'A1-Sum'!G8)))","v":{"v":0,"d":"0.0%"}},{"$f":"IF(ISERROR('A10-SerDel'!I79/('A1-Sum'!H10-'A1-Sum'!H8)),0,('A10-SerDel'!I79/('A1-Sum'!H10-'A1-Sum'!H8)))","v":{"v":0,"d":"0.0%"}},{"$f":"IF(ISERROR('A10-SerDel'!I79/('A1-Sum'!I10-'A1-Sum'!I8)),0,('A10-SerDel'!I79/('A1-Sum'!I10-'A1-Sum'!I8)))","v":{"v":0,"d":"0.0%"}},{"$f":"IF(ISERROR('A10-SerDel'!J79/('A1-Sum'!J10-'A1-Sum'!J8)),0,('A10-SerDel'!J79/('A1-Sum'!J10-'A1-Sum'!J8)))","v":{"v":0,"d":"0.0%"}},{"$f":"IF(ISERROR('A10-SerDel'!K79/('A1-Sum'!K10-'A1-Sum'!K8)),0,('A10-SerDel'!K79/('A1-Sum'!K10-'A1-Sum'!K8)))","v":{"v":0,"d":"0.0%"}}]
[]
["High Level Outcome of Funding Compliance"]
["Total Operating Revenue",null,null,{"$f":"D80","v":{"v":560414149.91,"d":"560,414"}},{"$f":"E80","v":{"v":591885110.8,"d":"591,885"}},{"v":656242237.5,"d":"656,242"},{"v":723814646,"d":"723,815"},{"v":723562194,"d":"723,562"},{"v":723562194,"d":"723,562"},{"$f":"J80","v":{"v":498876105.40000004,"d":"498,876"}},{"v":741220498,"d":"741,220"},{"v":781473186,"d":"781,473"},{"v":805535166,"d":"805,535"}]
["Total Operating Expenditure",null,null,{"$f":"D81","v":{"v":597817649.24,"d":"597,818"}},{"v":741152399.7400001,"d":"741,152"},{"v":711491086.27,"d":"711,491"},{"v":819174311,"d":"819,174"},{"v":890420685,"d":"890,421"},{"v":890420685,"d":"890,421"},{"v":518755651.82,"d":"518,756"},{"v":870646634,"d":"870,647"},{"v":905713793,"d":"905,714"},{"v":936095613,"d":"936,096"}]
["Surplus/(Deficit) Budgeted Operating Statement",null,null,{"v":-37403499.33000004,"d":"(37,403)"},{"v":-149267288.94000018,"d":"(149,267)"},{"v":-55248848.76999998,"d":"(55,249)"},{"v":-95359665,"d":"(95,360)"},{"v":-166858491,"d":"(166,858)"},{"v":-166858491,"d":"(166,858)"},{"v":-19879546.419999957,"d":"(19,880)"},{"v":-129426136,"d":"(129,426)"},{"v":-124240607,"d":"(124,241)"},{"v":-130560447,"d":"(130,560)"}]
["Surplus/(Deficit) Considering Reserves and Cash Backing",null,null,{"$f":"'A8-ResRecon'!C19","v":{"v":1951797835.0199997,"d":"1,951,798"}},{"$f":"'A8-ResRecon'!D19","v":{"v":1833619148.41,"d":"1,833,619"}},{"$f":"'A8-ResRecon'!E19","v":{"v":1450029864.6699998,"d":"1,450,030"}},{"$f":"'A8-ResRecon'!F19","v":{"v":117737081,"d":"117,737"}},{"$f":"'A8-ResRecon'!G19","v":{"v":58422920,"d":"58,423"}},{"$f":"'A8-ResRecon'!H19","v":{"v":58422920,"d":"58,423"}},{"$f":"'A8-ResRecon'!I19","v":{"v":1133834699.3799999,"d":"1,133,835"}},{"$f":"'A8-ResRecon'!J19","v":{"v":28729987,"d":"28,730"}},{"$f":"'A8-ResRecon'!K19","v":{"v":58719465,"d":"58,719"}},{"$f":"'A8-ResRecon'!L19","v":{"v":69138111,"d":"69,138"}}]
["MTREF Funded (1) / Unfunded (0)",null,15,{"$f":"IF(D127>=0,1,0)","v":1},{"$f":"IF(E127>=0,1,0)","v":1},1,1,1,1,1,1,1,1]
["MTREF Funded ü / Unfunded û",null,15,{"$f":"IF(D128=1,\"ü\",\"û\")","v":"ü"},{"$f":"IF(E128=1,\"ü\",\"û\")","v":"ü"},"ü","ü","ü","ü","ü","ü","ü","ü"]
[]
[{"$f":"head27a","v":"References"}]
["15. Subject to figures provided in Schedule."]

{"sheet":"SA11","index":31,"n_rows":73,"n_cols":11,"rows_kept":73,"merged":[[1,0,2,0],[1,1,3,1],[1,5,1,7],[1,8,1,10]]}
[{"$f":"muni&\" - \"&TableA11","v":"DC43 Harry Gwala - Supporting Table SA11 Property rates summary"}]
[{"$f":"desc","v":"Description"},{"$f":"head27","v":"Ref"},{"$f":"head1b","v":"2022/23"},{"$f":"head1A","v":"2023/24"},{"$f":"Head1","v":"2024/25"},{"$f":"Head2","v":"Current Year 2025/26"},null,null,{"$f":"Head3","v":"2026/27 Medium Term Revenue & Expenditure Framework"}]
[null,null,{"$f":"Head5","v":"Audited Outcome"},{"$f":"Head5","v":"Audited Outcome"},{"$f":"Head5","v":"Audited Outcome"},{"$f":"Head6","v":"Original Budget"},{"$f":"Head7","v":"Adjusted Budget"},{"$f":"Head8","v":"Full Year Forecast"},{"$f":"Head9","v":"Budget Year 2026/27"},{"$f":"Head10","v":"Budget Year +1 2027/28"},{"$f":"Head11","v":"Budget Year +2 2028/29"}]
[]
["Valuation:",1]
["Date of valuation:",null,"2000-01-01","2000-01-01","2000-01-01","2000-01-01"]
["Financial year valuation used"]
["Municipal by-laws s6 in place? (Y/N)","2"]
["Municipal/assistant valuer appointed? (Y/N)"]
["Municipal partnership s38 used? (Y/N)"]
["No. of assistant valuers (FTE)",3]
["No. of data collectors (FTE)",3]
["No. of internal valuers (FTE)",3]
["No. of external valuers (FTE)",3]
["No. of additional valuers (FTE)",4]
["Valuation appeal board established? (Y/N)"]
["Implementation time of new valuation roll (mths)"]
["No. of properties",5]
["No. of sectional title values",5]
["No. of unreasonably difficult properties s7(2)"]
["No. of supplementary valuations"]
["No. of valuation roll amendments"]
["No. of objections by rate payers"]
["No. of appeals by rate payers"]
["No. of successful objections",8]
["No. of successful objections > 10%",8]
["Supplementary valuation"]
["Public service infrastructure value (Rm)",5]
["Municipality owned property value (Rm)"]
["Valuation reductions:"]
["Valuation reductions-public infrastructure (Rm)"]
["Valuation reductions-nature reserves/park (Rm)"]
["Valuation reductions-mineral rights (Rm)"]
["Valuation reductions-R15,000 threshold (Rm)"]
["Valuation reductions-public worship (Rm)"]
["Valuation reductions-other (Rm)"]
["Total valuation reductions:",null,{"$f":"SUM(C31:C36)","v":0},{"$f":"SUM(D31:D36)","v":0},{"$f":"SUM(E31:E36)","v":0},0,0,0,{"$f":"SUM(I31:I36)","v":0},0,0]
["Total value used for rating (Rm)",5]
["Total land value (Rm)",5]
["Total value of improvements (Rm)",5]
["Total market value (Rm)",5]
[]
["Rating:"]
["Residential rate used to determine rate for other categories? (Y/N)",null," ","No"," ","No",null,null,"No"]
["Differential rates used? (Y/N)",5]
["Limit on annual rate increase (s20)? (Y/N)"]
["Special rating area used? (Y/N)"]
["Phasing-in properties s21 (number)"]
["Rates policy accompanying budget? (Y/N)",null," ","No"," ","No",null,null,"No"]
["Fixed amount minimum value (R'000)"]
["Non-residential prescribed ratio s19? (%)"]
[]
["Rate revenue:"]
["Rate revenue budget (R '000)",6]
["Rate revenue expected to collect (R'000)",6]
["Expected cash collection rate (%)"]
["Special rating areas (R'000)",7]
["Rebates, exemptions - indigent (R'000)"]
["Rebates, exemptions - pensioners (R'000)"]
["Rebates, exemptions - bona fide farm. (R'000)"]
["Rebates, exemptions - other (R'000)"]
["Phase-in reductions/discounts (R'000)"]
["Total rebates,exemptns,reductns,discs (R'000)",null,{"$f":"SUM(C58:C62)","v":0},{"$f":"SUM(D58:D62)","v":0},0,0,0,0,0,0,0]
[]
[{"$f":"head27a","v":"References"}]
["1. All numbers to be expressed as whole numbers except FTEs and Rates in the Rand"]
["2. To give effect to rates policy"]
["3. Full Time Equivalent (FTE)  should be expressed to one decimal place and takes into account full time and part time staff"]
["4. Required to implement new system (FTE)"]
["5. Provide relevant information for historical comparisons. Must reconcile to the total of Table SA12"]
[{"$f":"\"6. Current and budget year must reconcile to \"&'Template names'!F103","v":"6. Current and budget year must reconcile to Table A4 Budgeted Financial Performance (revenue and expenditure)"}]
["7. Included in rate revenue budget"]
["8. In favour of the rate-payer"]

{"sheet":"SA12a","index":32,"n_rows":56,"n_cols":13,"rows_kept":56}
[{"$f":"muni&\" - \"&TableA12a","v":"DC43 Harry Gwala - Supporting Table SA12a Property rates by category (current year)"}]
[{"$f":"desc","v":"Description"},{"$f":"head27","v":"Ref"},"Business and commercial properties","Industrial properties","Mining properties","Residential properties","Agricultural properties","Public benefit organisations","Public service purpose properties","Public service infrastructure properties","Vacant land","Sport Clubs and Fields (Bitou only)","Sectional Title Garages (Drakenstein only)"]
[{"$f":"Head2","v":"Current Year 2025/26"}]
["Valuation:"]
["No. of properties"]
["No. of sectional title property values"]
["No. of unreasonably difficult properties s7(2)"]
["No. of supplementary valuations"]
["Supplementary valuation (Rm)"]
["No. of valuation roll amendments"]
["No. of objections by rate-payers"]
["No. of appeals by rate-payers"]
["No. of appeals by rate-payers finalised"]
["No. of successful objections",5]
["No. of successful objections > 10%",5]
["Estimated no. of properties not valued"]
["Years since last valuation (select)"]
["Frequency of valuation (select)"]
["Method of valuation used (select)"]
["Base of valuation (select)"]
["Phasing-in properties s21 (number)"]
["Combination of rating types used? (Y/N)"]
["Flat rate used? (Y/N)"]
["Is balance rated by uniform rate/variable rate?"]
["Valuation reductions:"]
["Valuation reductions-public infrastructure (Rm)"]
["Valuation reductions-nature reserves/park (Rm)"]
["Valuation reductions-mineral rights (Rm)"]
["Valuation reductions-R15,000 threshold (Rm)"]
["Valuation reductions-public worship (Rm)"]
["Valuation reductions-other (Rm)",2]
["Total valuation reductions:"]
["Total value used for rating (Rm)",6]
["Total land value (Rm)",6]
["Total value of improvements (Rm)",6]
["Total market value (Rm)",6]
["Rating:"]
["Average rate",3]
["Rate revenue budget (R '000)"]
["Rate revenue expected to collect (R'000)"]
["Expected cash collection rate (%)",4]
["Special rating areas (R'000)"]
["Rebates, exemptions - indigent (R'000)"]
["Rebates, exemptions - pensioners (R'000)"]
["Rebates, exemptions - bona fide farm. (R'000)"]
["Rebates, exemptions - other (R'000)"]
["Phase-in reductions/discounts (R'000)"]
["Total rebates,exemptns,reductns,discs (R'000)"]
[]
[{"$f":"head27a","v":"References"}]
["1. Land & Assistance Act, Restitution of Land Rights, Communual Property Associations"]
["2. Include value of additional reductions is 'free' value greater than MPRA minimum."]
["3. Average rate - cents in  the Rand. Eg 10.26 cents in the Rand is 0.1026, expressed to 6 decimal places maximum"]
["4. Include arrears collections"]
["5. In favour of the rate-payer"]
["6. Provide relevant information for historical comparisons."]

{"sheet":"SA12b","index":33,"n_rows":56,"n_cols":13,"rows_kept":56}
[{"$f":"muni&\" - \"&TableA12b","v":"DC43 Harry Gwala - Supporting Table SA12b Property rates by category (budget year)"}]
[{"$f":"desc","v":"Description"},{"$f":"head27","v":"Ref"},"Business and commercial properties","Industrial properties","Mining properties","Residential properties","Agricultural properties","Public benefit organisations","Public service purpose properties","Public service infrastructure properties","Vacant land","Sport Clubs and Fields (Bitou only)","Sectional Title Garages (Drakenstein only)"]
[{"$f":"Head9","v":"Budget Year 2026/27"}]
["Valuation:"]
["No. of properties"]
["No. of sectional title property values"]
["No. of unreasonably difficult properties s7(2)"]
["No. of supplementary valuations"]
["Supplementary valuation (Rm)"]
["No. of valuation roll amendments"]
["No. of objections by rate-payers"]
["No. of appeals by rate-payers"]
["No. of appeals by rate-payers finalised"]
["No. of successful objections",5]
["No. of successful objections > 10%",5]
["Estimated no. of properties not valued"]
["Years since last valuation (select)"]
["Frequency of valuation (select)"]
["Method of valuation used (select)"]
["Base of valuation (select)"]
["Phasing-in properties s21 (number)"]
["Combination of rating types used? (Y/N)"]
["Flat rate used? (Y/N)"]
["Is balance rated by uniform rate/variable rate?"]
["Valuation reductions:"]
["Valuation reductions-public infrastructure (Rm)"]
["Valuation reductions-nature reserves/park (Rm)"]
["Valuation reductions-mineral rights (Rm)"]
["Valuation reductions-R15,000 threshold (Rm)"]
["Valuation reductions-public worship (Rm)"]
["Valuation reductions-other (Rm)",2]
["Total valuation reductions:"]
["Total value used for rating (Rm)",6]
["Total land value (Rm)",6]
["Total value of improvements (Rm)",6]
["Total market value (Rm)",6]
["Rating:"]
["Average rate",3]
["Rate revenue budget (R '000)"]
["Rate revenue expected to collect (R'000)"]
["Expected cash collection rate (%)",4]
["Special rating areas (R'000)"]
["Rebates, exemptions - indigent (R'000)"]
["Rebates, exemptions - pensioners (R'000)"]
["Rebates, exemptions - bona fide farm. (R'000)"]
["Rebates, exemptions - other (R'000)"]
["Phase-in reductions/discounts (R'000)"]
["Total rebates,exemptns,reductns,discs (R'000)"]
[]
[{"$f":"head27a","v":"References"}]
["1. Land & Assistance Act, Restitution of Land Rights, Communual Property Associations"]
["2. Include value of additional reductions is 'free' value greater than MPRA minimum."]
["3. Average rate - cents in  the Rand. Eg 10.26 cents in the Rand is 0.1026, expressed to 6 decimal places maximum"]
["4. Include arrears collections"]
["5. In favour of the rate-payer"]
["6. Provide relevant information for historical comparisons."]

{"sheet":"SA13a","index":34,"n_rows":104,"n_cols":19,"rows_kept":104,"merged":[[1,0,2,0],[1,1,2,1],[1,2,2,2],[1,3,2,3],[1,4,2,4],[1,5,2,5],[1,6,2,6],[107,0,108,0],[107,1,108,1],[107,2,108,2],[107,3,108,3],[107,4,108,4],[107,5,108,5],[107,6,108,6]]}
[{"$f":"muni&\" - \"&TableA13a","v":"DC43 Harry Gwala - Supporting Table SA13a Service Tariffs by category"}]
[{"$f":"desc","v":"Description"},{"$f":"head27","v":"Ref"},"Provide description of tariff structure where appropriate",{"$f":"head1b","v":"2022/23"},{"$f":"head1A","v":"2023/24"},{"$f":"Head1","v":"2024/25"},{"$f":"Head2","v":"Current Year 2025/26"},{"$f":"Head3","v":"2026/27 Medium Term Revenue & Expenditure Framework"}]
[{"$nulls":7},{"$f":"Head9","v":"Budget Year 2026/27"},{"$f":"Head10","v":"Budget Year +1 2027/28"},{"$f":"Head11","v":"Budget Year +2 2028/29"}]
["Property rates (rate in the Rand)",1]
["Residential properties",null,"N/A",0,0,0,0,0,0,0]
["Residential properties - vacant land"]
["Formal/informal settlements",null,"N/A",0,0,0,0,0,0,0]
["Small holdings",null,"N/A",0,0,0,0,0,0,0]
["Farm properties - used"]
["Farm properties - not used",null,"N/A",0,0,0,0,0,0,0]
["Industrial properties",null,"N/A",0,0,0,0,0,0,0]
["Business and commercial properties",null,"N/A",0,0,0,0,0,0,0]
["Communal land - residential",null,"N/A",0,0,0,0,0,0,0]
["Communal land - small holdings",null,"N/A",0,0,0,0,0,0,0]
["Communal land - farm property",null,"N/A",0,0,0,0,0,0,0]
["Communal land - business and commercial",null,"N/A",0,0,0,0,0,0,0]
["Communal land - other",null,"N/A",0,0,0,0,0,0,0]
["State-owned properties",null,"N/A",0,0,0,0,0,0,0]
["Municipal properties"]
["Public service infrastructure",null,"N/A",0,0,0,0,0,0,0]
["Privately owned towns serviced by the owner",null,"N/A",0,0,0,0,0,0,0]
["State trust land",null,"N/A",0,0,0,0,0,0,0]
["Restitution and redistribution properties",null,"N/A",0,0,0,0,0,0,0]
["Protected areas",null,"N/A",0,0,0,0,0,0,0]
["National monuments properties",null,"N/A",0,0,0,0,0,0,0]
["Property rates by usage"]
["Business and commercial properties",null,"N/A",0,0,0,0,0,0,0]
["Industrial properties",null,"N/A",0,0,0,0,0,0,0]
["Mining properties",null,"N/A",0,0,0,0,0,0,0]
["Residential properties",null,null,0,0,0,0,0,0,0]
["Agricultural properties",null,"N/A",0,0,0,0,0,0,0]
["Public benefit organisations",null,"N/A",0,0,0,0,0,0,0]
["Public service purpose properties",null,"N/A",0,0,0,0,0,0,0]
["Public service infrastructure properties",null,"N/A",0,0,0,0,0,0,0]
["Vacant land",null,"N/A",0,0,0,0,0,0,0]
["Sport Clubs and Fields (Bitou only)",null,"N/A",0,0,0,0,0,0,0]
["Sectional Title Garages (Drakenstein only)",null,"N/A",0,0,0,0,0,0,0]
[]
["Exemptions, reductions and rebates (Rands)"]
["Residential properties"]
["R15 000 threshhold rebate",null,null,{"v":15000,"d":"15,000"},{"v":15000,"d":"15,000"},{"v":15000,"d":"15,000"},{"v":15000,"d":"15,000"},{"v":15000,"d":"15,000"},{"v":15000,"d":"15,000"},{"v":15000,"d":"15,000"}]
["General residential rebate"]
["Indigent rebate or exemption"]
["Pensioners/social grants rebate or exemption "]
["Temporary relief rebate or exemption"]
[" Bona fide farmers rebate or exemption",null,"N/A",0,0,0,0,0,0,0]
["Other rebates or exemptions",2]
[]
["Water tariffs"]
["Domestic"]
["Basic charge/fixed fee (Rands/month)",null,"N/A",0,0,0,0,0,0,0,{"$nulls":8},{"$f":"SUM(C51:R51)","v":0}]
["Service point - vacant land (Rands/month)",{"$nulls":17},{"$f":"SUM(C52:R52)","v":0}]
["Water usage - flat rate tariff (c/kl)",null," Indigent KL",{"v":10.24,"d":"10"},6,6,6,6,6,6]
["Water usage - life line tariff",null,"0-6k",{"v":10.24,"d":"10"},{"v":10.8544,"d":"11"},{"v":11.718,"d":"12"},{"v":12.89,"d":"13"},{"v":14.1812,"d":"14"},{"v":15.5993,"d":"16"},{"v":17.1593,"d":"17"}]
["Water usage - Block 1 (c/kl)",null,"7-20KL",{"v":11.4904,"d":"11"},{"v":11.4904,"d":"11"},{"v":11.49,"d":"11"},{"v":12.89,"d":"13"},{"v":14.18,"d":"14"},{"v":15.598,"d":"16"},{"v":17.1578,"d":"17"}]
["Water usage - Block 2 (c/kl)",null,"21-40KL",{"v":19.86,"d":"20"},{"v":21.0516,"d":"21"},{"v":22.73,"d":"23"},25,{"v":27.5033,"d":"28"},{"v":30.2536,"d":"30"},{"v":33.275,"d":"33"}]
["Water usage - Block 3 (c/kl)",null,"41-100KL .481",{"v":32.94,"d":"33"},{"v":34.9164,"d":"35"},{"v":37.7136,"d":"38"},{"v":41.48,"d":"41"},{"v":45.6291,"d":"46"},{"v":50.192,"d":"50"},{"v":55.2112,"d":"55"}]
["Water usage - Block 4 (c/kl)",null," (fill in thresholds)"]
["Water usage - Block 5 (c/kl)",null,"101-200KL",{"v":37.49,"d":"37"},{"v":39.7394,"d":"40"},{"v":42.9192,"d":"43"},{"v":47.21,"d":"47"},{"v":51.9332,"d":"52"},{"v":57.1265,"d":"57"},{"v":62.8392,"d":"63"}]
["Water usage - Block 6 (c/kl)",null," 201+KL ",{"v":40.45,"d":"40"},{"v":42.877,"d":"43"},{"v":46.3104,"d":"46"},{"v":50.94,"d":"51"},{"v":56.03,"d":"56"},{"v":61.6386,"d":"62"},{"v":67.7969,"d":"68"}]
["Other",2]
[]
["Waste water tariffs"]
["Domestic"]
["Basic charge/fixed fee (Rands/month)",null,"N/A",0,0,0,0,0,0,0]
["Service point - vacant land (Rands/month)"]
["Waste water - flat rate tariff (c/kl)"]
["Volumetric charge - Block 1 (c/kl)",null,"(fill in structure)"]
["Volumetric charge - Block 2 (c/kl)",null,"(fill in structure)"]
["Volumetric charge - Block 3 (c/kl)",null,"(fill in structure)"]
["Volumetric charge - Block 4 (c/kl)",null,"(fill in structure)"]
["Other",2]
[]
["Electricity tariffs"]
["Domestic"]
["Basic charge/fixed fee (Rands/month)",null,"N/A",0,0,0,0,0,0,0]
["Service point - vacant land (Rands/month)"]
["FBE",null,"(how is this targeted?)"]
["Life-line tariff - meter",null,"(describe structure)"]
["Life-line tariff - prepaid",null,"(describe structure)"]
["Flat rate tariff - meter (c/kwh)"]
["Flat rate tariff - prepaid(c/kwh)"]
["Meter - IBT Block 1 (c/kwh)",null,"(fill in thresholds)"]
["Meter - IBT Block 2 (c/kwh)",null,"(fill in thresholds)"]
["Meter - IBT Block 3 (c/kwh)",null,"(fill in thresholds)"]
["Meter - IBT Block 4 (c/kwh)",null,"(fill in thresholds)"]
["Meter - IBT Block 5 (c/kwh)",null,"(fill in thresholds)"]
["Prepaid - IBT Block 1 (c/kwh)",null,"(fill in thresholds)"]
["Prepaid - IBT Block 2 (c/kwh)",null,"(fill in thresholds)"]
["Prepaid - IBT Block 3 (c/kwh)",null,"(fill in thresholds)"]
["Prepaid - IBT Block 4 (c/kwh)",null,"(fill in thresholds)"]
["Prepaid - IBT Block 5 (c/kwh)",null,"(fill in thresholds)"]
["Other",2]
[]
["Waste management tariffs"]
["Domestic"]
["Street cleaning charge",null," Public Service & Government institutions, commecial, agricultural ",0,16,0,17,20,23,0]
["Basic charge/fixed fee"]
["80l bin - once a week"]
["250l bin - once a week"]
[]
[{"$f":"head27a","v":"References"}]
["1. If properties are not rated or zero rated this must be indicated as such"]
["2.Please provide detailed descriptions on Sheet SA13b"]

{"sheet":"SA13b","index":35,"n_rows":48,"n_cols":19,"rows_kept":48,"merged":[[1,0,2,0],[1,1,2,1],[1,2,2,2],[1,3,2,3],[1,4,2,4],[1,5,2,5],[1,6,2,6],[92,0,93,0],[92,1,93,1],[92,2,93,2],[92,3,93,3],[92,4,93,4],[92,5,93,5],[92,6,93,6]]}
[{"$f":"muni&\" - \"&TableA13b","v":"DC43 Harry Gwala - Supporting Table SA13b Service Tariffs by category - explanatory"}]
[{"$f":"desc","v":"Description"},{"$f":"head27","v":"Ref"},"Provide description of tariff structure where appropriate",{"$f":"head1b","v":"2022/23"},{"$f":"head1A","v":"2023/24"},{"$f":"Head1","v":"2024/25"},{"$f":"Head2","v":"Current Year 2025/26"},{"$f":"Head3","v":"2026/27 Medium Term Revenue & Expenditure Framework"}]
[{"$nulls":7},{"$f":"Head9","v":"Budget Year 2026/27"},{"$f":"Head10","v":"Budget Year +1 2027/28"},{"$f":"Head11","v":"Budget Year +2 2028/29"}]
["Exemptions, reductions and rebates (Rands)"]
[" ",null,0,0,0,0,0,0,0,0]
["[Insert lines as applicable]"]
{"$rows_empty":8}
["Water tariffs"]
["Water Usage - Block 1 (C/Kl)",null,"0-100KL",{"v":10.24,"d":"10"},{"v":10.8544,"d":"11"},{"v":16.92,"d":"17"},{"v":18.61,"d":"19"},{"v":20.47,"d":"20"},{"v":22.517,"d":"23"},{"v":24.7687,"d":"25"}]
["Water Usage - Block 2 (C/Kl)",null," 101-200KL ",{"v":10.84,"d":"11"},{"v":11.4904,"d":"11"},{"v":22.73,"d":"23"},25,{"v":27.5,"d":"28"},{"v":30.25,"d":"30"},{"v":33.275,"d":"33"}]
["Water Usage - Block 3 (C/Kl)",null," 201-300KL ",{"v":19.86,"d":"20"},{"v":21.0516,"d":"21"},{"v":37.74,"d":"38"},{"v":41.51,"d":"42"},{"v":45.66,"d":"46"},{"v":50.226,"d":"50"},{"v":55.2486,"d":"55"}]
["Water Usage - Block 4 (C/Kl)",null," 301-400KL ",{"v":32.94,"d":"33"},{"v":34.9164,"d":"35"},{"v":42.92,"d":"43"},{"v":44.35,"d":"44"},{"v":48.79,"d":"49"},{"v":53.669,"d":"54"},{"v":59.0359,"d":"59"}]
["Water Usage - Block 5 (C/Kl)",null," 401-500KL ",{"v":37.49,"d":"37"},{"v":39.7394,"d":"40"},{"v":42.92,"d":"43"},{"v":47.21,"d":"47"},{"v":51.9332,"d":"52"},{"v":57.1265,"d":"57"},{"v":62.8391,"d":"63"}]
["Water Usage - Block 6 (C/Kl)",null," 501 +KL ",{"v":40.45,"d":"40"},{"v":42.877,"d":"43"},{"v":45.53,"d":"46"},{"v":50.08,"d":"50"},{"v":55.09,"d":"55"},{"v":60.599,"d":"61"},{"v":66.6589,"d":"67"}]
["Waste water tariffs"]
[" ",null,0,0,0,0,0,0,0,0]
["[Insert blocks as applicable]",null,"(fill in structure)"]
[null,null,"(fill in structure)"]
[null,null,"(fill in structure)"]
[null,null,"(fill in structure)"]
[null,null,"(fill in structure)"]
[null,null,"(fill in structure)"]
[null,null,"(fill in structure)"]
[null,null,"(fill in structure)"]
[null,null,"(fill in structure)"]
[]
["Electricity tariffs"]
[" ",null,0,0,0,0,0,0,0,0]
["[Insert blocks as applicable]",null,"(fill in thresholds)"]
[null,null,"(fill in thresholds)",{"$nulls":15},{"$f":"SUM(C37:R37)","v":0}]
[null,null,"(fill in thresholds)",{"$nulls":15},{"$f":"SUM(C38:R38)","v":0}]
[null,null,"(fill in thresholds)"]
[null,null,"(fill in thresholds)"]
[null,null,"(fill in thresholds)"]
[null,null,"(fill in thresholds)"]
[null,null,"(fill in thresholds)"]
[null,null,"(fill in thresholds)"]
[null,null,"(fill in thresholds)"]
[null,null,"(fill in thresholds)"]
[null,null,"(fill in thresholds)"]
[null,null,"(fill in thresholds)"]

{"sheet":"SA14","index":36,"n_rows":54,"n_cols":12,"rows_kept":54,"merged":[[1,0,2,0],[1,1,3,1],[1,5,1,7]]}
[{"$f":"muni&\" - \"&TableA14","v":"DC43 Harry Gwala - Supporting Table SA14 Household bills"}]
[{"$f":"desc","v":"Description"},{"$f":"head27","v":"Ref"},{"$f":"head1b","v":"2022/23"},{"$f":"head1A","v":"2023/24"},{"$f":"Head1","v":"2024/25"},{"$f":"Head2","v":"Current Year 2025/26"},null,null,{"$f":"Head3","v":"2026/27 Medium Term Revenue & Expenditure Framework"}]
[null,null,{"$f":"Head5","v":"Audited Outcome"},{"$f":"Head5","v":"Audited Outcome"},{"$f":"Head5","v":"Audited Outcome"},{"$f":"Head6","v":"Original Budget"},{"$f":"Head7","v":"Adjusted Budget"},{"$f":"Head8","v":"Full Year Forecast"},{"$f":"Head9","v":"Budget Year 2026/27"},{"$f":"Head9","v":"Budget Year 2026/27"},{"$f":"Head10","v":"Budget Year +1 2027/28"},{"$f":"Head11","v":"Budget Year +2 2028/29"}]
["Rand/cent",{"$nulls":7},"% incr."]
["Monthly Account for Household - 'Middle Income Range'",1]
["Rates and services charges:"]
["Property rates"]
["Electricity: Basic levy"]
["Electricity: Consumption"]
["Water: Basic levy"]
["Water: Consumption",null,21.35,26.82,28.97,31.87,323.04,323.04,{"v":10.139,"d":"1,013.9%"},{"v":355,"d":"355.00"},390.87,429.95]
["Sanitation",null,{"v":9.1,"d":"9.10"},26.82,0,31.87,{"v":32.3,"d":"32.30"},{"v":32.3,"d":"32.30"},{"v":0.11484,"d":"11.5%"},35.53,39.08,42.98]
["Refuse removal",null,0,0,0,0,0,0,0,0,0,0]
["Other"]
["sub-total",null,{"$f":"SUM(C7:C14)","v":{"v":30.450000000000003,"d":"30.45"}},{"$f":"SUM(D7:D14)","v":53.64},{"$f":"SUM(E7:E14)","v":28.97},{"$f":"SUM(F7:F14)","v":63.74},{"$f":"SUM(G7:G14)","v":{"v":355.34000000000003,"d":"355.34"}},{"v":355.34000000000003,"d":"355.34"},{"$f":"IF(ISERROR(ROUND((J15-F15)/F15,3)),0,(ROUND((J15-F15)/F15,3)))","v":{"v":5.127,"d":"512.7%"}},390.53,429.95,472.93]
["VAT on Services"]
["Total large household bill:",null,{"$f":"SUM(C15:C16)","v":{"v":30.450000000000003,"d":"30.45"}},{"$f":"SUM(D15:D16)","v":53.64},{"$f":"SUM(E15:E16)","v":28.97},{"$f":"SUM(F15:F16)","v":63.74},{"$f":"SUM(G15:G16)","v":{"v":355.34000000000003,"d":"355.34"}},{"v":355.34000000000003,"d":"355.34"},{"$f":"IF(ISERROR(ROUND((J17-F17)/F17,3)),0,(ROUND((J17-F17)/F17,3)))","v":{"v":5.127,"d":"512.7%"}},390.53,429.95,472.93]
["% increase/-decrease",null,{"$f":"IF(ISERROR((C17/B17)-1),0,((C17/B17)-1))","v":0},{"v":0.7615763546798029,"d":"76.2%"},{"v":-0.45991797166293813,"d":"(46.0%)"},{"v":1.2002071108042807,"d":"120.0%"},{"v":4.574835268277377,"d":"457.5%"},0,{"$f":"IF(ISERROR(ROUND((J18-F18)/F18,3)),0,(ROUND((J18-F18)/F18,3)))","v":{"v":-0.917,"d":"(91.7%)"}},{"$f":"IF(ISERROR((J17/H17)-1),0,((J17/H17)-1))","v":{"v":0.09903191309731518,"d":"9.9%"}},{"$f":"IF(ISERROR((K17/J17)-1),0,((K17/J17)-1))","v":{"v":0.10093974854684662,"d":"10.1%"}},{"$f":"IF(ISERROR((L17/K17)-1),0,((L17/K17)-1))","v":{"v":0.0999651122223515,"d":"10.0%"}}]
[]
["Monthly Account for Household - 'Affordable Range' ",2]
[{"$f":"A6","v":"Rates and services charges:"}]
[{"$f":"A7","v":"Property rates"}]
["Electricity: Basic levy"]
["Electricity: Consumption"]
["Water: Basic levy"]
["Water: Consumption",null,0,0,0,0,193.35,193.35,0,212.68,233.94,257.33]
["Sanitation",null,0,0,0,0,19.33,19.33,0,21.26,23.38,25.71]
["Refuse removal",null,0,0,0,0,0,0,0,0,0,0]
["Other"]
["sub-total",null,{"$f":"SUM(C22:C29)","v":0},{"$f":"SUM(D22:D29)","v":0},0,0,212.68,212.68,{"$f":"IF(ISERROR(ROUND((J30-F30)/F30,3)),0,(ROUND((J30-F30)/F30,3)))","v":0},{"$f":"SUM(J22:J29)","v":233.94},{"$f":"SUM(K22:K29)","v":257.32},{"$f":"SUM(L22:L29)","v":{"v":283.03999999999996,"d":"283.04"}}]
["VAT on Services"]
["Total small household bill:",null,{"$f":"SUM(C30:C31)","v":0},{"$f":"SUM(D30:D31)","v":0},0,0,212.68,212.68,{"$f":"IF(ISERROR(ROUND((J32-F32)/F32,3)),0,(ROUND((J32-F32)/F32,3)))","v":0},{"$f":"SUM(J30:J31)","v":233.94},{"$f":"SUM(K30:K31)","v":257.32},{"$f":"SUM(L30:L31)","v":{"v":283.03999999999996,"d":"283.04"}}]
["% increase/-decrease",null,null,{"$f":"IF(ISERROR((D32/C32)-1),0,((D32/C32)-1))","v":0},0,0,0,0,{"$f":"IF(ISERROR(ROUND((J33-F33)/F33,3)),0,(ROUND((J33-F33)/F33,3)))","v":0},{"$f":"IF(ISERROR((J32/H32)-1),0,((J32/H32)-1))","v":{"v":0.09996238480346054,"d":"10.0%"}},{"$f":"IF(ISERROR((K32/J32)-1),0,((K32/J32)-1))","v":{"v":0.09994015559545177,"d":"10.0%"}},{"$f":"IF(ISERROR((L32/K32)-1),0,((L32/K32)-1))","v":{"v":0.09995336545935007,"d":"10.0%"}}]
[{"$nulls":4},{"$f":"IF(ISERROR((E33/D33)-1),0,((E33/D33)-1))","v":0},{"$f":"IF(ISERROR((F33/E33)-1),0,((F33/E33)-1))","v":0},{"$f":"IF(ISERROR((G33/F33)-1),0,((G33/F33)-1))","v":0},{"$f":"IF(ISERROR((H33/G33)-1),0,((H33/G33)-1))","v":0}]
["Monthly Account for Household - 'Indigent' Household receiving free basic services",3]
[{"$f":"A6","v":"Rates and services charges:"}]
[{"$f":"A7","v":"Property rates"},{"$nulls":7},{"$f":"IF(J37>0,ROUND((J37-F37)/F37,3),\"\")","v":""}]
["Electricity: Basic levy",{"$nulls":7},{"$f":"IF(J38>0,ROUND((J38-F38)/F38,3),\"\")","v":""}]
["Electricity: Consumption",{"$nulls":7},""]
["Water: Basic levy",{"$nulls":7},""]
["Water: Consumption",null,22.27,23.61,0,{"v":28.3,"d":"28.30"},193.35,193.35,{"v":6.51519,"d":"651.5%"},212.68,233.94,257.33]
["Sanitation",null,22.27,9.65,10.42,11.46,19.33,19.33,{"v":0.85515,"d":"85.5%"},21.26,23.38,25.71]
["Refuse removal",{"$nulls":7},""]
["Other",{"$nulls":7},""]
["sub-total",null,{"$f":"SUM(C37:C44)","v":44.54},{"$f":"SUM(D37:D44)","v":33.26},{"$f":"SUM(E37:E44)","v":10.42},{"$f":"SUM(F37:F44)","v":{"v":39.760000000000005,"d":"39.76"}},{"$f":"SUM(G37:G44)","v":212.68},212.68,{"$f":"IF(ISERROR(ROUND((J45-F45)/F45,3)),0,(ROUND((J45-F45)/F45,3)))","v":{"v":4.884,"d":"488.4%"}},233.94,257.32,{"v":283.03999999999996,"d":"283.04"}]
["VAT on Services"]
["Total small household bill:",null,{"$f":"SUM(C45:C46)","v":44.54},{"$f":"SUM(D45:D46)","v":33.26},{"$f":"SUM(E45:E46)","v":10.42},{"$f":"SUM(F45:F46)","v":{"v":39.760000000000005,"d":"39.76"}},{"$f":"SUM(G45:G46)","v":212.68},212.68,{"$f":"IF(ISERROR(ROUND((J47-F47)/F47,3)),0,(ROUND((J47-F47)/F47,3)))","v":{"v":4.884,"d":"488.4%"}},233.94,257.32,{"v":283.03999999999996,"d":"283.04"}]
[{"$f":"A18","v":"% increase/-decrease"},null,null,{"$f":"IF(ISERROR((D47/C47)-1),0,((D47/C47)-1))","v":{"v":-0.25325550067355185,"d":"(25.3%)"}},{"v":-0.6867107636800962,"d":"(68.7%)"},{"v":2.8157389635316705,"d":"281.6%"},{"v":4.349094567404426,"d":"434.9%"},{"$f":"IF(ISERROR((H47/G47)-1),0,((H47/G47)-1))","v":0},{"$f":"IF(ISERROR(ROUND((J48-F48)/F48,3)),0,(ROUND((J48-F48)/F48,3)))","v":{"v":-0.964,"d":"(96.4%)"}},{"$f":"IF(ISERROR((J47/H47)-1),0,((J47/H47)-1))","v":{"v":0.09996238480346054,"d":"10.0%"}},{"$f":"IF(ISERROR((K47/J47)-1),0,((K47/J47)-1))","v":{"v":0.09994015559545177,"d":"10.0%"}},{"$f":"IF(ISERROR((L47/K47)-1),0,((L47/K47)-1))","v":{"v":0.09995336545935007,"d":"10.0%"}}]
[]
[{"$f":"head27a","v":"References"}]
["1. Use as basis property value of R700 000, 1 000 kWh electricity and 30kl water"]
["2. Use as basis property value  of R500 000 and R700 000, 500 kWh electricity and 25kl water"]
["3. Use as basis property value of R 300 000, 350kWh electricity and 20kl water (50 kWh electricity and 6 kl water free)"]
["4. Note this is for a SINGLE household."]

{"sheet":"SA15","index":37,"n_rows":162,"n_cols":11,"rows_kept":162,"merged":[[1,0,2,0],[1,1,3,1],[1,5,1,7],[1,8,1,10]]}
[{"$f":"muni&\" - \"&TableA15","v":"DC43 Harry Gwala - Supporting Table SA15 Investment particulars by type"}]
["Investment type",{"$f":"head27","v":"Ref"},{"$f":"head1b","v":"2022/23"},{"$f":"head1A","v":"2023/24"},{"$f":"Head1","v":"2024/25"},{"$f":"Head2","v":"Current Year 2025/26"},null,null,{"$f":"Head3","v":"2026/27 Medium Term Revenue & Expenditure Framework"}]
[null,null,{"$f":"Head5","v":"Audited Outcome"},{"$f":"Head5","v":"Audited Outcome"},{"$f":"Head5","v":"Audited Outcome"},{"$f":"Head6","v":"Original Budget"},{"$f":"Head7","v":"Adjusted Budget"},{"$f":"Head8","v":"Full Year Forecast"},{"$f":"Head9","v":"Budget Year 2026/27"},{"$f":"Head10","v":"Budget Year +1 2027/28"},{"$f":"Head11","v":"Budget Year +2 2028/29"}]
["R thousand"]
["Investments"," "]
["Bank Repurchase Agreements"," "]
["Specify 1"," "]
["Specify 2"," "]
["Specify 3"," "]
["Specify 4"," "]
["Specify 5"," "]
["Specify 6"," "]
["Specify 7"," "]
["Specify 8"," "]
["Specify 9"," "]
["Specify 10"," "]
["Specify 11"," "]
["Total Bank Repurchase Agreements"," ",{"$f":"SUM(C7:C17)","v":0},0,0,0,0,0,0,0,0]
["Bankers Acceptance Certificate"," "]
["Specify 1"," "]
["Specify 2"," "]
["Specify 3"," "]
["Specify 4"," "]
["Specify 5"," "]
["Specify 6"," "]
["Specify 7"," "]
["Specify 8"," "]
["Specify 9"," "]
["Specify 10"," "]
["Specify 11"," "]
["Total Bankers Acceptance Certificate"," ",{"$f":"SUM(C20:C30)","v":0},0,0,0,0,0,0,0,0]
["Deposit Taking Institutions"," "]
["Specify 1"," ",{"v":5390288117,"d":"5,390,288"}," "," "," "]
["Specify 2"," "]
["Specify 3"," "]
["Specify 4"," "]
["Specify 5"," "]
["Specify 6"," "]
["Specify 7"," "]
["Specify 8"," "]
["Specify 9"," "]
["Specify 10"," "]
["Specify 11"," "]
["Total Deposit Taking Institutions"," ",{"$f":"SUM(C33:C43)","v":{"v":5390288117,"d":"5,390,288"}},0,0,0,0,0,0,0,0]
["Derivative Financial Assets"," "]
["Specify 1"," "]
["Specify 2"," "]
["Specify 3"," "]
["Specify 4"," "]
["Specify 5"," "]
["Specify 6"," "]
["Specify 7"," "]
["Specify 8"," "]
["Specify 9"," "]
["Specify 10"," "]
["Specify 11"," "]
["Total Derivative Financial Assets"," ",{"$f":"SUM(C46:C56)","v":0},0,0,0,0,0,0,0,0]
["Guaranteed Endowment Policies (Sinking)"," "]
["Specify 1"," "]
["Specify 2"," "]
["Specify 3"," "]
["Specify 4"," "]
["Specify 5"," "]
["Specify 6"," "]
["Specify 7"," "]
["Specify 8"," "]
["Specify 9"," "]
["Specify 10"," "]
["Specify 11"," "]
["Total Guaranteed Endowment Policies (Sinking)"," ",{"$f":"SUM(C59:C69)","v":0},0,0,0,0,0,0,0,0]
["Interest Rate Swaps"," "]
["Specify 1"," "]
["Specify 2"," "]
["Specify 3"," "]
["Specify 4"," "]
["Specify 5"," "]
["Specify 6"," "]
["Specify 7"," "]
["Specify 8"," "]
["Specify 9"," "]
["Specify 10"," "]
["Specify 11"," "]
["Total Interest Rate Swaps"," ",{"$f":"SUM(C72:C82)","v":0},0,0,0,0,0,0,0,0]
["Listed/Unlisted Bonds and Stocks"," "]
["Specify 1"," "]
["Specify 2"," "]
["Specify 3"," "]
["Specify 4"," "]
["Specify 5"," "]
["Specify 6"," "]
["Specify 7"," "]
["Specify 8"," "]
["Specify 9"," "]
["Specify 10"," "]
["Specify 11"," "]
["Total Listed/Unlisted Bonds and Stocks"," ",{"$f":"SUM(C85:C95)","v":0},0,0,0,0,0,0,0,0]
["Municipal Bonds"," "]
["Specify 1"," "]
["Specify 2"," "]
["Specify 3"," "]
["Specify 4"," "]
["Specify 5"," "]
["Specify 6"," "]
["Specify 7"," "]
["Specify 8"," "]
["Specify 9"," "]
["Specify 10"," "]
["Specify 11"," "]
["Total Municipal Bonds"," ",{"$f":"SUM(C98:C108)","v":0},0,0,0,0,0,0,0,0]
["National Government Securities"," "]
["Specify 1"," "]
["Specify 2"," "]
["Specify 3"," "]
["Specify 4"," "]
["Specify 5"," "]
["Specify 6"," "]
["Specify 7"," "]
["Specify 8"," "]
["Specify 9"," "]
["Specify 10"," "]
["Specify 11"," "]
["Total National Government Securities"," ",{"$f":"SUM(C111:C121)","v":0},0,0,0,0,0,0,0,0]
["Negotiable Certificate of Deposits"," "]
["Specify 1"," "]
["Specify 2"," "]
["Specify 3"," "]
["Specify 4"," "]
["Specify 5"," "]
["Specify 6"," "]
["Specify 7"," "]
["Specify 8"," "]
["Specify 9"," "]
["Specify 10"," "]
["Specify 11"," "]
["Total Negotiable Certificate of Deposits"," ",{"$f":"SUM(C124:C134)","v":0},0,0,0,0,0,0,0,0]
["Unamortised Debt Expense"," "]
["Specify 1"," "]
["Specify 2"," "]
["Specify 3"," "]
["Specify 4"," "]
["Specify 5"," "]
["Specify 6"," "]
["Specify 7"," "]
["Specify 8"," "]
["Specify 9"," "]
["Specify 10"," "]
["Specify 11"," "]
["Total Unamortised Debt Expense"," ",{"$f":"SUM(C137:C147)","v":0},0,0,0,0,0,0,0,0]
["Unamortised Preference Share Expense"," "]
["Specify 1"," "]
["Specify 2"," "]
["Specify 3"," "]
["Specify 4"," "]
["Specify 5"," "]
["Specify 6"," "]
["Specify 7"," "]
["Specify 8"," "]
["Specify 9"," "]
["Specify 10"," "]
["Specify 11"," "]
["Total Unamortised Preference Share Expense"," ",{"$f":"SUM(C150:C160)","v":0},0,0,0,0,0,0,0,0]
["Total Investments"," ",{"$f":"+C18+C31+C44+C57+C70+C83+C96+C109+C122+C135+C148+C161","v":{"v":5390288117,"d":"5,390,288,117"}},0,0,0,0,0,0,0,0]

{"sheet":"SA16","index":38,"n_rows":51,"n_cols":15,"rows_kept":51,"merged":[[1,3,2,3],[1,9,2,9],[2,10,2,14]]}
[{"$f":"muni&\" - \"&TableA16","v":"DC43 Harry Gwala - Supporting Table SA16 Investment particulars by maturity"}]
["Investments by Maturity",{"$f":"head27","v":"Ref"},"Period of Investment","Type of Investment","Capital Guarantee\n(Yes/ No)","Variable or Fixed interest rate","Interest Rate ᶟ","Commission Paid (Rands)","Commission Recipient","Expiry date of investment","Opening balance","Interest to be realised","Partial / Premature Withdrawal (4)","Investment Top Up","Closing Balance"]
["Name of institution & investment ID",1,"Yrs/Months"]
["Parent municipality"]
["First National Bank-Salaries",null,12,"Call account","No","Fixed","9,25",0,null,null,{"v":200000,"d":"200"},{"v":5227370,"d":"5,227"},{"v":-159280205,"d":"(159,280)"},{"v":165249911,"d":"165,250"},{"$f":"SUM(K5:N5)","v":{"v":11397076,"d":"11,397"}}]
["First National Bank-Mig",null,12,"Call account","No","Fixed","9,25",0,null,null,0,{"v":5693142,"d":"5,693"},{"v":-114477529,"d":"(114,478)"},{"v":158294233,"d":"158,294"},{"v":49509846,"d":"49,510"}]
["First National Bank-Admin Call",null,12,"ADMIN CALLt","No","Fixed","9,25",0,null,null,{"v":269281,"d":"269"},{"v":1793318,"d":"1,793"},{"v":-216357885,"d":"(216,358)"},{"v":222669160,"d":"222,669"},{"v":8373874,"d":"8,374"}]
["Investec",null,12,"FIXED DEPOSIT","No","Fixed","9,25",0,null,null,0,0,0,0,0]
["First National Bank-Mw-",null,12,"CALL ACCOUNT","No","Fixed","9,25",0,null,null,0,{"v":472314,"d":"472"},{"v":-60483321,"d":"(60,483)"},{"v":60085467,"d":"60,085"},{"v":74460,"d":"74"}]
["First National Bank-Epwp",null,12,"Call account","No","Fixed","9,25",0,null,null,{"v":80416,"d":"80"},{"v":1104911,"d":"1,105"},{"v":-64000000,"d":"(64,000)"},{"v":66647000,"d":"66,647"},{"v":3832327,"d":"3,832"}]
["First National Bank-Cogta Water Interven",null,12,"Call account","No","Fixed","9,25",0,null,null,{"v":74011145,"d":"74,011"},{"v":5627222,"d":"5,627"},{"v":-16789238,"d":"(16,789)"},{"v":58450876,"d":"58,451"},{"v":121300005,"d":"121,300"}]
["First National Bank-Fmg",null,12,"FIXED DEPOSIT","No","Fixed","9,25",0,null,null,{"v":3688,"d":"4"},{"v":1022590,"d":"1,023"},{"v":1000000,"d":"1,000"},{"v":1300000,"d":"1,300"},{"v":3326278,"d":"3,326"}]
["Fnb New 76204521754",null,12,"FIXED DEPOSIT","No","Fixed","9,25",0,null,null,{"v":53314181,"d":"53,314"},{"v":3276394,"d":"3,276"},{"v":589416,"d":"589"},0,{"v":57179991,"d":"57,180"}]
["First National Bank-Rbig",null,12,"CALL  ACCOUNT","No","Fixed","9,25",0,null,null,{"v":1138734,"d":"1,139"},{"v":41034,"d":"41"},0,0,{"v":1179768,"d":"1,180"}]
["Fnb-Current Account",null,12,"CALL ACCOUNT","No","Fixed","9,25",0,null,null,0,0,0,0,0]
["Absa Bank",null,12,"CALL  ACCOUNT","No","Fixed","9,25",0,null,null,0,0,0,0,0]
["Nedbank -37,881,166,592",null,12,"FIXED ACCOUNT","No","Fixed","9,25",0,null,null,0,0,0,0,0]
["Standard Bank",null,12,"FIXED ACCOUNT","No","Fixed","9,25",0,null,null,0,0,0,0,0]
["Standard Bank- 268610053-002",null,"1 Month","CALL ACCOUNT","No","Fixed",{"v":0.073,"d":"7.30%"},0,null,null,0,{"v":54240,"d":"54"},{"v":-22654240,"d":"(22,654)"},{"v":22600000,"d":"22,600"},0]
["Standard Bank- 268610053-003",null,"2 Months","CALL  ACCOUNT","No","Fixed",{"v":0.07375,"d":"7.38%"},0,null,null,0,{"v":191790,"d":"192"},{"v":-22791790,"d":"(22,792)"},{"v":22600000,"d":"22,600"},0]
["Standard Bank- 268610053-004",null,"3 months","CALL ACCOUNT","No","Fixed",{"v":0.074,"d":"7.40%"},0,null,null,0,{"v":343644,"d":"344"},{"v":-22943644,"d":"(22,944)"},{"v":22600000,"d":"22,600"},0]
["Nedbank",null,12,"Fixed","No","Fixed","9,25",0,0,"2024-06-30",0,0,0,0,0]
["Fnb 76205903860",null,1,"FIXED ACCOUNT","No","Fixed","9,25",0,0,"2024-06-30",0,0,0,0,0]
["Fnb 76205904082",null,12,"FIXED ACCOUNT","No","Fixed","9,25",0,null,"2024-06-30",0,0,0,0,0]
["Fnb 76206443261",null,12,"FIXED ACCOUNT","No","Fixed","9,25",0,null,"2025-06-30",0,0,0,0,0]
["Fnb 76204521754",null,12,"FIXED ACCOUNT","No","Fixed","9,25",0,null,"2025-06-30",0,0,0,0,0]
["Fnb 76206443310",null,12,"FIXED ACCOUNT","No","Fixed","9,25",0,null,"2025-06-30",0,0,0,0,0]
["Fnb 76206443237",null,12,"FIXED ACCOUNT","No","Fixed","9,25",0,null,"2025-06-30",0,0,0,0,0]
["Fnb 76206443112",null,12,"FIXED ACCOUNT","No","Fixed","9,25",0,null,"2025-06-30",0,0,0,0,0]
["Fnb 76206443196",null,12,"FIXED ACCOUNT","No","Fixed","9,25",0,null,"2025-06-30",0,0,0,0,0]
["Fnb 76206443162",null,12,"FIXED ACCOUNT","No","Fixed","9,25",0,null,"2025-06-30",0,0,0,0,0]
["Fnb 76207829907",null,12,"CALL ACCOUNT","No","Fixed","9,25",0,null,"2025-06-30",0,0,0,0,0]
["Fnb 76207829858",null,12,"CALL ACCOUNT","No","Fixed","9,25",0,null,"2025-06-30",0,0,0,0,0]
["Standard Bank - 268610053-001",null,12,"FIXED","No","Fixed","9,25",0,null,"2025-07-31",{"v":57638092,"d":"57,638"},{"v":2723855,"d":"2,724"},0,0,{"v":60361947,"d":"60,362"}]
["Fnb 76204521754",null,12,"CALL ACCOUNT","No","Fixed","9,25",0,0,"2025-09-30",0,0,0,0,0]
["Fnb 76207829882",null,12,"CALL ACCOUNT","No","Fixed","9,25",0,null,"2025-12-31",0,0,0,0,0]
["Municipality sub-total",{"$nulls":9},{"$f":"SUM(K5:K36)","v":{"v":186655537,"d":"186,656"}},null,{"$f":"SUM(M5:M36)","v":{"v":-698188436,"d":"(698,188)"}},{"$f":"SUM(N5:N36)","v":{"v":800496647,"d":"800,497"}},{"$f":"SUM(O5:O36)","v":{"v":316535572,"d":"316,536"}}]
[]
["Entities"]
[{"$nulls":14},{"$f":"SUM(K40:N40)","v":0}]
["Entities sub-total",{"$nulls":9},{"$f":"SUM(K40:K40)","v":0},null,{"$f":"SUM(M40:M40)","v":0},{"$f":"SUM(N40:N40)","v":0},{"$f":"SUM(O40:O40)","v":0}]
[]
["TOTAL INVESTMENTS AND INTEREST",1,{"$nulls":8},{"$f":"K37+K41","v":{"v":186655537,"d":"186,656"}},null,{"$f":"M37+M41","v":{"v":-698188436,"d":"(698,188)"}},{"$f":"N37+N41","v":{"v":800496647,"d":"800,497"}},{"$f":"O37+O41","v":{"v":316535572,"d":"316,536"}}]
[]
[{"$f":"head27a","v":"References"}]
["1. Total investments must reconcile to all items in Table SA15 for the Current Year (30 June)"]
["2. List investments in expiry date order"]
["3. If 'variable' is selected in column F, input interest rate range"]
["4. Withdrawals to be entered as negative"]
[]
[{"$nulls":12},"`"]

{"sheet":"SA17","index":39,"n_rows":139,"n_cols":45,"rows_kept":139,"merged":[[1,5,1,7],[1,8,1,10]]}
[{"$f":"muni&\" - \"&TableA17","v":"DC43 Harry Gwala - Supporting Table SA17 Borrowing"}]
["Borrowing - Categorised by type",{"$f":"head27","v":"Ref"},{"$f":"head1b","v":"2022/23"},{"$f":"head1A","v":"2023/24"},{"$f":"Head1","v":"2024/25"},{"$f":"Head2","v":"Current Year 2025/26"},null,null,{"$f":"Head3","v":"2026/27 Medium Term Revenue & Expenditure Framework"}]
["R thousand",null,{"$f":"Head5","v":"Audited Outcome"},{"$f":"Head5","v":"Audited Outcome"},{"$f":"Head5","v":"Audited Outcome"},{"$f":"Head6","v":"Original Budget"},{"$f":"Head7","v":"Adjusted Budget"},{"$f":"Head8","v":"Full Year Forecast"},{"$f":"Head9","v":"Budget Year 2026/27"},{"$f":"Head10","v":"Budget Year +1 2027/28"},{"$f":"Head11","v":"Budget Year +2 2028/29"}]
[]
["Borrowings"," "]
["Annuity and Bullet Loans"," "]
["Banks"," ",{"v":-0.02,"d":"(0)"},{"v":-0.02,"d":"(0)"},{"v":-0.02,"d":"(0)"},0,0,0,0,0,0]
["Development Bank of South Africa"," "]
["Foreign Government and International Organisations"," "]
["General Public"," "]
["Infrastructure Finance Corporation"," "]
["Insurance Companies and Private Pension Funds"," "]
["Municipal Pension Funds"," "]
["Other Public Pension Funds"," "]
["Private Enterprises"," "]
["Public Corporations"," "]
["Public Investments Commissioners"," "]
["Total Annuity and Bullet Loans"," ",{"$f":"SUM(C7:C17)","v":{"v":-0.02,"d":"(0)"}},{"v":-0.02,"d":"(0)"},{"v":-0.02,"d":"(0)"},0,0,0,0,0,0]
["Bankers Acceptance Certificate"," "]
["Banks"," "]
["Development Bank of South Africa"," "]
["Foreign Government and International Organisations"," "]
["General Public"," "]
["Infrastructure Finance Corporation"," "]
["Insurance Companies and Private Pension Funds"," "]
["Municipal Pension Funds"," "]
["Other Public Pension Funds"," "]
["Private Enterprises"," "]
["Public Corporations"," "]
["Public Investments Commissioners"," "]
["Total Bankers Acceptance Certificate"," ",{"$f":"SUM(C20:C30)","v":0},{"$f":"SUM(D20:D30)","v":0},0,0,0,0,0,0,0]
["Concessionary Loan"," ",0,0,0,0,0,0,0,0,0]
["Derivative Financial Liability"," "]
["Banks"," "]
["Development Bank of South Africa"," "]
["Foreign Government and International Organisations"," "]
["General Public"," "]
["Infrastructure Finance Corporation"," "]
["Insurance Companies and Private Pension Funds"," "]
["Municipal Pension Funds"," "]
["Other Public Pension Funds"," ",{"$nulls":40},439005000,null,539442200]
["Private Enterprises"," "]
["Public Corporations"," ",{"$nulls":20},0,null,0,null,null,0,null,0,null,null,0,null,0,null,null,0,null,0,null,null,1834701353,null,1241876995]
["Public Investments Commissioners"," ",{"$nulls":40},839041298,null,440387617]
["Total Derivative Financial Liability"," ",{"$f":"SUM(C34:C44)","v":0},0,0,0,0,0,0,0,0,{"$nulls":31},976543638,null,782372961]
["Finance Lease Liability"," ",{"$nulls":40},19116417,null,19116417]
["Banks"," ",{"$nulls":40},2273706353,null,1781319195]
["Development Bank of South Africa"," ",{"$nulls":40},180259232,null,140396729]
["Foreign Government and International Organisations"," ",{"$nulls":40},125005000,null,100442200]
["General Public"," ",{"$nulls":40},40341797,null,38954529]
["Infrastructure Finance Corporation"," ",{"$nulls":40},14912435,null,1000000]
["Insurance Companies and Private Pension Funds"," "]
["Municipal Pension Funds"," "]
["Other Public Pension Funds"," "]
["Private Enterprises"," ",0,0,0,0,0,0,0,0,0]
["Public Corporations"," "]
["Public Investments Commissioners"," "]
["Total Finance Lease Liability"," ",{"$f":"SUM(C47:C57)","v":0},0,0,0,0,0,0,0,0]
["Government Loans"," "]
["Intercompany/Parent-subsidiary Transactions"," "]
["Local Registered Stock"," "]
["Banks"," "]
["Development Bank of South Africa"," "]
["Foreign Government and International Organisations"," "]
["General Public"," "]
["Infrastructure Finance Corporation"," "]
["Insurance Companies and Private Pension Funds"," "]
["Municipal Pension Funds"," "]
["Other Public Pension Funds"," "]
["Private Enterprises"," "]
["Public Corporations"," "]
["Public Investments Commissioners"," "]
["Total Registered Stock"," ",{"$f":"SUM(C62:C72)","v":0},0,0,0,0,0,0,0,0]
["Marketable Bonds"," "]
["Banks"," "]
["Development Bank of South Africa"," "]
["Foreign Government and International Organisations"," "]
["General Public"," "]
["Infrastructure Finance Corporation"," "]
["Insurance Companies and Private Pension Funds"," "]
["Municipal Pension Funds"," "]
["Other Public Pension Funds"," "]
["Private Enterprises"," "]
["Public Corporations"," "]
["Public Investments Commissioners"," "]
["Total Marketable Bonds"," ",{"$f":"SUM(C75:C85)","v":0},0,0,0,0,0,0,0,0]
["Non-annuity Loans"," "]
["Banks"," "]
["Development Bank of South Africa"," "]
["Foreign Government and International Organisations"," "]
["General Public"," "]
["Infrastructure Finance Corporation"," "]
["Insurance Companies and Private Pension Funds"," "]
["Municipal Pension Funds"," "]
["Other Public Pension Funds"," "]
["Private Enterprises"," "]
["Public Corporations"," "]
["Public Investments Commissioners"," "]
["Total Non-annuity Loans"," ",{"$f":"SUM(C88:C98)","v":0},0,0,0,0,0,0,0,0]
["Non-marketable Bonds"," "]
["Banks"," "]
["Foreign Government and International Organisations"," "]
["General Public"," "]
["Municipal Pension Funds"," "]
["Other Public Pension Funds"," "]
["Private Enterprises"," "]
["Public Corporations"," ",0,0,0,0,0,0,0,0,0]
["Total Non-marketable Bonds"," ",{"$f":"SUM(C101:C107)","v":0},0,0,0,0,0,0,0,0]
["PPP Liabilities"," "]
["Banks"," "]
["Development Bank of South Africa"," "]
["Foreign Government and International Organisations"," "]
["General Public"," "]
["Infrastructure Finance Corporation"," "]
["Insurance Companies and Private Pension Funds"," "]
["Municipal Pension Funds"," "]
["Other Public Pension Funds"," "]
["Private Enterprises"," "]
["Public Corporations"," "]
["Public Investments Commissioners"," "]
["Total PPP Liabilities"," ",{"$f":"SUM(C110:C120)","v":0},0,0,0,0,0,0,0,0]
["Securities"," "]
["Banks"," "]
["Development Bank of South Africa"," "]
["Foreign Government and International Organisations"," "]
["General Public"," "]
["Infrastructure Finance Corporation"," "]
["Insurance Companies and Private Pension Funds"," "]
["Municipal Pension Funds"," "]
["Other Public Pension Funds"," "]
["Private Enterprises"," "]
["Public Corporations"," "]
["Public Investments Commissioners"," "]
["Total Securities"," ",{"$f":"SUM(C123:C133)","v":0},0,0,0,0,0,0,0,0]
["Interest Rate Swaps"," "]
["Total Borrowings",1,{"$f":"SUM(C18+C31+C32+C45+C58+C59+C60+C73+C86+C99+C108+C121+C134+C135)","v":{"v":-0.02,"d":"(0)"}},{"v":-0.02,"d":"(0)"},{"v":-0.02,"d":"(0)"},0,0,0,0,0,0]
[]
[{"$f":"head27a","v":"References"}]
["1. Total borrowing must reconcile to Budgeted Financial Position (Borrowing - non-current)"]

{"sheet":"SA18","index":40,"n_rows":104,"n_cols":11,"rows_kept":104,"merged":[[1,5,1,7],[1,8,1,10]]}
[{"$f":"muni&\" - \"& TableA18","v":"DC43 Harry Gwala - Supporting Table SA18 Transfers and grant receipts"}]
[{"$f":"desc","v":"Description"},{"$f":"head27","v":"Ref"},{"$f":"head1b","v":"2022/23"},{"$f":"head1A","v":"2023/24"},{"$f":"Head1","v":"2024/25"},{"$f":"Head2","v":"Current Year 2025/26"},null,null,{"$f":"Head3","v":"2026/27 Medium Term Revenue & Expenditure Framework"}]
["R thousand",null,{"$f":"Head5","v":"Audited Outcome"},{"$f":"Head5","v":"Audited Outcome"},{"$f":"Head5","v":"Audited Outcome"},{"$f":"Head6","v":"Original Budget"},{"$f":"Head7","v":"Adjusted Budget"},{"$f":"Head8","v":"Full Year Forecast"},{"$f":"Head9","v":"Budget Year 2026/27"},{"$f":"Head10","v":"Budget Year +1 2027/28"},{"$f":"Head11","v":"Budget Year +2 2028/29"}]
["RECEIPTS",1.2]
["Operating",""]
["National Government",""]
["Monetary Allocations",""]
["Equitable Share"," ",{"v":432161000,"d":"432,161"},{"v":463631000,"d":"463,631"},{"v":491837000,"d":"491,837"},{"v":520871000,"d":"520,871"},{"v":520871000,"d":"520,871"},{"v":520871000,"d":"520,871"},{"v":548684000,"d":"548,684"},{"v":577955000,"d":"577,955"},{"v":592713000,"d":"592,713"}]
[null," "]
["EEDS: RECEIPTS"," ",0,0,0,0,0,0,0,0,0]
["EPWP: RECEIPTS"," ",{"v":5221000,"d":"5,221"},{"v":5823000,"d":"5,823"},{"v":4460000,"d":"4,460"},{"v":3660000,"d":"3,660"},{"v":3660000,"d":"3,660"},{"v":3660000,"d":"3,660"},{"v":3007000,"d":"3,007"},0,0]
["INPUT HEADER DESC: RECEIPTS"," ",{"v":1200000,"d":"1,200"},{"v":1200000,"d":"1,200"},{"v":1200000,"d":"1,200"},{"v":1300000,"d":"1,300"},{"v":1300000,"d":"1,300"},{"v":1300000,"d":"1,300"},{"v":1400000,"d":"1,400"},{"v":1500000,"d":"1,500"},{"v":1700000,"d":"1,700"}]
["LGFMG: RECEIPTS"," ",0,0,0,0,0,0,0,0,0]
["MDG: RECEIPTS"," ",0,0,0,0,0,0,0,0,0]
["MIG: RECEIPTS"," ",0,0,0,{"v":45547820,"d":"45,548"},{"v":45547820,"d":"45,548"},{"v":45547820,"d":"45,548"},{"v":28283120,"d":"28,283"},{"v":31564032,"d":"31,564"},{"v":32606589,"d":"32,607"}]
["RAMS: RECEIPTS"," ",{"v":2381000,"d":"2,381"},{"v":2391000,"d":"2,391"},{"v":2498000,"d":"2,498"},{"v":2610000,"d":"2,610"},{"v":2610000,"d":"2,610"},{"v":2610000,"d":"2,610"},{"v":2715000,"d":"2,715"},{"v":2823000,"d":"2,823"},{"v":2911000,"d":"2,911"}]
[null," "]
[null," "]
[null," "]
["Total Monetary Allocations","",{"$f":"SUM(C8:C19)","v":{"v":440963000,"d":"440,963"}},{"v":473045000,"d":"473,045"},{"v":499995000,"d":"499,995"},{"v":573988820,"d":"573,989"},{"v":573988820,"d":"573,989"},{"v":573988820,"d":"573,989"},{"v":584089120,"d":"584,089"},{"v":613842032,"d":"613,842"},{"v":629930589,"d":"629,931"}]
["Total Operating/National Government","",{"$f":"SUM(C8:C19)","v":{"v":440963000,"d":"440,963"}},{"v":473045000,"d":"473,045"},{"v":499995000,"d":"499,995"},{"v":573988820,"d":"573,989"},{"v":573988820,"d":"573,989"},{"v":573988820,"d":"573,989"},{"v":584089120,"d":"584,089"},{"v":613842032,"d":"613,842"},{"v":629930589,"d":"629,931"}]
["Provincial Government",""]
["Monetary Allocations",""]
["DEV PLAN & SHARED SERV: RECEIPTS"," ",0,0,0,0,0,0,0,0,0]
[null," "]
["Total Monetary Allocations","",{"$f":"SUM(C24:C25)","v":0},{"$f":"SUM(D24:D25)","v":0},0,0,0,0,0,0,0]
["Total Operating/Provincial Government","",{"$f":"SUM(C24:C25)","v":0},{"$f":"SUM(D24:D25)","v":0},0,0,0,0,0,0,0]
["District Municipalities"]
["Monetary Allocations"]
["  Other transfers/grants [insert description]"]
[]
["Total Monetary Allocations",null,{"$f":"SUM(C30:C31)","v":0},0,0,0,0,0,0,0,0]
["Allocations In-kind"]
["  Other transfers/grants [insert description]"]
[]
["Total Allocations In-kind",null,{"$f":"SUM(C34:C35)","v":0},0,0,0,0,0,0,0,0]
["Total Operating/District Municipalities",null,{"$f":"C36+C32","v":0},{"$f":"D36+D32","v":0},0,0,0,0,0,0,0]
["Other Grant Providers",""]
["Monetary Allocations",""]
["NAT SKILL: RECEIPTS"," ",0,0,0,0,0,0,0,0,0]
[null," "]
[null," "]
[null," "]
[null," "]
["Total Monetary Allocations","",{"$f":"SUM(C40:C44)","v":0},0,0,0,0,0,0,0,0]
["Allocations In-kind",""]
["INPUT HEADER DESC: RECEIPTS",null,0,0,0,0,0,0,0,0,0]
["  [insert description]"," "]
["Total Allocations In-kind","",{"$f":"C48","v":0},{"$f":"D48","v":0},0,0,0,0,0,0,0]
["Total Operating/Other Grant Providers","",{"$f":"C49+C45","v":0},{"$f":"D49+D45","v":0},0,0,0,0,0,0,0]
["Total Operating",5,{"$f":"C50+C37+C27+C21","v":{"v":440963000,"d":"440,963"}},{"$f":"D50+D37+D27+D21","v":{"v":473045000,"d":"473,045"}},{"$f":"E50+E37+E27+E21","v":{"v":499995000,"d":"499,995"}},{"$f":"F50+F37+F27+F21","v":{"v":573988820,"d":"573,989"}},{"v":573988820,"d":"573,989"},{"v":573988820,"d":"573,989"},{"$f":"SUM(I8:I19,I24:I25,I40:I44,I48)","v":{"v":584089120,"d":"584,089,120"}},{"$f":"SUM(J8:J19,J24:J25,J40:J44,J48)","v":{"v":613842032,"d":"613,842,032"}},{"$f":"SUM(K8:K19,K24:K25,K40:K44,K48)","v":{"v":629930589,"d":"629,930,589"}}]
["Capital",""]
["National Government",""]
["Monetary Allocations",""]
["MIG: RECEIPTS"," ",{"v":231011000,"d":"231,011"},{"v":236130000,"d":"236,130"},{"v":217842000,"d":"217,842"},{"v":193458180,"d":"193,458"},{"v":193458180,"d":"193,458"},{"v":193458180,"d":"193,458"},{"v":213866880,"d":"213,867"},{"v":238675968,"d":"238,676"},{"v":237559412,"d":"237,559"}]
["NDPG: RECEIPTS"," ",0,0,0,0,0,0,0,0,0]
["RBIG: RECEIPTS"," ",0,0,0,0,0,0,0,0,0]
["RRAMS: RECEIPTS"," ",0,0,0,0,0,0,0,0,0]
["WSIG: RECEIPTS"," ",{"v":85000000,"d":"85,000"},{"v":90000000,"d":"90,000"},{"v":100000000,"d":"100,000"},{"v":100000000,"d":"100,000"},{"v":100000000,"d":"100,000"},{"v":100000000,"d":"100,000"},{"v":115000000,"d":"115,000"},{"v":150750000,"d":"150,750"},{"v":136172000,"d":"136,172"}]
[null," "]
["Total Monetary Allocations","",{"$f":"SUM(C55:C60)","v":{"v":316011000,"d":"316,011"}},{"$f":"SUM(D55:D60)","v":{"v":326130000,"d":"326,130"}},{"v":317842000,"d":"317,842"},{"v":293458180,"d":"293,458"},{"v":293458180,"d":"293,458"},{"v":293458180,"d":"293,458"},{"v":328866880,"d":"328,866,880"},{"v":389425968,"d":"389,425,968"},{"v":373731412,"d":"373,731,412"}]
["Total Capital/National Government","",{"$f":"SUM(C55:C60)","v":{"v":316011000,"d":"316,011"}},{"$f":"SUM(D55:D60)","v":{"v":326130000,"d":"326,130"}},{"v":317842000,"d":"317,842"},{"v":293458180,"d":"293,458"},{"v":293458180,"d":"293,458"},{"v":293458180,"d":"293,458"},{"v":328866880,"d":"328,866,880"},{"v":389425968,"d":"389,425,968"},{"v":373731412,"d":"373,731,412"}]
["Provincial Government",""]
["Monetary Allocations",""]
["COGTA: RECEIPTS"," ",0,0,0,0,0,0,0,0,0]
["DWS: RECEIPTS",null,0,0,{"v":24064325,"d":"24,064"},0,0,0,0,0,0]
[null," "]
["Total Monetary Allocations","",{"$f":"SUM(C65:C67)","v":0},0,{"v":24064325,"d":"24,064"},0,0,0,0,0,0]
["Allocations In-kind",""]
["  Other transfers/grants [insert description]"," "]
["Total Allocations In-kind","",{"$f":"C70","v":0},0,0,0,0,0,0,0,0]
["Total Capital/Provincial Government","",{"$f":"C71+C68","v":0},{"$f":"D71+D68","v":0},{"v":24064325,"d":"24,064"},0,0,0,0,0,0]
["District Municipalities"]
["Monetary Allocations"]
["  Other transfers/grants [insert description]"]
[]
["Total Monetary Allocations",null,{"$f":"SUM(C75:C76)","v":0},0,0,0,0,0,0,0,0]
["Allocations In-kind"]
["  Other transfers/grants [insert description]"]
[]
["Total Allocations In-kind",null,{"$f":"SUM(C79:C80)","v":0},0,0,0,0,0,0,0,0]
["Total Capital/District Municipalities",null,{"$f":"C81+C77","v":0},{"$f":"D81+D77","v":0},0,0,0,0,0,0,0]
["Other Grant Providers",""]
["Monetary Allocations",""]
["DBSA: RECEIPTS"," ",0,0,0,0,0,0,0,0,0]
["HUMAN SETTLEMENT: RECEIPTS"," ",0,0,0,0,0,0,0,0,0]
["INPUT HEADER DESC: RECEIPTS",null,0,0,0,0,0,0,0,0,0]
["NAT DEV AGENCY: RECEIPTS",null,0,0,0,0,0,0,0,0,0]
[null," "]
["Total Monetary Allocations","",{"$f":"SUM(C85:C89)","v":0},0,0,0,0,0,0,0,0]
["Allocations In-kind",""]
["  [insert description]"," "]
["INPUT HEADER DESC: RECEIPTS",null,0,0,0,0,0,0,0,0,0]
["Total Allocations In-kind","",{"$f":"C92","v":0},{"$f":"D92","v":0},0,0,0,0,0,0,0]
["Total Capital/Other Grant Providers","",{"$f":"C94+C90","v":0},{"$f":"D94+D90","v":0},0,0,0,0,{"$f":"SUM(I85:I89,I92)","v":0},0,0]
["Total Capital",5,{"$f":"C95+C82+C72+C62","v":{"v":316011000,"d":"316,011"}},{"$f":"D95+D82+D72+D62","v":{"v":326130000,"d":"326,130"}},{"v":341906325,"d":"341,906"},{"v":293458180,"d":"293,458"},{"v":293458180,"d":"293,458"},{"v":293458180,"d":"293,458"},{"$f":"SUM(I55:I60,I65:I67,I70,I85:I89,I92)","v":{"v":328866880,"d":"328,867"}},{"v":389425968,"d":"389,426"},{"v":373731412,"d":"373,731"}]
["TOTAL RECEIPTS OF TRANSFERS AND GRANTS","",{"$f":"C96+C51","v":{"v":756974000,"d":"756,974"}},{"$f":"D96+D51","v":{"v":799175000,"d":"799,175"}},{"v":841901325,"d":"841,901"},{"v":867447000,"d":"867,447"},{"v":867447000,"d":"867,447"},{"v":867447000,"d":"867,447"},{"v":912956000,"d":"912,956"},{"v":1003268000,"d":"1,003,268"},{"v":1003662001,"d":"1,003,662"}]
["References"]
["1. Each transfer/grant is listed by name as gazetted together with the name of the transferring department or municipality, donor or other organisation"]
["2. Amounts actually RECEIVED; not revenue recognised (objective is to confirm grants transferred)"]
["3. Replacement of RSC levies"]
["4. Housing subsidies for housing where ownership transferred to organisations or persons outside the control of the municipality"]
["5. Total transfers and grants must reconcile to Budgeted Cash Flows"]
["6. Motor vehicle licensing refunds to be included under 'agency' services (Not Grant Receipts)"]

{"sheet":"SA19","index":41,"n_rows":93,"n_cols":11,"rows_kept":93,"merged":[[1,5,1,7],[1,8,1,10]]}
[{"$f":"muni&\" - \"& TableA19","v":"DC43 Harry Gwala - Supporting Table SA19 Expenditure on transfers and grant programme"}]
[{"$f":"desc","v":"Description"},{"$f":"head27","v":"Ref"},{"$f":"head1b","v":"2022/23"},{"$f":"head1A","v":"2023/24"},{"$f":"Head1","v":"2024/25"},{"$f":"Head2","v":"Current Year 2025/26"},null,null,{"$f":"Head3","v":"2026/27 Medium Term Revenue & Expenditure Framework"}]
["R thousand",null,{"$f":"Head5","v":"Audited Outcome"},{"$f":"Head5","v":"Audited Outcome"},{"$f":"Head5","v":"Audited Outcome"},{"$f":"Head6","v":"Original Budget"},{"$f":"Head7","v":"Adjusted Budget"},{"$f":"Head8","v":"Full Year Forecast"},{"$f":"Head9","v":"Budget Year 2026/27"},{"$f":"Head10","v":"Budget Year +1 2027/28"},{"$f":"Head11","v":"Budget Year +2 2028/29"}]
["EXPENDITURE",1]
["Operating",""]
["National Government",""]
["Monetary Allocations",""]
["Local Government Equitable Share"," ",{"v":536551433.21,"d":"536,551"},{"v":662031772.97,"d":"662,032"},{"v":569648937.4,"d":"569,649"},{"v":600318037,"d":"600,318"},{"v":663697281,"d":"663,697"},{"v":663697281,"d":"663,697"},{"v":666720197,"d":"666,720"},{"v":692443322,"d":"692,443"},{"v":715587348,"d":"715,587"}]
["Energy Efficiency and Demand Side Management Grant"," ",0,0,0,0,0,0,0,0,0]
[null," "]
["Expanded Public Works Programme Integrated Grant"," ",{"v":9729405.66,"d":"9,729"},{"v":7176541.99,"d":"7,177"},{"v":5270340.21,"d":"5,270"},{"v":8988134,"d":"8,988"},{"v":9694420,"d":"9,694"},{"v":9694420,"d":"9,694"},{"v":10082197,"d":"10,082"},{"v":10482933,"d":"10,483"},{"v":10899235,"d":"10,899"}]
["Local Government Financial Management Grant"," ",{"v":847378.34,"d":"847"},{"v":1199997.27,"d":"1,200"},{"v":1128883.98,"d":"1,129"},{"v":1119997,"d":"1,120"},{"v":1120000,"d":"1,120"},{"v":1120000,"d":"1,120"},{"v":1400000,"d":"1,400"},{"v":1500000,"d":"1,500"},{"v":1700003,"d":"1,700"}]
["Municipal Disaster Relief Grant"," ",0,0,0,0,0,0,0,0,0]
["Municipal Infrastructure Grant"," ",{"v":9605908,"d":"9,606"},{"v":7568876.37,"d":"7,569"},{"v":30815272.26,"d":"30,815"},{"v":45613315,"d":"45,613"},{"v":45659632,"d":"45,660"},{"v":45659632,"d":"45,660"},{"v":28283120,"d":"28,283"},{"v":31564033,"d":"31,564"},{"v":32606590,"d":"32,607"}]
["Rural Road Asset Management Systems Grant"," ",{"v":2070434.78,"d":"2,070"},{"v":2079130.42,"d":"2,079"},{"v":2172173.91,"d":"2,172"},{"v":2610000,"d":"2,610"},{"v":2610000,"d":"2,610"},{"v":2610000,"d":"2,610"},{"v":2715000,"d":"2,715"},{"v":2823000,"d":"2,823"},{"v":2911000,"d":"2,911"}]
["Water Services Infrastructure Grant"," ",{"v":1754547.6,"d":"1,755"},0,{"v":1173700,"d":"1,174"},0,0,0,0,0,0]
[null," "]
[null," "]
[null," "]
["Total Monetary Allocations","",{"$f":"SUM(C8:C19)","v":{"v":560559107.59,"d":"560,559"}},{"$f":"SUM(D8:D19)","v":{"v":680056319.02,"d":"680,056"}},{"v":610209307.76,"d":"610,209"},{"v":658649483,"d":"658,649"},{"v":722781333,"d":"722,781"},{"v":722781333,"d":"722,781"},{"v":709200514,"d":"709,201"},{"v":738813288,"d":"738,813"},{"v":763704176,"d":"763,704"}]
["Total National Government","",{"$f":"SUM(C8:C19)","v":{"v":560559107.59,"d":"560,559"}},{"v":680056319.02,"d":"680,056"},{"v":610209307.76,"d":"610,209"},{"v":658649483,"d":"658,649"},{"v":722781333,"d":"722,781"},{"v":722781333,"d":"722,781"},{"v":709200514,"d":"709,201"},{"v":738813288,"d":"738,813"},{"v":763704176,"d":"763,704"}]
["Provincial Government",""]
["Monetary Allocations",""]
["Capacity Building and Other Grants"," ",0,0,0,{"v":228174,"d":"228"},{"v":228174,"d":"228"},{"v":228174,"d":"228"},{"v":237301,"d":"237"},{"v":246793,"d":"247"},{"v":256665,"d":"257"}]
[null," "]
["Total Monetary Allocations","",{"$f":"SUM(C24:C25)","v":0},{"$f":"SUM(D24:D25)","v":0},0,{"v":228174,"d":"228"},{"v":228174,"d":"228"},{"v":228174,"d":"228"},{"v":237301,"d":"237"},{"v":246793,"d":"247"},{"v":256665,"d":"257"}]
["Total Provincial Government","",{"$f":"SUM(C24:C25)","v":0},{"$f":"SUM(D24:D25)","v":0},0,{"v":228174,"d":"228"},{"v":228174,"d":"228"},{"v":228174,"d":"228"},{"v":237301,"d":"237"},{"v":246793,"d":"247"},{"v":256665,"d":"257"}]
["District Municipalities"]
["Monetary Allocations"]
["  Other transfers/grants [insert description]"]
["Specify (Add grant description)",null,0,0,0,{"v":4869061,"d":"4,869"},{"v":4869061,"d":"4,869"},{"v":4869061,"d":"4,869"},{"v":13030935,"d":"13,031"},{"v":13482361,"d":"13,482"},{"v":13938807,"d":"13,939"}]
[]
["Total Monetary Allocations",null,{"$f":"SUM(C30:C32)","v":0},{"$f":"SUM(D30:D32)","v":0},0,{"v":4869061,"d":"4,869"},{"v":4869061,"d":"4,869"},{"v":4869061,"d":"4,869"},{"v":13030935,"d":"13,030,935"},{"v":13482361,"d":"13,482,361"},{"v":13938807,"d":"13,938,807"}]
["Allocations In-kind"]
["  Other transfers/grants [insert description]"]
[]
["Total Allocations In-kind",null,{"$f":"SUM(C35:C36)","v":0},{"$f":"SUM(D35:D36)","v":0},0,0,0,0,0,0,0]
["Total Operating/District Municipalities",null,{"$f":"SUM(C30:C32) + SUM(C35:C36)","v":0},{"$f":"SUM(D30:D32) + SUM(D35:D36)","v":0},0,{"v":4869061,"d":"4,869"},{"$f":"SUM(G30:G32) + SUM(G35:G36)","v":{"v":4869061,"d":"4,869"}},{"v":4869061,"d":"4,869"},{"v":13030935,"d":"13,031"},{"v":13482361,"d":"13,482"},{"v":13938807,"d":"13,939"}]
["Other Grant Providers",""]
["Monetary Allocations",""]
["Chemical Industry Seta"," ",0,0,0,0,0,0,0,0,0]
[null," "]
[null," "]
[null," "]
[null," "]
["Total Monetary Allocations","",{"$f":"SUM(C41:C45)","v":0},0,0,0,0,0,0,0,0]
["Allocations In-kind",""]
["  Other transfers/grants [insert description]"," "]
[null," "]
["Total Allocations In-kind","",{"$f":"SUM(C48:C49)","v":0},{"$f":"SUM(D48:D49)","v":0},0,0,0,0,0,0,0]
["Total Operating/Other Grant Providers","",{"$f":"SUM(C41:C45,C50)","v":0},{"$f":"SUM(D41:D45,D50)","v":0},0,0,0,0,0,0,0]
["Total operating expenditure of Transfers and Grants","",{"$f":"C21+C27+C38+C51","v":{"v":560559107.59,"d":"560,559"}},{"$f":"D21+D27+D38+D51","v":{"v":680056319.02,"d":"680,056"}},{"v":610209307.76,"d":"610,209"},{"v":663746718,"d":"663,747"},{"v":727878568,"d":"727,879"},{"$f":"H21+H27+H38+H51","v":{"v":727878568,"d":"727,879"}},{"v":722468750,"d":"722,469"},{"v":752542442,"d":"752,542"},{"v":777899648,"d":"777,900"}]
["Capital",""]
["National Government",""]
["Monetary Allocations",""]
["Local Government Financial Management Grant"," ",{"v":274912.4,"d":"275"},0,0,{"v":4816363,"d":"4,816"},{"v":180000,"d":"180"},{"v":180000,"d":"180"},0,0,0]
["Municipal Infrastructure Grant "," ",{"v":171657312.16,"d":"171,657"},{"v":214738925.44,"d":"214,739"},{"v":169197533.79,"d":"169,198"},{"v":168224495,"d":"168,224"},{"v":168224495,"d":"168,224"},{"v":168224495,"d":"168,224"},{"v":185971209,"d":"185,971"},{"v":207544325,"d":"207,544"},{"v":214399498,"d":"214,399"}]
["Regional Bulk Infrastructure Grant "," ",0,0,0,0,0,0,0,0,0]
["Water Services Infrastructure Grant  "," ",{"v":75488805.27,"d":"75,489"},{"v":83309528.62,"d":"83,310"},{"v":85881722.95,"d":"85,882"},{"v":86956521,"d":"86,957"},{"v":86956528,"d":"86,957"},{"v":86956528,"d":"86,957"},{"v":100000001,"d":"100,000"},{"v":131086957,"d":"131,087"},{"v":118410435,"d":"118,410"}]
[null," "]
[null," "]
["Total Monetary Allocations","",{"$f":"SUM(C56:C61)","v":{"v":247421029.82999998,"d":"247,421"}},{"v":298048454.06,"d":"298,048"},{"v":255079256.74,"d":"255,079"},{"v":259997379,"d":"259,997"},{"v":255361023,"d":"255,361"},{"v":255361023,"d":"255,361"},{"v":285971210,"d":"285,971"},{"v":338631282,"d":"338,631"},{"v":332809933,"d":"332,810"}]
["Total National Government","",{"$f":"SUM(C56:C61)","v":{"v":247421029.82999998,"d":"247,421"}},{"v":298048454.06,"d":"298,048"},{"v":255079256.74,"d":"255,079"},{"v":259997379,"d":"259,997"},{"v":255361023,"d":"255,361"},{"v":255361023,"d":"255,361"},{"v":285971210,"d":"285,971"},{"v":338631282,"d":"338,631"},{"v":332809933,"d":"332,810"}]
["Provincial Government",""]
["Monetary Allocations",""]
["Infrastructure Grant"," ",{"v":3887850,"d":"3,888"},0,{"v":20925500,"d":"20,926"},0,0,0,0,0,0]
[null," "]
["Total Monetary Allocations","",{"$f":"SUM(C66:C67)","v":{"v":3887850,"d":"3,888"}},0,{"v":20925500,"d":"20,926"},0,0,0,0,0,0]
["Total Provincial Government","",{"$f":"SUM(C66:C67)","v":{"v":3887850,"d":"3,888"}},0,{"v":20925500,"d":"20,926"},0,0,0,0,0,0]
["District Municipalities"]
["Monetary Allocations"]
["Specify (Add grant description)",null,0,0,0,{"v":150000,"d":"150"},{"v":150000,"d":"150"},{"v":150000,"d":"150"},{"v":154950,"d":"155"},{"v":159599,"d":"160"},{"v":165983,"d":"166"}]
[]
["Total Monetary Allocations",null,{"$f":"SUM(C72:C73)","v":0},0,0,{"v":150000,"d":"150"},{"v":150000,"d":"150"},{"v":150000,"d":"150"},{"v":154950,"d":"154,950"},{"v":159599,"d":"159,599"},{"v":165983,"d":"165,983"}]
["Allocations In-kind"]
["  Other transfers/grants [insert description]"]
[]
["Total Allocations In-kind",null,{"$f":"SUM(C76:C77)","v":0},0,0,0,0,0,0,0,0]
["Total Capital/District Municipalities",null,{"$f":"C78+C74","v":0},0,0,{"v":150000,"d":"150"},{"v":150000,"d":"150"},{"v":150000,"d":"150"},{"v":154950,"d":"155"},{"v":159599,"d":"160"},{"v":165983,"d":"166"}]
["Other Grant Providers",""]
["Monetary Allocations",""]
["  Other transfers/grants [insert description]"," "]
[null," "]
[null," "]
["Total Monetary Allocations","",{"$f":"SUM(C82:C84)","v":0},0,0,0,0,0,0,0,0]
["Allocations In-kind",""]
[null," "]
["Total Allocations In-kind","",{"$f":"C87","v":0},0,0,0,0,0,0,0,0]
["Total Capital/Other Grant Providers","",{"$f":"C88+C85","v":0},0,0,0,0,0,{"$f":"SUM(I82:I84,I87)","v":0},{"$f":"SUM(J82:J84,J87)","v":0},{"$f":"SUM(K82:K84,K87)","v":0}]
["Total capital expenditure of Transfers and Grants","",{"$f":"C63+C69+C79+C88","v":{"v":251308879.82999998,"d":"251,309"}},{"$f":"D63+D69+D79+D88","v":{"v":298048454.06,"d":"298,048"}},{"v":276004756.74,"d":"276,005"},{"v":260147379,"d":"260,147"},{"v":255511023,"d":"255,511"},{"v":255511023,"d":"255,511"},{"v":286126160,"d":"286,126"},{"v":338790881,"d":"338,791"},{"v":332975916,"d":"332,976"}]
["TOTAL EXPENDITURE OF TRANSFERS AND GRANTS","",{"$f":"C52+C90","v":{"v":811867987.4200001,"d":"811,868"}},{"$f":"D52+D90","v":{"v":978104773.0799999,"d":"978,105"}},{"v":886214064.5,"d":"886,214"},{"v":923894097,"d":"923,894"},{"v":983389591,"d":"983,390"},{"v":983389591,"d":"983,390"},{"v":1008594910,"d":"1,008,595"},{"v":1091333323,"d":"1,091,333"},{"v":1110875564,"d":"1,110,876"}]
[{"$f":"head27a","v":"References"}]
["1. Expenditure must be separately listed for each transfer or grant received or recognised"]

{"sheet":"SA20","index":42,"n_rows":58,"n_cols":11,"rows_kept":58,"merged":[[1,5,1,7],[1,8,1,10],[55,0,55,10],[56,0,56,10],[57,0,57,10]]}
[{"$f":"muni&\" - \"& TableA20","v":"DC43 Harry Gwala - Supporting Table SA20 Reconciliation of transfers, grant receipts and unspent funds"}]
[{"$f":"desc","v":"Description"},{"$f":"head27","v":"Ref"},{"$f":"head1b","v":"2022/23"},{"$f":"head1A","v":"2023/24"},{"$f":"Head1","v":"2024/25"},{"$f":"Head2","v":"Current Year 2025/26"},null,null,{"$f":"Head3","v":"2026/27 Medium Term Revenue & Expenditure Framework"}]
["R thousand",null,{"$f":"Head5","v":"Audited Outcome"},{"$f":"Head5","v":"Audited Outcome"},{"$f":"Head5","v":"Audited Outcome"},{"$f":"Head6","v":"Original Budget"},{"$f":"Head7","v":"Adjusted Budget"},{"$f":"Head8","v":"Full Year Forecast"},{"$f":"Head9","v":"Budget Year 2026/27"},{"$f":"Head10","v":"Budget Year +1 2027/28"},{"$f":"Head11","v":"Budget Year +2 2028/29"}]
["Operating transfers and grants:","1,3"]
[{"$f":"'SA18'!A7","v":"Monetary Allocations"}]
["Balance unspent at beginning of the year",null,{"v":17489516.19,"d":"17,490"},{"v":26968528.81,"d":"26,969"},{"v":31455746.18,"d":"31,456"},0,0,0,0,0,0]
["Current year receipts",null,{"v":-8802000,"d":"(8,802)"},{"v":-9414000,"d":"(9,414)"},{"v":-8158000,"d":"(8,158)"},{"v":-53117820,"d":"(53,118)"},{"v":-53117820,"d":"(53,118)"},{"v":-53117820,"d":"(53,118)"},{"v":-35405120,"d":"(35,405)"},{"v":-35887032,"d":"(35,887)"},{"v":-37217589,"d":"(37,218)"}]
["Repayment of grants",null,0,0,0,0,0,0,0,0,0]
["Conditions met - transferred to revenue",null,{"$f":"C6+C7-C8-C10","v":{"v":-9593496.43,"d":"(9,593)"}},{"$f":"D6+D7-D8-D10","v":{"v":3653311.4399999995,"d":"3,653"}},{"v":-18223688.619999997,"d":"(18,224)"},{"v":-106235640,"d":"(106,236)"},{"v":-106235640,"d":"(106,236)"},{"v":-106235640,"d":"(106,236)"},{"v":-70810240,"d":"(70,810)"},{"v":-71774064,"d":"(71,774)"},{"v":-74435178,"d":"(74,435)"}]
["Conditions still to be met - transferred to liabilities",null,{"v":18281012.62,"d":"18,281"},{"v":13901217.37,"d":"13,901"},{"v":41521434.8,"d":"41,521"},{"v":53117820,"d":"53,118"},{"v":53117820,"d":"53,118"},{"v":53117820,"d":"53,118"},{"v":35405120,"d":"35,405"},{"v":35887032,"d":"35,887"},{"v":37217589,"d":"37,218"}]
["Provincial Government:"]
["Balance unspent at beginning of the year"]
[{"$f":"A7","v":"Current year receipts"},null,0,0,0,0,0,0,0,0,0]
[{"$f":"A9","v":"Conditions met - transferred to revenue"},null,{"$f":"C12+C13-C15","v":0},{"$f":"D12+D13-D15","v":0},0,0,0,0,0,0,0]
[{"$f":"A10","v":"Conditions still to be met - transferred to liabilities"}]
["District Municipality:"]
[{"$f":"A12","v":"Balance unspent at beginning of the year"}]
[{"$f":"A13","v":"Current year receipts"}]
[{"$f":"A14","v":"Conditions met - transferred to revenue"},null,{"$f":"C17+C18-C20","v":0},0,0,0,0,0,0,0,0]
[{"$f":"A15","v":"Conditions still to be met - transferred to liabilities"}]
["Other grant providers:"]
[{"$f":"A12","v":"Balance unspent at beginning of the year"},null,{"v":0.14,"d":"0"},{"v":0.14,"d":"0"},{"v":0.14,"d":"0"},{"v":-314113,"d":"(314)"},{"v":-314113,"d":"(314)"},{"v":-314113,"d":"(314)"},{"v":-314113,"d":"(314)"},{"v":-314113,"d":"(314)"},{"v":-314113,"d":"(314)"}]
[{"$f":"A13","v":"Current year receipts"},null,0,0,0,0,0,0,0,0,0]
[{"$f":"A14","v":"Conditions met - transferred to revenue"},null,{"$f":"C22+C23-C25","v":{"v":0.14,"d":"0"}},{"v":0.14,"d":"0"},{"v":0.14,"d":"0"},{"v":-314113,"d":"(314)"},{"v":-314113,"d":"(314)"},{"v":-314113,"d":"(314)"},{"v":-314113,"d":"(314)"},{"v":-314113,"d":"(314)"},{"v":-314113,"d":"(314)"}]
[{"$f":"A15","v":"Conditions still to be met - transferred to liabilities"},null,0,0,0,0,0,0,0,0,0]
["Total operating transfers and grants revenue",null,{"$f":"C9+C14+C19+C24","v":{"v":-9593496.29,"d":"(9,593)"}},{"v":3653311.5799999996,"d":"3,653"},{"v":-18223688.479999997,"d":"(18,224)"},{"v":-106549753,"d":"(106,550)"},{"v":-106549753,"d":"(106,550)"},{"v":-106549753,"d":"(106,550)"},{"v":-71124353,"d":"(71,124)"},{"v":-72088177,"d":"(72,088)"},{"v":-74749291,"d":"(74,749)"}]
["Total operating transfers and grants - CTBM",2,{"v":18281012.62,"d":"18,281"},{"v":13901217.37,"d":"13,901"},{"v":41521434.8,"d":"41,521"},{"v":53117820,"d":"53,118"},{"v":53117820,"d":"53,118"},{"v":53117820,"d":"53,118"},{"v":35405120,"d":"35,405"},{"v":35887032,"d":"35,887"},{"v":37217589,"d":"37,218"}]
[]
["Capital transfers and grants:","1,3"]
[{"$f":"A5","v":"Monetary Allocations"}]
["Balance unspent at beginning of the year",null,{"v":-17489516.19,"d":"(17,490)"},{"v":-48145109.28,"d":"(48,145)"},{"v":-41955746.18,"d":"(41,956)"},0,0,0,0,0,0]
["Current year receipts",null,{"v":-316011000,"d":"(316,011)"},{"v":-326130000,"d":"(326,130)"},{"v":-317842000,"d":"(317,842)"},{"v":-293458180,"d":"(293,458)"},{"v":-293458180,"d":"(293,458)"},{"v":-293458180,"d":"(293,458)"},{"v":-328866880,"d":"(328,867)"},{"v":-389425968,"d":"(389,426)"},{"v":-373731412,"d":"(373,731)"}]
["Conditions met - transferred to revenue",null,{"$f":"C31+C32-C34","v":{"v":-618855923.1,"d":"(618,856)"}},{"v":-706594472.38,"d":"(706,594)"},{"v":-654776311.4000001,"d":"(654,776)"},{"v":-586916360,"d":"(586,916)"},{"v":-586916360,"d":"(586,916)"},{"v":-586916360,"d":"(586,916)"},{"v":-657733760,"d":"(657,734)"},{"v":-778851936,"d":"(778,852)"},{"v":-747462824,"d":"(747,463)"}]
["Conditions still to be met - transferred to liabilities",null,{"v":285355406.91,"d":"285,355"},{"v":332319363.1,"d":"332,319"},{"v":294978565.22,"d":"294,979"},{"v":293458180,"d":"293,458"},{"v":293458180,"d":"293,458"},{"v":293458180,"d":"293,458"},{"v":328866880,"d":"328,867"},{"v":389425968,"d":"389,426"},{"v":373731412,"d":"373,731"}]
["Provincial Government:"]
["Balance unspent at beginning of the year"]
[{"$f":"A32","v":"Current year receipts"},null,0,0,{"v":-24064325,"d":"(24,064)"},0,0,0,0,0,0]
[{"$f":"A33","v":"Conditions met - transferred to revenue"},null,{"$f":"C36+C37-C39","v":0},0,{"v":-24064325,"d":"(24,064)"},0,0,0,0,0,0]
[{"$f":"A34","v":"Conditions still to be met - transferred to liabilities"}]
["District Municipality:"]
[{"$f":"A36","v":"Balance unspent at beginning of the year"}]
[{"$f":"A37","v":"Current year receipts"},null,0,0,0,0,0,0,0,0,0]
[{"$f":"A38","v":"Conditions met - transferred to revenue"},null,{"$f":"C41+C42-C44","v":0},0,0,0,0,0,0,0,0]
[{"$f":"A39","v":"Conditions still to be met - transferred to liabilities"}]
["Other grant providers:"]
[{"$f":"A36","v":"Balance unspent at beginning of the year"},null,0,0,0,{"v":-1169348,"d":"(1,169)"},{"v":-1169348,"d":"(1,169)"},{"v":-1169348,"d":"(1,169)"},{"v":-1169348,"d":"(1,169)"},{"v":-1169348,"d":"(1,169)"},{"v":-1169348,"d":"(1,169)"}]
[{"$f":"A37","v":"Current year receipts"},null,0,0,0,0,0,0,0,0,0]
[{"$f":"A38","v":"Conditions met - transferred to revenue"},null,{"$f":"C46+C47-C49","v":0},0,0,{"v":-1169348,"d":"(1,169)"},{"v":-1169348,"d":"(1,169)"},{"v":-1169348,"d":"(1,169)"},{"v":-1169348,"d":"(1,169)"},{"v":-1169348,"d":"(1,169)"},{"v":-1169348,"d":"(1,169)"}]
[{"$f":"A39","v":"Conditions still to be met - transferred to liabilities"},null,0,0,0,0,0,0,0,0,0]
["Total capital transfers and grants revenue",null,{"$f":"C33+C38+C43+C48","v":{"v":-618855923.1,"d":"(618,856)"}},{"v":-706594472.38,"d":"(706,594)"},{"v":-678840636.4000001,"d":"(678,841)"},{"v":-588085708,"d":"(588,086)"},{"v":-588085708,"d":"(588,086)"},{"v":-588085708,"d":"(588,086)"},{"v":-658903108,"d":"(658,903)"},{"v":-780021284,"d":"(780,021)"},{"v":-748632172,"d":"(748,632)"}]
["Total capital transfers and grants - CTBM",2,{"v":285355406.91,"d":"285,355"},{"v":332319363.1,"d":"332,319"},{"v":294978565.22,"d":"294,979"},{"v":293458180,"d":"293,458"},{"v":293458180,"d":"293,458"},{"v":293458180,"d":"293,458"},{"v":328866880,"d":"328,867"},{"v":389425968,"d":"389,426"},{"v":373731412,"d":"373,731"}]
[]
["TOTAL TRANSFERS AND GRANTS REVENUE",null,{"$f":"C26+C50","v":{"v":-628449419.39,"d":"(628,449)"}},{"v":-702941160.8,"d":"(702,941)"},{"v":-697064324.8800001,"d":"(697,064)"},{"v":-694635461,"d":"(694,635)"},{"v":-694635461,"d":"(694,635)"},{"v":-694635461,"d":"(694,635)"},{"v":-730027461,"d":"(730,027)"},{"v":-852109461,"d":"(852,109)"},{"v":-823381463,"d":"(823,381)"}]
["TOTAL TRANSFERS AND GRANTS - CTBM",null,{"$f":"C27+C51","v":{"v":303636419.53000003,"d":"303,636"}},{"$f":"D27+D51","v":{"v":346220580.47,"d":"346,221"}},{"v":336500000.02000004,"d":"336,500"},{"v":346576000,"d":"346,576"},{"v":346576000,"d":"346,576"},{"v":346576000,"d":"346,576"},{"v":364272000,"d":"364,272"},{"v":425313000,"d":"425,313"},{"v":410949001,"d":"410,949"}]
[{"$f":"head27a","v":"References"}]
["1. Total capital transfers and grants revenue must reconcile to Budgeted Financial Performance and Financial Position; total recurrent grants revenue must reconcile to Budgeted Financial Performance"]
["2. CTBM = conditions to be met"]
["3. National Treasury database will require this reconciliation for each transfer/grant"]

{"sheet":"SA21","index":43,"n_rows":81,"n_cols":12,"rows_kept":81,"merged":[[1,5,1,8],[1,9,1,11]]}
[{"$f":"muni&\" - \"& TableA21","v":"DC43 Harry Gwala - Supporting Table SA21 Transfers and grants made by the municipality"}]
[{"$f":"desc","v":"Description"},{"$f":"head27","v":"Ref"},{"$f":"head1b","v":"2022/23"},{"$f":"head1A","v":"2023/24"},{"$f":"Head1","v":"2024/25"},{"$f":"Head2","v":"Current Year 2025/26"},{"$nulls":3},{"$f":"Head3","v":"2026/27 Medium Term Revenue & Expenditure Framework"}]
["R thousand",null,{"$f":"Head5","v":"Audited Outcome"},{"$f":"Head5","v":"Audited Outcome"},{"$f":"Head5","v":"Audited Outcome"},{"$f":"Head6","v":"Original Budget"},{"$f":"Head7","v":"Adjusted Budget"},{"$f":"Head8","v":"Full Year Forecast"},{"$f":"Head5b","v":"Pre-audit outcome"},{"$f":"Head9","v":"Budget Year 2026/27"},{"$f":"Head10","v":"Budget Year +1 2027/28"},{"$f":"Head11","v":"Budget Year +2 2028/29"}]
[]
["Monetary Transfers to other municipalities"]
[" ",1]
[]
[]
["Total Monetary Transfers To Municipalities:",null,{"$f":"SUM(C6:C8)","v":0},{"$f":"SUM(D6:D8)","v":0},0,0,0,0,0,0,0,0]
[]
["Monetary Transfers to Entities/Other External Mechanisms"]
["Municipal Entities",2,{"v":15290000,"d":"15,290"},0,0,{"v":23000000,"d":"23,000"},{"v":23000000,"d":"23,000"},{"v":23000000,"d":"23,000"},{"v":14000000,"d":"14,000"},{"v":23000000,"d":"23,000"},{"v":25500000,"d":"25,500"},{"v":25000000,"d":"25,000"}]
[]
[]
[]
["Total Monetary Transfers To Entities/Ems'",null,{"$f":"SUM(C12:C15)","v":{"v":15290000,"d":"15,290"}},{"$f":"SUM(D12:D15)","v":0},0,{"v":23000000,"d":"23,000"},{"v":23000000,"d":"23,000"},{"v":23000000,"d":"23,000"},{"v":14000000,"d":"14,000"},{"v":23000000,"d":"23,000"},{"v":25500000,"d":"25,500"},{"v":25000000,"d":"25,000"}]
[]
["Monetary Transfers to other Organs of State"]
["KwazuluNatal Agricultural Business Development Agency",3,0,0,0,0,0,0,0,0,0,0]
["South Africa Local Government Association (SALGA)",null,0,0,0,0,0,0,0,0,0,0]
[]
[]
["Total Monetary Transfers To Other Organs Of State:",null,{"$f":"SUM(C19:C22)","v":0},{"$f":"SUM(D19:D22)","v":0},0,0,0,0,0,0,{"$f":"SUM(K19:K22)","v":0},0]
[]
["Monetary Transfers to Organisations"]
["Unspecified",null,0,0,0,{"v":360014,"d":"360"},{"v":360014,"d":"360"},{"v":360014,"d":"360"},0,{"v":374415,"d":"374"},{"v":389392,"d":"389"},{"v":404968,"d":"405"}]
[" "]
[" "]
[" "]
[" "]
["Total Monetary Transfers To Organisations",null,{"$f":"SUM(C26:C30)","v":0},{"$f":"SUM(D26:D30)","v":0},0,{"v":360014,"d":"360"},{"v":360014,"d":"360"},{"v":360014,"d":"360"},0,{"v":374415,"d":"374"},{"v":389392,"d":"389"},{"v":404968,"d":"405"}]
[]
["Monetary Transfers to Groups of Individuals"]
["Bursaries (Non-Employee)",null,0,0,0,0,0,0,0,0,0,0]
[]
["Total Monetary Transfers To Groups Of Individuals:",null,{"$f":"SUM(C34:C35)","v":0},{"$f":"SUM(D34:D35)","v":0},0,0,0,0,0,0,0,0]
["TOTAL Monetary TRANSFERS AND GRANTS",6,{"$f":"C9+C16+C23+C31+C36","v":{"v":15290000,"d":"15,290"}},0,0,{"v":23360014,"d":"23,360"},{"v":23360014,"d":"23,360"},{"v":23360014,"d":"23,360"},{"v":14000000,"d":"14,000"},{"v":23374415,"d":"23,374"},{"v":25889392,"d":"25,889"},{"v":25404968,"d":"25,405"}]
[]
["In-Kind Transfers to other municipalities"]
[" ",1]
[]
[]
["Total In-Kind Transfers To Municipalities:",null,{"$f":"SUM(C40:C42)","v":0},{"$f":"SUM(D40:D42)","v":0},0,0,0,0,0,0,0,0]
[]
["In-Kind Transfers to Entities/Other External Mechanisms"]
[" ",2]
[]
[]
[]
["Total In-Kind Transfers To Entities/Ems'",null,{"$f":"SUM(C46:C49)","v":0},{"$f":"SUM(D46:D49)","v":0},0,0,0,0,0,0,0,0]
[]
["In-Kind Transfers to other Organs of State"]
["KwazuluNatal Agricultural Business Development Agency",3,0,0,0,0,0,0,0,0,0,0]
["National Youth Commission",null,0,0,0,0,0,0,0,0,0,0]
["Rural Housing Loan Fund",null,0,0,0,0,0,0,0,0,0,0]
["Rural Housing Loan Fund",null,0,0,0,0,0,0,0,0,0,0]
[]
["Total In-Kind Transfers To Other Organs Of State:",null,{"$f":"SUM(C53:C57)","v":0},0,0,0,0,0,0,0,0,0]
[]
["In-Kind Grants to Organisations"]
[" ",4]
[" "]
[" "]
[" "]
[" "]
["Total In-Kind Grants To Organisations",null,{"$f":"SUM(C61:C65)","v":0},0,0,0,0,0,0,0,0,0]
[]
["Groups of Individuals"]
[" ",5]
[]
[]
["Total In-Kind Grants To Groups Of Individuals:",null,{"$f":"SUM(C69:C71)","v":0},{"$f":"SUM(D69:D71)","v":0},0,0,0,0,0,0,0,0]
["TOTAL In-Kind TRANSFERS AND GRANTS",null,{"$f":"C43+C50+C58+C66+C72","v":0},0,0,0,0,0,0,0,0,0]
["TOTAL TRANSFERS AND GRANTS",6,{"$f":"C37+C73","v":{"v":15290000,"d":"15,290"}},0,0,{"v":23360014,"d":"23,360"},{"v":23360014,"d":"23,360"},{"v":23360014,"d":"23,360"},{"v":14000000,"d":"14,000"},{"v":23374415,"d":"23,374"},{"v":25889392,"d":"25,889"},{"v":25404968,"d":"25,405"}]
[{"$f":"head27a","v":"References"}]
["1. Insert description listed by municipal name and demarcation code of recipient"]
["2. Insert description of each entity or external mechanism (an external mechanism may be provided with resources to ensure a minimum level of service)"]
["3. Insert description of each Organ of State (e.g. transfer to electricity provider to compensate for FBS provided)"]
["4. Insert description of each other organisation (e.g. charity)"]
["5 Insert description of each other organisation (e.g. the aged, child-headed households)"]
["6. All descriptions should separate transfers for 'capital purposes' and 'operating purposes'"]

{"sheet":"SA22","index":44,"n_rows":277,"n_cols":11,"rows_kept":277,"merged":[[1,5,1,7],[1,8,1,10]]}
[{"$f":"muni&\" - \"&TableA22","v":"DC43 Harry Gwala - Supporting Table SA22 Summary councillor and staff benefits"}]
["Summary of Employee and Councillor remuneration",{"$f":"head27","v":"Ref"},{"$f":"head1b","v":"2022/23"},{"$f":"head1A","v":"2023/24"},{"$f":"Head1","v":"2024/25"},{"$f":"Head2","v":"Current Year 2025/26"},null,null,{"$f":"Head3","v":"2026/27 Medium Term Revenue & Expenditure Framework"}]
["R thousand",null,{"$f":"Head5","v":"Audited Outcome"},{"$f":"Head5","v":"Audited Outcome"},{"$f":"Head5","v":"Audited Outcome"},{"$f":"Head6","v":"Original Budget"},{"$f":"Head7","v":"Adjusted Budget"},{"$f":"Head8","v":"Full Year Forecast"},{"$f":"Head9","v":"Budget Year 2026/27"},{"$f":"Head10","v":"Budget Year +1 2027/28"},{"$f":"Head11","v":"Budget Year +2 2028/29"}]
[null,1,"A","B","C","D","E","F","G","H","I"]
["Councillors (Political Office Bearers plus Other)"," "]
["Allowances and Service Related Benefits"," "]
["Basic Salary"," ",{"v":3901688.05,"d":"3,902"},{"v":4586439.38,"d":"4,586"},{"v":5095410.85,"d":"5,095"},{"v":5349234,"d":"5,349"},{"v":5349234,"d":"5,349"},{"v":5349234,"d":"5,349"},{"v":5563208,"d":"5,563"},{"v":5785737,"d":"5,786"},{"v":6017164,"d":"6,017"}]
["Cell phone Allowance"," ",{"v":491470,"d":"491"},{"v":547200,"d":"547"},{"v":518400,"d":"518"},{"v":545094,"d":"545"},{"v":545094,"d":"545"},{"v":545094,"d":"545"},{"v":566898,"d":"567"},{"v":589576,"d":"590"},{"v":613158,"d":"613"}]
["Housing Allowance"," "]
["In-kind Benefits"," "]
["Market Related Non-pensionable Allowance"," "]
["Motor Vehicle Allowance"," ",0,0,0,0,0,0,0,0,0]
["Office-bearer Allowance"," ",{"v":630666.57,"d":"631"},{"v":359735.91,"d":"360"},{"v":483928.75,"d":"484"},{"v":530121,"d":"530"},{"v":567783,"d":"568"},{"v":567783,"d":"568"},{"v":590495,"d":"590"},{"v":614116,"d":"614"},{"v":638679,"d":"639"}]
["Out of pocket Expenses"," ",{"v":166839.83,"d":"167"},{"v":7947.6,"d":"8"},{"v":9500,"d":"10"},{"v":1682,"d":"2"},{"v":4682,"d":"5"},{"v":4682,"d":"5"},{"v":4870,"d":"5"},{"v":5065,"d":"5"},{"v":5268,"d":"5"}]
["Travelling Allowance"," ",{"v":1175567.2000000002,"d":"1,176"},{"v":1264924.4500000002,"d":"1,265"},{"v":1387994.56,"d":"1,388"},{"v":1573379,"d":"1,573"},{"v":1574835,"d":"1,575"},{"v":1574835,"d":"1,575"},{"v":1637833,"d":"1,638"},{"v":1703346,"d":"1,703"},{"v":1771480,"d":"1,771"}]
["Use of Personal Facilities"," "]
["Total Allowances and Service Related Benefits"," ",{"$f":"SUM(C7:C16)","v":{"v":6366231.65,"d":"6,366"}},{"$f":"SUM(D7:D16)","v":{"v":6766247.34,"d":"6,766"}},{"$f":"SUM(E7:E16)","v":{"v":7495234.16,"d":"7,495"}},{"$f":"SUM(F7:F16)","v":{"v":7999510,"d":"8,000"}},{"$f":"SUM(G7:G16)","v":{"v":8041628,"d":"8,042"}},{"$f":"SUM(H7:H16)","v":{"v":8041628,"d":"8,042"}},{"v":8363304,"d":"8,363"},{"v":8697840,"d":"8,698"},{"v":9045749,"d":"9,046"}]
["Social Contributions"," "]
["Medial Aid Benefits"," ",{"v":153076.19999999998,"d":"153"},{"v":33097.200000000004,"d":"33"},{"v":2103,"d":"2"},{"v":3322,"d":"3"},{"v":3322,"d":"3"},{"v":3322,"d":"3"},{"v":3455,"d":"3"},{"v":3594,"d":"4"},{"v":3738,"d":"4"}]
["Pension Fund Contributions"," ",{"v":468568.22000000003,"d":"469"},{"v":132555.66999999998,"d":"133"},{"v":83932.08,"d":"84"},{"v":56489,"d":"56"},{"v":56489,"d":"56"},{"v":56489,"d":"56"},{"v":58750,"d":"59"},{"v":61101,"d":"61"},{"v":63544,"d":"64"}]
["Total Social Contributions"," ",{"$f":"SUM(C19:C20)","v":{"v":621644.42,"d":"622"}},{"v":165652.87,"d":"166"},{"v":86035.08,"d":"86"},{"v":59811,"d":"60"},{"v":59811,"d":"60"},{"v":59811,"d":"60"},{"v":62205,"d":"62"},{"v":64695,"d":"65"},{"v":67282,"d":"67"}]
["Total Councillors"," ",{"$f":"+C17+C21","v":{"v":6987876.07,"d":"6,988"}},{"v":6931900.21,"d":"6,932"},{"v":7581269.24,"d":"7,581"},{"v":8059321,"d":"8,059"},{"v":8101439,"d":"8,101"},{"v":8101439,"d":"8,101"},{"v":8425509,"d":"8,426"},{"v":8762535,"d":"8,763"},{"v":9113031,"d":"9,113"}]
["% increase",4,null,{"$f":"IF(ISERROR((D22/C22)-1),0,((D22/C22)-1))","v":{"v":-0.008010425405269195,"d":"(0.8%)"}},{"$f":"IF(ISERROR((E22/D22)-1),0,((E22/D22)-1))","v":{"v":0.09367835807318992,"d":"9.4%"}},{"v":0.06305695588249538,"d":"6.3%"},{"v":0.005225998567373047,"d":"0.5%"},0,{"v":0.04000153552967567,"d":"4.0%"},{"v":0.04000066939575997,"d":"4.0%"},{"v":0.039999383739979466,"d":"4.0%"}]
["Senior Managers of the Municipality",2]
["Salaries and Allowances"," "]
["Basic Salary"," ",{"v":4028680.31,"d":"4,029"},{"v":5777377.99,"d":"5,777"},{"v":5144506.31,"d":"5,145"},{"v":5709789,"d":"5,710"},{"v":7662471,"d":"7,662"},{"v":7662471,"d":"7,662"},{"v":8085363,"d":"8,085"},{"v":8408777,"d":"8,409"},{"v":8745128,"d":"8,745"}]
["Bonuses"," ",{"v":80719.26,"d":"81"},{"v":54547.5,"d":"55"},{"v":69478.02,"d":"69"},{"v":165947,"d":"166"},{"v":223740,"d":"224"},{"v":223740,"d":"224"},{"v":232690,"d":"233"},{"v":241998,"d":"242"},{"v":251678,"d":"252"}]
["Allowance"," "]
["Accommodation, Travel and Incidental"," ",{"v":22616.96,"d":"23"},{"v":19141.51,"d":"19"},{"v":28317.04,"d":"28"},{"v":19210,"d":"19"},{"v":30695,"d":"31"},{"v":30695,"d":"31"},{"v":31924,"d":"32"},{"v":33201,"d":"33"},{"v":34529,"d":"35"}]
["Cellular and Telephone",3,{"v":104943.57,"d":"105"},{"v":110211,"d":"110"},{"v":108590.25,"d":"109"},{"v":126300,"d":"126"},{"v":168291,"d":"168"},{"v":168291,"d":"168"},{"v":175025,"d":"175"},{"v":182028,"d":"182"},{"v":189308,"d":"189"}]
["Housing Benefits",3,{"v":211891.88,"d":"212"},{"v":393616.84,"d":"394"},{"v":455616.96,"d":"456"},{"v":418287,"d":"418"},{"v":538812,"d":"539"},{"v":538812,"d":"539"},{"v":560366,"d":"560"},{"v":582780,"d":"583"},{"v":606092,"d":"606"}]
["Non-pensionable"," ",{"v":222558.3,"d":"223"},{"v":240164.52,"d":"240"},{"v":274502.48,"d":"275"},{"v":308613,"d":"309"},{"v":414948,"d":"415"},{"v":414948,"d":"415"},{"v":431549,"d":"432"},{"v":448810,"d":"449"},{"v":466763,"d":"467"}]
["Travel or Motor Vehicle",3,{"v":812951.64,"d":"813"},{"v":1055877.4,"d":"1,056"},{"v":1234723.95,"d":"1,235"},{"v":1240187,"d":"1,240"},{"v":1695864,"d":"1,696"},{"v":1695864,"d":"1,696"},{"v":1763702,"d":"1,764"},{"v":1834249,"d":"1,834"},{"v":1907618,"d":"1,908"}]
["Voluntary Work"," "]
["Total Allowance"," ",{"$f":"SUM(C29:C34)","v":{"v":1374962.35,"d":"1,375"}},{"v":1819011.27,"d":"1,819"},{"v":2101750.6799999997,"d":"2,102"},{"v":2112597,"d":"2,113"},{"v":2848610,"d":"2,849"},{"v":2848610,"d":"2,849"},{"v":2962566,"d":"2,963"},{"v":3081068,"d":"3,081"},{"v":3204310,"d":"3,204"}]
["Service Related Benefits"," "]
["Acting",3,{"v":52730.26,"d":"53"},0,0,0,0,0,0,0,0]
["Bonus",3]
["Danger Allowance",3]
["Entertainment",3]
["Fire Brigade"," "]
["In-kind Benefits",3]
["Leave Pay",3,{"v":332025.44,"d":"332"},0,{"v":85081.32,"d":"85"},{"v":109314,"d":"109"},{"v":151925,"d":"152"},{"v":151925,"d":"152"},{"v":158002,"d":"158"},{"v":164323,"d":"164"},{"v":170895,"d":"171"}]
["Lifeguard/Duty Squads"," "]
["Long Service Award"," "]
["Overtime"," "]
["Scarcity",3]
["Standby Allowance",3]
["Tools Allowance",3]
["Uniform/Special/Protective Clothing",3]
["Leave gratuity"," "]
["Long Term Service Award"," "]
["Total Service Related Benefits"," ",{"$f":"SUM(C37:C52)","v":{"v":384755.7,"d":"385"}},0,{"v":85081.32,"d":"85"},{"v":109314,"d":"109"},{"v":151925,"d":"152"},{"v":151925,"d":"152"},{"v":158002,"d":"158"},{"v":164323,"d":"164"},{"v":170895,"d":"171"}]
["Total Salaries and Allowances"," ",{"$f":"+C35+C53+C26+C27","v":{"v":5869117.62,"d":"5,869"}},{"v":7650936.76,"d":"7,651"},{"v":7400816.329999998,"d":"7,401"},{"v":8097647,"d":"8,098"},{"v":10886746,"d":"10,887"},{"v":10886746,"d":"10,887"},{"v":11438621,"d":"11,439"},{"v":11896166,"d":"11,896"},{"v":12372011,"d":"12,372"}]
["Social Contributions"," "]
["Bargaining Council"," ",{"v":697.84,"d":"1"},{"v":-22.76,"d":"(0)"},0,{"v":224,"d":"0"},{"v":312,"d":"0"},{"v":312,"d":"0"},{"v":326,"d":"0"},{"v":339,"d":"0"},{"v":352,"d":"0"}]
["Group Life Insurance"," "]
["Medical"," ",{"v":65583.6,"d":"66"},{"v":48000,"d":"48"},{"v":48000,"d":"48"},{"v":53500,"d":"54"},{"v":68461,"d":"68"},{"v":68461,"d":"68"},{"v":71200,"d":"71"},{"v":74048,"d":"74"},{"v":77010,"d":"77"}]
["Pension"," ",{"v":5204.49,"d":"5"},0,0,0,0,0,0,0,0]
["Unemployment Insurance"," ",{"v":9745.25,"d":"10"},0,0,{"v":4155,"d":"4"},{"v":5772,"d":"6"},{"v":5772,"d":"6"},{"v":6004,"d":"6"},{"v":6244,"d":"6"},{"v":6494,"d":"6"}]
["Total Social Contributions"," ",{"$f":"SUM(C56:C60)","v":{"v":81231.18000000001,"d":"81"}},{"v":47977.24,"d":"48"},{"v":48000,"d":"48"},{"v":57879,"d":"58"},{"v":74545,"d":"75"},{"v":74545,"d":"75"},{"v":77530,"d":"78"},{"v":80631,"d":"81"},{"v":83856,"d":"84"}]
["Post-retirement Benefit",6]
["Medical"," "]
["Other Benefits"," "]
["Pension"," "]
["Total Post-retirement Benefit"," ",{"$f":"SUM(C63:C65)","v":0},0,0,0,0,0,0,0,0]
["Costs Capitalised to PPE"," "]
["Sub Total - Senior Managers of Municipality"," ",{"$f":"+C66+C61+C54+C67","v":{"v":5950348.8,"d":"5,950"}},{"v":7698914,"d":"7,699"},{"v":7448816.329999998,"d":"7,449"},{"v":8155526,"d":"8,156"},{"v":10961291,"d":"10,961"},{"v":10961291,"d":"10,961"},{"v":11516151,"d":"11,516"},{"v":11976797,"d":"11,977"},{"v":12455867,"d":"12,456"}]
["% increase",4,null,{"$f":"IF(ISERROR((D68/C68)-1),0,((D68/C68)-1))","v":{"v":0.29385927762755704,"d":"29.4%"}},{"$f":"IF(ISERROR((E68/D68)-1),0,((E68/D68)-1))","v":{"v":-0.03248479850534791,"d":"(3.2%)"}},{"v":0.09487543237624729,"d":"9.5%"},{"v":0.34403237755602767,"d":"34.4%"},0,{"v":0.050619949785112084,"d":"5.1%"},{"v":0.03999999652661734,"d":"4.0%"},{"v":0.039999843029818516,"d":"4.0%"}]
["Other Municipal Staff"," "]
["Salaries and Allowances"," "]
["Basic Salary"," ",{"v":142682560.13,"d":"142,683"},{"v":148362530.13,"d":"148,363"},{"v":158893560.52,"d":"158,894"},{"v":177507941,"d":"177,508"},{"v":174729262,"d":"174,729"},{"v":174729262,"d":"174,729"},{"v":181658477,"d":"181,658"},{"v":188933136,"d":"188,933"},{"v":196484382,"d":"196,484"}]
["Bonuses"," ",0,0,0,0,0,0,0,0,0]
["Allowance"," "]
["Accommodation, Travel and Incidental"," ",{"v":1040297.99,"d":"1,040"},{"v":670891.18,"d":"671"},{"v":571891.07,"d":"572"},{"v":1048034,"d":"1,048"},{"v":1141321,"d":"1,141"},{"v":1141321,"d":"1,141"},{"v":1186983,"d":"1,187"},{"v":1234463,"d":"1,234"},{"v":1283840,"d":"1,284"}]
["Cellular and Telephone",3,{"v":1131593.97,"d":"1,132"},{"v":1085720.83,"d":"1,086"},{"v":1130907.35,"d":"1,131"},{"v":1186662,"d":"1,187"},{"v":1258031,"d":"1,258"},{"v":1258031,"d":"1,258"},{"v":1308364,"d":"1,308"},{"v":1360700,"d":"1,361"},{"v":1415123,"d":"1,415"}]
["Housing Benefits",3,{"v":635533.43,"d":"636"},{"v":651576.51,"d":"652"},{"v":647318.09,"d":"647"},{"v":679271,"d":"679"},{"v":655414,"d":"655"},{"v":655414,"d":"655"},{"v":681641,"d":"682"},{"v":708905,"d":"709"},{"v":737261,"d":"737"}]
["Non-pensionable"," "]
["Travel or Motor Vehicle",3,{"v":20409608.92,"d":"20,410"},{"v":19940081.34,"d":"19,940"},{"v":9371422.48,"d":"9,371"},{"v":21865434,"d":"21,865"},{"v":20718944,"d":"20,719"},{"v":20718944,"d":"20,719"},{"v":21547715,"d":"21,548"},{"v":22409622,"d":"22,410"},{"v":23306008,"d":"23,306"}]
["Voluntary Work"," "]
["Total Allowance"," ",{"$f":"SUM(C75:C80)","v":{"v":23217034.310000002,"d":"23,217"}},{"v":22348269.86,"d":"22,348"},{"v":11721538.99,"d":"11,722"},{"v":24779401,"d":"24,779"},{"v":23773710,"d":"23,774"},{"v":23773710,"d":"23,774"},{"v":24724703,"d":"24,725"},{"v":25713690,"d":"25,714"},{"v":26742232,"d":"26,742"}]
["Service Related Benefits"," "]
["Acting",3,{"v":163431.06,"d":"163"},{"v":334973.01,"d":"335"},{"v":207476.77,"d":"207"},{"v":375781,"d":"376"},{"v":515860,"d":"516"},{"v":515860,"d":"516"},{"v":536497,"d":"536"},{"v":557956,"d":"558"},{"v":580276,"d":"580"}]
["Bonus",3,{"v":10259397.18,"d":"10,259"},{"v":10668058.09,"d":"10,668"},{"v":11322775.14,"d":"11,323"},{"v":12137541,"d":"12,138"},{"v":13354108,"d":"13,354"},{"v":13354108,"d":"13,354"},{"v":13888285,"d":"13,888"},{"v":14443818,"d":"14,444"},{"v":15021570,"d":"15,022"}]
["Danger Allowance",3]
["Entertainment",3]
["Fire Brigade"," "]
["In-kind Benefits",3]
["Leave Pay",3,{"v":1418209.14,"d":"1,418"},{"v":1020255.12,"d":"1,020"},{"v":1755608.58,"d":"1,756"},{"v":2328887,"d":"2,329"},{"v":3346776,"d":"3,347"},{"v":3346776,"d":"3,347"},{"v":3480657,"d":"3,481"},{"v":3619883,"d":"3,620"},{"v":3764679,"d":"3,765"}]
["Lifeguard/Duty Squads"," "]
["Long Service Award"," ",0,0,0,{"v":1204868,"d":"1,205"},{"v":1204868,"d":"1,205"},{"v":1204868,"d":"1,205"},{"v":1253071,"d":"1,253"},{"v":1303193,"d":"1,303"},{"v":1355321,"d":"1,355"}]
["Overtime"," ",{"v":19197132.39,"d":"19,197"},{"v":21206787.49,"d":"21,207"},{"v":24078248.74,"d":"24,078"},{"v":7173884,"d":"7,174"},{"v":25328950,"d":"25,329"},{"v":25328950,"d":"25,329"},{"v":26342131,"d":"26,342"},{"v":27395811,"d":"27,396"},{"v":28491641,"d":"28,492"}]
["Scarcity",3]
["Standby Allowance",3,{"v":4910406.61,"d":"4,910"},{"v":5315054.54,"d":"5,315"},{"v":4899388.29,"d":"4,899"},{"v":5320725,"d":"5,321"},{"v":5896603,"d":"5,897"},{"v":5896603,"d":"5,897"},{"v":6132476,"d":"6,132"},{"v":6377775,"d":"6,378"},{"v":6632886,"d":"6,633"}]
["Tools Allowance",3]
["Uniform/Special/Protective Clothing",3]
["Leave gratuity"," "]
["Long Term Service Award"," "]
["Total Service Related Benefits"," ",{"$f":"SUM(C83:C98)","v":{"v":35948576.38,"d":"35,949"}},{"v":38545128.25,"d":"38,545"},{"v":42263497.519999996,"d":"42,263"},{"v":28541686,"d":"28,542"},{"v":49647165,"d":"49,647"},{"v":49647165,"d":"49,647"},{"v":51633117,"d":"51,633"},{"v":53698436,"d":"53,698"},{"v":55846373,"d":"55,846"}]
["Total Salaries and Allowances"," ",{"$f":"+C81+C99+C72+C73","v":{"v":201848170.82,"d":"201,848"}},{"v":209255928.24,"d":"209,256"},{"v":212878597.03,"d":"212,879"},{"v":230829028,"d":"230,829"},{"v":248150137,"d":"248,150"},{"v":248150137,"d":"248,150"},{"v":258016297,"d":"258,016"},{"v":268345262,"d":"268,345"},{"v":279072987,"d":"279,073"}]
["Social Contributions"," "]
["Bargaining Council"," ",{"v":52056,"d":"52"},{"v":58234.1,"d":"58"},{"v":58782.05,"d":"59"},{"v":67830,"d":"68"},{"v":184460,"d":"184"},{"v":184460,"d":"184"},{"v":191857,"d":"192"},{"v":199527,"d":"200"},{"v":207503,"d":"208"}]
["Group Life Insurance"," "]
["Medical"," ",{"v":10412397.09,"d":"10,412"},{"v":10904865.4,"d":"10,905"},{"v":11461551.12,"d":"11,462"},{"v":14198728,"d":"14,199"},{"v":12439178,"d":"12,439"},{"v":12439178,"d":"12,439"},{"v":12936757,"d":"12,937"},{"v":13454227,"d":"13,454"},{"v":13992398,"d":"13,992"}]
["Pension"," ",{"v":20659937.95,"d":"20,660"},{"v":21591302.31,"d":"21,591"},{"v":22977285.78,"d":"22,977"},{"v":25536938,"d":"25,537"},{"v":26153862,"d":"26,154"},{"v":26153862,"d":"26,154"},{"v":27200029,"d":"27,200"},{"v":28288031,"d":"28,288"},{"v":29419555,"d":"29,420"}]
["Unemployment Insurance"," ",{"v":994036.52,"d":"994"},{"v":1042730.33,"d":"1,043"},{"v":1064128.68,"d":"1,064"},{"v":1208250,"d":"1,208"},{"v":1247551,"d":"1,248"},{"v":1247551,"d":"1,248"},{"v":1297472,"d":"1,297"},{"v":1349368,"d":"1,349"},{"v":1403341,"d":"1,403"}]
["Total Social Contributions"," ",{"$f":"SUM(C102:C106)","v":{"v":32118427.56,"d":"32,118"}},{"v":33597132.14,"d":"33,597"},{"v":35561747.63,"d":"35,562"},{"v":41011746,"d":"41,012"},{"v":40025051,"d":"40,025"},{"v":40025051,"d":"40,025"},{"v":41626115,"d":"41,626"},{"v":43291153,"d":"43,291"},{"v":45022797,"d":"45,023"}]
["Post-retirement Benefit",6]
["Medical"," ",{"v":3094000,"d":"3,094"},{"v":3093001,"d":"3,093"},{"v":3409000,"d":"3,409"},0,0,0,0,0,0]
["Other Benefits"," "]
["Pension"," ",{"v":1150000,"d":"1,150"},{"v":1082000,"d":"1,082"},{"v":1816000,"d":"1,816"},0,0,0,0,0,0]
["Total Post-retirement Benefit"," ",{"$f":"SUM(C109:C111)","v":{"v":4244000,"d":"4,244"}},{"v":4175001,"d":"4,175"},{"v":5225000,"d":"5,225"},0,0,0,0,0,0]
["Costs Capitalised to PPE"," "]
["Sub Total - Other Municipal Staff"," ",{"$f":"+C112+C107+C100+C113","v":{"v":238210598.38,"d":"238,211"}},{"v":247028061.38,"d":"247,028"},{"v":253665344.66,"d":"253,665"},{"v":271840774,"d":"271,841"},{"v":288175188,"d":"288,175"},{"v":288175188,"d":"288,175"},{"v":299642412,"d":"299,642"},{"v":311636415,"d":"311,636"},{"v":324095784,"d":"324,096"}]
["% increase",4,null,{"$f":"IF(ISERROR((D114/C114)-1),0,((D114/C114)-1))","v":{"v":0.037015410145329275,"d":"3.7%"}},{"$f":"IF(ISERROR((E114/D114)-1),0,((E114/D114)-1))","v":{"v":0.0268685397234687,"d":"2.7%"}},{"v":0.07165121181358614,"d":"7.2%"},{"v":0.06008816764184166,"d":"6.0%"},0,{"v":0.039792544526768836,"d":"4.0%"},{"v":0.04002772144285105,"d":"4.0%"},{"v":0.03998046569750202,"d":"4.0%"}]
["Total Parent Municipality"," ",{"$f":"+C114+C68+C22","v":{"v":251148823.25,"d":"251,149"}},{"v":261658875.59,"d":"261,659"},{"v":268695430.23,"d":"268,695"},{"v":288055621,"d":"288,056"},{"v":307237918,"d":"307,238"},{"v":307237918,"d":"307,238"},{"v":319584072,"d":"319,584"},{"v":332375747,"d":"332,376"},{"v":345664682,"d":"345,665"}]
["Board Members of Entities"," "]
["Salaries and Allowances"," "]
["Basic Salary"," ",0,0,0,{"v":320000,"d":"320"},{"v":320000,"d":"320"},{"v":320000,"d":"320"},{"v":331840,"d":"332"},{"v":342791,"d":"343"},{"v":356503,"d":"357"}]
["Bonuses"," ",0,0,0,0,0,0,0,0,0]
["Allowance"," "]
["Accommodation, Travel and Incidental"," ",0,0,0,0,0,0,0,0,0]
["Cellular and Telephone",3,0,0,0,0,0,0,0,0,0]
["Housing Benefits",3,0,0,0,0,0,0,0,0,0]
["Non-pensionable"," ",0,0,0,0,0,0,0,0,0]
["Travel or Motor Vehicle",3,0,0,0,0,0,0,0,0,0]
["Voluntary Work"," "]
["Total Allowance"," ",{"$f":"SUM(C122:C127)","v":0},0,0,0,0,0,0,0,0]
["Service Related Benefits"," "]
["Acting",3]
["Bonus",3]
["Danger Allowance",3]
["Entertainment",3,0,0,0,0,0,0,0,0,0]
["Fire Brigade"," "]
["In-kind Benefits",3]
["Leave Pay",3,0,0,0,0,0,0,0,0,0]
["Lifeguard/Duty Squads"," "]
["Long Service Award"," ",0,0,0,0,0,0,0,0,0]
["Overtime"," ",0,0,0,0,0,0,0,0,0]
["Scarcity",3]
["Standby Allowance",3]
["Tools Allowance",3]
["Uniform/Special/Protective Clothing",3]
["Leave gratuity"," "]
["Long Term Service Award"," "]
["Total Service Related Benefits"," ",{"$f":"SUM(C130:C145)","v":0},0,0,0,0,0,0,0,0]
["Total Salaries and Allowances"," ",{"$f":"+C128+C146+C119+C120","v":0},0,0,{"v":320000,"d":"320"},{"v":320000,"d":"320"},{"v":320000,"d":"320"},{"v":331840,"d":"332"},{"v":342791,"d":"343"},{"v":356503,"d":"357"}]
["Social Contributions"," "]
["Bargaining Council"," ",0,0,0,0,0,0,0,0,0]
["Group Life Insurance"," ",0,0,0,0,0,0,0,0,0]
["Medical"," ",0,0,0,0,0,0,0,0,0]
["Pension"," ",0,0,0,0,0,0,0,0,0]
["Unemployment Insurance"," ",0,0,0,0,0,0,0,0,0]
["Total Social Contributions"," ",{"$f":"SUM(C149:C153)","v":0},0,0,0,0,0,0,0,0]
["Post-retirement Benefit",6]
["Medical"," "]
["Other Benefits"," "]
["Pension"," "]
["Total Post-retirement Benefit"," ",{"$f":"SUM(C156:C158)","v":0},0,0,0,0,0,0,0,0]
["Costs Capitalised to PPE"," "]
["Sub Total - Board Members of Entities"," ",{"$f":"+C159+C154+C147+C160","v":0},0,0,{"v":320000,"d":"320"},{"v":320000,"d":"320"},{"v":320000,"d":"320"},{"v":331840,"d":"332"},{"v":342791,"d":"343"},{"v":356503,"d":"357"}]
["% increase",4,null,{"$f":"IF(ISERROR((D161/C161)-1),0,((D161/C161)-1))","v":0},0,0,0,0,{"v":0.03699999999999992,"d":"3.7%"},{"v":0.033000843780135014,"d":"3.3%"},{"v":0.040001050202601585,"d":"4.0%"}]
["Senior Managers of Entities"," "]
["Salaries and Allowances"," "]
["Basic Salary"," ",0,0,0,0,0,0,{"v":3570560,"d":"3,571"},{"v":3688389,"d":"3,688"},{"v":3806417,"d":"3,806"}]
["Bonuses"," ",0,0,0,0,0,0,0,0,0]
["Allowance"," "]
["Accommodation, Travel and Incidental"," ",0,0,0,0,0,0,0,0,0]
["Cellular and Telephone",3,0,0,0,0,0,0,0,0,0]
["Housing Benefits",3,0,0,0,0,0,0,0,0,0]
["Non-pensionable"," ",0,0,0,0,0,0,0,0,0]
["Travel or Motor Vehicle",3,0,0,0,0,0,0,0,0,0]
["Voluntary Work"," ",0,0,0,0,0,0,0,0,0]
["Total Allowance"," ",{"$f":"SUM(C168:C173)","v":0},0,0,0,0,0,0,0,0]
["Service Related Benefits"," "]
["Acting",3,0,0,0,0,0,0,0,0,0]
["Bonus",3]
["Danger Allowance",3]
["Entertainment",3,0,0,0,0,0,0,0,0,0]
["Fire Brigade"," "]
["In-kind Benefits",3,0,0,0,0,0,0,0,0,0]
["Leave Pay",3,0,0,0,0,0,0,0,0,0]
["Lifeguard/Duty Squads"," "]
["Long Service Award"," ",0,0,0,0,0,0,0,0,0]
["Overtime"," ",0,0,0,0,0,0,0,0,0]
["Scarcity",3,0,0,0,0,0,0,0,0,0]
["Standby Allowance",3]
["Tools Allowance",3]
["Uniform/Special/Protective Clothing",3]
["Leave gratuity"," "]
["Long Term Service Award"," "]
["Total Service Related Benefits"," ",{"$f":"SUM(C176:C191)","v":0},0,0,0,0,0,0,0,0]
["Total Salaries and Allowances"," ",{"$f":"+C174+C192+C165+C166","v":0},0,0,0,0,0,{"v":3570560,"d":"3,571"},{"v":3688389,"d":"3,688"},{"v":3806417,"d":"3,806"}]
["Social Contributions"," "]
["Bargaining Council"," ",0,0,0,0,0,0,0,0,0]
["Group Life Insurance"," ",0,0,0,0,0,0,0,0,0]
["Medical"," ",0,0,0,0,0,0,0,0,0]
["Pension"," ",0,0,0,0,0,0,0,0,0]
["Unemployment Insurance"," ",0,0,0,0,0,0,0,0,0]
["Total Social Contributions"," ",{"$f":"SUM(C195:C199)","v":0},0,0,0,0,0,0,0,0]
["Post-retirement Benefit",6]
["Medical"," "]
["Other Benefits"," "]
["Pension"," "]
["Total Post-retirement Benefit"," ",{"$f":"SUM(C202:C204)","v":0},0,0,0,0,0,0,0,0]
["Costs Capitalised to PPE"," "]
["Sub Total - Senior Managers of Entities"," ",{"$f":"+C205+C200+C193+C206","v":0},0,0,0,0,0,{"v":3570560,"d":"3,571"},{"v":3688389,"d":"3,688"},{"v":3806417,"d":"3,806"}]
["% increase",4,null,{"$f":"IF(ISERROR((D207/C207)-1),0,((D207/C207)-1))","v":0},{"$f":"IF(ISERROR((E207/D207)-1),0,((E207/D207)-1))","v":0},0,0,0,0,{"v":0.03300014563541853,"d":"0"},{"v":0.03199987853775732,"d":"0"}]
["Other Staff of Entities"," "]
["Salaries and Allowances"," "]
["Basic Salary"," ",0,0,0,{"v":9108034,"d":"9,108"},{"v":9053947,"d":"9,054"},{"v":9053947,"d":"9,054"},{"v":6308952,"d":"6,309"},{"v":6517148,"d":"6,517"},{"v":6725696,"d":"6,726"}]
["Bonuses"," "]
["Allowance"," "]
["Accommodation, Travel and Incidental"," ",0,0,0,0,0,0,0,0,0]
["Cellular and Telephone",3,0,0,0,0,0,0,0,0,0]
["Housing Benefits",3,0,0,0,0,0,0,0,0,0]
["Non-pensionable"," "]
["Travel or Motor Vehicle",3,0,0,0,0,0,0,0,0,0]
["Voluntary Work"," "]
["Total Allowance"," ",{"$f":"SUM(C214:C219)","v":0},0,0,0,0,0,0,0,0]
["Service Related Benefits"," "]
["Acting",3,0,0,0,{"v":131642,"d":"132"},{"v":131642,"d":"132"},{"v":131642,"d":"132"},{"v":179634,"d":"180"},{"v":185562,"d":"186"},{"v":191500,"d":"192"}]
["Bonus",3,0,0,0,{"v":428593,"d":"429"},{"v":428593,"d":"429"},{"v":428593,"d":"429"},0,0,0]
["Danger Allowance",3]
["Entertainment",3]
["Fire Brigade"," "]
["In-kind Benefits",3]
["Leave Pay",3,0,0,0,{"v":153474,"d":"153"},{"v":153474,"d":"153"},{"v":153474,"d":"153"},{"v":207400,"d":"207"},{"v":214245,"d":"214"},{"v":220672,"d":"221"}]
["Lifeguard/Duty Squads"," "]
["Long Service Award"," "]
["Overtime"," ",0,0,0,0,0,0,0,0,0]
["Scarcity",3]
["Standby Allowance",3,0,0,0,0,0,0,0,0,0]
["Tools Allowance",3]
["Uniform/Special/Protective Clothing",3]
["Leave gratuity"," "]
["Long Term Service Award"," "]
["Total Service Related Benefits"," ",{"$f":"SUM(C222:C237)","v":0},0,0,{"v":713709,"d":"714"},{"v":713709,"d":"714"},{"v":713709,"d":"714"},{"v":387034,"d":"387"},{"v":399807,"d":"400"},{"v":412172,"d":"412"}]
["Total Salaries and Allowances"," ",{"$f":"+C220+C238+C211+C212","v":0},0,0,{"v":9821743,"d":"9,822"},{"v":9767656,"d":"9,768"},{"v":9767656,"d":"9,768"},{"v":6695986,"d":"6,696"},{"v":6916955,"d":"6,917"},{"v":7137868,"d":"7,138"}]
["Social Contributions"," "]
["Bargaining Council"," ",0,0,0,0,0,0,0,0,0]
["Group Life Insurance"," "]
["Medical"," ",0,0,0,{"v":417877,"d":"418"},{"v":417877,"d":"418"},{"v":417877,"d":"418"},{"v":329639,"d":"330"},{"v":340517,"d":"341"},{"v":351414,"d":"351"}]
["Pension"," ",0,0,0,{"v":1082700,"d":"1,083"},{"v":1082700,"d":"1,083"},{"v":1082700,"d":"1,083"},{"v":1174611,"d":"1,175"},{"v":1213375,"d":"1,213"},{"v":1252202,"d":"1,252"}]
["Unemployment Insurance"," ",0,0,0,{"v":82581,"d":"83"},{"v":82581,"d":"83"},{"v":82581,"d":"83"},0,0,0]
["Total Social Contributions"," ",{"$f":"SUM(C241:C245)","v":0},0,0,{"v":1583158,"d":"1,583"},{"v":1583158,"d":"1,583"},{"v":1583158,"d":"1,583"},{"v":1504250,"d":"1,504"},{"v":1553892,"d":"1,554"},{"v":1603616,"d":"1,604"}]
["Post-retirement Benefit",6]
["Medical"," "]
["Other Benefits"," "]
["Pension"," "]
["Total Post-retirement Benefit"," ",{"$f":"SUM(C248:C250)","v":0},0,0,0,0,0,0,0,0]
["Costs Capitalised to PPE"," "]
["Sub Total - Other Staff of Entities"," ",{"$f":"+C251+C246+C239+C252","v":0},0,0,{"v":11404901,"d":"11,405"},{"v":11350814,"d":"11,351"},{"v":11350814,"d":"11,351"},{"v":8200236,"d":"8,200"},{"v":8470847,"d":"8,471"},{"v":8741484,"d":"8,741"}]
["% increase",4,null,{"$f":"IF(ISERROR((D253/C253)-1),0,((D253/C253)-1))","v":0},{"$f":"IF(ISERROR((E253/D253)-1),0,((E253/D253)-1))","v":0},0,{"v":-0.004742434853226674,"d":"(0.5%)"},0,{"v":-0.2775640584014504,"d":"(27.8%)"},{"v":0.03300039169604396,"d":"3.3%"},{"v":0.03194922538442735,"d":"3.2%"}]
["Total Municipal Entities"," ",{"$f":"+C253+C207+C161","v":0},0,0,{"v":11724901,"d":"11,725"},{"v":11670814,"d":"11,671"},{"v":11670814,"d":"11,671"},{"v":12102636,"d":"12,103"},{"v":12502027,"d":"12,502"},{"v":12904404,"d":"12,904"}]
["TOTAL SALARY, ALLOWANCES & BENEFITS"," ",{"$f":"+C255+C116","v":{"v":251148823.25,"d":"251,149"}},{"$f":"+D255+D116","v":{"v":261658875.59,"d":"261,659"}},{"v":268695430.23,"d":"268,695"},{"v":299780522,"d":"299,781"},{"v":318908732,"d":"318,909"},{"v":318908732,"d":"318,909"},{"v":331686708,"d":"331,687"},{"v":344877774,"d":"344,878"},{"v":358569086,"d":"358,569"}]
["% increase",4,null,{"$f":"IF(ISERROR((D256/C256)-1),0,((D256/C256)-1))","v":{"v":0.041847905970628485,"d":"4.2%"}},{"$f":"IF(ISERROR((E256/D256)-1),0,((E256/D256)-1))","v":{"v":0.026892092324916073,"d":"2.7%"}},{"v":0.11568894842532873,"d":"11.6%"},{"v":0.06380738105459693,"d":"6.4%"},0,{"v":0.040067814762751564,"d":"4.0%"},{"v":0.039769655165078355,"d":"4.0%"},{"v":0.03969902682102089,"d":"4.0%"}]
["TOTAL MANAGERS AND STAFF","5,7",{"$f":"+C68+C114+C207+C253+C161","v":{"v":244160947.18,"d":"244,161"}},{"$f":"+D68+D114+D207+D253+D161","v":{"v":254726975.38,"d":"254,727"}},{"v":261114160.99,"d":"261,114"},{"v":291721201,"d":"291,721"},{"v":310807293,"d":"310,807"},{"v":310807293,"d":"310,807"},{"v":323261199,"d":"323,261"},{"v":336115239,"d":"336,115"},{"v":349456055,"d":"349,456"}]
["References"]
["\"TOTAL MANAGERS AND STAFF\" must agree to the line on Table A4 \"Employee related costs\""]
["\"Sub Total - Councillors\" must agree to the line on Table A4 \"Remuneration of councillors\""]
["References"]
["1. Include 'Loans and advances' where applicable if any reportable amounts until phased compliance with s164 of MFMA achieved"]
["2. s57 of the Systems Act"]
["3. In kind benefits (e.g. provision of living quarters) must be shown as the cost (full market value) to the municipality, as part of the relevant allowance"]
["4. B/A, C/B, D/C, E/C, F/C, G/D, H/D, I/D"]
["5. Must agree to the sub-total appearing on Table A1 (Employee costs)"]
["6. Includes pension payments and employer contributions to medical aid"]
["7. Correct as at 30 June"]
[]
["Column Definitions:"]
["A, B and C. Audited actual as per the audited financial statements. If audited amounts are unavailable, unaudited amounts must be provided with a note stating these are unaudited"]
["D. The original budget approved by council for the budget year."]
["E. The budget for the budget year as adjusted by council resolution in terms of section 28 of the MFMA."]
["F. An estimate of final actual amounts (pre audit) for the current year at the point in time of preparing the budget for the budget year. This may differ from E."]
["G. The amount to be appropriated for the budget year."]
["H and I. The indicative projection"]

{"sheet":"SA23","index":45,"n_rows":71,"n_cols":9,"rows_kept":71,"merged":[[1,2,2,2],[1,3,2,3],[1,5,2,5],[1,6,2,6]]}
[{"$f":"muni&\" - \"&TableA23","v":"DC43 Harry Gwala - Supporting Table SA23 Salaries, allowances & benefits (political office bearers/councillors/senior managers)"}]
["Disclosure of Salaries, Allowances & Benefits 1.",{"$f":"head27","v":"Ref"},"No.","Salary","\nContributions\n","Allowances","Performance  Bonuses","In-kind benefits","Total Package"]
["Rand per annum",{"$nulls":3},"1.",{"$nulls":3},"2."]
["Councillors",3]
["Speaker",4,null,{"v":765289,"d":"765,289"},{"v":10059,"d":"10,059"},{"v":230112,"d":"230,112"},null,null,{"$f":"SUM(D5:F5)","v":{"v":1005460,"d":"1,005,460"}}]
["Chief Whip",null,null,{"v":765479,"d":"765,479"},{"v":1716,"d":"1,716"},{"v":145333,"d":"145,333"},null,null,{"$f":"SUM(D6:F6)","v":{"v":912528,"d":"912,528"}}]
["Executive Mayor",null,null,{"v":914372,"d":"914,372"},0,{"v":275833,"d":"275,833"},null,null,{"v":1190205,"d":"1,190,205"}]
["Deputy Executive Mayor",null,null,{"v":781595,"d":"781,595"},{"v":10059,"d":"10,059"},{"v":230112,"d":"230,112"},null,null,{"v":1021766,"d":"1,021,766"}]
["Executive Committee",null,null,{"v":1295160,"d":"1,295,160"},{"v":16478,"d":"16,478"},{"v":371858,"d":"371,858"},null,null,{"v":1683496,"d":"1,683,496"}]
["Total for all other councillors",null,null,{"v":1041313,"d":"1,041,313"},{"v":23893,"d":"23,893"},{"v":1546848,"d":"1,546,848"},null,null,{"v":2612054,"d":"2,612,054"}]
[{"$f":"\"Total \"&A4","v":"Total Councillors"},8,{"$f":"SUM(C5:C10)","v":0},{"$f":"SUM(D5:D10)","v":{"v":5563208,"d":"5,563,208"}},{"v":62205,"d":"62,205"},{"v":2800096,"d":"2,800,096"},null,null,{"v":8425509,"d":"8,425,509"}]
[]
["Senior Managers of the Municipality",5]
["Municipal Manager (MM)",null,null,{"v":1457903,"d":"1,457,903"},0,{"v":558010,"d":"558,010"},null,null,{"$f":"SUM(D14:H14)","v":{"v":2015913,"d":"2,015,913"}}]
["Chief Finance Officer",null,null,{"v":1570629,"d":"1,570,629"},0,{"v":329374,"d":"329,374"},null,null,{"$f":"SUM(D15:H15)","v":{"v":1900003,"d":"1,900,003"}}]
["SM D01",null,null,{"v":1165037,"d":"1,165,037"},{"v":71200,"d":"71,200"},{"v":582861,"d":"582,861"},{"v":80910,"d":"80,910"},null,{"$f":"SUM(D16:H16)","v":{"v":1900008,"d":"1,900,008"}}]
["SM D02",null,null,{"v":1563717,"d":"1,563,717"},0,{"v":336285,"d":"336,285"},0,null,{"$f":"SUM(D17:H17)","v":{"v":1900002,"d":"1,900,002"}}]
["SM D03",null,null,{"v":1234036,"d":"1,234,036"},{"v":3604,"d":"3,604"},{"v":662580,"d":"662,580"},null,null,{"$f":"SUM(D18:H18)","v":{"v":1900220,"d":"1,900,220"}}]
["SM D04",null,null,{"v":1094041,"d":"1,094,041"},{"v":2400,"d":"2,400"},{"v":651784,"d":"651,784"},{"v":151780,"d":"151,780"},null,{"$f":"SUM(D19:H19)","v":{"v":1900005,"d":"1,900,005"}}]
[{"$nulls":8},0]
[]
["List of each offical with packages >= senior manager"]
[{"$nulls":8},{"$f":"SUM(D23:H23)","v":0}]
[{"$nulls":8},{"$f":"SUM(D24:H24)","v":0}]
[{"$nulls":8},0]
[{"$nulls":8},0]
[{"$nulls":8},0]
[{"$nulls":8},0]
[{"$nulls":8},0]
[{"$nulls":8},0]
[{"$nulls":8},0]
[{"$nulls":8},0]
[{"$nulls":8},0]
[{"$nulls":8},{"$f":"SUM(D34:H34)","v":0}]
[{"$nulls":8},{"$f":"SUM(D35:H35)","v":0}]
[{"$f":"\"Total \"&A13","v":"Total Senior Managers of the Municipality"},"8,10",{"$f":"SUM(C14:C35)","v":0},{"$f":"SUM(D14:D35)","v":{"v":8085363,"d":"8,085,363"}},{"$f":"SUM(E14:E35)","v":{"v":77204,"d":"77,204"}},{"$f":"SUM(F14:F35)","v":{"v":3120894,"d":"3,120,894"}},{"$f":"SUM(G14:G35)","v":{"v":232690,"d":"232,690"}},null,{"$f":"SUM(I14:I35)","v":{"v":11516151,"d":"11,516,151"}}]
[]
["A Heading for Each Entity","6,7"]
["List each member of board by designation"]
["Harry Gwala Development Agency",{"$nulls":7},{"$f":"SUM(D40:G40)","v":0}]
["BM D01",null,null,{"v":331840,"d":"331,840"},0,0,0,null,{"$f":"SUM(D41:G41)","v":{"v":331840,"d":"331,840"}}]
[{"$nulls":8},0]
[{"$nulls":8},0]
[{"$nulls":8},0]
[{"$nulls":8},0]
[{"$nulls":8},0]
[{"$nulls":8},0]
[{"$nulls":8},0]
[{"$nulls":8},0]
[{"$nulls":8},0]
[{"$nulls":8},0]
[{"$nulls":8},0]
[{"$nulls":8},0]
[{"$nulls":8},0]
[{"$nulls":8},0]
["Total for municipal entities","8,10",{"$f":"SUM(C40:C55)","v":0},{"$f":"SUM(D40:D55)","v":{"v":331840,"d":"331,840"}},{"$f":"SUM(E40:E55)","v":0},{"$f":"SUM(F40:F55)","v":0},{"$f":"SUM(G40:G55)","v":0},null,{"$f":"SUM(I40:I55)","v":{"v":331840,"d":"331,840"}}]
[]
["TOTAL COST OF COUNCILLOR, DIRECTOR and EXECUTIVE REMUNERATION",10,{"$f":"C11+C36+C56","v":0},{"$f":"D11+D36+D56","v":{"v":13980411,"d":"13,980,411"}},{"$f":"E11+E36+E56","v":{"v":139409,"d":"139,409"}},{"$f":"F11+F36+F56","v":{"v":5920990,"d":"5,920,990"}},{"$f":"G11+G36+G56","v":{"v":232690,"d":"232,690"}},null,{"$f":"I11+I36+I56","v":{"v":20273500,"d":"20,273,500"}}]
[]
[{"$f":"head27a","v":"References"}]
["1. Pension and medical aid"]
["2. Total package must equal the total cost to the municipality"]
["3. List each political office bearer by designation. Provide a total for all other councillors"]
["4. Political office bearer is defined in MFMA s 1: speaker, executive mayor, deputy executive mayor, member of executive committee,"]
["    mayor, deputy mayor, member of mayoral committee, the councillor designated to exercise powers and duties of mayor (MSA s 57)"]
["5. Also list each senior manager reporting to MM by designation and each official with package >= senior manager by designation"]
["6. List each entity where municipality has an interest and state percentage ownership and control"]
["7. List each senior manager reporting to the CEO of an Entity by designation"]
["8. Must reconcile to relevant section of Table SA24"]
["9. Must reconcile to totals shown for the budget year of Table SA22"]
["10. Correct as at 30 June"]

{"sheet":"SA24","index":46,"n_rows":53,"n_cols":11,"rows_kept":53,"merged":[[1,2,1,4],[1,5,1,7],[1,8,1,10]]}
[{"$f":"muni&\" - \"&TableA24","v":"DC43 Harry Gwala - Supporting Table SA24 Summary of personnel numbers"}]
["Summary of Personnel Numbers",{"$f":"head27","v":"Ref"},{"$f":"Head1","v":"2024/25"},null,null,{"$f":"Head2","v":"Current Year 2025/26"},null,null,{"$f":"Head9","v":"Budget Year 2026/27"}]
["Number","1,2","Positions","Permanent employees","Contract employees","Positions","Permanent employees","Contract employees","Positions","Permanent employees","Contract employees"]
["Municipal Council and Boards of Municipal Entities"]
["Councillors (Political Office Bearers plus Other Councillors)",null,26,0,26,32,0,32,32,0,32]
["Board Members of municipal entities",4]
["Municipal employees",5]
["Municipal Manager and Senior Managers",3,3,0,3,5,0,5,5,0,5]
["Other Managers",7,8,0,8,9,0,9,9,0,9]
["Professionals",null,{"$f":"SUM(C11:C19)","v":251},{"$f":"SUM(D11:D19)","v":247},13,280,260,16,280,285,16]
["Finance",null,13,13,3,13,13,0,13,13,0]
["Spatial/town planning",null,1,1,2,2,1,1,2,1,1]
["Information Technology",null,5,5,0,5,5,0,5,5,0]
["Roads",null,2,2,0,2,2,0,2,2,0]
["Electricity",null,4,4,0,4,4,0,4,4,0]
["Water",null,110,109,8,126,110,13,126,135,13]
["Sanitation",null,75,75,0,87,87,2,87,87,2]
["Refuse",null,1,1,0,1,1,0,1,1,0]
["Other",null,40,37,0,40,37,0,40,37,0]
["Technicians",null,{"$f":"SUM(C21:C29)","v":28},{"$f":"SUM(D21:D29)","v":27},0,28,27,0,28,27,0]
["Finance",null,0,0,0,0,0,0,0,0,0]
["Spatial/town planning",null,4,4,0,4,4,0,4,4,0]
["Information Technology",null,1,0,0,1,0,0,1,0,0]
["Roads",null,1,1,0,1,1,0,1,1,0]
["Electricity",null,1,1,0,1,1,0,1,1,0]
["Water",null,4,4,0,4,4,0,4,4,0]
["Sanitation",null,3,3,0,3,3,0,3,3,0]
["Refuse",null,1,1,0,1,1,0,1,1,0]
["Other",null,13,13,0,13,13,0,13,13,0]
["Clerks (Clerical and administrative)",null,0,0,6,38,38,10,38,38,10]
["Service and sales workers",null,2,2,0,2,2,0,2,2,0]
["Skilled agricultural and fishery workers",null,2,2,0,2,2,0,2,2,0]
["Craft and related trades",null,1,1,0,1,1,7,1,1,7]
["Plant and Machine Operators",null,82,73,9,95,45,0,95,95,0]
["Elementary Occupations",null,48,47,3,48,47,3,48,47,3]
["TOTAL PERSONNEL NUMBERS",9,{"$f":"SUM(C5:C9)+SUM(C11:C19)+SUM(C21:C35)","v":451},{"$f":"SUM(D5:D9)+SUM(D11:D19)+SUM(D21:D35)","v":399},68,540,422,{"$f":"SUM(H5:H9)+SUM(H11:H19)+SUM(H21:H35)","v":82},540,497,82]
["% increase",{"$nulls":4},{"$f":"IF(ISERROR((F36/C36)-1),0,((F36/C36)-1))","v":{"v":0.19733924611973386,"d":"19.7%"}},{"v":0.057644110275689275,"d":"5.8%"},{"v":0.2058823529411764,"d":"20.6%"},0,{"v":0.17772511848341233,"d":"17.8%"},0]
[]
["Total municipal employees headcount","6, 10",526,464,73,617,492,105,617,567,105]
["Finance personnel headcount","8, 10",68,58,5,68,61,23,68,61,23]
["Human Resources personnel headcount","8, 10",7,7,0,9,9,0,9,9,0]
[]
[{"$f":"head27a","v":"References"}]
["1. Positions must be funded and aligned to the municipality's current organisational structure"]
["2. Full Time Equivalent (FTE). E.g. One full time person = 1FTE. A person working half time (say 4 hours out of 8) = 0.5FTE."]
["3. s57 of the Systems Act"]
["4. Include only in Consolidated Statements"]
["5. Include municipal entity employees in Consolidated Statements"]
["6.  Include headcount (number fo persons, Not FTE) of managers and staff only (exclude councillors)"]
["7. Managers who provide the direction of a critical technical function"]
["8. Total number of employees working on these functions"]
["9. Correct as at 30 June"]
["10. Must account for all budgeted positions, as per the municipal organogram"]

{"sheet":"SA25","index":47,"n_rows":65,"n_cols":17,"rows_kept":65,"merged":[[1,2,1,13],[1,14,1,16]]}
[{"$f":"muni&\" - \"& TableA25","v":"DC43 Harry Gwala - Supporting Table SA25 Consolidated budgeted monthly revenue and expenditure"}]
[{"$f":"desc","v":"Description"},{"$f":"head27","v":"Ref"},{"$f":"Head9","v":"Budget Year 2026/27"},{"$nulls":11},"Medium Term Revenue and Expenditure Framework"]
["R thousand",null,"July","August","Sept.","October","November","December","January","February","March","April","May","June",{"$f":"Head9","v":"Budget Year 2026/27"},{"$f":"Head10","v":"Budget Year +1 2027/28"},{"$f":"Head11","v":"Budget Year +2 2028/29"}]
["Revenue"," "]
["Exchange Revenue"," "]
["Service charges - Electricity"]
["Service charges - Water",null,{"v":6458035,"d":"6,458"},{"v":6458035,"d":"6,458"},{"v":6458035,"d":"6,458"},{"v":6458035,"d":"6,458"},{"v":6458035,"d":"6,458"},{"v":6458035,"d":"6,458"},{"v":6458035,"d":"6,458"},{"v":6458035,"d":"6,458"},{"v":6458035,"d":"6,458"},{"v":6458035,"d":"6,458"},{"v":6458035,"d":"6,458"},{"v":6458139,"d":"6,458"},{"v":77496524,"d":"77,497"},{"v":82146315,"d":"82,146"},{"v":87075093,"d":"87,075"}]
["Service charges - Waste Water Management",null,{"v":1195082,"d":"1,195"},{"v":1195082,"d":"1,195"},{"v":1195082,"d":"1,195"},{"v":1195082,"d":"1,195"},{"v":1195082,"d":"1,195"},{"v":1195082,"d":"1,195"},{"v":1195082,"d":"1,195"},{"v":1195082,"d":"1,195"},{"v":1195082,"d":"1,195"},{"v":1195082,"d":"1,195"},{"v":1195082,"d":"1,195"},{"v":1195161,"d":"1,195"},{"v":14341063,"d":"14,341"},{"v":15201527,"d":"15,202"},{"v":16113618,"d":"16,114"}]
["Service charges - Waste Management"]
["Sale of Goods and Rendering of Services",null,{"v":13271,"d":"13"},{"v":13271,"d":"13"},{"v":13271,"d":"13"},{"v":13271,"d":"13"},{"v":13271,"d":"13"},{"v":13271,"d":"13"},{"v":13271,"d":"13"},{"v":13271,"d":"13"},{"v":13271,"d":"13"},{"v":13271,"d":"13"},{"v":13271,"d":"13"},{"v":13290,"d":"13"},{"v":159271,"d":"159"},{"v":168719,"d":"169"},{"v":178729,"d":"179"}]
["Agency services"," "]
["Interest"," "]
["Interest earned from Receivables"," ",{"v":1126902,"d":"1,127"},{"v":1126902,"d":"1,127"},{"v":1126902,"d":"1,127"},{"v":1126902,"d":"1,127"},{"v":1126902,"d":"1,127"},{"v":1126902,"d":"1,127"},{"v":1126902,"d":"1,127"},{"v":1126902,"d":"1,127"},{"v":1126902,"d":"1,127"},{"v":1126902,"d":"1,127"},{"v":1126902,"d":"1,127"},{"v":1126914,"d":"1,127"},{"v":13522836,"d":"13,523"},{"v":14334207,"d":"14,334"},{"v":15194259,"d":"15,194"}]
["Interest earned from Current and Non Current Assets"," ",{"v":2297650,"d":"2,298"},{"v":2297650,"d":"2,298"},{"v":2297650,"d":"2,298"},{"v":2297650,"d":"2,298"},{"v":2297650,"d":"2,298"},{"v":2297650,"d":"2,298"},{"v":2297650,"d":"2,298"},{"v":2297650,"d":"2,298"},{"v":2297650,"d":"2,298"},{"v":2297650,"d":"2,298"},{"v":2297650,"d":"2,298"},{"v":2297674,"d":"2,298"},{"v":27571824,"d":"27,572"},{"v":29185209,"d":"29,185"},{"v":30889351,"d":"30,889"}]
["Dividends"," "]
["Rent on Land"," "]
["Rental from Fixed Assets"," "]
["Licence and permits"," "]
["Special rating levies"]
["Construction Contract Revenue"]
["Development Charges"]
["Operational Revenue"," ",{"v":57171,"d":"57"},{"v":57171,"d":"57"},{"v":57171,"d":"57"},{"v":57171,"d":"57"},{"v":57171,"d":"57"},{"v":57171,"d":"57"},{"v":57171,"d":"57"},{"v":57171,"d":"57"},{"v":57171,"d":"57"},{"v":57171,"d":"57"},{"v":57171,"d":"57"},{"v":57195,"d":"57"},{"v":686076,"d":"686"},{"v":727242,"d":"727"},{"v":770875,"d":"771"}]
["Non-Exchange Revenue"," "]
["Property rates"]
["Surcharges and Taxes"," "]
["Fines, penalties and forfeits"," ",{"v":29482,"d":"29"},{"v":29482,"d":"29"},{"v":29482,"d":"29"},{"v":29482,"d":"29"},{"v":29482,"d":"29"},{"v":29482,"d":"29"},{"v":29482,"d":"29"},{"v":29482,"d":"29"},{"v":29482,"d":"29"},{"v":29482,"d":"29"},{"v":29482,"d":"29"},{"v":29482,"d":"29"},{"v":353784,"d":"354"},{"v":367935,"d":"368"},{"v":382652,"d":"383"}]
["Licences or permits"," "]
["Transfer and subsidies - Operational"," ",{"v":50590757,"d":"50,591"},{"v":50590757,"d":"50,591"},{"v":50590757,"d":"50,591"},{"v":50590757,"d":"50,591"},{"v":50590757,"d":"50,591"},{"v":50590757,"d":"50,591"},{"v":50590757,"d":"50,591"},{"v":50590757,"d":"50,591"},{"v":50590757,"d":"50,591"},{"v":50590757,"d":"50,591"},{"v":50590757,"d":"50,591"},{"v":50590793,"d":"50,591"},{"v":607089120,"d":"607,089"},{"v":639342032,"d":"639,342"},{"v":654930589,"d":"654,931"}]
["Interest"," ",0,0,0,0,0,0,0,0,0,0,0,0,0,0,0]
["Fuel Levy"," "]
["Operational Revenue"," ",0,0,0,0,0,0,0,0,0,0,0,0,0,0,0]
["Gains on disposal of Fixed and Intangible Assets"," ",0,0,0,0,0,0,0,0,0,0,0,0,0,0,0]
["Other Gains"," ",0,0,0,0,0,0,0,0,0,0,0,0,0,0,0]
["Discontinued Operations"," "]
["Total Revenue (excluding capital transfers and contributions)"," ",{"$f":"SUM(C6:C22)+SUM(C24:C34)","v":{"v":61768350,"d":"61,768"}},{"$f":"SUM(D6:D22)+SUM(D24:D34)","v":{"v":61768350,"d":"61,768"}},{"v":61768350,"d":"61,768"},{"v":61768350,"d":"61,768"},{"v":61768350,"d":"61,768"},{"v":61768350,"d":"61,768"},{"v":61768350,"d":"61,768"},{"v":61768350,"d":"61,768"},{"v":61768350,"d":"61,768"},{"v":61768350,"d":"61,768"},{"v":61768350,"d":"61,768"},{"$f":"SUM(N6:N22)+SUM(N24:N34)","v":{"v":61768648,"d":"61,769"}},{"$f":"SUM(O6:O22)+SUM(O24:O34)","v":{"v":741220498,"d":"741,220"}},{"$f":"SUM(P6:P22)+SUM(P24:P34)","v":{"v":781473186,"d":"781,473"}},{"$f":"SUM(Q6:Q22)+SUM(Q24:Q34)","v":{"v":805535166,"d":"805,535"}}]
["Expenditure"]
["Employee related costs",null,{"v":26938645,"d":"26,939"},{"v":26938645,"d":"26,939"},{"v":26938645,"d":"26,939"},{"v":26938645,"d":"26,939"},{"v":26938645,"d":"26,939"},{"v":26938645,"d":"26,939"},{"v":26938645,"d":"26,939"},{"v":26938645,"d":"26,939"},{"v":26938645,"d":"26,939"},{"v":26938645,"d":"26,939"},{"v":26938645,"d":"26,939"},{"v":26936104,"d":"26,936"},{"v":323261199,"d":"323,261"},{"v":336115239,"d":"336,115"},{"v":349456055,"d":"349,456"}]
["Remuneration of councillors",null,{"v":702141,"d":"702"},{"v":702141,"d":"702"},{"v":702141,"d":"702"},{"v":702141,"d":"702"},{"v":702141,"d":"702"},{"v":702141,"d":"702"},{"v":702141,"d":"702"},{"v":702141,"d":"702"},{"v":702141,"d":"702"},{"v":702141,"d":"702"},{"v":702141,"d":"702"},{"v":701958,"d":"702"},{"v":8425509,"d":"8,426"},{"v":8762535,"d":"8,763"},{"v":9113031,"d":"9,113"}]
["Bulk purchases - electricity",null,0,0,0,0,0,0,0,0,0,0,0,0,0,0,0]
["Inventory consumed",null,{"v":3308032,"d":"3,308"},{"v":3308032,"d":"3,308"},{"v":3308032,"d":"3,308"},{"v":3308032,"d":"3,308"},{"v":3308032,"d":"3,308"},{"v":3308032,"d":"3,308"},{"v":3308032,"d":"3,308"},{"v":3308032,"d":"3,308"},{"v":3308032,"d":"3,308"},{"v":3308032,"d":"3,308"},{"v":3308032,"d":"3,308"},{"v":3307956,"d":"3,308"},{"v":39696308,"d":"39,696"},{"v":41006795,"d":"41,007"},{"v":42319624,"d":"42,320"}]
["Debt impairment",null,{"v":2732572,"d":"2,733"},{"v":2732572,"d":"2,733"},{"v":2732572,"d":"2,733"},{"v":2732572,"d":"2,733"},{"v":2732572,"d":"2,733"},{"v":2732572,"d":"2,733"},{"v":2732572,"d":"2,733"},{"v":2732572,"d":"2,733"},{"v":2732572,"d":"2,733"},{"v":2732572,"d":"2,733"},{"v":2732572,"d":"2,733"},{"v":2732562,"d":"2,733"},{"v":32790854,"d":"32,791"},{"v":33872952,"d":"33,873"},{"v":34956886,"d":"34,957"}]
["Depreciation, amortisation and impairment",null,{"v":9569971,"d":"9,570"},{"v":9569971,"d":"9,570"},{"v":9569971,"d":"9,570"},{"v":9569971,"d":"9,570"},{"v":9569971,"d":"9,570"},{"v":9569971,"d":"9,570"},{"v":9569971,"d":"9,570"},{"v":9569971,"d":"9,570"},{"v":9569971,"d":"9,570"},{"v":9569971,"d":"9,570"},{"v":9569971,"d":"9,570"},{"v":9569655,"d":"9,570"},{"v":114839336,"d":"114,839"},{"v":118634451,"d":"118,634"},{"v":122437196,"d":"122,437"}]
["Interest, Dividends and Rent on Land"," ",{"v":4695,"d":"5"},{"v":4695,"d":"5"},{"v":4695,"d":"5"},{"v":4695,"d":"5"},{"v":4695,"d":"5"},{"v":4695,"d":"5"},{"v":4695,"d":"5"},{"v":4695,"d":"5"},{"v":4695,"d":"5"},{"v":4695,"d":"5"},{"v":4695,"d":"5"},{"v":4682,"d":"5"},{"v":56327,"d":"56"},{"v":58477,"d":"58"},{"v":60694,"d":"61"}]
["Contracted services"," ",{"v":13700592,"d":"13,701"},{"v":13700592,"d":"13,701"},{"v":13700592,"d":"13,701"},{"v":13700592,"d":"13,701"},{"v":13700592,"d":"13,701"},{"v":13700592,"d":"13,701"},{"v":13700592,"d":"13,701"},{"v":13700592,"d":"13,701"},{"v":13700592,"d":"13,701"},{"v":13700592,"d":"13,701"},{"v":13700592,"d":"13,701"},{"v":13700213,"d":"13,700"},{"v":164406725,"d":"164,407"},{"v":172301386,"d":"172,301"},{"v":177830770,"d":"177,831"}]
["Transfers and subsidies"," ",{"v":1947870,"d":"1,948"},{"v":1947870,"d":"1,948"},{"v":1947870,"d":"1,948"},{"v":1947870,"d":"1,948"},{"v":1947870,"d":"1,948"},{"v":1947870,"d":"1,948"},{"v":1947870,"d":"1,948"},{"v":1947870,"d":"1,948"},{"v":1947870,"d":"1,948"},{"v":1947870,"d":"1,948"},{"v":1947870,"d":"1,948"},{"v":1947845,"d":"1,948"},{"v":23374415,"d":"23,374"},{"v":25889392,"d":"25,889"},{"v":25404968,"d":"25,405"}]
["Irrecoverable debts written off"," ",{"v":3740042,"d":"3,740"},{"v":3740042,"d":"3,740"},{"v":3740042,"d":"3,740"},{"v":3740042,"d":"3,740"},{"v":3740042,"d":"3,740"},{"v":3740042,"d":"3,740"},{"v":3740042,"d":"3,740"},{"v":3740042,"d":"3,740"},{"v":3740042,"d":"3,740"},{"v":3740042,"d":"3,740"},{"v":3740042,"d":"3,740"},{"v":3740021,"d":"3,740"},{"v":44880483,"d":"44,880"},{"v":46361538,"d":"46,362"},{"v":47845108,"d":"47,845"}]
["Operational costs"," ",{"v":9521898,"d":"9,522"},{"v":9521898,"d":"9,522"},{"v":9521898,"d":"9,522"},{"v":9521898,"d":"9,522"},{"v":9521898,"d":"9,522"},{"v":9521898,"d":"9,522"},{"v":9521898,"d":"9,522"},{"v":9521898,"d":"9,522"},{"v":9521898,"d":"9,522"},{"v":9521898,"d":"9,522"},{"v":9521898,"d":"9,522"},{"v":9521000,"d":"9,521"},{"v":114261878,"d":"114,262"},{"v":117903858,"d":"117,904"},{"v":121710277,"d":"121,710"}]
["Disposal of Fixed and Intangible Assets"," ",{"v":387804,"d":"388"},{"v":387804,"d":"388"},{"v":387804,"d":"388"},{"v":387804,"d":"388"},{"v":387804,"d":"388"},{"v":387804,"d":"388"},{"v":387804,"d":"388"},{"v":387804,"d":"388"},{"v":387804,"d":"388"},{"v":387804,"d":"388"},{"v":387804,"d":"388"},{"v":387756,"d":"388"},{"v":4653600,"d":"4,654"},{"v":4807170,"d":"4,807"},{"v":4961004,"d":"4,961"}]
["Other Losses"," ",0,0,0,0,0,0,0,0,0,0,0,0,0,0,0]
["Total Expenditure"," ",{"$f":"SUM(C37:C49)","v":{"v":72554262,"d":"72,554"}},{"$f":"SUM(D37:D49)","v":{"v":72554262,"d":"72,554"}},{"v":72554262,"d":"72,554"},{"v":72554262,"d":"72,554"},{"v":72554262,"d":"72,554"},{"v":72554262,"d":"72,554"},{"v":72554262,"d":"72,554"},{"v":72554262,"d":"72,554"},{"v":72554262,"d":"72,554"},{"v":72554262,"d":"72,554"},{"v":72554262,"d":"72,554"},{"$f":"SUM(N37:N49)","v":{"v":72549752,"d":"72,550"}},{"$f":"SUM(O37:O49)","v":{"v":870646634,"d":"870,647"}},{"v":905713793,"d":"905,714"},{"v":936095613,"d":"936,096"}]
["Surplus/(Deficit)",null,{"$f":"+C35-C50","v":{"v":-10785912,"d":"(10,786)"}},{"$f":"+D35-D50","v":{"v":-10785912,"d":"(10,786)"}},{"v":-10785912,"d":"(10,786)"},{"v":-10785912,"d":"(10,786)"},{"v":-10785912,"d":"(10,786)"},{"v":-10785912,"d":"(10,786)"},{"v":-10785912,"d":"(10,786)"},{"v":-10785912,"d":"(10,786)"},{"v":-10785912,"d":"(10,786)"},{"v":-10785912,"d":"(10,786)"},{"v":-10785912,"d":"(10,786)"},{"$f":"+N35-N50","v":{"v":-10781104,"d":"(10,781)"}},{"$f":"+O35-O50","v":{"v":-129426136,"d":"(129,426)"}},{"v":-124240607,"d":"(124,241)"},{"v":-130560447,"d":"(130,560)"}]
["Transfers and subsidies - capital (monetary allocations)",null,{"v":27405573,"d":"27,406"},{"v":27405573,"d":"27,406"},{"v":27405573,"d":"27,406"},{"v":27405573,"d":"27,406"},{"v":27405573,"d":"27,406"},{"v":27405573,"d":"27,406"},{"v":27405573,"d":"27,406"},{"v":27405573,"d":"27,406"},{"v":27405573,"d":"27,406"},{"v":27405573,"d":"27,406"},{"v":27405573,"d":"27,406"},{"v":27405577,"d":"27,406"},{"v":328866880,"d":"328,867"},{"v":389425968,"d":"389,426"},{"v":373731412,"d":"373,731"}]
["Transfers and subsidies - capital (in-kind)",null,0,0,0,0,0,0,0,0,0,0,0,0,0,0,0]
["Surplus/(Deficit) after capital transfers & contributions",null,{"$f":"SUM(C51:C53)","v":{"v":16619661,"d":"16,620"}},{"$f":"SUM(D51:D53)","v":{"v":16619661,"d":"16,620"}},{"v":16619661,"d":"16,620"},{"v":16619661,"d":"16,620"},{"v":16619661,"d":"16,620"},{"v":16619661,"d":"16,620"},{"v":16619661,"d":"16,620"},{"v":16619661,"d":"16,620"},{"v":16619661,"d":"16,620"},{"v":16619661,"d":"16,620"},{"v":16619661,"d":"16,620"},{"v":16624473,"d":"16,624"},{"$f":"SUM(O51:O53)","v":{"v":199440744,"d":"199,441"}},{"v":265185361,"d":"265,185"},{"v":243170965,"d":"243,171"}]
["Income Tax"]
["Surplus/(Deficit) after income tax",null,{"$f":"+C54-C55","v":{"v":16619661,"d":"16,620"}},{"$f":"+D54-D55","v":{"v":16619661,"d":"16,620"}},{"v":16619661,"d":"16,620"},{"v":16619661,"d":"16,620"},{"v":16619661,"d":"16,620"},{"v":16619661,"d":"16,620"},{"v":16619661,"d":"16,620"},{"v":16619661,"d":"16,620"},{"v":16619661,"d":"16,620"},{"v":16619661,"d":"16,620"},{"$f":"+M54-M55","v":{"v":16619661,"d":"16,620"}},{"$f":"+N54-N55","v":{"v":16624473,"d":"16,624"}},{"$f":"+O54-O55","v":{"v":199440744,"d":"199,441"}},{"v":265185361,"d":"265,185"},{"v":243170965,"d":"243,171"}]
["Share of Surplus/Deficit attributable to Joint Venture"]
["Share of Surplus/Deficit attributable to Minorities"]
["Surplus/(Deficit) attributable to municipality",null,{"$f":"SUM(C56:C58)","v":{"v":16619661,"d":"16,620"}},{"$f":"SUM(D56:D58)","v":{"v":16619661,"d":"16,620"}},{"v":16619661,"d":"16,620"},{"v":16619661,"d":"16,620"},{"v":16619661,"d":"16,620"},{"v":16619661,"d":"16,620"},{"v":16619661,"d":"16,620"},{"v":16619661,"d":"16,620"},{"v":16619661,"d":"16,620"},{"v":16619661,"d":"16,620"},{"v":16619661,"d":"16,620"},{"$f":"SUM(N56:N58)","v":{"v":16624473,"d":"16,624"}},{"$f":"SUM(O56:O58)","v":{"v":199440744,"d":"199,441"}},{"v":265185361,"d":"265,185"},{"v":243170965,"d":"243,171"}]
["Share of Surplus/Deficit attributable to Associate"]
["Intercompany/Parent subsidiary transactions",null,0,0,0,0,0,0,0,0,0,0,0,0,0,0,0]
[{"$f":"result","v":"Surplus/(Deficit) for the year"},1,{"$f":"SUM(C59:C61)","v":{"v":16619661,"d":"16,620"}},{"$f":"SUM(D59:D61)","v":{"v":16619661,"d":"16,620"}},{"v":16619661,"d":"16,620"},{"v":16619661,"d":"16,620"},{"v":16619661,"d":"16,620"},{"v":16619661,"d":"16,620"},{"v":16619661,"d":"16,620"},{"v":16619661,"d":"16,620"},{"v":16619661,"d":"16,620"},{"v":16619661,"d":"16,620"},{"v":16619661,"d":"16,620"},{"v":16624473,"d":"16,624"},{"$f":"SUM(O59:O61)","v":{"v":199440744,"d":"199,441"}},{"v":265185361,"d":"265,185"},{"v":243170965,"d":"243,171"}]
[{"$f":"head27a","v":"References"}]
["1. Surplus (Deficit) must reconcile with Budgeted Financial Performance"]
[{"$nulls":14},{"$f":"O62-'A4-FinPerf RE'!J62","v":0},{"$f":"P62-'A4-FinPerf RE'!K62","v":0},{"$f":"Q62-'A4-FinPerf RE'!L62","v":0}]

{"sheet":"SA26","index":48,"n_rows":48,"n_cols":17,"rows_kept":48,"merged":[[1,2,1,13],[1,14,1,16]]}
[{"$f":"muni&\" - \"&TableA26","v":"DC43 Harry Gwala - Supporting Table SA26 Consolidated budgeted monthly revenue and expenditure (municipal vote)"}]
[{"$f":"desc","v":"Description"},{"$f":"head27","v":"Ref"},{"$f":"Head9","v":"Budget Year 2026/27"},{"$nulls":11},"Medium Term Revenue and Expenditure Framework"]
["R thousand",null,"July","August","Sept.","October","November","December","January","February","March","April","May","June",{"$f":"Head9","v":"Budget Year 2026/27"},{"$f":"Head10","v":"Budget Year +1 2027/28"},{"$f":"Head11","v":"Budget Year +2 2028/29"}]
[{"$f":"'A3-FinPerf V'!A4","v":"Revenue by Vote"}]
[{"$f":"'A3-FinPerf V'!A5","v":"Vote 01 - Summary Council"},null,0,0,0,0,0,0,0,0,0,0,0,0,0,0,0]
[{"$f":"'A3-FinPerf V'!A6","v":"Vote 02 - Summary Municipal Manager"},null,0,0,0,0,0,0,0,0,0,0,0,0,0,0,0]
[{"$f":"'A3-FinPerf V'!A7","v":"Vote 03 - Summary Budget And Treasury Office"},null,{"v":48071783,"d":"48,072"},{"v":48071783,"d":"48,072"},{"v":48071783,"d":"48,072"},{"v":48071783,"d":"48,072"},{"v":48071783,"d":"48,072"},{"v":48071783,"d":"48,072"},{"v":48071783,"d":"48,072"},{"v":48071783,"d":"48,072"},{"v":48071783,"d":"48,072"},{"v":48071783,"d":"48,072"},{"v":48071783,"d":"48,072"},{"v":48071845,"d":"48,072"},{"v":576861458,"d":"576,861"},{"v":607831921,"d":"607,832"},{"v":624485064,"d":"624,485"}]
[{"$f":"'A3-FinPerf V'!A8","v":"Vote 04 - Summary Corporate Services"},null,{"v":36244,"d":"36"},{"v":36244,"d":"36"},{"v":36244,"d":"36"},{"v":36244,"d":"36"},{"v":36244,"d":"36"},{"v":36244,"d":"36"},{"v":36244,"d":"36"},{"v":36244,"d":"36"},{"v":36244,"d":"36"},{"v":36244,"d":"36"},{"v":36244,"d":"36"},{"v":36251,"d":"36"},{"v":434935,"d":"435"},{"v":461032,"d":"461"},{"v":488693,"d":"489"}]
[{"$f":"'A3-FinPerf V'!A9","v":"Vote 05 - Summary Social Services & Development Planing"},null,{"v":2050375,"d":"2,050"},{"v":2050375,"d":"2,050"},{"v":2050375,"d":"2,050"},{"v":2050375,"d":"2,050"},{"v":2050375,"d":"2,050"},{"v":2050375,"d":"2,050"},{"v":2050375,"d":"2,050"},{"v":2050375,"d":"2,050"},{"v":2050375,"d":"2,050"},{"v":2050375,"d":"2,050"},{"v":2050375,"d":"2,050"},{"v":2050398,"d":"2,050"},{"v":24604523,"d":"24,605"},{"v":27159871,"d":"27,160"},{"v":26712492,"d":"26,712"}]
[{"$f":"'A3-FinPerf V'!A10","v":"Vote 06 - Summary Infrastructure Services"},null,{"v":30663804,"d":"30,664"},{"v":30663804,"d":"30,664"},{"v":30663804,"d":"30,664"},{"v":30663804,"d":"30,664"},{"v":30663804,"d":"30,664"},{"v":30663804,"d":"30,664"},{"v":30663804,"d":"30,664"},{"v":30663804,"d":"30,664"},{"v":30663804,"d":"30,664"},{"v":30663804,"d":"30,664"},{"v":30663804,"d":"30,664"},{"v":30663826,"d":"30,664"},{"v":367965670,"d":"367,966"},{"v":429212290,"d":"429,212"},{"v":414972249,"d":"414,972"}]
[{"$f":"'A3-FinPerf V'!A11","v":"Vote 07 - Summary Water Services"},null,{"v":8351717,"d":"8,352"},{"v":8351717,"d":"8,352"},{"v":8351717,"d":"8,352"},{"v":8351717,"d":"8,352"},{"v":8351717,"d":"8,352"},{"v":8351717,"d":"8,352"},{"v":8351717,"d":"8,352"},{"v":8351717,"d":"8,352"},{"v":8351717,"d":"8,352"},{"v":8351717,"d":"8,352"},{"v":8351717,"d":"8,352"},{"v":8351905,"d":"8,352"},{"v":100220792,"d":"100,221"},{"v":106234040,"d":"106,234"},{"v":112608080,"d":"112,608"}]
[{"$f":"'A3-FinPerf V'!A12","v":"Vote 08 - "}]
[{"$f":"'A3-FinPerf V'!A13","v":"Vote 09 - "}]
[{"$f":"'A3-FinPerf V'!A14","v":"Vote 10 - "}]
[{"$f":"'A3-FinPerf V'!A15","v":"Vote 11 - "}]
[{"$f":"'A3-FinPerf V'!A16","v":"Vote 12 - "}]
[{"$f":"'A3-FinPerf V'!A17","v":"Vote 13 - "}]
[{"$f":"'A3-FinPerf V'!A18","v":"Vote 14 - "}]
[{"$f":"'A3-FinPerf V'!A19","v":"Vote 15 - Other"}]
[{"$f":"'A3-FinPerf V'!A20","v":"Total Revenue by Vote"},null,{"$f":"SUM(C5:C19)","v":{"v":89173923,"d":"89,174"}},{"$f":"SUM(D5:D19)","v":{"v":89173923,"d":"89,174"}},{"v":89173923,"d":"89,174"},{"$f":"SUM(F5:F19)","v":{"v":89173923,"d":"89,174"}},{"v":89173923,"d":"89,174"},{"v":89173923,"d":"89,174"},{"v":89173923,"d":"89,174"},{"v":89173923,"d":"89,174"},{"v":89173923,"d":"89,174"},{"v":89173923,"d":"89,174"},{"v":89173923,"d":"89,174"},{"$f":"SUM(N5:N19)","v":{"v":89174225,"d":"89,174"}},{"v":1070087378,"d":"1,070,087"},{"v":1170899154,"d":"1,170,899"},{"v":1179266578,"d":"1,179,267"}]
[]
[{"$f":"'A3-FinPerf V'!A22","v":"Expenditure by Vote to be appropriated"}]
[{"$f":"A5","v":"Vote 01 - Summary Council"},null,{"v":1969416,"d":"1,969"},{"v":1969416,"d":"1,969"},{"v":1969416,"d":"1,969"},{"v":1969416,"d":"1,969"},{"v":1969416,"d":"1,969"},{"v":1969416,"d":"1,969"},{"v":1969416,"d":"1,969"},{"v":1969416,"d":"1,969"},{"v":1969416,"d":"1,969"},{"v":1969416,"d":"1,969"},{"v":1969416,"d":"1,969"},{"v":1969058,"d":"1,969"},{"v":23632634,"d":"23,633"},{"v":24496040,"d":"24,496"},{"v":25379185,"d":"25,379"}]
["Vote 02 - Summary Municipal Manager",null,{"v":2687603,"d":"2,688"},{"v":2687603,"d":"2,688"},{"v":2687603,"d":"2,688"},{"v":2687603,"d":"2,688"},{"v":2687603,"d":"2,688"},{"v":2687603,"d":"2,688"},{"v":2687603,"d":"2,688"},{"v":2687603,"d":"2,688"},{"v":2687603,"d":"2,688"},{"v":2687603,"d":"2,688"},{"v":2687603,"d":"2,688"},{"v":2687204,"d":"2,687"},{"v":32250837,"d":"32,251"},{"v":33441996,"d":"33,442"},{"v":34662949,"d":"34,663"}]
["Vote 03 - Summary Budget And Treasury Office",null,{"v":6411873,"d":"6,412"},{"v":6411873,"d":"6,412"},{"v":6411873,"d":"6,412"},{"v":6411873,"d":"6,412"},{"v":6411873,"d":"6,412"},{"v":6411873,"d":"6,412"},{"v":6411873,"d":"6,412"},{"v":6411873,"d":"6,412"},{"v":6411873,"d":"6,412"},{"v":6411873,"d":"6,412"},{"v":6411873,"d":"6,412"},{"v":6411376,"d":"6,411"},{"v":76941979,"d":"76,942"},{"v":79836577,"d":"79,837"},{"v":82901961,"d":"82,902"}]
["Vote 04 - Summary Corporate Services",null,{"v":11791998,"d":"11,792"},{"v":11791998,"d":"11,792"},{"v":11791998,"d":"11,792"},{"v":11791998,"d":"11,792"},{"v":11791998,"d":"11,792"},{"v":11791998,"d":"11,792"},{"v":11791998,"d":"11,792"},{"v":11791998,"d":"11,792"},{"v":11791998,"d":"11,792"},{"v":11791998,"d":"11,792"},{"v":11791998,"d":"11,792"},{"v":11791274,"d":"11,791"},{"v":141503252,"d":"141,503"},{"v":146404733,"d":"146,405"},{"v":151365282,"d":"151,365"}]
["Vote 05 - Summary Social Services & Development Planing",null,{"v":8567285,"d":"8,567"},{"v":8567285,"d":"8,567"},{"v":8567285,"d":"8,567"},{"v":8567285,"d":"8,567"},{"v":8567285,"d":"8,567"},{"v":8567285,"d":"8,567"},{"v":8567285,"d":"8,567"},{"v":8567285,"d":"8,567"},{"v":8567285,"d":"8,567"},{"v":8567285,"d":"8,567"},{"v":8567285,"d":"8,567"},{"v":8566299,"d":"8,566"},{"v":102806434,"d":"102,806"},{"v":108198287,"d":"108,198"},{"v":110599190,"d":"110,599"}]
["Vote 06 - Summary Infrastructure Services",null,{"v":12611214,"d":"12,611"},{"v":12611214,"d":"12,611"},{"v":12611214,"d":"12,611"},{"v":12611214,"d":"12,611"},{"v":12611214,"d":"12,611"},{"v":12611214,"d":"12,611"},{"v":12611214,"d":"12,611"},{"v":12611214,"d":"12,611"},{"v":12611214,"d":"12,611"},{"v":12611214,"d":"12,611"},{"v":12611214,"d":"12,611"},{"v":12610712,"d":"12,611"},{"v":151334066,"d":"151,334"},{"v":158855324,"d":"158,855"},{"v":164160534,"d":"164,161"}]
["Vote 07 - Summary Water Services",null,{"v":28514873,"d":"28,515"},{"v":28514873,"d":"28,515"},{"v":28514873,"d":"28,515"},{"v":28514873,"d":"28,515"},{"v":28514873,"d":"28,515"},{"v":28514873,"d":"28,515"},{"v":28514873,"d":"28,515"},{"v":28514873,"d":"28,515"},{"v":28514873,"d":"28,515"},{"v":28514873,"d":"28,515"},{"v":28514873,"d":"28,515"},{"v":28513829,"d":"28,514"},{"v":342177432,"d":"342,177"},{"v":354480836,"d":"354,481"},{"v":367026512,"d":"367,027"}]
["Vote 08 - "]
["Vote 09 - "]
[{"$f":"A14","v":"Vote 10 - "}]
["Vote 11 - "]
["Vote 12 - "]
["Vote 13 - "]
["Vote 14 - "]
["Vote 15 - Other"]
[{"$f":"'A3-FinPerf V'!A38","v":"Total Expenditure by Vote"},null,{"$f":"SUM(C23:C37)","v":{"v":72554262,"d":"72,554"}},{"$f":"SUM(D23:D37)","v":{"v":72554262,"d":"72,554"}},{"v":72554262,"d":"72,554"},{"v":72554262,"d":"72,554"},{"v":72554262,"d":"72,554"},{"v":72554262,"d":"72,554"},{"v":72554262,"d":"72,554"},{"v":72554262,"d":"72,554"},{"v":72554262,"d":"72,554"},{"v":72554262,"d":"72,554"},{"v":72554262,"d":"72,554"},{"v":72549752,"d":"72,550"},{"$f":"SUM(O23:O37)","v":{"v":870646634,"d":"870,647"}},{"$f":"SUM(P23:P37)","v":{"v":905713793,"d":"905,714"}},{"$f":"SUM(Q23:Q37)","v":{"v":936095613,"d":"936,096"}}]
[]
[{"$f":"'A4-FinPerf RE'!A51&\" before assoc.\"","v":"Surplus/(Deficit) before assoc."},null,{"$f":"C20-C38","v":{"v":16619661,"d":"16,620"}},{"$f":"D20-D38","v":{"v":16619661,"d":"16,620"}},{"v":16619661,"d":"16,620"},{"v":16619661,"d":"16,620"},{"v":16619661,"d":"16,620"},{"v":16619661,"d":"16,620"},{"v":16619661,"d":"16,620"},{"v":16619661,"d":"16,620"},{"v":16619661,"d":"16,620"},{"v":16619661,"d":"16,620"},{"v":16619661,"d":"16,620"},{"v":16624473,"d":"16,624"},{"v":199440744,"d":"199,441"},{"v":265185361,"d":"265,185"},{"v":243170965,"d":"243,171"}]
[]
[{"$f":"'SA25'!A55","v":"Income Tax"}]
[{"$f":"'SA25'!A58","v":"Share of Surplus/Deficit attributable to Minorities"}]
[{"$f":"'A4-FinPerf RE'!A61","v":"Intercompany/Parent subsidiary transactions"}]
[{"$f":"'A4-FinPerf RE'!A51","v":"Surplus/(Deficit)"},1,{"$f":"C40+C44+C42+C43","v":{"v":16619661,"d":"16,620"}},{"$f":"D40+D44+D42+D43","v":{"v":16619661,"d":"16,620"}},{"v":16619661,"d":"16,620"},{"v":16619661,"d":"16,620"},{"v":16619661,"d":"16,620"},{"v":16619661,"d":"16,620"},{"v":16619661,"d":"16,620"},{"v":16619661,"d":"16,620"},{"v":16619661,"d":"16,620"},{"v":16619661,"d":"16,620"},{"v":16619661,"d":"16,620"},{"v":16624473,"d":"16,624"},{"v":199440744,"d":"199,441"},{"v":265185361,"d":"265,185"},{"v":243170965,"d":"243,171"}]
[{"$f":"head27a","v":"References"}]
["1. Surplus (Deficit) must reconcile with Budgeted Financial Performance"]
[{"$nulls":14},{"$f":"O45-'A4-FinPerf RE'!J62","v":0},{"$f":"P45-'A4-FinPerf RE'!K62","v":0},{"$f":"Q45-'A4-FinPerf RE'!L62","v":0}]

{"sheet":"SA27","index":49,"n_rows":55,"n_cols":17,"rows_kept":55,"merged":[[1,2,1,13],[1,14,1,16]]}
[{"$f":"muni&\" - \"&TableA27","v":"DC43 Harry Gwala - Supporting Table SA27 Consolidated budgeted monthly revenue and expenditure (functional classification)"}]
[{"$f":"desc","v":"Description"},{"$f":"head27","v":"Ref"},{"$f":"Head9","v":"Budget Year 2026/27"},{"$nulls":11},"Medium Term Revenue and Expenditure Framework"]
["R thousand",null,"July","August","Sept.","October","November","December","January","February","March","April","May","June",{"$f":"Head9","v":"Budget Year 2026/27"},{"$f":"Head10","v":"Budget Year +1 2027/28"},{"$f":"Head11","v":"Budget Year +2 2028/29"}]
[{"$f":"'A2-FinPerf SC'!A4","v":"Revenue - Functional"}]
[{"$f":"'A2-FinPerf SC'!A5","v":"Governance and administration"},null,{"$f":"SUM(C6:C8)","v":{"v":48245914,"d":"48,246"}},{"$f":"SUM(D6:D8)","v":{"v":48245914,"d":"48,246"}},{"$f":"SUM(E6:E8)","v":{"v":48245914,"d":"48,246"}},{"v":48245914,"d":"48,246"},{"v":48245914,"d":"48,246"},{"v":48245914,"d":"48,246"},{"v":48245914,"d":"48,246"},{"v":48245914,"d":"48,246"},{"v":48245914,"d":"48,246"},{"v":48245914,"d":"48,246"},{"v":48245914,"d":"48,246"},{"$f":"SUM(N6:N8)","v":{"v":48246004,"d":"48,246"}},{"$f":"SUM(O6:O8)","v":{"v":578951058,"d":"578,951"}},{"$f":"SUM(P6:P8)","v":{"v":610005975,"d":"610,006"}},{"$f":"SUM(Q6:Q8)","v":{"v":626742590,"d":"626,743"}}]
[{"$f":"'A2-FinPerf SC'!A6","v":"Executive and council"},null,0,0,0,0,0,0,0,0,0,0,0,0,0,0,0]
[{"$f":"'A2-FinPerf SC'!A7","v":"Finance and administration"},null,{"v":48245914,"d":"48,246"},{"v":48245914,"d":"48,246"},{"v":48245914,"d":"48,246"},{"v":48245914,"d":"48,246"},{"v":48245914,"d":"48,246"},{"v":48245914,"d":"48,246"},{"v":48245914,"d":"48,246"},{"v":48245914,"d":"48,246"},{"v":48245914,"d":"48,246"},{"v":48245914,"d":"48,246"},{"v":48245914,"d":"48,246"},{"v":48246004,"d":"48,246"},{"v":578951058,"d":"578,951"},{"v":610005975,"d":"610,006"},{"v":626742590,"d":"626,743"}]
[{"$f":"'A2-FinPerf SC'!A8","v":"Internal audit"},null,0,0,0,0,0,0,0,0,0,0,0,0,0,0,0]
[{"$f":"'A2-FinPerf SC'!A9","v":"Community and public safety"},null,{"$f":"SUM(C10:C14)","v":{"v":7403,"d":"7"}},{"$f":"SUM(D10:D14)","v":{"v":7403,"d":"7"}},{"v":7403,"d":"7"},{"v":7403,"d":"7"},{"v":7403,"d":"7"},{"v":7403,"d":"7"},{"v":7403,"d":"7"},{"v":7403,"d":"7"},{"v":7403,"d":"7"},{"v":7403,"d":"7"},{"v":7403,"d":"7"},{"v":7410,"d":"7"},{"$f":"SUM(O10:O14)","v":{"v":88843,"d":"89"}},{"$f":"SUM(P10:P14)","v":{"v":94174,"d":"94"}},{"$f":"SUM(Q10:Q14)","v":{"v":99824,"d":"100"}}]
[{"$f":"'A2-FinPerf SC'!A10","v":"Community and social services"},null,{"v":7403,"d":"7"},{"v":7403,"d":"7"},{"v":7403,"d":"7"},{"v":7403,"d":"7"},{"v":7403,"d":"7"},{"v":7403,"d":"7"},{"v":7403,"d":"7"},{"v":7403,"d":"7"},{"v":7403,"d":"7"},{"v":7403,"d":"7"},{"v":7403,"d":"7"},{"v":7410,"d":"7"},{"v":88843,"d":"89"},{"v":94174,"d":"94"},{"v":99824,"d":"100"}]
[{"$f":"'A2-FinPerf SC'!A11","v":"Sport and recreation"}]
[{"$f":"'A2-FinPerf SC'!A12","v":"Public safety"}]
[{"$f":"'A2-FinPerf SC'!A13","v":"Housing"}]
[{"$f":"'A2-FinPerf SC'!A14","v":"Health"}]
[{"$f":"'A2-FinPerf SC'!A15","v":"Economic and environmental services"},null,{"$f":"SUM(C16:C18)","v":{"v":1916666,"d":"1,917"}},{"$f":"SUM(D16:D18)","v":{"v":1916666,"d":"1,917"}},{"v":1916666,"d":"1,917"},{"v":1916666,"d":"1,917"},{"v":1916666,"d":"1,917"},{"v":1916666,"d":"1,917"},{"v":1916666,"d":"1,917"},{"v":1916666,"d":"1,917"},{"v":1916666,"d":"1,917"},{"v":1916666,"d":"1,917"},{"$f":"SUM(M16:M18)","v":{"v":1916666,"d":"1,917"}},{"$f":"SUM(N16:N18)","v":{"v":1916674,"d":"1,917"}},{"$f":"SUM(O16:O18)","v":{"v":23000000,"d":"23,000"}},{"$f":"SUM(P16:P18)","v":{"v":25500000,"d":"25,500"}},{"$f":"SUM(Q16:Q18)","v":{"v":25000000,"d":"25,000"}}]
[{"$f":"'A2-FinPerf SC'!A16","v":"Planning and development"},null,{"v":1916666,"d":"1,917"},{"v":1916666,"d":"1,917"},{"v":1916666,"d":"1,917"},{"v":1916666,"d":"1,917"},{"v":1916666,"d":"1,917"},{"v":1916666,"d":"1,917"},{"v":1916666,"d":"1,917"},{"v":1916666,"d":"1,917"},{"v":1916666,"d":"1,917"},{"v":1916666,"d":"1,917"},{"v":1916666,"d":"1,917"},{"v":1916674,"d":"1,917"},{"v":23000000,"d":"23,000"},{"v":25500000,"d":"25,500"},{"v":25000000,"d":"25,000"}]
[{"$f":"'A2-FinPerf SC'!A17","v":"Road transport"}]
[{"$f":"'A2-FinPerf SC'!A18","v":"Environmental protection"}]
[{"$f":"'A2-FinPerf SC'!A19","v":"Trading services"},null,{"$f":"SUM(C20:C23)","v":{"v":39003940,"d":"39,004"}},{"$f":"SUM(D20:D23)","v":{"v":39003940,"d":"39,004"}},{"v":39003940,"d":"39,004"},{"v":39003940,"d":"39,004"},{"v":39003940,"d":"39,004"},{"v":39003940,"d":"39,004"},{"v":39003940,"d":"39,004"},{"v":39003940,"d":"39,004"},{"v":39003940,"d":"39,004"},{"v":39003940,"d":"39,004"},{"v":39003940,"d":"39,004"},{"$f":"SUM(N20:N23)","v":{"v":39004137,"d":"39,004"}},{"$f":"SUM(O20:O23)","v":{"v":468047477,"d":"468,047"}},{"$f":"SUM(P20:P23)","v":{"v":535299005,"d":"535,299"}},{"$f":"SUM(Q20:Q23)","v":{"v":527424164,"d":"527,424"}}]
[{"$f":"'A2-FinPerf SC'!A20","v":"Energy sources"},null,0,0,0,0,0,0,0,0,0,0,0,0,0,0,0]
[{"$f":"'A2-FinPerf SC'!A21","v":"Water management"},null,{"v":37779228,"d":"37,779"},{"v":37779228,"d":"37,779"},{"v":37779228,"d":"37,779"},{"v":37779228,"d":"37,779"},{"v":37779228,"d":"37,779"},{"v":37779228,"d":"37,779"},{"v":37779228,"d":"37,779"},{"v":37779228,"d":"37,779"},{"v":37779228,"d":"37,779"},{"v":37779228,"d":"37,779"},{"v":37779228,"d":"37,779"},{"v":37779346,"d":"37,779"},{"v":453350854,"d":"453,351"},{"v":519720585,"d":"519,721"},{"v":510911040,"d":"510,911"}]
[{"$f":"'A2-FinPerf SC'!A22","v":"Waste water management"},null,{"v":1224712,"d":"1,225"},{"v":1224712,"d":"1,225"},{"v":1224712,"d":"1,225"},{"v":1224712,"d":"1,225"},{"v":1224712,"d":"1,225"},{"v":1224712,"d":"1,225"},{"v":1224712,"d":"1,225"},{"v":1224712,"d":"1,225"},{"v":1224712,"d":"1,225"},{"v":1224712,"d":"1,225"},{"v":1224712,"d":"1,225"},{"v":1224791,"d":"1,225"},{"v":14696623,"d":"14,697"},{"v":15578420,"d":"15,578"},{"v":16513124,"d":"16,513"}]
[{"$f":"'A2-FinPerf SC'!A23","v":"Waste management"}]
[{"$f":"'A2-FinPerf SC'!A24","v":"Other"}]
[{"$f":"'A2-FinPerf SC'!A25","v":"Total Revenue - Functional"},null,{"$f":"C5+C9+C15+C19+C24","v":{"v":89173923,"d":"89,174"}},{"$f":"D5+D9+D15+D19+D24","v":{"v":89173923,"d":"89,174"}},{"$f":"E5+E9+E15+E19+E24","v":{"v":89173923,"d":"89,174"}},{"v":89173923,"d":"89,174"},{"v":89173923,"d":"89,174"},{"v":89173923,"d":"89,174"},{"v":89173923,"d":"89,174"},{"v":89173923,"d":"89,174"},{"v":89173923,"d":"89,174"},{"v":89173923,"d":"89,174"},{"v":89173923,"d":"89,174"},{"$f":"N5+N9+N15+N19+N24","v":{"v":89174225,"d":"89,174"}},{"$f":"O5+O9+O15+O19+O24","v":{"v":1070087378,"d":"1,070,087"}},{"$f":"P5+P9+P15+P19+P24","v":{"v":1170899154,"d":"1,170,899"}},{"$f":"Q5+Q9+Q15+Q19+Q24","v":{"v":1179266578,"d":"1,179,267"}}]
[]
[{"$f":"'A2-FinPerf SC'!A27","v":"Expenditure - Functional"}]
[{"$f":"'A2-FinPerf SC'!A28","v":"Governance and administration"},null,{"$f":"SUM(C29:C31)","v":{"v":29852868,"d":"29,853"}},{"$f":"SUM(D29:D31)","v":{"v":29852868,"d":"29,853"}},{"$f":"SUM(E29:E31)","v":{"v":29852868,"d":"29,853"}},{"v":29852868,"d":"29,853"},{"v":29852868,"d":"29,853"},{"v":29852868,"d":"29,853"},{"v":29852868,"d":"29,853"},{"v":29852868,"d":"29,853"},{"v":29852868,"d":"29,853"},{"v":29852868,"d":"29,853"},{"v":29852868,"d":"29,853"},{"v":29850296,"d":"29,850"},{"$f":"SUM(O29:O31)","v":{"v":358231844,"d":"358,232"}},{"$f":"SUM(P29:P31)","v":{"v":371039255,"d":"371,039"}},{"$f":"SUM(Q29:Q31)","v":{"v":384119793,"d":"384,120"}}]
[{"$f":"'A2-FinPerf SC'!A29","v":"Executive and council"},null,{"v":3998624,"d":"3,999"},{"v":3998624,"d":"3,999"},{"v":3998624,"d":"3,999"},{"v":3998624,"d":"3,999"},{"v":3998624,"d":"3,999"},{"v":3998624,"d":"3,999"},{"v":3998624,"d":"3,999"},{"v":3998624,"d":"3,999"},{"v":3998624,"d":"3,999"},{"v":3998624,"d":"3,999"},{"v":3998624,"d":"3,999"},{"v":3997924,"d":"3,998"},{"v":47982788,"d":"47,983"},{"v":49713307,"d":"49,713"},{"v":51481692,"d":"51,482"}]
[{"$f":"'A2-FinPerf SC'!A30","v":"Finance and administration"},null,{"v":24980520,"d":"24,981"},{"v":24980520,"d":"24,981"},{"v":24980520,"d":"24,981"},{"v":24980520,"d":"24,981"},{"v":24980520,"d":"24,981"},{"v":24980520,"d":"24,981"},{"v":24980520,"d":"24,981"},{"v":24980520,"d":"24,981"},{"v":24980520,"d":"24,981"},{"v":24980520,"d":"24,981"},{"v":24980520,"d":"24,981"},{"v":24978727,"d":"24,979"},{"v":299764447,"d":"299,764"},{"v":310428671,"d":"310,429"},{"v":321312861,"d":"321,313"}]
[{"$f":"'A2-FinPerf SC'!A31","v":"Internal audit"},null,{"v":873724,"d":"874"},{"v":873724,"d":"874"},{"v":873724,"d":"874"},{"v":873724,"d":"874"},{"v":873724,"d":"874"},{"v":873724,"d":"874"},{"v":873724,"d":"874"},{"v":873724,"d":"874"},{"v":873724,"d":"874"},{"v":873724,"d":"874"},{"v":873724,"d":"874"},{"v":873645,"d":"874"},{"v":10484609,"d":"10,485"},{"v":10897277,"d":"10,897"},{"v":11325240,"d":"11,325"}]
[{"$f":"'A2-FinPerf SC'!A32","v":"Community and public safety"},null,{"$f":"SUM(C33:C37)","v":{"v":1682720,"d":"1,683"}},{"$f":"SUM(D33:D37)","v":{"v":1682720,"d":"1,683"}},{"v":1682720,"d":"1,683"},{"v":1682720,"d":"1,683"},{"v":1682720,"d":"1,683"},{"v":1682720,"d":"1,683"},{"v":1682720,"d":"1,683"},{"v":1682720,"d":"1,683"},{"v":1682720,"d":"1,683"},{"v":1682720,"d":"1,683"},{"v":1682720,"d":"1,683"},{"v":1682598,"d":"1,683"},{"$f":"SUM(O33:O37)","v":{"v":20192518,"d":"20,193"}},{"$f":"SUM(P33:P37)","v":{"v":20983072,"d":"20,983"}},{"$f":"SUM(Q33:Q37)","v":{"v":21802164,"d":"21,802"}}]
[{"$f":"'A2-FinPerf SC'!A33","v":"Community and social services"},null,{"v":1682720,"d":"1,683"},{"v":1682720,"d":"1,683"},{"v":1682720,"d":"1,683"},{"v":1682720,"d":"1,683"},{"v":1682720,"d":"1,683"},{"v":1682720,"d":"1,683"},{"v":1682720,"d":"1,683"},{"v":1682720,"d":"1,683"},{"v":1682720,"d":"1,683"},{"v":1682720,"d":"1,683"},{"v":1682720,"d":"1,683"},{"v":1682598,"d":"1,683"},{"v":20192518,"d":"20,193"},{"v":20983072,"d":"20,983"},{"v":21802164,"d":"21,802"}]
[{"$f":"'A2-FinPerf SC'!A34","v":"Sport and recreation"}]
[{"$f":"'A2-FinPerf SC'!A35","v":"Public safety"}]
[{"$f":"'A2-FinPerf SC'!A36","v":"Housing"}]
[{"$f":"'A2-FinPerf SC'!A37","v":"Health"}]
[{"$f":"'A2-FinPerf SC'!A38","v":"Economic and environmental services"},null,{"$f":"SUM(C39:C41)","v":{"v":17343405,"d":"17,343"}},{"$f":"SUM(D39:D41)","v":{"v":17343405,"d":"17,343"}},{"v":17343405,"d":"17,343"},{"v":17343405,"d":"17,343"},{"v":17343405,"d":"17,343"},{"v":17343405,"d":"17,343"},{"v":17343405,"d":"17,343"},{"v":17343405,"d":"17,343"},{"v":17343405,"d":"17,343"},{"v":17343405,"d":"17,343"},{"v":17343405,"d":"17,343"},{"v":17342196,"d":"17,342"},{"$f":"SUM(O39:O41)","v":{"v":208119651,"d":"208,120"}},{"$f":"SUM(P39:P41)","v":{"v":219386635,"d":"219,387"}},{"$f":"SUM(Q39:Q41)","v":{"v":225468329,"d":"225,468"}}]
[{"$f":"'A2-FinPerf SC'!A39","v":"Planning and development"},null,{"v":17343405,"d":"17,343"},{"v":17343405,"d":"17,343"},{"v":17343405,"d":"17,343"},{"v":17343405,"d":"17,343"},{"v":17343405,"d":"17,343"},{"v":17343405,"d":"17,343"},{"v":17343405,"d":"17,343"},{"v":17343405,"d":"17,343"},{"v":17343405,"d":"17,343"},{"v":17343405,"d":"17,343"},{"v":17343405,"d":"17,343"},{"v":17342196,"d":"17,342"},{"v":208119651,"d":"208,120"},{"v":219386635,"d":"219,387"},{"v":225468329,"d":"225,468"}]
[{"$f":"'A2-FinPerf SC'!A40","v":"Road transport"}]
[{"$f":"'A2-FinPerf SC'!A41","v":"Environmental protection"}]
[{"$f":"'A2-FinPerf SC'!A42","v":"Trading services"},null,{"$f":"SUM(C43:C46)","v":{"v":23666602,"d":"23,667"}},{"$f":"SUM(D43:D46)","v":{"v":23666602,"d":"23,667"}},{"v":23666602,"d":"23,667"},{"v":23666602,"d":"23,667"},{"v":23666602,"d":"23,667"},{"v":23666602,"d":"23,667"},{"v":23666602,"d":"23,667"},{"v":23666602,"d":"23,667"},{"v":23666602,"d":"23,667"},{"v":23666602,"d":"23,667"},{"v":23666602,"d":"23,667"},{"v":23665999,"d":"23,666"},{"$f":"SUM(O43:O46)","v":{"v":283998621,"d":"283,999"}},{"$f":"SUM(P43:P46)","v":{"v":294196671,"d":"294,197"}},{"$f":"SUM(Q43:Q46)","v":{"v":304592840,"d":"304,593"}}]
[{"$f":"'A2-FinPerf SC'!A43","v":"Energy sources"},null,0,0,0,0,0,0,0,0,0,0,0,0,0,0,0]
[{"$f":"'A2-FinPerf SC'!A44","v":"Water management"},null,{"v":22859815,"d":"22,860"},{"v":22859815,"d":"22,860"},{"v":22859815,"d":"22,860"},{"v":22859815,"d":"22,860"},{"v":22859815,"d":"22,860"},{"v":22859815,"d":"22,860"},{"v":22859815,"d":"22,860"},{"v":22859815,"d":"22,860"},{"v":22859815,"d":"22,860"},{"v":22859815,"d":"22,860"},{"v":22859815,"d":"22,860"},{"v":22859265,"d":"22,859"},{"v":274317230,"d":"274,317"},{"v":284191149,"d":"284,191"},{"v":294261619,"d":"294,262"}]
[{"$f":"'A2-FinPerf SC'!A45","v":"Waste water management"},null,{"v":806787,"d":"807"},{"v":806787,"d":"807"},{"v":806787,"d":"807"},{"v":806787,"d":"807"},{"v":806787,"d":"807"},{"v":806787,"d":"807"},{"v":806787,"d":"807"},{"v":806787,"d":"807"},{"v":806787,"d":"807"},{"v":806787,"d":"807"},{"v":806787,"d":"807"},{"v":806734,"d":"807"},{"v":9681391,"d":"9,681"},{"v":10005522,"d":"10,006"},{"v":10331221,"d":"10,331"}]
[{"$f":"'A2-FinPerf SC'!A46","v":"Waste management"}]
[{"$f":"'A2-FinPerf SC'!A47","v":"Other"},null,{"v":8667,"d":"9"},{"v":8667,"d":"9"},{"v":8667,"d":"9"},{"v":8667,"d":"9"},{"v":8667,"d":"9"},{"v":8667,"d":"9"},{"v":8667,"d":"9"},{"v":8667,"d":"9"},{"v":8667,"d":"9"},{"v":8667,"d":"9"},{"v":8667,"d":"9"},{"v":8663,"d":"9"},{"v":104000,"d":"104"},{"v":108160,"d":"108"},{"v":112487,"d":"112"}]
[{"$f":"'A2-FinPerf SC'!A48","v":"Total Expenditure - Functional"},null,{"$f":"C28+C32+C38+C42+C47","v":{"v":72554262,"d":"72,554"}},{"$f":"D28+D32+D38+D42+D47","v":{"v":72554262,"d":"72,554"}},{"v":72554262,"d":"72,554"},{"v":72554262,"d":"72,554"},{"v":72554262,"d":"72,554"},{"v":72554262,"d":"72,554"},{"v":72554262,"d":"72,554"},{"v":72554262,"d":"72,554"},{"v":72554262,"d":"72,554"},{"v":72554262,"d":"72,554"},{"v":72554262,"d":"72,554"},{"v":72549752,"d":"72,550"},{"v":870646634,"d":"870,647"},{"v":905713793,"d":"905,714"},{"$f":"Q28+Q32+Q38+Q42+Q47","v":{"v":936095613,"d":"936,096"}}]
[]
[{"$f":"'A4-FinPerf RE'!A51&\" before assoc.\"","v":"Surplus/(Deficit) before assoc."},null,{"$f":"C25-C48","v":{"v":16619661,"d":"16,620"}},{"$f":"D25-D48","v":{"v":16619661,"d":"16,620"}},{"v":16619661,"d":"16,620"},{"v":16619661,"d":"16,620"},{"v":16619661,"d":"16,620"},{"v":16619661,"d":"16,620"},{"v":16619661,"d":"16,620"},{"v":16619661,"d":"16,620"},{"v":16619661,"d":"16,620"},{"v":16619661,"d":"16,620"},{"v":16619661,"d":"16,620"},{"v":16624473,"d":"16,624"},{"v":199440744,"d":"199,441"},{"v":265185361,"d":"265,185"},{"v":243170965,"d":"243,171"}]
[]
[{"$f":"'A4-FinPerf RE'!A61","v":"Intercompany/Parent subsidiary transactions"}]
[{"$f":"'A4-FinPerf RE'!A51","v":"Surplus/(Deficit)"},1,{"$f":"C50+C52","v":{"v":16619661,"d":"16,620"}},{"$f":"D50+D52","v":{"v":16619661,"d":"16,620"}},{"v":16619661,"d":"16,620"},{"v":16619661,"d":"16,620"},{"v":16619661,"d":"16,620"},{"v":16619661,"d":"16,620"},{"v":16619661,"d":"16,620"},{"v":16619661,"d":"16,620"},{"v":16619661,"d":"16,620"},{"v":16619661,"d":"16,620"},{"v":16619661,"d":"16,620"},{"v":16624473,"d":"16,624"},{"v":199440744,"d":"199,441"},{"v":265185361,"d":"265,185"},{"v":243170965,"d":"243,171"}]
[{"$f":"head27a","v":"References"}]
["1. Surplus (Deficit) must reconcile with Budeted Financial Performance"]

{"sheet":"SA28","index":50,"n_rows":46,"n_cols":17,"rows_kept":46,"merged":[[1,2,1,13],[1,14,1,16]]}
[{"$f":"muni&\" - \"& TableA28","v":"DC43 Harry Gwala - Supporting Table SA28 Consolidated budgeted monthly capital expenditure (municipal vote)"}]
[{"$f":"desc","v":"Description"},{"$f":"head27","v":"Ref"},{"$f":"Head9","v":"Budget Year 2026/27"},{"$nulls":11},"Medium Term Revenue and Expenditure Framework"]
["R thousand",null,"July","August","Sept.","October","Nov.","Dec.","January","Feb.","March","April","May","June",{"$f":"Head9","v":"Budget Year 2026/27"},{"$f":"Head10","v":"Budget Year +1 2027/28"},{"$f":"Head11","v":"Budget Year +2 2028/29"}]
["Multi-year expenditure to be appropriated",1]
[{"$f":"'A5-Capex'!A6","v":"Vote 01 - Summary Council"},null,0,0,0,0,0,0,0,0,0,0,0]
[{"$f":"'A5-Capex'!A7","v":"Vote 02 - Summary Municipal Manager"},null,0,0,0,0,0,0,0,0,0,0,0,0,0,0,0]
[{"$f":"'A5-Capex'!A8","v":"Vote 03 - Summary Budget And Treasury Office"},null,{"v":12520,"d":"13"},{"v":12520,"d":"13"},{"v":12520,"d":"13"},{"v":12520,"d":"13"},{"v":12520,"d":"13"},{"v":12520,"d":"13"},{"v":12520,"d":"13"},{"v":12520,"d":"13"},{"v":12520,"d":"13"},{"v":12520,"d":"13"},{"v":12520,"d":"13"},{"v":12509,"d":"13"},{"v":150229,"d":"150"},{"v":156239,"d":"156"},{"v":1852047,"d":"1,852"}]
[{"$f":"'A5-Capex'!A9","v":"Vote 04 - Summary Corporate Services"},null,{"v":672031,"d":"672"},{"v":672031,"d":"672"},{"v":672031,"d":"672"},{"v":672031,"d":"672"},{"v":672031,"d":"672"},{"v":672031,"d":"672"},{"v":672031,"d":"672"},{"v":672031,"d":"672"},{"v":672031,"d":"672"},{"v":672031,"d":"672"},{"v":672031,"d":"672"},{"v":672007,"d":"672"},{"v":8064348,"d":"8,064"},{"v":8386922,"d":"8,387"},{"v":8225057,"d":"8,225"}]
[{"$f":"'A5-Capex'!A10","v":"Vote 05 - Summary Social Services & Development Planing"},null,{"v":304361,"d":"304"},{"v":304361,"d":"304"},{"v":304361,"d":"304"},{"v":304361,"d":"304"},{"v":304361,"d":"304"},{"v":304361,"d":"304"},{"v":304361,"d":"304"},{"v":304361,"d":"304"},{"v":304361,"d":"304"},{"v":304361,"d":"304"},{"v":304361,"d":"304"},{"v":304343,"d":"304"},{"v":3652314,"d":"3,652"},{"v":3772842,"d":"3,773"},{"v":5542079,"d":"5,542"}]
[{"$f":"'A5-Capex'!A11","v":"Vote 06 - Summary Infrastructure Services"},null,{"v":11702752,"d":"11,703"},{"v":11702752,"d":"11,703"},{"v":11702752,"d":"11,703"},{"v":11702752,"d":"11,703"},{"v":11702752,"d":"11,703"},{"v":11702752,"d":"11,703"},{"v":11702752,"d":"11,703"},{"v":11702752,"d":"11,703"},{"v":11702752,"d":"11,703"},{"v":11702752,"d":"11,703"},{"v":11702752,"d":"11,703"},{"v":11702608,"d":"11,703"},{"v":140432880,"d":"140,433"},{"v":237747821,"d":"237,748"},{"v":257065289,"d":"257,065"}]
[{"$f":"'A5-Capex'!A12","v":"Vote 07 - Summary Water Services"},null,{"v":14489352,"d":"14,489"},{"v":14489352,"d":"14,489"},{"v":14489352,"d":"14,489"},{"v":14489352,"d":"14,489"},{"v":14489352,"d":"14,489"},{"v":14489352,"d":"14,489"},{"v":14489352,"d":"14,489"},{"v":14489352,"d":"14,489"},{"v":14489352,"d":"14,489"},{"v":14489352,"d":"14,489"},{"v":14489352,"d":"14,489"},{"v":14489272,"d":"14,489"},{"v":173872144,"d":"173,872"},{"v":130350630,"d":"130,351"},{"v":106154763,"d":"106,155"}]
[{"$f":"'A5-Capex'!A13","v":"Vote 08 - "},null,0,0,0,0,0,0,0,0,0,0,0]
[{"$f":"'A5-Capex'!A14","v":"Vote 09 - "},null,0,0,0,0,0,0,0,0,0,0,0]
[{"$f":"'A5-Capex'!A15","v":"Vote 10 - "},null,0,0,0,0,0,0,0,0,0,0,0]
[{"$f":"'A5-Capex'!A16","v":"Vote 11 - "},null,0,0,0,0,0,0,0,0,0,0,0]
[{"$f":"'A5-Capex'!A17","v":"Vote 12 - "},null,0,0,0,0,0,0,0,0,0,0,0]
[{"$f":"'A5-Capex'!A18","v":"Vote 13 - "},null,0,0,0,0,0,0,0,0,0,0,0]
[{"$f":"'A5-Capex'!A19","v":"Vote 14 - "},null,0,0,0,0,0,0,0,0,0,0,0]
[{"$f":"'A5-Capex'!A20","v":"Vote 15 - Other"},null,0,0,0,0,0,0,0,0,0,0,0]
["Capital multi-year expenditure sub-total",2,{"$f":"SUM(C5:C19)","v":{"v":27181016,"d":"27,181"}},{"$f":"SUM(D5:D19)","v":{"v":27181016,"d":"27,181"}},{"v":27181016,"d":"27,181"},{"v":27181016,"d":"27,181"},{"v":27181016,"d":"27,181"},{"v":27181016,"d":"27,181"},{"v":27181016,"d":"27,181"},{"v":27181016,"d":"27,181"},{"v":27181016,"d":"27,181"},{"v":27181016,"d":"27,181"},{"$f":"SUM(M5:M19)","v":{"v":27181016,"d":"27,181"}},{"v":27180739,"d":"27,181"},{"$f":"SUM(O5:O19)","v":{"v":326171915,"d":"326,172"}},{"v":380414454,"d":"380,414"},{"v":378839235,"d":"378,839"}]
[]
["Single-year expenditure to be appropriated"]
[{"$f":"'A5-Capex'!A24","v":"Vote 01 - Summary Council"},null,0,0,0,0,0,0,0,0,0,0,0]
[{"$f":"'A5-Capex'!A25","v":"Vote 02 - Summary Municipal Manager"},null,0,0,0,0,0,0,0,0,0,0,0]
[{"$f":"'A5-Capex'!A26","v":"Vote 03 - Summary Budget And Treasury Office"},null,0,0,0,0,0,0,0,0,0,0,0,0,0,0,0]
[{"$f":"'A5-Capex'!A27","v":"Vote 04 - Summary Corporate Services"},null,{"v":178084,"d":"178"},{"v":178084,"d":"178"},{"v":178084,"d":"178"},{"v":178084,"d":"178"},{"v":178084,"d":"178"},{"v":178084,"d":"178"},{"v":178084,"d":"178"},{"v":178084,"d":"178"},{"v":178084,"d":"178"},{"v":178084,"d":"178"},{"v":178084,"d":"178"},{"v":178076,"d":"178"},{"v":2137000,"d":"2,137"},{"v":2222480,"d":"2,222"},{"v":3636360,"d":"3,636"}]
[{"$f":"'A5-Capex'!A28","v":"Vote 05 - Summary Social Services & Development Planing"},null,0,0,0,0,0,0,0,0,0,0,0]
[{"$f":"'A5-Capex'!A29","v":"Vote 06 - Summary Infrastructure Services"},null,{"v":86667,"d":"87"},{"v":86667,"d":"87"},{"v":86667,"d":"87"},{"v":86667,"d":"87"},{"v":86667,"d":"87"},{"v":86667,"d":"87"},{"v":86667,"d":"87"},{"v":86667,"d":"87"},{"v":86667,"d":"87"},{"v":86667,"d":"87"},{"v":86667,"d":"87"},{"v":86663,"d":"87"},{"v":1040000,"d":"1,040"},{"v":1081600,"d":"1,082"},{"v":1116212,"d":"1,116"}]
[{"$f":"'A5-Capex'!A30","v":"Vote 07 - Summary Water Services"},null,0,0,0,0,0,0,0,0,0,0,0,0,0,0,0]
[{"$f":"'A5-Capex'!A31","v":"Vote 08 - "},null,0,0,0,0,0,0,0,0,0,0,0]
[{"$f":"'A5-Capex'!A32","v":"Vote 09 - "},null,0,0,0,0,0,0,0,0,0,0,0]
[{"$f":"'A5-Capex'!A33","v":"Vote 10 - "},null,0,0,0,0,0,0,0,0,0,0,0]
[{"$f":"'A5-Capex'!A34","v":"Vote 11 - "},null,0,0,0,0,0,0,0,0,0,0,0]
[{"$f":"'A5-Capex'!A35","v":"Vote 12 - "},null,0,0,0,0,0,0,0,0,0,0,0]
[{"$f":"'A5-Capex'!A36","v":"Vote 13 - "},null,0,0,0,0,0,0,0,0,0,0,0]
[{"$f":"'A5-Capex'!A37","v":"Vote 14 - "},null,0,0,0,0,0,0,0,0,0,0,0]
[{"$f":"'A5-Capex'!A38","v":"Vote 15 - Other"},null,0,0,0,0,0,0,0,0,0,0,0]
["Capital single-year expenditure sub-total",2,{"$f":"SUM(C23:C37)","v":{"v":264751,"d":"265"}},{"$f":"SUM(D23:D37)","v":{"v":264751,"d":"265"}},{"v":264751,"d":"265"},{"v":264751,"d":"265"},{"v":264751,"d":"265"},{"v":264751,"d":"265"},{"v":264751,"d":"265"},{"v":264751,"d":"265"},{"v":264751,"d":"265"},{"v":264751,"d":"265"},{"v":264751,"d":"265"},{"v":264739,"d":"265"},{"v":3177000,"d":"3,177"},{"v":3304080,"d":"3,304"},{"v":4752572,"d":"4,753"}]
["Total Capital Expenditure",2,{"$f":"C20+C38","v":{"v":27445767,"d":"27,446"}},{"$f":"D20+D38","v":{"v":27445767,"d":"27,446"}},{"v":27445767,"d":"27,446"},{"v":27445767,"d":"27,446"},{"v":27445767,"d":"27,446"},{"v":27445767,"d":"27,446"},{"v":27445767,"d":"27,446"},{"v":27445767,"d":"27,446"},{"v":27445767,"d":"27,446"},{"v":27445767,"d":"27,446"},{"v":27445767,"d":"27,446"},{"v":27445478,"d":"27,445"},{"$f":"O20+O38","v":{"v":329348915,"d":"329,349"}},{"$f":"P20+P38","v":{"v":383718534,"d":"383,719"}},{"$f":"Q20+Q38","v":{"v":383591807,"d":"383,592"}}]
[]
[]
[{"$f":"head27a","v":"References"}]
["1. Table should be completed as either Multi-Year expenditure appropriation or Budget Year and Forward Year estimates"]
["2. Total Capital Expenditure must reconcile to Budgeted Capital Expenditure"]
[]
[{"$nulls":4},"Add single year stuff"]

{"sheet":"SA29","index":51,"n_rows":39,"n_cols":17,"rows_kept":39,"merged":[[1,2,1,13],[1,14,1,16]]}
[{"$f":"muni&\" - \"& TableA29","v":"DC43 Harry Gwala - Supporting Table SA29 Consolidated budgeted monthly capital expenditure (functional classification)"}]
[{"$f":"desc","v":"Description"},{"$f":"head27","v":"Ref"},{"$f":"Head9","v":"Budget Year 2026/27"},{"$nulls":11},"Medium Term Revenue and Expenditure Framework"]
["R thousand",null,"July","August","Sept.","October","Nov.","Dec.","January","Feb.","March","April","May","June",{"$f":"Head9","v":"Budget Year 2026/27"},{"$f":"Head10","v":"Budget Year +1 2027/28"},{"$f":"Head11","v":"Budget Year +2 2028/29"}]
[{"$f":"'A5-Capex'!A42","v":"Capital Expenditure - Functional"},1]
[{"$f":"'A5-Capex'!A43","v":"Governance and administration"},null,{"$f":"SUM(C6:C8)","v":{"v":1154083,"d":"1,154"}},{"$f":"SUM(D6:D8)","v":{"v":1154083,"d":"1,154"}},{"$f":"SUM(E6:E8)","v":{"v":1154083,"d":"1,154"}},{"v":1154083,"d":"1,154"},{"v":1154083,"d":"1,154"},{"v":1154083,"d":"1,154"},{"v":1154083,"d":"1,154"},{"v":1154083,"d":"1,154"},{"v":1154083,"d":"1,154"},{"v":1154083,"d":"1,154"},{"v":1154083,"d":"1,154"},{"v":1154028,"d":"1,154"},{"$f":"SUM(O6:O8)","v":{"v":13848941,"d":"13,849"}},{"$f":"SUM(P6:P8)","v":{"v":14378884,"d":"14,379"}},{"$f":"SUM(Q6:Q8)","v":{"v":19089560,"d":"19,090"}}]
[{"$f":"'A5-Capex'!A44","v":"Executive and council"},null,0,0,0,0,0,0,0,0,0,0,0,0,0,0,0]
[{"$f":"'A5-Capex'!A45","v":"Finance and administration"},null,{"v":1154083,"d":"1,154"},{"v":1154083,"d":"1,154"},{"v":1154083,"d":"1,154"},{"v":1154083,"d":"1,154"},{"v":1154083,"d":"1,154"},{"v":1154083,"d":"1,154"},{"v":1154083,"d":"1,154"},{"v":1154083,"d":"1,154"},{"v":1154083,"d":"1,154"},{"v":1154083,"d":"1,154"},{"v":1154083,"d":"1,154"},{"v":1154028,"d":"1,154"},{"v":13848941,"d":"13,849"},{"v":14378884,"d":"14,379"},{"v":19089560,"d":"19,090"}]
[{"$f":"'A5-Capex'!A46","v":"Internal audit"},null,0,0,0,0,0,0,0,0,0,0,0,0,0,0,0]
[{"$f":"'A5-Capex'!A47","v":"Community and public safety"},null,{"$f":"SUM(C10:C14)","v":0},{"$f":"SUM(D10:D14)","v":0},0,0,0,0,0,0,0,0,0,0,{"$f":"SUM(O10:O14)","v":0},{"$f":"SUM(P10:P14)","v":0},{"$f":"SUM(Q10:Q14)","v":0}]
[{"$f":"'A5-Capex'!A48","v":"Community and social services"},null,0,0,0,0,0,0,0,0,0,0,0,0,0,0,0]
[{"$f":"'A5-Capex'!A49","v":"Sport and recreation"}]
[{"$f":"'A5-Capex'!A50","v":"Public safety"}]
[{"$f":"'A5-Capex'!A51","v":"Housing"}]
[{"$f":"'A5-Capex'!A52","v":"Health"}]
[{"$f":"'A5-Capex'!A53","v":"Economic and environmental services"},null,{"$f":"SUM(C16:C18)","v":{"v":11047737,"d":"11,048"}},{"$f":"SUM(D16:D18)","v":{"v":11047737,"d":"11,048"}},{"v":11047737,"d":"11,048"},{"v":11047737,"d":"11,048"},{"v":11047737,"d":"11,048"},{"v":11047737,"d":"11,048"},{"v":11047737,"d":"11,048"},{"v":11047737,"d":"11,048"},{"v":11047737,"d":"11,048"},{"v":11047737,"d":"11,048"},{"v":11047737,"d":"11,048"},{"v":11047598,"d":"11,048"},{"$f":"SUM(O16:O18)","v":{"v":132572705,"d":"132,573"}},{"$f":"SUM(P16:P18)","v":{"v":221123787,"d":"221,124"}},{"$f":"SUM(Q16:Q18)","v":{"v":237257582,"d":"237,258"}}]
[{"$f":"'A5-Capex'!A54","v":"Planning and development"},null,{"v":11047737,"d":"11,048"},{"v":11047737,"d":"11,048"},{"v":11047737,"d":"11,048"},{"v":11047737,"d":"11,048"},{"v":11047737,"d":"11,048"},{"v":11047737,"d":"11,048"},{"v":11047737,"d":"11,048"},{"v":11047737,"d":"11,048"},{"v":11047737,"d":"11,048"},{"v":11047737,"d":"11,048"},{"v":11047737,"d":"11,048"},{"v":11047598,"d":"11,048"},{"v":132572705,"d":"132,573"},{"v":221123787,"d":"221,124"},{"v":237257582,"d":"237,258"}]
[{"$f":"'A5-Capex'!A55","v":"Road transport"}]
[{"$f":"'A5-Capex'!A56","v":"Environmental protection"}]
[{"$f":"'A5-Capex'!A57","v":"Trading services"},null,{"$f":"SUM(C20:C23)","v":{"v":15243947,"d":"15,244"}},{"$f":"SUM(D20:D23)","v":{"v":15243947,"d":"15,244"}},{"v":15243947,"d":"15,244"},{"v":15243947,"d":"15,244"},{"v":15243947,"d":"15,244"},{"v":15243947,"d":"15,244"},{"v":15243947,"d":"15,244"},{"v":15243947,"d":"15,244"},{"v":15243947,"d":"15,244"},{"v":15243947,"d":"15,244"},{"v":15243947,"d":"15,244"},{"v":15243852,"d":"15,244"},{"$f":"SUM(O20:O23)","v":{"v":182927269,"d":"182,927"}},{"$f":"SUM(P20:P23)","v":{"v":148215863,"d":"148,216"}},{"$f":"SUM(Q20:Q23)","v":{"v":127244665,"d":"127,245"}}]
[{"$f":"'A5-Capex'!A58","v":"Energy sources"}]
[{"$f":"'A5-Capex'!A59","v":"Water management"},null,{"v":15243947,"d":"15,244"},{"v":15243947,"d":"15,244"},{"v":15243947,"d":"15,244"},{"v":15243947,"d":"15,244"},{"v":15243947,"d":"15,244"},{"v":15243947,"d":"15,244"},{"v":15243947,"d":"15,244"},{"v":15243947,"d":"15,244"},{"v":15243947,"d":"15,244"},{"v":15243947,"d":"15,244"},{"v":15243947,"d":"15,244"},{"v":15243852,"d":"15,244"},{"v":182927269,"d":"182,927"},{"v":148215863,"d":"148,216"},{"v":127244665,"d":"127,245"}]
[{"$f":"'A5-Capex'!A60","v":"Waste water management"},null,0,0,0,0,0,0,0,0,0,0,0,0,0,0,0]
[{"$f":"'A5-Capex'!A61","v":"Waste management"}]
[{"$f":"'A5-Capex'!A62","v":"Other"}]
[{"$f":"'A5-Capex'!A63","v":"Total Capital Expenditure - Functional"},2,{"$f":"C5+C9+C15+C19+C24","v":{"v":27445767,"d":"27,446"}},{"$f":"D5+D9+D15+D19+D24","v":{"v":27445767,"d":"27,446"}},{"v":27445767,"d":"27,446"},{"v":27445767,"d":"27,446"},{"v":27445767,"d":"27,446"},{"v":27445767,"d":"27,446"},{"v":27445767,"d":"27,446"},{"v":27445767,"d":"27,446"},{"v":27445767,"d":"27,446"},{"v":27445767,"d":"27,446"},{"v":27445767,"d":"27,446"},{"$f":"N5+N9+N15+N19+N24","v":{"v":27445478,"d":"27,445"}},{"v":329348915,"d":"329,349"},{"v":383718534,"d":"383,719"},{"v":383591807,"d":"383,592"}]
[]
["Funded by:"]
["National Government",null,{"v":23830949,"d":"23,831"},{"v":23830949,"d":"23,831"},{"v":23830949,"d":"23,831"},{"v":23830949,"d":"23,831"},{"v":23830949,"d":"23,831"},{"v":23830949,"d":"23,831"},{"v":23830949,"d":"23,831"},{"v":23830949,"d":"23,831"},{"v":23830949,"d":"23,831"},{"v":23830949,"d":"23,831"},{"v":23830949,"d":"23,831"},{"v":23830771,"d":"23,831"},{"v":285971210,"d":"285,971"},{"v":338631282,"d":"338,631"},{"v":332809933,"d":"332,810"}]
["Provincial Government",null,0,0,0,0,0,0,0,0,0,0,0,0,0,0,0]
["District Municipality",null,{"v":12913,"d":"13"},{"v":12913,"d":"13"},{"v":12913,"d":"13"},{"v":12913,"d":"13"},{"v":12913,"d":"13"},{"v":12913,"d":"13"},{"v":12913,"d":"13"},{"v":12913,"d":"13"},{"v":12913,"d":"13"},{"v":12913,"d":"13"},{"v":12913,"d":"13"},{"v":12907,"d":"13"},{"v":154950,"d":"155"},{"v":159599,"d":"160"},{"v":165983,"d":"166"}]
[{"$f":"'A5-Capex'!A69","v":"Transfers and subsidies - capital (monetary allocations) (Nat / Prov Departm Agencies, Households, Non-profit Institutions, Private Enterprises, Public Corporatons, Higher Educ Institutions)"}]
["Transfers recognised - capital",null,{"$f":"SUM(C28:C31)","v":{"v":23843862,"d":"23,844"}},{"$f":"SUM(D28:D31)","v":{"v":23843862,"d":"23,844"}},{"v":23843862,"d":"23,844"},{"v":23843862,"d":"23,844"},{"v":23843862,"d":"23,844"},{"v":23843862,"d":"23,844"},{"v":23843862,"d":"23,844"},{"v":23843862,"d":"23,844"},{"v":23843862,"d":"23,844"},{"v":23843862,"d":"23,844"},{"v":23843862,"d":"23,844"},{"$f":"SUM(N28:N31)","v":{"v":23843678,"d":"23,844"}},{"v":286126160,"d":"286,126"},{"v":338790881,"d":"338,791"},{"v":332975916,"d":"332,976"}]
[]
["Borrowing",null,0,0,0,0,0,0,0,0,0,0,0,0,0,0,0]
["Internally generated funds",null,{"v":3601905,"d":"3,602"},{"v":3601905,"d":"3,602"},{"v":3601905,"d":"3,602"},{"v":3601905,"d":"3,602"},{"v":3601905,"d":"3,602"},{"v":3601905,"d":"3,602"},{"v":3601905,"d":"3,602"},{"v":3601905,"d":"3,602"},{"v":3601905,"d":"3,602"},{"v":3601905,"d":"3,602"},{"v":3601905,"d":"3,602"},{"v":3601800,"d":"3,602"},{"v":43222755,"d":"43,223"},{"v":44927653,"d":"44,928"},{"v":50615891,"d":"50,616"}]
["Total Capital Funding",null,{"$f":"+C32+C34+C35","v":{"v":27445767,"d":"27,446"}},{"$f":"+D32+D34+D35","v":{"v":27445767,"d":"27,446"}},{"v":27445767,"d":"27,446"},{"v":27445767,"d":"27,446"},{"v":27445767,"d":"27,446"},{"v":27445767,"d":"27,446"},{"v":27445767,"d":"27,446"},{"v":27445767,"d":"27,446"},{"v":27445767,"d":"27,446"},{"v":27445767,"d":"27,446"},{"v":27445767,"d":"27,446"},{"v":27445478,"d":"27,445"},{"v":329348915,"d":"329,349"},{"v":383718534,"d":"383,719"},{"v":383591807,"d":"383,592"}]
[{"$f":"head27a","v":"References"}]
["1. Table should be completed as either Multi-Year expenditure appropriation or Budget Year and Forward Year estimates"]
[{"$f":"'SA28'!A44","v":"2. Total Capital Expenditure must reconcile to Budgeted Capital Expenditure"}]

{"sheet":"SA30","index":52,"n_rows":66,"n_cols":19,"rows_kept":66,"merged":[[1,1,1,12],[1,13,1,15],[59,0,59,15]]}
[{"$f":"muni&\" - \"& TableA30","v":"DC43 Harry Gwala - Supporting Table SA30 Consolidated budgeted monthly cash flow"}]
["MONTHLY CASH FLOWS",{"$f":"Head9","v":"Budget Year 2026/27"},{"$nulls":11},"Medium Term Revenue and Expenditure Framework"]
["R thousand","July","August","Sept.","October","November","December","January","February","March","April","May","June",{"$f":"Head9","v":"Budget Year 2026/27"},{"$f":"Head10","v":"Budget Year +1 2027/28"},{"$f":"Head11","v":"Budget Year +2 2028/29"}]
["Cash Receipts By Source",{"$nulls":12},1]
["Property rates",0,0,0,0,0,0,0,0,0,0,0,0,0,0,0,{"v":100001,"d":"100"},{"v":100001,"d":"100"},{"v":100001,"d":"100"}]
["Service charges - electricity revenue"]
["Service charges - water revenue",{"v":5941263,"d":"5,941"},{"v":5941263,"d":"5,941"},{"v":5941263,"d":"5,941"},{"v":5941263,"d":"5,941"},{"v":5941263,"d":"5,941"},{"v":5941263,"d":"5,941"},{"v":5941263,"d":"5,941"},{"v":5941263,"d":"5,941"},{"v":5941263,"d":"5,941"},{"v":5941263,"d":"5,941"},{"v":5941263,"d":"5,941"},{"v":5941318,"d":"5,941"},{"v":71295211,"d":"71,295"},{"v":75572922,"d":"75,573"},{"v":80107299,"d":"80,107"}]
["Service charges - sanitation revenue",{"v":1095076,"d":"1,095"},{"v":1095076,"d":"1,095"},{"v":1095076,"d":"1,095"},{"v":1095076,"d":"1,095"},{"v":1095076,"d":"1,095"},{"v":1095076,"d":"1,095"},{"v":1095076,"d":"1,095"},{"v":1095076,"d":"1,095"},{"v":1095076,"d":"1,095"},{"v":1095076,"d":"1,095"},{"v":1095076,"d":"1,095"},{"v":1095128,"d":"1,095"},{"v":13140964,"d":"13,141"},{"v":13929421,"d":"13,929"},{"v":14765187,"d":"14,765"}]
["Service charges - refuse revenue"]
[" "]
["Rental of facilities and equipment"]
["Interest earned - external investments",{"v":2297650,"d":"2,298"},{"v":2297650,"d":"2,298"},{"v":2297650,"d":"2,298"},{"v":2297650,"d":"2,298"},{"v":2297650,"d":"2,298"},{"v":2297650,"d":"2,298"},{"v":2297650,"d":"2,298"},{"v":2297650,"d":"2,298"},{"v":2297650,"d":"2,298"},{"v":2297650,"d":"2,298"},{"v":2297650,"d":"2,298"},{"v":2297673,"d":"2,298"},{"v":27571823,"d":"27,572"},{"v":29185209,"d":"29,185"},{"v":30889351,"d":"30,889"}]
["Interest earned - outstanding debtors",0,0,0,0,0,0,0,0,0,0,0,0,0,0,0]
["Dividends received"]
["Fines, penalties and forfeits",{"v":29482,"d":"29"},{"v":29482,"d":"29"},{"v":29482,"d":"29"},{"v":29482,"d":"29"},{"v":29482,"d":"29"},{"v":29482,"d":"29"},{"v":29482,"d":"29"},{"v":29482,"d":"29"},{"v":29482,"d":"29"},{"v":29482,"d":"29"},{"v":29482,"d":"29"},{"v":29482,"d":"29"},{"v":353784,"d":"354"},{"v":367935,"d":"368"},{"v":382652,"d":"383"}]
["Licences and permits",0,0,0,0,0,0,0,0,0,0,0,0,0,0,0]
["Agency services"]
["Transfers and Subsidies - Operational",{"v":48674091,"d":"48,674"},{"v":48674091,"d":"48,674"},{"v":48674091,"d":"48,674"},{"v":48674091,"d":"48,674"},{"v":48674091,"d":"48,674"},{"v":48674091,"d":"48,674"},{"v":48674091,"d":"48,674"},{"v":48674091,"d":"48,674"},{"v":48674091,"d":"48,674"},{"v":48674091,"d":"48,674"},{"v":48674091,"d":"48,674"},{"v":48674119,"d":"48,674"},{"v":584089120,"d":"584,089"},{"v":613842032,"d":"613,842"},{"v":629930589,"d":"629,931"}]
["Other revenue",{"v":2616637,"d":"2,617"},{"v":2616637,"d":"2,617"},{"v":2616637,"d":"2,617"},{"v":2616637,"d":"2,617"},{"v":2616637,"d":"2,617"},{"v":2616637,"d":"2,617"},{"v":2616637,"d":"2,617"},{"v":2616637,"d":"2,617"},{"v":2616637,"d":"2,617"},{"v":2616637,"d":"2,617"},{"v":2616637,"d":"2,617"},{"v":2616666,"d":"2,617"},{"v":31399673,"d":"31,400"},{"v":32257086,"d":"32,257"},{"v":38979983,"d":"38,980"}]
["Cash Receipts by Source",{"$f":"SUM(B5:B9)+SUM(B11:B19)","v":{"v":60654199,"d":"60,654"}},{"$f":"SUM(C5:C9)+SUM(C11:C19)","v":{"v":60654199,"d":"60,654"}},{"v":60654199,"d":"60,654"},{"v":60654199,"d":"60,654"},{"$f":"SUM(F5:F9)+SUM(F11:F19)","v":{"v":60654199,"d":"60,654"}},{"v":60654199,"d":"60,654"},{"v":60654199,"d":"60,654"},{"v":60654199,"d":"60,654"},{"v":60654199,"d":"60,654"},{"v":60654199,"d":"60,654"},{"v":60654199,"d":"60,654"},{"$f":"SUM(M5:M9)+SUM(M11:M19)","v":{"v":60654386,"d":"60,654"}},{"$f":"SUM(N5:N9)+SUM(N11:N19)","v":{"v":727850575,"d":"727,851"}},{"v":765154605,"d":"765,155"},{"v":795055061,"d":"795,055"}]
[]
["Other Cash Flows by Source"]
["Transfers and subsidies - capital (monetary allocations) (National / Provincial and District)",{"v":27405573,"d":"27,406"},{"v":27405573,"d":"27,406"},{"v":27405573,"d":"27,406"},{"v":27405573,"d":"27,406"},{"v":27405573,"d":"27,406"},{"v":27405573,"d":"27,406"},{"v":27405573,"d":"27,406"},{"v":27405573,"d":"27,406"},{"v":27405573,"d":"27,406"},{"v":27405573,"d":"27,406"},{"v":27405573,"d":"27,406"},{"v":27405577,"d":"27,406"},{"v":328866880,"d":"328,867"},{"v":389425968,"d":"389,426"},{"v":373731412,"d":"373,731"}]
["Transfers and subsidies - capital (monetary allocations) (Nat / Prov Departm Agencies, Households, Non-profit Institutions, Private Enterprises, Public Corporatons, Higher Educ Institutions)"]
["Proceeds on Disposal of Fixed and Intangible Assets",0,0,0,0,0,0,0,0,0,0,0,0,0,0,0]
["Short term loans"]
["Borrowing long term/refinancing"]
["Increase (decrease) in consumer deposits",{"v":47458,"d":"47"},{"v":47458,"d":"47"},{"v":47458,"d":"47"},{"v":47458,"d":"47"},{"v":47458,"d":"47"},{"v":47458,"d":"47"},{"v":47458,"d":"47"},{"v":47458,"d":"47"},{"v":47458,"d":"47"},{"v":47458,"d":"47"},{"v":47458,"d":"47"},{"v":47461,"d":"47"},{"v":569499,"d":"569"},{"v":569499,"d":"569"},{"v":569499,"d":"569"}]
["Vat Control (receipts)"]
["Decrease (increase) in non-current receivables",0,0,0,0,0,0,0,0,0,0,0,0,0,0,0]
["Decrease (increase) in non-current investments"]
["Insurance Refund - Capital"]
["Interest on Short Term Investment (Greater then 90 days) and Long Term Investments"]
["Total Cash Receipts by Source",{"$f":"SUM(B20:B33)","v":{"v":88107230,"d":"88,107"}},{"$f":"SUM(C20:C33)","v":{"v":88107230,"d":"88,107"}},{"v":88107230,"d":"88,107"},{"v":88107230,"d":"88,107"},{"$f":"SUM(F20:F33)","v":{"v":88107230,"d":"88,107"}},{"v":88107230,"d":"88,107"},{"v":88107230,"d":"88,107"},{"v":88107230,"d":"88,107"},{"v":88107230,"d":"88,107"},{"v":88107230,"d":"88,107"},{"$f":"SUM(L20:L33)","v":{"v":88107230,"d":"88,107"}},{"$f":"SUM(M20:M33)","v":{"v":88107424,"d":"88,107"}},{"v":1057286954,"d":"1,057,287"},{"v":1155150072,"d":"1,155,150"},{"v":1169355972,"d":"1,169,356"}]
[]
["Cash Payments by Type"]
["Employee related costs",{"v":26938628,"d":"26,939"},{"v":26938628,"d":"26,939"},{"v":26938628,"d":"26,939"},{"v":26938628,"d":"26,939"},{"v":26938628,"d":"26,939"},{"v":26938628,"d":"26,939"},{"v":26938628,"d":"26,939"},{"v":26938628,"d":"26,939"},{"v":26938628,"d":"26,939"},{"v":26938628,"d":"26,939"},{"v":26938628,"d":"26,939"},{"v":26936085,"d":"26,936"},{"v":323260993,"d":"323,261"},{"v":336106714,"d":"336,107"},{"v":349453280,"d":"349,453"}]
["Remuneration of councillors",{"v":702140,"d":"702"},{"v":702140,"d":"702"},{"v":702140,"d":"702"},{"v":702140,"d":"702"},{"v":702140,"d":"702"},{"v":702140,"d":"702"},{"v":702140,"d":"702"},{"v":702140,"d":"702"},{"v":702140,"d":"702"},{"v":702140,"d":"702"},{"v":702140,"d":"702"},{"v":701957,"d":"702"},{"v":8425497,"d":"8,425"},{"v":8762517,"d":"8,763"},{"v":9113018,"d":"9,113"}]
["Finance charges",{"v":4695,"d":"5"},{"v":4695,"d":"5"},{"v":4695,"d":"5"},{"v":4695,"d":"5"},{"v":4695,"d":"5"},{"v":4695,"d":"5"},{"v":4695,"d":"5"},{"v":4695,"d":"5"},{"v":4695,"d":"5"},{"v":4695,"d":"5"},{"v":4695,"d":"5"},{"v":4681,"d":"5"},{"v":56326,"d":"56"},{"v":58476,"d":"58"},{"v":60693,"d":"61"}]
["Bulk purchases - Electricity"]
[" "]
["Acquisition inventory - water and other inventory",{"v":2835938,"d":"2,836"},{"v":2835938,"d":"2,836"},{"v":2835938,"d":"2,836"},{"v":2835938,"d":"2,836"},{"v":2835938,"d":"2,836"},{"v":2835938,"d":"2,836"},{"v":2835938,"d":"2,836"},{"v":2835938,"d":"2,836"},{"v":2835938,"d":"2,836"},{"v":2835938,"d":"2,836"},{"v":2835938,"d":"2,836"},{"v":2835931,"d":"2,836"},{"v":34031249,"d":"34,031"},{"v":35154281,"d":"35,154"},{"v":36279218,"d":"36,279"}]
["Contracted services",{"v":16594962,"d":"16,595"},{"v":16594962,"d":"16,595"},{"v":16594962,"d":"16,595"},{"v":16594962,"d":"16,595"},{"v":16594962,"d":"16,595"},{"v":16594962,"d":"16,595"},{"v":16594962,"d":"16,595"},{"v":16594962,"d":"16,595"},{"v":16594962,"d":"16,595"},{"v":16594962,"d":"16,595"},{"v":16594962,"d":"16,595"},{"v":16594572,"d":"16,595"},{"v":199139154,"d":"199,139"},{"v":266473142,"d":"266,473"},{"v":273306348,"d":"273,306"}]
["Transfers and subsidies - other municipalities"]
["Transfers and subsidies - other"]
["Other expenditure",{"v":14521112,"d":"14,521"},{"v":14521112,"d":"14,521"},{"v":14521112,"d":"14,521"},{"v":14521112,"d":"14,521"},{"v":14521112,"d":"14,521"},{"v":14521112,"d":"14,521"},{"v":14521112,"d":"14,521"},{"v":14521112,"d":"14,521"},{"v":14521112,"d":"14,521"},{"v":14521112,"d":"14,521"},{"v":14521112,"d":"14,521"},{"v":14520226,"d":"14,520"},{"v":174252458,"d":"174,252"},{"v":97671410,"d":"97,671"},{"v":103926962,"d":"103,927"}]
["Cash Payments by Type",{"$f":"SUM(B37:B46)","v":{"v":61597475,"d":"61,597"}},{"$f":"SUM(C37:C46)","v":{"v":61597475,"d":"61,597"}},{"v":61597475,"d":"61,597"},{"v":61597475,"d":"61,597"},{"$f":"SUM(F37:F46)","v":{"v":61597475,"d":"61,597"}},{"v":61597475,"d":"61,597"},{"v":61597475,"d":"61,597"},{"v":61597475,"d":"61,597"},{"v":61597475,"d":"61,597"},{"v":61597475,"d":"61,597"},{"$f":"SUM(L37:L46)","v":{"v":61597475,"d":"61,597"}},{"$f":"SUM(M37:M46)","v":{"v":61593452,"d":"61,593"}},{"$f":"SUM(N37:N46)","v":{"v":739165677,"d":"739,166"}},{"v":744226540,"d":"744,227"},{"$f":"SUM(P37:P46)","v":{"v":772139519,"d":"772,140"}}]
[]
["Other Cash Flows/Payments by Type"]
["Capital assets",{"v":27349350,"d":"27,349"},{"v":27349350,"d":"27,349"},{"v":27349350,"d":"27,349"},{"v":27349350,"d":"27,349"},{"v":27349350,"d":"27,349"},{"v":27349350,"d":"27,349"},{"v":27349350,"d":"27,349"},{"v":27349350,"d":"27,349"},{"v":27349350,"d":"27,349"},{"v":27349350,"d":"27,349"},{"v":27349350,"d":"27,349"},{"v":27349065,"d":"27,349"},{"v":328191915,"d":"328,192"},{"v":382640054,"d":"382,640"},{"v":382551807,"d":"382,552"}]
["Retention (Capital)"]
["Repayment of borrowing",{"v":200000,"d":"200"},{"v":200000,"d":"200"},{"v":200000,"d":"200"},{"v":200000,"d":"200"},{"v":200000,"d":"200"},{"v":200000,"d":"200"},{"v":200000,"d":"200"},{"v":200000,"d":"200"},{"v":200000,"d":"200"},{"v":200000,"d":"200"},{"v":200000,"d":"200"},{"v":200000,"d":"200"},{"v":2400000,"d":"2,400"},{"v":2400000,"d":"2,400"},{"v":2400000,"d":"2,400"}]
["Other Cash Flows/Payments",0,0,0,0,0,0,0,0,0,0,0,0,0,0,0]
["Total Cash Payments by Type",{"$f":"SUM(B47:B53)","v":{"v":89146825,"d":"89,147"}},{"$f":"SUM(C47:C53)","v":{"v":89146825,"d":"89,147"}},{"v":89146825,"d":"89,147"},{"v":89146825,"d":"89,147"},{"$f":"SUM(F47:F53)","v":{"v":89146825,"d":"89,147"}},{"v":89146825,"d":"89,147"},{"v":89146825,"d":"89,147"},{"v":89146825,"d":"89,147"},{"v":89146825,"d":"89,147"},{"v":89146825,"d":"89,147"},{"$f":"SUM(L47:L53)","v":{"v":89146825,"d":"89,147"}},{"$f":"SUM(M47:M53)","v":{"v":89142517,"d":"89,143"}},{"v":1069757592,"d":"1,069,758"},{"v":1129266594,"d":"1,129,267"},{"v":1157091326,"d":"1,157,091"},null,"Check"]
[]
["NET INCREASE/(DECREASE) IN CASH HELD",{"$f":"B34-B54","v":{"v":-1039595,"d":"(1,040)"}},{"$f":"C34-C54","v":{"v":-1039595,"d":"(1,040)"}},{"v":-1039595,"d":"(1,040)"},{"v":-1039595,"d":"(1,040)"},{"v":-1039595,"d":"(1,040)"},{"v":-1039595,"d":"(1,040)"},{"v":-1039595,"d":"(1,040)"},{"v":-1039595,"d":"(1,040)"},{"v":-1039595,"d":"(1,040)"},{"v":-1039595,"d":"(1,040)"},{"v":-1039595,"d":"(1,040)"},{"$f":"M34-M54","v":{"v":-1035093,"d":"(1,035)"}},{"$f":"N34-N54","v":{"v":-12470638,"d":"(12,471)"}},{"v":25883478,"d":"25,883"},{"v":12264646,"d":"12,265"}]
["Cash/cash equivalents at the month/year begin:",{"v":233350892,"d":"233,351"},{"$f":"B58","v":{"v":232311297,"d":"232,311"}},{"$f":"C58","v":{"v":231271702,"d":"231,272"}},{"v":230232107,"d":"230,232"},{"v":229192512,"d":"229,193"},{"v":228152917,"d":"228,153"},{"v":227113322,"d":"227,113"},{"v":226073727,"d":"226,074"},{"v":225034132,"d":"225,034"},{"v":223994537,"d":"223,995"},{"v":222954942,"d":"222,955"},{"$f":"L58","v":{"v":221915347,"d":"221,915"}},{"$f":"B57","v":{"v":233350892,"d":"233,351"}},{"$f":"N58","v":{"v":220880254,"d":"220,880"}},{"$f":"O58","v":{"v":246763732,"d":"246,764"}}]
["Cash/cash equivalents at the month/year end:",{"$f":"B57+B56","v":{"v":232311297,"d":"232,311"}},{"$f":"C57+C56","v":{"v":231271702,"d":"231,272"}},{"$f":"D57+D56","v":{"v":230232107,"d":"230,232"}},{"v":229192512,"d":"229,193"},{"v":228152917,"d":"228,153"},{"v":227113322,"d":"227,113"},{"v":226073727,"d":"226,074"},{"v":225034132,"d":"225,034"},{"v":223994537,"d":"223,995"},{"v":222954942,"d":"222,955"},{"v":221915347,"d":"221,915"},{"$f":"M57+M56","v":{"v":220880254,"d":"220,880"}},{"$f":"N57+N56","v":{"v":220880254,"d":"220,880"}},{"v":246763732,"d":"246,764"},{"v":259028378,"d":"259,028"}]
[{"$f":"head27a","v":"References"}]
["1. Note that this section of Table SA 30 is deliberately not linked to Table A4 because timing differences between the invoicing of clients and receiving the cash means that the cashflow will differ from budgeted revenue, and similarly for budgeted expenditure. However for the MTREF it is now directly linked to A7."]
["2. Bulk purchases - Electricity - use detail information from Table SA1"]
["3. Acquisition Inventory - Water & other inventory - use detail information from Table A6 Inventory"]
[]
[]
[{"$nulls":4},{"$f":"E47+E64","v":{"v":61597475,"d":"61,597"}},{"v":61597475,"d":"61,597"},{"v":61597475,"d":"61,597"},{"v":61597475,"d":"61,597"},{"v":61597475,"d":"61,597"},{"v":61597475,"d":"61,597"},{"v":61597475,"d":"61,597"},{"v":61597475,"d":"61,597"}]
[{"$nulls":4},{"$f":"E56-E64","v":{"v":-1039595,"d":"(1,040)"}},{"v":-1039595,"d":"(1,040)"},{"v":-1039595,"d":"(1,040)"},{"v":-1039595,"d":"(1,040)"},{"v":-1039595,"d":"(1,040)"},{"v":-1039595,"d":"(1,040)"},{"v":-1039595,"d":"(1,040)"},{"v":-1039595,"d":"(1,040)"}]

{"sheet":"SA31","index":53,"n_rows":41,"n_cols":11,"rows_kept":41,"merged":[[1,1,2,1],[1,5,1,7],[1,8,1,10]]}
[{"$f":"muni&\" - \"& TableA31","v":"DC43 Harry Gwala - Supporting Table SA31 Aggregated entity budget"}]
[{"$f":"desc","v":"Description"},{"$f":"head27","v":"Ref"},{"$f":"head1b","v":"2022/23"},{"$f":"head1A","v":"2023/24"},{"$f":"Head1","v":"2024/25"},{"$f":"Head2","v":"Current Year 2025/26"},null,null,{"$f":"Head3","v":"2026/27 Medium Term Revenue & Expenditure Framework"}]
["R million",null,{"$f":"Head5","v":"Audited Outcome"},{"$f":"Head5","v":"Audited Outcome"},{"$f":"Head5","v":"Audited Outcome"},{"$f":"Head6","v":"Original Budget"},{"$f":"Head7","v":"Adjusted Budget"},{"$f":"Head8","v":"Full Year Forecast"},{"$f":"Head9","v":"Budget Year 2026/27"},{"$f":"Head10","v":"Budget Year +1 2027/28"},{"$f":"Head11","v":"Budget Year +2 2028/29"}]
["Financial Performance"]
["Property rates"]
["Service charges"]
["Investment revenue",null,0,0,0,{"v":1461600,"d":"1,462"},{"v":1461600,"d":"1,462"},{"v":1461600,"d":"1,462"},{"v":1515680,"d":"1,516"},{"v":1565697,"d":"1,566"},{"v":1612668,"d":"1,613"}]
["Transfer and subsidies - Operational",null,0,0,0,{"v":23000000,"d":"23,000"},{"v":23000000,"d":"23,000"},{"v":23000000,"d":"23,000"},{"v":23000000,"d":"23,000"},{"v":25500000,"d":"25,500"},{"v":25000000,"d":"25,000"}]
["Other own revenue",null,0,0,0,0,0,0,0,0,0]
["Transfers and subsidies - capital (monetary allocations) (National / Provincial Departmental Agencies, Households, Non-profit Institutions, Private Enterprises, Public Corporatons, Higher Educational Institutions) & Transfers and subsidies - capital (in-kind - all) ",null,0,0,0,0,0,0,0,0,0]
[{"$f":"'A4-FinPerf RE'!A35","v":"Total Revenue (excluding capital transfers and contributions)"},null,{"$f":"SUM(C5:C10)","v":0},{"$f":"SUM(D5:D10)","v":0},0,{"v":24461600,"d":"24,462"},{"v":24461600,"d":"24,462"},{"v":24461600,"d":"24,462"},{"v":24515680,"d":"24,516"},{"$f":"SUM(J5:J10)","v":{"v":27065697,"d":"27,066"}},{"$f":"SUM(K5:K10)","v":{"v":26612668,"d":"26,613"}}]
["Employee costs",null,0,0,0,{"v":11724901,"d":"11,725"},{"v":11670814,"d":"11,671"},{"v":11670814,"d":"11,671"},{"v":12102636,"d":"12,103"},{"v":12502027,"d":"12,502"},{"v":12904404,"d":"12,904"}]
["Remuneration of Board Members"]
["Depreciation and amortisation",null,0,0,0,{"v":744010,"d":"744"},{"v":744010,"d":"744"},{"v":744010,"d":"744"},{"v":773773,"d":"774"},{"v":804724,"d":"805"},{"v":836913,"d":"837"}]
["Interest",null,0,0,0,{"v":40000,"d":"40"},{"v":40000,"d":"40"},{"v":40000,"d":"40"},{"v":41600,"d":"42"},{"v":43264,"d":"43"},{"v":44995,"d":"45"}]
["Inventory consumed and bulk purchases",null,0,0,0,{"v":10000,"d":"10"},{"v":70000,"d":"70"},{"v":70000,"d":"70"},{"v":72800,"d":"73"},{"v":75712,"d":"76"},{"v":78741,"d":"79"}]
["Transfers and subsidies",null,0,0,0,{"v":360014,"d":"360"},{"v":360014,"d":"360"},{"v":360014,"d":"360"},{"v":374415,"d":"374"},{"v":389392,"d":"389"},{"v":404968,"d":"405"}]
["Other expenditure",null,0,0,0,{"v":11578834,"d":"11,579"},{"v":11576423,"d":"11,576"},{"v":11576423,"d":"11,576"},{"v":12001116,"d":"12,001"},{"v":12388314,"d":"12,388"},{"v":12719522,"d":"12,720"}]
[{"$f":"'A4-FinPerf RE'!A50","v":"Total Expenditure"},null,{"$f":"SUM(C12:C18)","v":0},{"$f":"SUM(D12:D18)","v":0},0,{"v":24457759,"d":"24,458"},{"v":24461261,"d":"24,461"},{"v":24461261,"d":"24,461"},{"v":25366340,"d":"25,366"},{"v":26203433,"d":"26,203"},{"v":26989543,"d":"26,990"}]
[{"$f":"'A4-FinPerf RE'!A51","v":"Surplus/(Deficit)"},null,{"$f":"+C11-C19","v":0},{"$f":"+D11-D19","v":0},0,{"v":3841,"d":"4"},{"v":339,"d":"0"},{"v":339,"d":"0"},{"v":-850660,"d":"(851)"},{"v":862264,"d":"862"},{"v":-376875,"d":"(377)"}]
[]
["Capital expenditure & funds sources"]
["Capital expenditure"]
["Transfers recognised - capital",null,0,0,0,{"v":150000,"d":"150"},{"v":150000,"d":"150"},{"v":150000,"d":"150"},{"v":154950,"d":"155"},{"v":159599,"d":"160"},{"v":165983,"d":"166"}]
[]
[{"$f":"'A5-Capex'!A72","v":"Borrowing"}]
[{"$f":"'A5-Capex'!A73","v":"Internally generated funds"},null,0,0,0,{"v":5101000,"d":"5,101"},{"v":4872000,"d":"4,872"},{"v":4872000,"d":"4,872"},{"v":3497364,"d":"3,497"},{"v":3613243,"d":"3,613"},{"v":5376096,"d":"5,376"}]
["Total sources",null,{"$f":"SUM(C24:C27)","v":0},{"$f":"SUM(D24:D27)","v":0},0,{"v":5251000,"d":"5,251"},{"v":5022000,"d":"5,022"},{"v":5022000,"d":"5,022"},{"v":3652314,"d":"3,652"},{"v":3772842,"d":"3,773"},{"v":5542079,"d":"5,542"}]
[]
["Financial position"]
[{"$f":"'A6-FinPos'!A14","v":"Total current assets"},null,0,0,0,{"v":28887018,"d":"28,887"},{"v":31748238,"d":"31,748"},{"v":31748238,"d":"31,748"},{"v":22689780,"d":"22,690"},{"v":10187758,"d":"10,188"},{"v":-2716642,"d":"(2,717)"}]
[{"$f":"'A6-FinPos'!A26","v":"Total non current assets"},null,0,0,0,{"v":6043720,"d":"6,044"},{"v":5814720,"d":"5,815"},{"v":5814720,"d":"5,815"},{"v":8967034,"d":"8,967"},{"v":9087562,"d":"9,088"},{"v":10856799,"d":"10,857"}]
[{"$f":"'A6-FinPos'!A38","v":"Total current liabilities"},null,0,0,0,{"v":-3516579,"d":"(3,517)"},{"v":-7264319,"d":"(7,264)"},{"v":-7264319,"d":"(7,264)"},{"v":-3516579,"d":"(3,517)"},{"v":-3516579,"d":"(3,517)"},{"v":-3516579,"d":"(3,517)"}]
[{"$f":"'A6-FinPos'!A44","v":"Total non current liabilities"},null,0,0,0,0,0,0,0,0,0]
["Community wealth/Equity",null,0,0,0,{"v":-31414159,"d":"(31,414)"},{"v":-30302142,"d":"(30,302)"},{"v":-30302142,"d":"(30,302)"},{"v":-29447641,"d":"(29,448)"},{"v":-43319801,"d":"(43,320)"},{"v":-42469327,"d":"(42,469)"}]
[]
["Cash flows"]
["Net cash from (used) operating",null,0,0,0,{"v":-5905397,"d":"(5,905)"},{"v":-3044177,"d":"(3,044)"},{"v":-3044177,"d":"(3,044)"},{"v":-12102635,"d":"(12,103)"},{"v":-12502022,"d":"(12,502)"},{"v":-12904400,"d":"(12,904)"}]
["Net cash from (used) investing",null,0,0,0,{"v":34792415,"d":"34,792"},0,0,0,0,0]
["Net cash from (used) financing"]
[{"$f":"LEFT('A7-CFlow'!A43,37)","v":"Cash/cash equivalents at the year end"}]

{"sheet":"SA32","index":54,"n_rows":16,"n_cols":6,"rows_kept":16,"merged":[[1,1,2,1],[1,3,2,3],[1,4,2,4]]}
[{"$f":"muni&\" - \"&TableA32","v":"DC43 Harry Gwala - Supporting Table SA32 List of external mechanisms"}]
["External mechanism","Yrs/ Mths","Period of agreement 1.","Service provided","Expiry date of service delivery agreement or contract","Monetary value of agreement 2."]
["Name of organisation",null,"Number",null,null,"R thousand"]
["Code 2000 Modern Technology","M",36,"No Water Supply","2028-02-02",{"v":1458551,"d":"1,459"}]
["Code 2000 Modern Technology","M",36,"Other","2028-04-03",{"v":3900000,"d":"3,900"}]
["Lihle Nathi Property Construction","M",18,"Piped Water Inside Dwelling","2028-07-21",{"v":69918162,"d":"69,918"}]
["Lihle Nathi Property Construction","M",12,"Other","2025-12-18",{"v":29998109,"d":"29,998"}]
["Serenity Fanancial Services Cc","M",36,"Piped Water Inside Dwelling","2027-07-26",{"v":1699348,"d":"1,699"}]
["Serenity Fanancial Services Cc","M",36,"Other","2027-07-26",{"v":1699348,"d":"1,699"}]
["True Systems It (Pty)ltd","M",36,"Piped Water Inside Dwelling","2027-07-26",{"v":2997033,"d":"2,997"}]
["True Systems It (Pty)ltd","M",36,"Other","2027-07-26",{"v":2997033,"d":"2,997"}]
[]
[]
[{"$f":"head27a","v":"References"}]
["1. Total agreement period from commencement until end"]
["2. Annual value"]

{"sheet":"SA33","index":55,"n_rows":48,"n_cols":15,"rows_kept":48,"merged":[[1,4,1,6],[47,0,47,13]]}
[{"$f":"muni&\" - \"& TableA33","v":"DC43 Harry Gwala - Supporting Table SA33 Contracts having future budgetary implications"}]
[{"$f":"desc","v":"Description"},{"$f":"head27","v":"Ref"},"Preceding Years",{"$f":"Head2","v":"Current Year 2025/26"},{"$f":"Head3","v":"2026/27 Medium Term Revenue & Expenditure Framework"},null,null,{"$f":"Head12","v":"Forecast 2029/30"},{"$f":"Head13","v":"Forecast 2030/31"},{"$f":"Head14","v":"Forecast 2031/32"},{"$f":"Head15","v":"Forecast 2032/33"},{"$f":"Head16","v":"Forecast 2033/34"},{"$f":"Head17","v":"Forecast 2034/35"},{"$f":"Head18","v":"Forecast 2035/36"},"Total Contract Value"]
["R thousand","1,3","Total",{"$f":"Head6","v":"Original Budget"},{"$f":"Head9","v":"Budget Year 2026/27"},{"$f":"Head10","v":"Budget Year +1 2027/28"},{"$f":"Head11","v":"Budget Year +2 2028/29"},"Estimate","Estimate","Estimate","Estimate","Estimate","Estimate","Estimate","Estimate"]
["Parent Municipality:"]
["Revenue Obligation By Contract",2]
[" ",{"$nulls":13},{"$f":"SUM(C6:N6)","v":0}]
[" ",{"$nulls":13},{"$f":"SUM(C7:N7)","v":0}]
[" ",{"$nulls":13},{"$f":"SUM(C8:N8)","v":0}]
["Total Operating Revenue Implication",null,{"$f":"SUM(C6:C8)","v":0},{"$f":"SUM(D6:D8)","v":0},0,0,0,0,0,0,0,0,0,0,{"$f":"SUM(C9:N9)","v":0}]
[]
["Expenditure Obligation By Contract",2]
["Serenity Financial Services Cc",null,0,{"v":566449.33,"d":"566"},{"v":566449.33,"d":"566"},0,0,0,0,0,0,0,0,0,{"$f":"SUM(C12:N12)","v":{"v":1132898.66,"d":"1,133"}}]
["True Systems It (Pty)ltd",null,0,{"v":999010.98,"d":"999"},{"v":999010.98,"d":"999"},0,0,0,0,0,0,0,0,0,{"$f":"SUM(C13:N13)","v":{"v":1998021.96,"d":"1,998"}}]
["Lihle Nathi Property Construction",null,0,0,0,0,0,0,0,0,0,0,0,0,{"$f":"SUM(C14:N14)","v":0}]
["Total Operating Expenditure Implication",null,{"$f":"SUM(C12:C14)","v":0},{"$f":"SUM(D12:D14)","v":{"v":1565460.31,"d":"1,565"}},{"v":1565460.31,"d":"1,565"},0,0,0,0,0,0,0,0,0,{"$f":"SUM(C15:N15)","v":{"v":3130920.62,"d":"3,131"}}]
[]
["Capital Expenditure Obligation By Contract",2]
[" ",{"$nulls":13},{"$f":"SUM(C18:N18)","v":0}]
[" ",{"$nulls":13},{"$f":"SUM(C19:N19)","v":0}]
[" ",{"$nulls":13},{"$f":"SUM(C20:N20)","v":0}]
["Total Capital Expenditure Implication",null,{"$f":"SUM(C18:C20)","v":0},{"$f":"SUM(D18:D20)","v":0},0,0,0,0,0,0,0,0,0,0,{"$f":"SUM(C21:N21)","v":0}]
[]
["Total Parent Expenditure Implication",null,{"$f":"C15+C21","v":0},{"$f":"D15+D21","v":{"v":1565460.31,"d":"1,565"}},{"v":1565460.31,"d":"1,565"},0,0,0,0,0,0,0,0,0,{"v":3130920.62,"d":"3,131"}]
[]
["Entities:"]
["Revenue Obligation By Contract",2]
[" ",{"$nulls":13},{"$f":"SUM(C27:N27)","v":0}]
[" ",{"$nulls":13},{"$f":"SUM(C28:N28)","v":0}]
[" ",{"$nulls":13},{"$f":"SUM(C29:N29)","v":0}]
["Total Operating Revenue Implication",null,{"$f":"SUM(C27:C29)","v":0},{"$f":"SUM(D27:D29)","v":0},0,0,0,0,0,0,0,0,0,0,{"$f":"SUM(C30:N30)","v":0}]
[]
["Expenditure Obligation By Contract",2]
[" ",{"$nulls":13},{"$f":"SUM(C33:N33)","v":0}]
[" ",{"$nulls":13},{"$f":"SUM(C34:N34)","v":0}]
[" ",{"$nulls":13},{"$f":"SUM(C35:N35)","v":0}]
["Total Operating Expenditure Implication",null,{"$f":"SUM(C33:C35)","v":0},{"$f":"SUM(D33:D35)","v":0},0,0,0,0,0,0,0,0,0,0,{"$f":"SUM(C36:N36)","v":0}]
[]
["Capital Expenditure Obligation By Contract",2]
[" ",{"$nulls":13},{"$f":"SUM(C39:N39)","v":0}]
[" ",{"$nulls":13},{"$f":"SUM(C40:N40)","v":0}]
[" ",{"$nulls":13},{"$f":"SUM(C41:N41)","v":0}]
["Total Capital Expenditure Implication",null,{"$f":"SUM(C39:C41)","v":0},{"$f":"SUM(D39:D41)","v":0},0,0,0,0,0,0,0,0,0,0,{"$f":"SUM(C42:N42)","v":0}]
[]
["Total Entity Expenditure Implication",null,{"$f":"C36+C42","v":0},{"$f":"D36+D42","v":0},0,0,0,0,0,0,0,0,0,0,0]
[{"$f":"head27a","v":"References"}]
["1. Total implication for all preceding years to be summed and total stated in 'Preceding Years' column"]
["2. List all contracts with future financial obligations beyond the three years covered by the MTREF (MFMA s33)"]
["3. For municipalities with approved total revenue not exceeding R250 m - all contracts with an annual cost greater than R500 000. For municipalities with approved total revenue greater than R250 m - all contracts with an annual cost greater than R1million. For municipalities with approved total revenue greater than R500 m - all contracts with an annual cost greater than R5 million"]

{"sheet":"SA34a","index":56,"n_rows":178,"n_cols":11,"rows_kept":178,"merged":[[1,5,1,7],[1,8,1,10]]}
[{"$f":"muni&\" - \"&TableA34a","v":"DC43 Harry Gwala - Supporting Table SA34a Consolidated capital expenditure on new assets by asset class"}]
[{"$f":"desc","v":"Description"},{"$f":"head27","v":"Ref"},{"$f":"head1b","v":"2022/23"},{"$f":"head1A","v":"2023/24"},{"$f":"Head1","v":"2024/25"},{"$f":"Head2","v":"Current Year 2025/26"},null,null,{"$f":"Head3","v":"2026/27 Medium Term Revenue & Expenditure Framework"}]
["R thousand",1,{"$f":"Head5","v":"Audited Outcome"},{"$f":"Head5","v":"Audited Outcome"},{"$f":"Head5","v":"Audited Outcome"},{"$f":"Head6","v":"Original Budget"},{"$f":"Head7","v":"Adjusted Budget"},{"$f":"Head8","v":"Full Year Forecast"},{"$f":"Head9","v":"Budget Year 2026/27"},{"$f":"Head10","v":"Budget Year +1 2027/28"},{"$f":"Head11","v":"Budget Year +2 2028/29"}]
["Capital expenditure on new assets by Asset Class/Sub-class"]
[]
["Infrastructure",null,{"$f":"C7+C12+C16+C26+C37+C44+C52+C62+C68","v":{"v":247861719.77999997,"d":"247,862"}},{"$f":"D7+D12+D16+D26+D37+D44+D52+D62+D68","v":{"v":284128076.86,"d":"284,128"}},{"v":299786227.55,"d":"299,786"},{"v":240170978,"d":"240,171"},{"v":275303014,"d":"275,303"},{"v":275303014,"d":"275,303"},{"v":223286671,"d":"223,287"},{"v":205693333,"d":"205,693"},{"v":174346911,"d":"174,347"}]
["Roads Infrastructure",null,{"$f":"SUM(C8:C11)","v":0},0,0,0,0,0,0,0,0]
["Roads",null,0,0,0,0,0,0,0,0,0]
["Road Structures"]
["Road Furniture"]
["Capital Spares"]
["Storm water Infrastructure",null,{"$f":"SUM(C13:C15)","v":0},{"$f":"SUM(D13:D15)","v":0},0,0,0,0,0,0,0]
["Drainage Collection"]
["Storm water Conveyance"]
["Attenuation"]
["Electrical Infrastructure",null,{"$f":"SUM(C17:C25)","v":0},0,0,0,0,0,0,0,0]
["Power Plants"]
["HV Substations"]
["HV Switching Station"]
["HV Transmission Conductors"]
["MV Substations"]
["MV Switching Stations"]
["MV Networks"]
["LV Networks"]
["Capital Spares"]
["Water Supply Infrastructure",null,{"$f":"SUM(C27:C36)","v":{"v":203327285.07999998,"d":"203,327"}},{"$f":"SUM(D27:D36)","v":{"v":219162897.79,"d":"219,163"}},{"v":279731487.79,"d":"279,731"},{"v":239910110,"d":"239,910"},{"v":270168412,"d":"270,168"},{"v":270168412,"d":"270,168"},{"v":223286671,"d":"223,287"},{"v":205693333,"d":"205,693"},{"v":174346911,"d":"174,347"}]
["Dams and Weirs",null,{"v":18067609.06,"d":"18,068"},{"v":24468594.73,"d":"24,469"},{"v":33386377.1,"d":"33,386"},{"v":53150282,"d":"53,150"},{"v":62936661,"d":"62,937"},{"v":62936661,"d":"62,937"},{"v":33830705,"d":"33,831"},0,0]
["Boreholes",null,{"v":37187326.5,"d":"37,187"},{"v":3346202.89,"d":"3,346"},{"v":14332594.3,"d":"14,333"},0,{"v":5781366,"d":"5,781"},{"v":5781366,"d":"5,781"},{"v":26000,"d":"26"},{"v":27040,"d":"27"},{"v":27906,"d":"28"}]
["Reservoirs",null,0,0,0,{"v":434782,"d":"435"},0,0,0,0,0]
["Pump Stations",null,{"v":3715909.1,"d":"3,716"},{"v":18006491.74,"d":"18,006"},{"v":32805456.62,"d":"32,805"},{"v":86956,"d":"87"},{"v":11425647,"d":"11,426"},{"v":11425647,"d":"11,426"},{"v":12434527,"d":"12,435"},{"v":12931908,"d":"12,932"},{"v":13345729,"d":"13,346"}]
["Water Treatment Works",null,{"v":266632.3,"d":"267"},0,0,{"v":3300000,"d":"3,300"},0,0,0,0,0]
["Bulk Mains",null,{"v":45794757.39,"d":"45,795"},{"v":50384847.86,"d":"50,385"},{"v":82289629.51,"d":"82,290"},{"v":59806951,"d":"59,807"},{"v":76147288,"d":"76,147"},{"v":76147288,"d":"76,147"},{"v":39241600,"d":"39,242"},{"v":30993098,"d":"30,993"},{"v":47198437,"d":"47,198"}]
["Distribution",null,{"v":98295050.73,"d":"98,295"},{"v":122956760.57,"d":"122,957"},{"v":116917430.26,"d":"116,917"},{"v":123131139,"d":"123,131"},{"v":113877450,"d":"113,877"},{"v":113877450,"d":"113,877"},{"v":137753839,"d":"137,754"},{"v":161741287,"d":"161,741"},{"v":113774839,"d":"113,775"}]
["Distribution Points"]
["PRV Stations"]
["Capital Spares",null,0,0,0,0,0,0,0,0,0]
["Sanitation Infrastructure",null,{"$f":"SUM(C38:C43)","v":{"v":44534434.7,"d":"44,534"}},{"$f":"SUM(D38:D43)","v":{"v":64965179.07,"d":"64,965"}},{"v":20054739.76,"d":"20,055"},{"v":260868,"d":"261"},{"v":5134602,"d":"5,135"},{"v":5134602,"d":"5,135"},0,0,0]
["Pump Station",null,0,{"v":12051395.21,"d":"12,051"},{"v":1234210.96,"d":"1,234"},{"v":86956,"d":"87"},{"v":434782,"d":"435"},{"v":434782,"d":"435"},0,0,0]
["Reticulation",null,{"v":44534434.7,"d":"44,534"},{"v":52913783.86,"d":"52,914"},{"v":18820528.8,"d":"18,821"},{"v":173912,"d":"174"},{"v":4699820,"d":"4,700"},{"v":4699820,"d":"4,700"},0,0,0]
["Waste Water Treatment Works",null,0,0,0,0,0,0,0,0,0]
["Outfall Sewers",null,0,0,0,0,0,0,0,0,0]
["Toilet Facilities",null,0,0,0,0,0,0,0,0,0]
["Capital Spares"]
["Solid Waste Infrastructure",null,{"$f":"SUM(C45:C51)","v":0},{"$f":"SUM(D45:D51)","v":0},0,0,0,0,0,0,0]
["Landfill Sites"]
["Waste Transfer Stations"]
["Waste Processing Facilities"]
["Waste Drop-off Points"]
["Waste Separation Facilities"]
["Electricity Generation Facilities"]
["Capital Spares"]
["Rail Infrastructure",null,{"$f":"SUM(C53:C61)","v":0},0,0,0,0,0,0,0,0]
["Rail Lines"]
["Rail Structures"]
["Rail Furniture"]
["Drainage Collection"]
["Storm water Conveyance"]
["Attenuation"]
["MV Substations"]
["LV Networks"]
["Capital Spares"]
["Coastal Infrastructure",null,{"$f":"SUM(C63:C67)","v":0},{"$f":"SUM(D63:D67)","v":0},0,0,0,0,0,0,0]
["Sand Pumps"]
["Piers"]
["Revetments"]
["Promenades"]
["Capital Spares"]
["Information and Communication Infrastructure",null,{"$f":"SUM(C69:C72)","v":0},{"$f":"SUM(D69:D72)","v":0},0,0,0,0,0,0,0]
["Data Centres"]
["Core Layers"]
["Distribution Layers"]
["Capital Spares"]
[]
["Community Assets",null,{"$f":"C75+C98","v":0},{"$f":"D75+D98","v":0},0,0,0,0,0,0,0]
["Community Facilities",null,{"$f":"SUM(C76:C97)","v":0},{"$f":"SUM(D76:D97)","v":0},0,0,0,0,0,0,0]
["Halls"]
["Centres",null,0,0,0,0,0,0,0,0,0]
["Crèches"]
["Clinics/Care Centres"]
["Fire/Ambulance Stations"]
["Testing Stations"]
["Museums"]
["Galleries"]
["Theatres"]
["Libraries"]
["Cemeteries/Crematoria"]
["Police"]
["Parks"]
["Public Open Space"]
["Nature Reserves"]
["Public Ablution Facilities"]
["Markets"]
["Stalls"]
["Abattoirs"]
["Airports"]
["Taxi Ranks/Bus Terminals"]
["Capital Spares"]
["Sport and Recreation Facilities",null,{"$f":"SUM(C99:C101)","v":0},{"$f":"SUM(D99:D101)","v":0},0,0,0,0,0,0,0]
["Indoor Facilities"]
["Outdoor Facilities"]
["Capital Spares"]
[]
["Heritage assets",null,{"$f":"SUM(C104:C108)","v":0},{"$f":"SUM(D104:D108)","v":0},0,0,0,0,0,0,0]
["Monuments"]
["Historic Buildings"]
["Works of Art"]
["Conservation Areas"]
["Other Heritage"]
[]
["Investment properties",null,{"$f":"+C111+C114","v":0},{"$f":"+D111+D114","v":0},0,0,0,0,0,0,0]
["Revenue Generating",null,{"$f":"SUM(C112:C113)","v":0},0,0,0,0,0,0,0,0]
["Improved Property"]
["Unimproved Property"]
["Non-revenue Generating",null,{"$f":"SUM(C115:C116)","v":0},{"$f":"SUM(D115:D116)","v":0},0,0,0,0,0,0,0]
["Improved Property"]
["Unimproved Property"]
[]
["Other assets",null,{"$f":"+C119+C131","v":0},{"$f":"+D119+D131","v":0},{"v":2309952.96,"d":"2,310"},{"v":8901298,"d":"8,901"},{"v":6985416,"d":"6,985"},{"v":6985416,"d":"6,985"},{"v":4261581,"d":"4,262"},{"v":4410621,"d":"4,411"},{"v":6192557,"d":"6,193"}]
["Operational Buildings",null,{"$f":"SUM(C120:C130)","v":0},{"$f":"SUM(D120:D130)","v":0},{"v":1267779.08,"d":"1,268"},{"v":6901298,"d":"6,901"},{"v":5985416,"d":"5,985"},{"v":5985416,"d":"5,985"},{"v":3221581,"d":"3,222"},{"v":3329021,"d":"3,329"},{"v":5076345,"d":"5,076"}]
["Municipal Offices",null,0,0,{"v":1267779.08,"d":"1,268"},{"v":6901298,"d":"6,901"},{"v":5985416,"d":"5,985"},{"v":5985416,"d":"5,985"},{"v":3221581,"d":"3,222"},{"v":3329021,"d":"3,329"},{"v":5076345,"d":"5,076"}]
["Pay/Enquiry Points"]
["Building Plan Offices"]
["Workshops"]
["Yards"]
["Stores"]
["Laboratories"]
["Training Centres"]
["Manufacturing Plant"]
["Depots"]
["Capital Spares"]
["Housing",null,{"$f":"SUM(C132:C134)","v":0},{"$f":"SUM(D132:D134)","v":0},{"v":1042173.88,"d":"1,042"},{"v":2000000,"d":"2,000"},{"v":1000000,"d":"1,000"},{"v":1000000,"d":"1,000"},{"v":1040000,"d":"1,040"},{"v":1081600,"d":"1,082"},{"v":1116212,"d":"1,116"}]
["Staff Housing",null,0,0,{"v":1042173.88,"d":"1,042"},{"v":2000000,"d":"2,000"},{"v":1000000,"d":"1,000"},{"v":1000000,"d":"1,000"},{"v":1040000,"d":"1,040"},{"v":1081600,"d":"1,082"},{"v":1116212,"d":"1,116"}]
["Social Housing"]
["Capital Spares"]
[]
["Biological or Cultivated Assets",null,{"$f":"SUM(C137:C137)","v":0},0,0,0,0,0,0,0,0]
["Biological or Cultivated Assets"]
[]
["Intangible Assets",null,{"$f":"+C140+C141","v":{"v":269950,"d":"270"}},{"$f":"+D140+D141","v":0},0,{"v":954545,"d":"955"},{"v":954545,"d":"955"},{"v":954545,"d":"955"},{"v":2389227,"d":"2,389"},{"v":2484796,"d":"2,485"},{"v":2568608,"d":"2,569"}]
["Servitudes"]
["Licences and Rights",null,{"$f":"SUM(C142:C147)","v":{"v":269950,"d":"270"}},{"$f":"SUM(D142:D147)","v":0},0,{"v":954545,"d":"955"},{"v":954545,"d":"955"},{"v":954545,"d":"955"},{"v":2389227,"d":"2,389"},{"v":2484796,"d":"2,485"},{"v":2568608,"d":"2,569"}]
["Water Rights"]
["Effluent Licenses"]
["Solid Waste Licenses"]
["Computer Software and Applications",null,{"v":269950,"d":"270"},0,0,{"v":954545,"d":"955"},{"v":954545,"d":"955"},{"v":954545,"d":"955"},{"v":2389227,"d":"2,389"},{"v":2484796,"d":"2,485"},{"v":2568608,"d":"2,569"}]
["Load Settlement Software Applications"]
["Unspecified"]
[]
["Computer Equipment",null,{"$f":"SUM(C150:C150)","v":{"v":410050,"d":"410"}},{"v":943411.62,"d":"943"},{"v":2028817.04,"d":"2,029"},{"v":2859090,"d":"2,859"},{"v":2872570,"d":"2,873"},{"v":2872570,"d":"2,873"},{"v":5235590,"d":"5,236"},{"v":5320214,"d":"5,320"},{"v":2758684,"d":"2,759"}]
["Computer Equipment",null,{"v":410050,"d":"410"},{"v":943411.62,"d":"943"},{"v":2028817.04,"d":"2,029"},{"v":2859090,"d":"2,859"},{"v":2872570,"d":"2,873"},{"v":2872570,"d":"2,873"},{"v":5235590,"d":"5,236"},{"v":5320214,"d":"5,320"},{"v":2758684,"d":"2,759"}]
[]
["Furniture and Office Equipment",null,{"$f":"SUM(C153:C153)","v":{"v":1293099.15,"d":"1,293"}},{"v":2306194.72,"d":"2,306"},{"v":2177507.68,"d":"2,178"},{"v":5288090,"d":"5,288"},{"v":5608029,"d":"5,608"},{"v":5608029,"d":"5,608"},{"v":3242068,"d":"3,242"},{"v":3367610,"d":"3,368"},{"v":4692118,"d":"4,692"}]
["Furniture and Office Equipment",null,{"v":1293099.15,"d":"1,293"},{"v":2306194.72,"d":"2,306"},{"v":2177507.68,"d":"2,178"},{"v":5288090,"d":"5,288"},{"v":5608029,"d":"5,608"},{"v":5608029,"d":"5,608"},{"v":3242068,"d":"3,242"},{"v":3367610,"d":"3,368"},{"v":4692118,"d":"4,692"}]
[]
["Machinery and Equipment",null,{"$f":"SUM(C156:C156)","v":{"v":7430217.29,"d":"7,430"}},{"v":1306456.55,"d":"1,306"},{"v":4767220.87,"d":"4,767"},{"v":2360010,"d":"2,360"},{"v":4185259,"d":"4,185"},{"v":4185259,"d":"4,185"},{"v":2068956,"d":"2,069"},{"v":2151715,"d":"2,152"},{"v":2867245,"d":"2,867"}]
["Machinery and Equipment",null,{"v":7430217.29,"d":"7,430"},{"v":1306456.55,"d":"1,306"},{"v":4767220.87,"d":"4,767"},{"v":2360010,"d":"2,360"},{"v":4185259,"d":"4,185"},{"v":4185259,"d":"4,185"},{"v":2068956,"d":"2,069"},{"v":2151715,"d":"2,152"},{"v":2867245,"d":"2,867"}]
[]
["Transport Assets",null,{"$f":"SUM(C159:C159)","v":0},{"v":986239.14,"d":"986"},0,0,0,0,0,0,0]
["Transport Assets",null,0,{"v":986239.14,"d":"986"},0,0,0,0,0,0,0]
[]
["Land",null,{"$f":"SUM(C162:C162)","v":0},0,0,0,0,0,0,0,0]
["Land"]
[]
["Zoo's, Marine and Non-biological Animals",null,{"$f":"SUM(C165:C165)","v":0},{"$f":"SUM(D165:D165)","v":0},0,0,0,0,0,0,0]
["Zoo's, Marine and Non-biological Animals"]
[]
["Living resources"," ",{"$f":"+C168+C171","v":0},{"$f":"+D168+D171","v":0},0,0,0,0,0,0,0]
["Mature"," ",{"$f":"SUM(C169:C170)","v":0},{"$f":"SUM(D169:D170)","v":0},0,0,0,0,0,0,0]
["Policing and Protection"," "]
["Zoological plants and animals"," "]
["Immature"," ",{"$f":"SUM(C172:C173)","v":0},{"$f":"SUM(D172:D173)","v":0},0,0,0,0,0,0,0]
["Policing and Protection"," "]
["Zoological plants and animals"," "]
[""]
["Total Capital Expenditure on new assets ",1,{"$f":"C6+C74+C103+C110+C118+C136+C139+C149+C152+C155+C158+C161+C164+C167","v":{"v":257265036.21999997,"d":"257,265"}},{"$f":"D6+D74+D103+D110+D118+D136+D139+D149+D152+D155+D158+D161+D164+D167","v":{"v":289670378.89000005,"d":"289,670"}},{"v":311069726.1,"d":"311,070"},{"v":260534011,"d":"260,534"},{"v":295908833,"d":"295,909"},{"v":295908833,"d":"295,909"},{"v":240484093,"d":"240,484"},{"v":223428289,"d":"223,428"},{"v":193426123,"d":"193,426"}]
[]
[{"$f":"head27a","v":"References"}]
["1. Total Capital Expenditure on new assets (SA34a) plus Total Capital Expenditure on renewal of existing assets (SA34b) plus Total Capital Expenditure  on upgrading of existing assets (SA34e) must reconcile to total capital expenditure in Budgeted Capital Expenditure"]

{"sheet":"SA34b","index":57,"n_rows":180,"n_cols":11,"rows_kept":180,"merged":[[1,5,1,7],[1,8,1,10]]}
[{"$f":"muni&\" - \"&TableA34b","v":"DC43 Harry Gwala - Supporting Table SA34b Consolidated capital expenditure on the renewal of existing assets by asset class"}]
[{"$f":"desc","v":"Description"},{"$f":"head27","v":"Ref"},{"$f":"head1b","v":"2022/23"},{"$f":"head1A","v":"2023/24"},{"$f":"Head1","v":"2024/25"},{"$f":"Head2","v":"Current Year 2025/26"},null,null,{"$f":"Head3","v":"2026/27 Medium Term Revenue & Expenditure Framework"}]
["R thousand",1,{"$f":"Head5","v":"Audited Outcome"},{"$f":"Head5","v":"Audited Outcome"},{"$f":"Head5","v":"Audited Outcome"},{"$f":"Head6","v":"Original Budget"},{"$f":"Head7","v":"Adjusted Budget"},{"$f":"Head8","v":"Full Year Forecast"},{"$f":"Head9","v":"Budget Year 2026/27"},{"$f":"Head10","v":"Budget Year +1 2027/28"},{"$f":"Head11","v":"Budget Year +2 2028/29"}]
["Capital expenditure on renewal of existing assets by Asset Class/Sub-class"]
[]
["Infrastructure",null,{"$f":"C7+C12+C16+C26+C37+C44+C52+C62+C68","v":0},{"$f":"D7+D12+D16+D26+D37+D44+D52+D62+D68","v":{"v":2245030.66,"d":"2,245"}},{"v":23572652,"d":"23,573"},{"v":9503425,"d":"9,503"},{"v":3519449,"d":"3,519"},{"v":3519449,"d":"3,519"},{"v":19924691,"d":"19,925"},{"v":39224831,"d":"39,225"},{"v":42829033,"d":"42,829"}]
["Roads Infrastructure",null,{"$f":"SUM(C8:C11)","v":0},0,0,0,0,0,0,0,0]
["Roads"]
["Road Structures"]
["Road Furniture"]
["Capital Spares"]
["Storm water Infrastructure",null,{"$f":"SUM(C13:C15)","v":0},{"$f":"SUM(D13:D15)","v":0},0,0,0,0,0,0,0]
["Drainage Collection"]
["Storm water Conveyance"]
["Attenuation"]
["Electrical Infrastructure",null,{"$f":"SUM(C17:C25)","v":0},0,0,0,0,0,0,0,0]
["Power Plants"]
["HV Substations"]
["HV Switching Station"]
["HV Transmission Conductors"]
["MV Substations"]
["MV Switching Stations"]
["MV Networks"]
["LV Networks"]
["Capital Spares"]
["Water Supply Infrastructure",null,{"$f":"SUM(C27:C36)","v":0},{"$f":"SUM(D27:D36)","v":{"v":2245030.66,"d":"2,245"}},{"v":21914161,"d":"21,914"},{"v":7764295,"d":"7,764"},{"v":772228,"d":"772"},{"v":772228,"d":"772"},{"v":10794256,"d":"10,794"},{"v":39224831,"d":"39,225"},{"v":42829033,"d":"42,829"}]
["Dams and Weirs"]
["Boreholes"]
["Reservoirs",null,0,0,0,0,0,0,{"v":1739131,"d":"1,739"},{"v":21359598,"d":"21,360"},{"v":21739131,"d":"21,739"}]
["Pump Stations"]
["Water Treatment Works"]
["Bulk Mains",null,0,0,0,0,0,0,0,0,0]
["Distribution",null,0,{"v":2245030.66,"d":"2,245"},{"v":21914161,"d":"21,914"},{"v":7764295,"d":"7,764"},{"v":772228,"d":"772"},{"v":772228,"d":"772"},{"v":9055125,"d":"9,055"},{"v":17865233,"d":"17,865"},{"v":21089902,"d":"21,090"}]
["Distribution Points",null,0,0,0,0,0,0,0,0,0]
["PRV Stations"]
["Capital Spares"]
["Sanitation Infrastructure",null,{"$f":"SUM(C38:C43)","v":0},{"$f":"SUM(D38:D43)","v":0},{"v":1658491,"d":"1,658"},{"v":1739130,"d":"1,739"},{"v":2747221,"d":"2,747"},{"v":2747221,"d":"2,747"},{"v":9130435,"d":"9,130"},0,0]
["Pump Station"]
["Reticulation",null,0,0,0,0,0,0,0,0,0]
["Waste Water Treatment Works",null,0,0,{"v":1658491,"d":"1,658"},{"v":1739130,"d":"1,739"},{"v":2747221,"d":"2,747"},{"v":2747221,"d":"2,747"},{"v":9130435,"d":"9,130"},0,0]
["Outfall Sewers"]
["Toilet Facilities",null,0,0,0,0,0,0,0,0,0]
["Capital Spares"]
["Solid Waste Infrastructure",null,{"$f":"SUM(C45:C51)","v":0},{"$f":"SUM(D45:D51)","v":0},0,0,0,0,0,0,0]
["Landfill Sites"]
["Waste Transfer Stations"]
["Waste Processing Facilities"]
["Waste Drop-off Points"]
["Waste Separation Facilities"]
["Electricity Generation Facilities"]
["Capital Spares"]
["Rail Infrastructure",null,{"$f":"SUM(C53:C61)","v":0},0,0,0,0,0,0,0,0]
["Rail Lines"]
["Rail Structures"]
["Rail Furniture"]
["Drainage Collection"]
["Storm water Conveyance"]
["Attenuation"]
["MV Substations"]
["LV Networks"]
["Capital Spares"]
["Coastal Infrastructure",null,{"$f":"SUM(C63:C67)","v":0},{"$f":"SUM(D63:D67)","v":0},0,0,0,0,0,0,0]
["Sand Pumps"]
["Piers"]
["Revetments"]
["Promenades"]
["Capital Spares"]
["Information and Communication Infrastructure",null,{"$f":"SUM(C69:C72)","v":0},{"$f":"SUM(D69:D72)","v":0},0,0,0,0,0,0,0]
["Data Centres"]
["Core Layers"]
["Distribution Layers"]
["Capital Spares"]
[]
["Community Assets",null,{"$f":"C75+C98","v":0},{"$f":"D75+D98","v":0},0,0,0,0,0,0,0]
["Community Facilities",null,{"$f":"SUM(C76:C97)","v":0},{"$f":"SUM(D76:D97)","v":0},0,0,0,0,0,0,0]
["Halls"]
["Centres"]
["Crèches"]
["Clinics/Care Centres"]
["Fire/Ambulance Stations"]
["Testing Stations"]
["Museums"]
["Galleries"]
["Theatres"]
["Libraries"]
["Cemeteries/Crematoria"]
["Police"]
["Parks"]
["Public Open Space"]
["Nature Reserves"]
["Public Ablution Facilities"]
["Markets"]
["Stalls"]
["Abattoirs"]
["Airports"]
["Taxi Ranks/Bus Terminals"]
["Capital Spares"]
["Sport and Recreation Facilities",null,{"$f":"SUM(C99:C101)","v":0},{"$f":"SUM(D99:D101)","v":0},0,0,0,0,0,0,0]
["Indoor Facilities"]
["Outdoor Facilities"]
["Capital Spares"]
[]
["Heritage assets",null,{"$f":"SUM(C104:C108)","v":0},{"$f":"SUM(D104:D108)","v":0},0,0,0,0,0,0,0]
["Monuments"]
["Historic Buildings"]
["Works of Art"]
["Conservation Areas"]
["Other Heritage"]
[]
["Investment properties",null,{"$f":"+C111+C114","v":0},{"$f":"+D111+D114","v":0},0,0,0,0,0,0,0]
["Revenue Generating",null,{"$f":"SUM(C112:C113)","v":0},0,0,0,0,0,0,0,0]
["Improved Property"]
["Unimproved Property"]
["Non-revenue Generating",null,{"$f":"SUM(C115:C116)","v":0},{"$f":"SUM(D115:D116)","v":0},0,0,0,0,0,0,0]
["Improved Property"]
["Unimproved Property"]
[]
["Other assets",null,{"$f":"+C119+C131","v":0},{"$f":"+D119+D131","v":0},0,{"v":3873913,"d":"3,874"},{"v":2373913,"d":"2,374"},{"v":2373913,"d":"2,374"},{"v":2000000,"d":"2,000"},{"v":2080000,"d":"2,080"},{"v":2146560,"d":"2,147"}]
["Operational Buildings",null,{"$f":"SUM(C120:C130)","v":0},{"$f":"SUM(D120:D130)","v":0},0,{"v":3873913,"d":"3,874"},{"v":2373913,"d":"2,374"},{"v":2373913,"d":"2,374"},{"v":2000000,"d":"2,000"},{"v":2080000,"d":"2,080"},{"v":2146560,"d":"2,147"}]
["Municipal Offices",null,0,0,0,{"v":3873913,"d":"3,874"},{"v":2373913,"d":"2,374"},{"v":2373913,"d":"2,374"},{"v":2000000,"d":"2,000"},{"v":2080000,"d":"2,080"},{"v":2146560,"d":"2,147"}]
["Pay/Enquiry Points"]
["Building Plan Offices"]
["Workshops"]
["Yards"]
["Stores"]
["Laboratories"]
["Training Centres"]
["Manufacturing Plant"]
["Depots"]
["Capital Spares"]
["Housing",null,{"$f":"SUM(C132:C134)","v":0},{"$f":"SUM(D132:D134)","v":0},0,0,0,0,0,0,0]
["Staff Housing"]
["Social Housing"]
["Capital Spares"]
[]
["Biological or Cultivated Assets",null,{"$f":"SUM(C137:C137)","v":0},0,0,0,0,0,0,0,0]
["Biological or Cultivated Assets"]
[]
["Intangible Assets",null,{"$f":"+C140+C141","v":0},{"$f":"+D140+D141","v":0},0,0,0,0,0,0,0]
["Servitudes"]
["Licences and Rights",null,{"$f":"SUM(C142:C147)","v":0},{"$f":"SUM(D142:D147)","v":0},0,0,0,0,0,0,0]
["Water Rights"]
["Effluent Licenses"]
["Solid Waste Licenses"]
["Computer Software and Applications"]
["Load Settlement Software Applications"]
["Unspecified"]
[]
["Computer Equipment",null,{"$f":"SUM(C150:C150)","v":0},0,0,0,0,0,0,0,0]
["Computer Equipment"]
[]
["Furniture and Office Equipment",null,{"$f":"SUM(C153:C153)","v":0},0,0,0,0,0,0,0,0]
["Furniture and Office Equipment"]
[]
["Machinery and Equipment",null,{"$f":"SUM(C156:C156)","v":0},0,0,0,0,0,0,0,0]
["Machinery and Equipment",null,0,0,0,0,0,0,0,0,0]
[]
["Transport Assets",null,{"$f":"SUM(C159:C159)","v":{"v":6259054,"d":"6,259"}},{"v":2556858.13,"d":"2,557"},{"v":6840557.7,"d":"6,841"},{"v":8595310,"d":"8,595"},{"v":14005607,"d":"14,006"},{"v":14005607,"d":"14,006"},{"v":3400180,"d":"3,400"},{"v":3536188,"d":"3,536"},{"v":7124438,"d":"7,124"}]
["Transport Assets",null,{"v":6259054,"d":"6,259"},{"v":2556858.13,"d":"2,557"},{"v":6840557.7,"d":"6,841"},{"v":8595310,"d":"8,595"},{"v":14005607,"d":"14,006"},{"v":14005607,"d":"14,006"},{"v":3400180,"d":"3,400"},{"v":3536188,"d":"3,536"},{"v":7124438,"d":"7,124"}]
[]
["Land",null,{"$f":"SUM(C162:C162)","v":0},0,0,0,0,0,0,0,0]
["Land"]
[]
["Zoo's, Marine and Non-biological Animals",null,{"$f":"SUM(C165:C165)","v":0},0,0,0,0,0,0,0,0]
["Zoo's, Marine and Non-biological Animals"]
[]
["Living resources"," ",{"$f":"+C168+C171","v":0},{"$f":"+D168+D171","v":0},0,0,0,0,0,0,0]
["Mature"," ",{"$f":"SUM(C169:C170)","v":0},0,0,0,0,0,0,0,0]
["Policing and Protection"," "]
["Zoological plants and animals"," "]
["Immature"," ",{"$f":"SUM(C172:C173)","v":0},{"$f":"SUM(D172:D173)","v":0},0,0,0,0,0,0,0]
["Policing and Protection"," "]
["Zoological plants and animals"," "]
[""]
["Total Capital Expenditure on renewal of existing assets ",1,{"$f":"C6+C74+C103+C110+C118+C136+C139+C149+C152+C155+C158+C161+C164+C167","v":{"v":6259054,"d":"6,259"}},{"$f":"D6+D74+D103+D110+D118+D136+D139+D149+D152+D155+D158+D161+D164+D167","v":{"v":4801888.79,"d":"4,802"}},{"v":30413209.7,"d":"30,413"},{"v":21972648,"d":"21,973"},{"v":19898969,"d":"19,899"},{"v":19898969,"d":"19,899"},{"v":25324871,"d":"25,325"},{"v":44841019,"d":"44,841"},{"v":52100031,"d":"52,100"}]
[]
["Renewal of Existing Assets as % of total capex",null,{"$f":"IF(ISERROR(C175/'A9-Asset'!C110),0,(C175/'A9-Asset'!C110))","v":{"v":0.02325768699097697,"d":"2.3%"}},{"$f":"IF(ISERROR(D175/'A9-Asset'!D110),0,(D175/'A9-Asset'!D110))","v":{"v":0.01550980129783709,"d":"1.6%"}},{"$f":"IF(ISERROR(E175/'A9-Asset'!E110),0,(E175/'A9-Asset'!E110))","v":{"v":0.08712518803444261,"d":"8.7%"}},{"$f":"IF(ISERROR(F175/'A9-Asset'!F110),0,(F175/'A9-Asset'!F110))","v":{"v":0.0727427242164534,"d":"7.3%"}},{"$f":"IF(ISERROR(G175/'A9-Asset'!G110),0,(G175/'A9-Asset'!G110))","v":{"v":0.060009458463175853,"d":"6.0%"}},{"$f":"IF(ISERROR(H175/'A9-Asset'!H110),0,(H175/'A9-Asset'!H110))","v":{"v":0.060009458463175853,"d":"6.0%"}},{"$f":"IF(ISERROR(I175/'A9-Asset'!I110),0,(I175/'A9-Asset'!I110))","v":{"v":0.07689374352424996,"d":"7.7%"}},{"$f":"IF(ISERROR(J175/'A9-Asset'!J110),0,(J175/'A9-Asset'!J110))","v":{"v":0.11685914290499191,"d":"11.7%"}},{"$f":"IF(ISERROR(K175/'A9-Asset'!K110),0,(K175/'A9-Asset'!K110))","v":{"v":0.13582154271610916,"d":"13.6%"}}]
["Renewal of Existing Assets as % of deprecn\"",null,{"$f":"IF(ISERROR(C175/'A9-Asset'!C183),0,(C175/'A9-Asset'!C183))","v":{"v":0.06725603388263258,"d":"6.7%"}},{"$f":"IF(ISERROR(D175/'A9-Asset'!D183),0,(D175/'A9-Asset'!D183))","v":{"v":0.0202671107802828,"d":"2.0%"}},{"$f":"IF(ISERROR(E175/'A9-Asset'!E183),0,(E175/'A9-Asset'!E183))","v":{"v":0.2614681484277381,"d":"26.1%"}},{"$f":"IF(ISERROR(F175/'A9-Asset'!F183),0,(F175/'A9-Asset'!F183))","v":{"v":0.2038505577892608,"d":"20.4%"}},{"$f":"IF(ISERROR(G175/'A9-Asset'!G183),0,(G175/'A9-Asset'!G183))","v":{"v":0.18461206542248387,"d":"18.5%"}},{"$f":"IF(ISERROR(H175/'A9-Asset'!H183),0,(H175/'A9-Asset'!H183))","v":{"v":0.18461206542248387,"d":"18.5%"}},{"$f":"IF(ISERROR(I175/'A9-Asset'!I183),0,(I175/'A9-Asset'!I183))","v":{"v":0.22052435935366257,"d":"22.1%"}},{"$f":"IF(ISERROR(J175/'A9-Asset'!J183),0,(J175/'A9-Asset'!J183))","v":{"v":0.377976368769979,"d":"37.8%"}},{"$f":"IF(ISERROR(K175/'A9-Asset'!K183),0,(K175/'A9-Asset'!K183))","v":{"v":0.425524535860818,"d":"42.6%"}}]
[{"$f":"head27a","v":"References"}]
["1. Total Capital Expenditure  on renewal of existing assets (SA34b) plus Total Capital Expenditure on new assets (SA34a) plus Total Capital Expenditure  on upgrading of existing assets (SA34e) must reconcile to total capital expenditure in Budgeted Capital Expenditure"]

{"sheet":"SA34c","index":58,"n_rows":180,"n_cols":11,"rows_kept":180,"merged":[[1,5,1,7],[1,8,1,10]]}
[{"$f":"muni&\" - \"&TableA34c","v":"DC43 Harry Gwala - Supporting Table SA34c Consolidated repairs and maintenance by asset class"}]
[{"$f":"desc","v":"Description"},{"$f":"head27","v":"Ref"},{"$f":"head1b","v":"2022/23"},{"$f":"head1A","v":"2023/24"},{"$f":"Head1","v":"2024/25"},{"$f":"Head2","v":"Current Year 2025/26"},null,null,{"$f":"Head3","v":"2026/27 Medium Term Revenue & Expenditure Framework"}]
["R thousand",1,{"$f":"Head5","v":"Audited Outcome"},{"$f":"Head5","v":"Audited Outcome"},{"$f":"Head5","v":"Audited Outcome"},{"$f":"Head6","v":"Original Budget"},{"$f":"Head7","v":"Adjusted Budget"},{"$f":"Head8","v":"Full Year Forecast"},{"$f":"Head9","v":"Budget Year 2026/27"},{"$f":"Head10","v":"Budget Year +1 2027/28"},{"$f":"Head11","v":"Budget Year +2 2028/29"}]
["Repairs and maintenance expenditure by Asset Class/Sub-class"]
[]
["Infrastructure",null,{"$f":"C7+C12+C16+C26+C37+C44+C52+C62+C68","v":{"v":45120199.33,"d":"45,120"}},{"$f":"D7+D12+D16+D26+D37+D44+D52+D62+D68","v":{"v":39357069.37,"d":"39,357"}},{"v":35931534.339999996,"d":"35,932"},{"v":40240907,"d":"40,241"},{"v":45015588,"d":"45,016"},{"v":45015588,"d":"45,016"},{"v":28412815,"d":"28,413"},{"v":29350438,"d":"29,350"},{"v":30289651,"d":"30,290"}]
["Roads Infrastructure",null,{"$f":"SUM(C8:C11)","v":0},0,0,0,0,0,0,0,0]
["Roads"]
["Road Structures"]
["Road Furniture"]
["Capital Spares"]
["Storm water Infrastructure",null,{"$f":"SUM(C13:C15)","v":0},{"$f":"SUM(D13:D15)","v":0},0,0,0,0,0,0,0]
["Drainage Collection"]
["Storm water Conveyance"]
["Attenuation"]
["Electrical Infrastructure",null,{"$f":"SUM(C17:C25)","v":0},0,0,0,0,0,0,0,0]
["Power Plants"]
["HV Substations"]
["HV Switching Station"]
["HV Transmission Conductors"]
["MV Substations"]
["MV Switching Stations"]
["MV Networks"]
["LV Networks"]
["Capital Spares"]
["Water Supply Infrastructure",null,{"$f":"SUM(C27:C36)","v":{"v":45120199.33,"d":"45,120"}},{"$f":"SUM(D27:D36)","v":{"v":39357069.37,"d":"39,357"}},{"v":35931534.339999996,"d":"35,932"},{"v":40240907,"d":"40,241"},{"v":45015588,"d":"45,016"},{"v":45015588,"d":"45,016"},{"v":28412815,"d":"28,413"},{"v":29350438,"d":"29,350"},{"v":30289651,"d":"30,290"}]
["Dams and Weirs"]
["Boreholes"]
["Reservoirs",null,{"v":26399519.83,"d":"26,400"},{"v":19045934.27,"d":"19,046"},{"v":21341422.06,"d":"21,341"},{"v":20649999,"d":"20,650"},{"v":26439781,"d":"26,440"},{"v":26439781,"d":"26,440"},{"v":13073975,"d":"13,074"},{"v":13505416,"d":"13,505"},{"v":13937589,"d":"13,938"}]
["Pump Stations",null,{"v":11207171.12,"d":"11,207"},{"v":9614847.28,"d":"9,615"},{"v":8961101.6,"d":"8,961"},{"v":9472727,"d":"9,473"},{"v":9579809,"d":"9,580"},{"v":9579809,"d":"9,580"},{"v":8463002,"d":"8,463"},{"v":8742281,"d":"8,742"},{"v":9022034,"d":"9,022"}]
["Water Treatment Works"]
["Bulk Mains"]
["Distribution"]
["Distribution Points"]
["PRV Stations"]
["Capital Spares",null,{"v":7513508.38,"d":"7,514"},{"v":10696287.82,"d":"10,696"},{"v":5629010.68,"d":"5,629"},{"v":10118181,"d":"10,118"},{"v":8995998,"d":"8,996"},{"v":8995998,"d":"8,996"},{"v":6875838,"d":"6,876"},{"v":7102741,"d":"7,103"},{"v":7330028,"d":"7,330"}]
["Sanitation Infrastructure",null,{"$f":"SUM(C38:C43)","v":0},{"$f":"SUM(D38:D43)","v":0},0,0,0,0,0,0,0]
["Pump Station"]
["Reticulation",null,0,0,0,0,0,0,0,0,0]
["Waste Water Treatment Works"]
["Outfall Sewers"]
["Toilet Facilities"]
["Capital Spares"]
["Solid Waste Infrastructure",null,{"$f":"SUM(C45:C51)","v":0},{"$f":"SUM(D45:D51)","v":0},0,0,0,0,0,0,0]
["Landfill Sites"]
["Waste Transfer Stations"]
["Waste Processing Facilities"]
["Waste Drop-off Points"]
["Waste Separation Facilities"]
["Electricity Generation Facilities"]
["Capital Spares"]
["Rail Infrastructure",null,{"$f":"SUM(C53:C61)","v":0},0,0,0,0,0,0,0,0]
["Rail Lines"]
["Rail Structures"]
["Rail Furniture"]
["Drainage Collection"]
["Storm water Conveyance"]
["Attenuation"]
["MV Substations"]
["LV Networks"]
["Capital Spares"]
["Coastal Infrastructure",null,{"$f":"SUM(C63:C67)","v":0},{"$f":"SUM(D63:D67)","v":0},0,0,0,0,0,0,0]
["Sand Pumps"]
["Piers"]
["Revetments"]
["Promenades"]
["Capital Spares"]
["Information and Communication Infrastructure",null,{"$f":"SUM(C69:C72)","v":0},{"$f":"SUM(D69:D72)","v":0},0,0,0,0,0,0,0]
["Data Centres"]
["Core Layers"]
["Distribution Layers"]
["Capital Spares"]
[]
["Community Assets",null,{"$f":"C75+C98","v":{"v":62765,"d":"63"}},{"$f":"D75+D98","v":{"v":87208.8,"d":"87"}},{"v":76795,"d":"77"},{"v":272727,"d":"273"},{"v":169600,"d":"170"},{"v":169600,"d":"170"},{"v":250000,"d":"250"},{"v":258250,"d":"258"},{"v":266514,"d":"267"}]
["Community Facilities",null,{"$f":"SUM(C76:C97)","v":0},{"$f":"SUM(D76:D97)","v":0},0,0,0,0,0,0,0]
["Halls"]
["Centres"]
["Crèches"]
["Clinics/Care Centres"]
["Fire/Ambulance Stations"]
["Testing Stations"]
["Museums"]
["Galleries"]
["Theatres"]
["Libraries"]
["Cemeteries/Crematoria"]
["Police"]
["Parks"]
["Public Open Space"]
["Nature Reserves"]
["Public Ablution Facilities"]
["Markets",null,0,0,0,0,0,0,0,0,0]
["Stalls"]
["Abattoirs"]
["Airports"]
["Taxi Ranks/Bus Terminals"]
["Capital Spares"]
["Sport and Recreation Facilities",null,{"$f":"SUM(C99:C101)","v":{"v":62765,"d":"63"}},{"$f":"SUM(D99:D101)","v":{"v":87208.8,"d":"87"}},{"v":76795,"d":"77"},{"v":272727,"d":"273"},{"v":169600,"d":"170"},{"v":169600,"d":"170"},{"v":250000,"d":"250"},{"v":258250,"d":"258"},{"v":266514,"d":"267"}]
["Indoor Facilities",null,{"v":62765,"d":"63"},{"v":87208.8,"d":"87"},{"v":76795,"d":"77"},{"v":272727,"d":"273"},{"v":169600,"d":"170"},{"v":169600,"d":"170"},{"v":250000,"d":"250"},{"v":258250,"d":"258"},{"v":266514,"d":"267"}]
["Outdoor Facilities"]
["Capital Spares"]
[]
["Heritage assets",null,{"$f":"SUM(C104:C108)","v":0},{"$f":"SUM(D104:D108)","v":0},0,0,0,0,0,0,0]
["Monuments"]
["Historic Buildings"]
["Works of Art"]
["Conservation Areas"]
["Other Heritage"]
[]
["Investment properties",null,{"$f":"+C111+C114","v":0},{"$f":"+D111+D114","v":0},0,0,0,0,0,0,0]
["Revenue Generating",null,{"$f":"SUM(C112:C113)","v":0},0,0,0,0,0,0,0,0]
["Improved Property"]
["Unimproved Property"]
["Non-revenue Generating",null,{"$f":"SUM(C115:C116)","v":0},{"$f":"SUM(D115:D116)","v":0},0,0,0,0,0,0,0]
["Improved Property"]
["Unimproved Property"]
[]
["Other assets",null,{"$f":"+C119+C131","v":{"v":4007602.84,"d":"4,008"}},{"$f":"+D119+D131","v":{"v":4272263.62,"d":"4,272"}},{"v":3939174.72,"d":"3,939"},{"v":4269230,"d":"4,269"},{"v":1838276,"d":"1,838"},{"v":1838276,"d":"1,838"},{"v":1911807,"d":"1,912"},{"v":1974935,"d":"1,975"},{"v":2038178,"d":"2,038"}]
["Operational Buildings",null,{"$f":"SUM(C120:C130)","v":{"v":4007602.84,"d":"4,008"}},{"$f":"SUM(D120:D130)","v":{"v":4272263.62,"d":"4,272"}},{"v":3939174.72,"d":"3,939"},{"v":4269230,"d":"4,269"},{"v":1838276,"d":"1,838"},{"v":1838276,"d":"1,838"},{"v":1911807,"d":"1,912"},{"v":1974935,"d":"1,975"},{"v":2038178,"d":"2,038"}]
["Municipal Offices",null,{"v":4007602.84,"d":"4,008"},{"v":4272263.62,"d":"4,272"},{"v":3939174.72,"d":"3,939"},{"v":4269230,"d":"4,269"},{"v":1838276,"d":"1,838"},{"v":1838276,"d":"1,838"},{"v":1911807,"d":"1,912"},{"v":1974935,"d":"1,975"},{"v":2038178,"d":"2,038"}]
["Pay/Enquiry Points"]
["Building Plan Offices"]
["Workshops"]
["Yards"]
["Stores"]
["Laboratories"]
["Training Centres"]
["Manufacturing Plant"]
["Depots"]
["Capital Spares"]
["Housing",null,{"$f":"SUM(C132:C134)","v":0},{"$f":"SUM(D132:D134)","v":0},0,0,0,0,0,0,0]
["Staff Housing"]
["Social Housing"]
["Capital Spares"]
[]
["Biological or Cultivated Assets",null,{"$f":"SUM(C137:C137)","v":0},0,0,0,0,0,0,0,0]
["Biological or Cultivated Assets"]
[]
["Intangible Assets",null,{"$f":"+C140+C141","v":0},{"$f":"+D140+D141","v":0},0,0,0,0,0,0,0]
["Servitudes"]
["Licences and Rights",null,{"$f":"SUM(C142:C147)","v":0},{"$f":"SUM(D142:D147)","v":0},0,0,0,0,0,0,0]
["Water Rights"]
["Effluent Licenses"]
["Solid Waste Licenses"]
["Computer Software and Applications"]
["Load Settlement Software Applications"]
["Unspecified"]
[]
["Computer Equipment",null,{"$f":"SUM(C150:C150)","v":{"v":17487.9,"d":"17"}},{"v":15900,"d":"16"},{"v":40832.22,"d":"41"},{"v":76799,"d":"77"},{"v":62345,"d":"62"},{"v":62345,"d":"62"},{"v":64652,"d":"65"},{"v":66786,"d":"67"},{"v":68923,"d":"69"}]
["Computer Equipment",null,{"v":17487.9,"d":"17"},{"v":15900,"d":"16"},{"v":40832.22,"d":"41"},{"v":76799,"d":"77"},{"v":62345,"d":"62"},{"v":62345,"d":"62"},{"v":64652,"d":"65"},{"v":66786,"d":"67"},{"v":68923,"d":"69"}]
[]
["Furniture and Office Equipment",null,{"$f":"SUM(C153:C153)","v":0},0,0,0,0,0,0,0,0]
["Furniture and Office Equipment"]
[]
["Machinery and Equipment",null,{"$f":"SUM(C156:C156)","v":{"v":3055050,"d":"3,055"}},0,0,0,0,0,0,0,0]
["Machinery and Equipment",null,{"v":3055050,"d":"3,055"},0,0,0,0,0,0,0,0]
[]
["Transport Assets",null,{"$f":"SUM(C159:C159)","v":{"v":204408.05,"d":"204"}},{"v":49050,"d":"49"},{"v":478016.4,"d":"478"},{"v":332181,"d":"332"},{"v":160083,"d":"160"},{"v":160083,"d":"160"},{"v":166006,"d":"166"},{"v":171485,"d":"171"},{"v":176972,"d":"177"}]
["Transport Assets",null,{"v":204408.05,"d":"204"},{"v":49050,"d":"49"},{"v":478016.4,"d":"478"},{"v":332181,"d":"332"},{"v":160083,"d":"160"},{"v":160083,"d":"160"},{"v":166006,"d":"166"},{"v":171485,"d":"171"},{"v":176972,"d":"177"}]
[]
["Land",null,{"$f":"SUM(C162:C162)","v":0},0,0,0,0,0,0,0,0]
["Land"]
[]
["Zoo's, Marine and Non-biological Animals",null,{"$f":"SUM(C165:C165)","v":0},{"$f":"SUM(D165:D165)","v":0},0,0,0,0,0,0,0]
["Zoo's, Marine and Non-biological Animals"]
[]
["Living resources"," ",{"$f":"+C168+C171","v":0},{"$f":"+D168+D171","v":0},0,0,0,0,0,0,0]
["Mature"," ",{"$f":"SUM(C169:C170)","v":0},{"$f":"SUM(D169:D170)","v":0},0,0,0,0,0,0,0]
["Policing and Protection"," "]
["Zoological plants and animals"," "]
["Immature"," ",{"$f":"SUM(C172:C173)","v":0},{"$f":"SUM(D172:D173)","v":0},0,0,0,0,0,0,0]
["Policing and Protection"," "]
["Zoological plants and animals"," "]
[""]
["Total Repairs and Maintenance Expenditure",1,{"$f":"C6+C74+C103+C110+C118+C136+C139+C149+C152+C155+C158+C161+C164+C167","v":{"v":52467513.12,"d":"52,468"}},{"$f":"D6+D74+D103+D110+D118+D136+D139+D149+D152+D155+D158+D161+D164+D167","v":{"v":43781491.78999999,"d":"43,781"}},{"v":40466352.67999999,"d":"40,466"},{"v":45191844,"d":"45,192"},{"v":47245892,"d":"47,246"},{"v":47245892,"d":"47,246"},{"v":30805280,"d":"30,805"},{"v":31821894,"d":"31,822"},{"v":32840238,"d":"32,840"}]
[]
["R&M as a % of PPE & Investment Property ",null,{"$f":"'A9-Asset'!C223","v":{"v":0.023754202832331196,"d":"2.4%"}},{"$f":"'A9-Asset'!D223","v":{"v":0.01857241085188182,"d":"1.9%"}},{"$f":"'A9-Asset'!E223","v":{"v":0.015793360675751118,"d":"1.6%"}},{"$f":"'A9-Asset'!F223","v":{"v":0.016116394072491193,"d":"1.6%"}},{"$f":"'A9-Asset'!G223","v":{"v":0.016953222721764603,"d":"1.7%"}},{"$f":"'A9-Asset'!H223","v":{"v":0.016953222721764603,"d":"1.7%"}},{"$f":"'A9-Asset'!I223","v":{"v":0.010110350709846588,"d":"1.0%"}},{"$f":"'A9-Asset'!J223","v":{"v":0.009503379216937067,"d":"1.0%"}},{"$f":"'A9-Asset'!K223","v":{"v":0.008997269595315344,"d":"0.9%"}}]
["R&M as % Operating Expenditure",null,{"$f":"IF(ISERROR(ROUND(C175/'A1-Sum'!B18,3)),0,(ROUND(C175/'A1-Sum'!B18,3)))","v":{"v":0.088,"d":"8.8%"}},{"$f":"IF(ISERROR(ROUND(D175/'A1-Sum'!C18,3)),0,(ROUND(D175/'A1-Sum'!C18,3)))","v":{"v":0.059,"d":"5.9%"}},{"$f":"IF(ISERROR(ROUND(E175/'A1-Sum'!D18,3)),0,(ROUND(E175/'A1-Sum'!D18,3)))","v":{"v":0.057,"d":"5.7%"}},{"$f":"IF(ISERROR(ROUND(F175/'A1-Sum'!E18,3)),0,(ROUND(F175/'A1-Sum'!E18,3)))","v":{"v":0.055,"d":"5.5%"}},{"$f":"IF(ISERROR(ROUND(G175/'A1-Sum'!F18,3)),0,(ROUND(G175/'A1-Sum'!F18,3)))","v":{"v":0.053,"d":"5.3%"}},{"$f":"IF(ISERROR(ROUND(H175/'A1-Sum'!G18,3)),0,(ROUND(H175/'A1-Sum'!G18,3)))","v":{"v":0.053,"d":"5.3%"}},{"$f":"IF(ISERROR(ROUND(I175/'A1-Sum'!H18,3)),0,(ROUND(I175/'A1-Sum'!H18,3)))","v":{"v":0.059,"d":"5.9%"}},{"$f":"IF(ISERROR(ROUND(J175/'A1-Sum'!I18,3)),0,(ROUND(J175/'A1-Sum'!I18,3)))","v":{"v":0.037,"d":"3.7%"}},{"$f":"IF(ISERROR(ROUND(K175/'A1-Sum'!J18,3)),0,(ROUND(K175/'A1-Sum'!J18,3)))","v":{"v":0.036,"d":"3.6%"}}]
[{"$f":"head27a","v":"References"}]
["1. Total Repairs and Maintenance Expenditure by Asset Category must reconcile to total repairs and maintenance expenditure on Table SA1"]

{"sheet":"SA34d","index":59,"n_rows":178,"n_cols":11,"rows_kept":178,"merged":[[1,5,1,7],[1,8,1,10]]}
[{"$f":"muni&\" - \"&TableA34d","v":"DC43 Harry Gwala - Supporting Table SA34d Consolidated Depreciation by asset class"}]
[{"$f":"desc","v":"Description"},{"$f":"head27","v":"Ref"},{"$f":"head1b","v":"2022/23"},{"$f":"head1A","v":"2023/24"},{"$f":"Head1","v":"2024/25"},{"$f":"Head2","v":"Current Year 2025/26"},null,null,{"$f":"Head3","v":"2026/27 Medium Term Revenue & Expenditure Framework"}]
["R thousand",1,{"$f":"Head5","v":"Audited Outcome"},{"$f":"Head5","v":"Audited Outcome"},{"$f":"Head5","v":"Audited Outcome"},{"$f":"Head6","v":"Original Budget"},{"$f":"Head7","v":"Adjusted Budget"},{"$f":"Head8","v":"Full Year Forecast"},{"$f":"Head9","v":"Budget Year 2026/27"},{"$f":"Head10","v":"Budget Year +1 2027/28"},{"$f":"Head11","v":"Budget Year +2 2028/29"}]
["Depreciation by Asset Class/Sub-class"]
[]
["Infrastructure",null,{"$f":"C7+C12+C16+C26+C37+C44+C52+C62+C68","v":{"v":80301767.43,"d":"80,302"}},{"$f":"D7+D12+D16+D26+D37+D44+D52+D62+D68","v":{"v":227369683.65,"d":"227,370"}},{"v":104794587.48,"d":"104,795"},{"v":89133214,"d":"89,133"},{"v":89133214,"d":"89,133"},{"v":89133214,"d":"89,133"},{"v":92707253,"d":"92,707"},{"v":95766593,"d":"95,767"},{"v":98831125,"d":"98,831"}]
["Roads Infrastructure",null,{"$f":"SUM(C8:C11)","v":{"v":4193.89,"d":"4"}},{"v":4193.89,"d":"4"},{"v":4193.9,"d":"4"},{"v":4909,"d":"5"},{"v":4909,"d":"5"},{"v":4909,"d":"5"},{"v":5106,"d":"5"},{"v":5274,"d":"5"},{"v":5443,"d":"5"}]
["Roads",null,{"v":4193.89,"d":"4"},{"v":4193.89,"d":"4"},{"v":4193.9,"d":"4"},{"v":4909,"d":"5"},{"v":4909,"d":"5"},{"v":4909,"d":"5"},{"v":5106,"d":"5"},{"v":5274,"d":"5"},{"v":5443,"d":"5"}]
["Road Structures"]
["Road Furniture"]
["Capital Spares"]
["Storm water Infrastructure",null,{"$f":"SUM(C13:C15)","v":0},{"$f":"SUM(D13:D15)","v":0},0,0,0,0,0,0,0]
["Drainage Collection"]
["Storm water Conveyance"]
["Attenuation"]
["Electrical Infrastructure",null,{"$f":"SUM(C17:C25)","v":{"v":1575593.44,"d":"1,576"}},{"v":1776111.2200000002,"d":"1,776"},{"v":1484677.54,"d":"1,485"},{"v":1825802,"d":"1,826"},{"v":1825802,"d":"1,826"},{"v":1825802,"d":"1,826"},{"v":1898835,"d":"1,899"},{"v":1961497,"d":"1,961"},{"v":2024265,"d":"2,024"}]
["Power Plants",null,{"v":26307.44,"d":"26"},{"v":254810.36,"d":"255"},0,0,0,0,0,0,0]
["HV Substations"]
["HV Switching Station"]
["HV Transmission Conductors"]
["MV Substations"]
["MV Switching Stations"]
["MV Networks"]
["LV Networks",null,{"v":1549286,"d":"1,549"},{"v":1521300.86,"d":"1,521"},{"v":1484677.54,"d":"1,485"},{"v":1825802,"d":"1,826"},{"v":1825802,"d":"1,826"},{"v":1825802,"d":"1,826"},{"v":1898835,"d":"1,899"},{"v":1961497,"d":"1,961"},{"v":2024265,"d":"2,024"}]
["Capital Spares"]
["Water Supply Infrastructure",null,{"$f":"SUM(C27:C36)","v":{"v":71620050.07000001,"d":"71,620"}},{"$f":"SUM(D27:D36)","v":{"v":217623644.84,"d":"217,624"}},{"v":95495837.39,"d":"95,496"},{"v":79254609,"d":"79,255"},{"v":79254609,"d":"79,255"},{"v":79254609,"d":"79,255"},{"v":82433501,"d":"82,434"},{"v":85153806,"d":"85,154"},{"v":87878728,"d":"87,879"}]
["Dams and Weirs",null,{"v":5271871.85,"d":"5,272"},{"v":142110871.68,"d":"142,111"},{"v":7639237.83,"d":"7,639"},{"v":5819569,"d":"5,820"},{"v":5819569,"d":"5,820"},{"v":5819569,"d":"5,820"},{"v":6052354,"d":"6,052"},{"v":6252082,"d":"6,252"},{"v":6452147,"d":"6,452"}]
["Boreholes",null,{"v":18821377.46,"d":"18,821"},{"v":25954868.87,"d":"25,955"},{"v":34279528.07,"d":"34,280"},{"v":16282369,"d":"16,282"},{"v":16282369,"d":"16,282"},{"v":16282369,"d":"16,282"},{"v":16933666,"d":"16,934"},{"v":17492476,"d":"17,492"},{"v":18052236,"d":"18,052"}]
["Reservoirs",null,{"v":6340773.69,"d":"6,341"},{"v":6331616.95,"d":"6,332"},{"v":6313900.52,"d":"6,314"},{"v":7426210,"d":"7,426"},{"v":7426210,"d":"7,426"},{"v":7426210,"d":"7,426"},{"v":7723259,"d":"7,723"},{"v":7978126,"d":"7,978"},{"v":8233426,"d":"8,233"}]
["Pump Stations",null,{"v":983098.84,"d":"983"},{"v":987242.65,"d":"987"},{"v":1009190.89,"d":"1,009"},{"v":1155902,"d":"1,156"},{"v":1155902,"d":"1,156"},{"v":1155902,"d":"1,156"},{"v":1202139,"d":"1,202"},{"v":1241809,"d":"1,242"},{"v":1281548,"d":"1,282"}]
["Water Treatment Works",null,{"v":1668721.63,"d":"1,669"},{"v":1929467.78,"d":"1,929"},{"v":1929467.83,"d":"1,929"},0,0,0,{"v":3700,"d":"4"},{"v":3823,"d":"4"},{"v":3945,"d":"4"}]
["Bulk Mains",null,0,0,0,0,0,0,0,0,0]
["Distribution",null,{"v":38534206.6,"d":"38,534"},{"v":40309576.91,"d":"40,310"},{"v":44324512.25,"d":"44,325"},{"v":48570559,"d":"48,571"},{"v":48570559,"d":"48,571"},{"v":48570559,"d":"48,571"},{"v":50518383,"d":"50,518"},{"v":52185490,"d":"52,185"},{"v":53855426,"d":"53,855"}]
["Distribution Points"]
["PRV Stations"]
["Capital Spares",null,0,0,0,0,0,0,0,0,0]
["Sanitation Infrastructure",null,{"$f":"SUM(C38:C43)","v":{"v":7062626.59,"d":"7,063"}},{"$f":"SUM(D38:D43)","v":{"v":7897223.630000001,"d":"7,897"}},{"v":7745699.76,"d":"7,746"},{"v":8006463,"d":"8,006"},{"v":8006463,"d":"8,006"},{"v":8006463,"d":"8,006"},{"v":8326722,"d":"8,327"},{"v":8601504,"d":"8,602"},{"v":8876753,"d":"8,877"}]
["Pump Station"]
["Reticulation",null,{"v":6813161.81,"d":"6,813"},{"v":6775647.15,"d":"6,776"},{"v":7745699.76,"d":"7,746"},{"v":8006463,"d":"8,006"},{"v":8006463,"d":"8,006"},{"v":8006463,"d":"8,006"},{"v":8326722,"d":"8,327"},{"v":8601504,"d":"8,602"},{"v":8876753,"d":"8,877"}]
["Waste Water Treatment Works",null,{"v":249464.78,"d":"249"},{"v":1121576.48,"d":"1,122"},0,0,0,0,0,0,0]
["Outfall Sewers"]
["Toilet Facilities"]
["Capital Spares"]
["Solid Waste Infrastructure",null,{"$f":"SUM(C45:C51)","v":0},{"$f":"SUM(D45:D51)","v":0},0,0,0,0,0,0,0]
["Landfill Sites"]
["Waste Transfer Stations"]
["Waste Processing Facilities"]
["Waste Drop-off Points"]
["Waste Separation Facilities"]
["Electricity Generation Facilities"]
["Capital Spares"]
["Rail Infrastructure",null,{"$f":"SUM(C53:C61)","v":0},0,0,0,0,0,0,0,0]
["Rail Lines"]
["Rail Structures"]
["Rail Furniture"]
["Drainage Collection"]
["Storm water Conveyance"]
["Attenuation"]
["MV Substations"]
["LV Networks"]
["Capital Spares"]
["Coastal Infrastructure",null,{"$f":"SUM(C63:C67)","v":0},{"$f":"SUM(D63:D67)","v":0},0,0,0,0,0,0,0]
["Sand Pumps"]
["Piers"]
["Revetments"]
["Promenades"]
["Capital Spares"]
["Information and Communication Infrastructure",null,{"$f":"SUM(C69:C72)","v":{"v":39303.44,"d":"39"}},{"$f":"SUM(D69:D72)","v":{"v":68510.07,"d":"69"}},{"v":64178.89,"d":"64"},{"v":41431,"d":"41"},{"v":41431,"d":"41"},{"v":41431,"d":"41"},{"v":43089,"d":"43"},{"v":44512,"d":"45"},{"v":45936,"d":"46"}]
["Data Centres",null,{"v":39303.44,"d":"39"},{"v":68510.07,"d":"69"},{"v":64178.89,"d":"64"},{"v":41431,"d":"41"},{"v":41431,"d":"41"},{"v":41431,"d":"41"},{"v":43089,"d":"43"},{"v":44512,"d":"45"},{"v":45936,"d":"46"}]
["Core Layers"]
["Distribution Layers"]
["Capital Spares"]
[]
["Community Assets",null,{"$f":"C75+C98","v":{"v":128553.79,"d":"129"}},{"$f":"D75+D98","v":{"v":113320.65,"d":"113"}},{"v":83995.76,"d":"84"},{"v":177098,"d":"177"},{"v":177098,"d":"177"},{"v":177098,"d":"177"},{"v":188685,"d":"189"},{"v":194913,"d":"195"},{"v":201149,"d":"201"}]
["Community Facilities",null,{"$f":"SUM(C76:C97)","v":{"v":90309.95,"d":"90"}},{"$f":"SUM(D76:D97)","v":{"v":75076.77999999998,"d":"75"}},{"v":62759.34,"d":"63"},{"v":132321,"d":"132"},{"v":132321,"d":"132"},{"v":132321,"d":"132"},{"v":142116,"d":"142"},{"v":146807,"d":"147"},{"v":151504,"d":"152"}]
["Halls",null,{"v":56617.51,"d":"57"},0,0,{"v":92875,"d":"93"},{"v":92875,"d":"93"},{"v":92875,"d":"93"},{"v":96591,"d":"97"},{"v":99779,"d":"100"},{"v":102971,"d":"103"}]
["Centres",null,0,0,0,0,0,0,0,0,0]
["Crèches",null,0,0,0,0,0,0,0,0,0]
["Clinics/Care Centres",null,{"v":8550,"d":"9"},{"v":8550,"d":"9"},{"v":8550,"d":"9"},{"v":10010,"d":"10"},{"v":10010,"d":"10"},{"v":10010,"d":"10"},{"v":10411,"d":"10"},{"v":10754,"d":"11"},{"v":11099,"d":"11"}]
["Fire/Ambulance Stations"]
["Testing Stations"]
["Museums"]
["Galleries"]
["Theatres"]
["Libraries"]
["Cemeteries/Crematoria"]
["Police"]
["Parks"]
["Public Open Space",null,{"v":17207.44,"d":"17"},{"v":58591.77,"d":"59"},{"v":54209.34,"d":"54"},{"v":20147,"d":"20"},{"v":20147,"d":"20"},{"v":20147,"d":"20"},{"v":25453,"d":"25"},{"v":26294,"d":"26"},{"v":27135,"d":"27"}]
["Nature Reserves"]
["Public Ablution Facilities"]
["Markets"]
["Stalls",null,{"v":7935,"d":"8"},{"v":7935.01,"d":"8"},0,{"v":9289,"d":"9"},{"v":9289,"d":"9"},{"v":9289,"d":"9"},{"v":9661,"d":"10"},{"v":9980,"d":"10"},{"v":10299,"d":"10"}]
["Abattoirs"]
["Airports"]
["Taxi Ranks/Bus Terminals",null,0,0,0,0,0,0,0,0,0]
["Capital Spares"]
["Sport and Recreation Facilities",null,{"$f":"SUM(C99:C101)","v":{"v":38243.84,"d":"38"}},{"$f":"SUM(D99:D101)","v":{"v":38243.87,"d":"38"}},{"v":21236.42,"d":"21"},{"v":44777,"d":"45"},{"v":44777,"d":"45"},{"v":44777,"d":"45"},{"v":46569,"d":"47"},{"v":48106,"d":"48"},{"v":49645,"d":"50"}]
["Indoor Facilities"]
["Outdoor Facilities",null,{"v":38243.84,"d":"38"},{"v":38243.87,"d":"38"},{"v":21236.42,"d":"21"},{"v":44777,"d":"45"},{"v":44777,"d":"45"},{"v":44777,"d":"45"},{"v":46569,"d":"47"},{"v":48106,"d":"48"},{"v":49645,"d":"50"}]
["Capital Spares"]
[]
["Heritage assets",null,{"$f":"SUM(C104:C108)","v":0},{"$f":"SUM(D104:D108)","v":0},0,0,0,0,0,0,0]
["Monuments"]
["Historic Buildings"]
["Works of Art"]
["Conservation Areas"]
["Other Heritage"]
[]
["Investment properties",null,{"$f":"+C111+C114","v":0},{"$f":"+D111+D114","v":0},0,0,0,0,0,0,0]
["Revenue Generating",null,{"$f":"SUM(C112:C113)","v":0},0,0,0,0,0,0,0,0]
["Improved Property"]
["Unimproved Property"]
["Non-revenue Generating",null,{"$f":"SUM(C115:C116)","v":0},{"$f":"SUM(D115:D116)","v":0},0,0,0,0,0,0,0]
["Improved Property"]
["Unimproved Property"]
[]
["Other assets",null,{"$f":"+C119+C131","v":{"v":1178015.9,"d":"1,178"}},{"$f":"+D119+D131","v":{"v":1193249.09,"d":"1,193"}},{"v":1193249.11,"d":"1,193"},{"v":1371640,"d":"1,372"},{"v":1371640,"d":"1,372"},{"v":1371640,"d":"1,372"},{"v":1426507,"d":"1,427"},{"v":1473721,"d":"1,474"},{"v":1521043,"d":"1,521"}]
["Operational Buildings",null,{"$f":"SUM(C120:C130)","v":{"v":1178015.9,"d":"1,178"}},{"$f":"SUM(D120:D130)","v":{"v":1193249.09,"d":"1,193"}},{"v":1193249.11,"d":"1,193"},{"v":1371640,"d":"1,372"},{"v":1371640,"d":"1,372"},{"v":1371640,"d":"1,372"},{"v":1426507,"d":"1,427"},{"v":1473721,"d":"1,474"},{"v":1521043,"d":"1,521"}]
["Municipal Offices",null,{"v":1178015.9,"d":"1,178"},{"v":1193249.09,"d":"1,193"},{"v":1193249.11,"d":"1,193"},{"v":1371640,"d":"1,372"},{"v":1371640,"d":"1,372"},{"v":1371640,"d":"1,372"},{"v":1426507,"d":"1,427"},{"v":1473721,"d":"1,474"},{"v":1521043,"d":"1,521"}]
["Pay/Enquiry Points"]
["Building Plan Offices"]
["Workshops"]
["Yards"]
["Stores"]
["Laboratories"]
["Training Centres"]
["Manufacturing Plant"]
["Depots"]
["Capital Spares"]
["Housing",null,{"$f":"SUM(C132:C134)","v":0},{"$f":"SUM(D132:D134)","v":0},0,0,0,0,0,0,0]
["Staff Housing"]
["Social Housing"]
["Capital Spares"]
[]
["Biological or Cultivated Assets",null,{"$f":"SUM(C137:C137)","v":0},0,0,0,0,0,0,0,0]
["Biological or Cultivated Assets"]
[]
["Intangible Assets",null,{"$f":"+C140+C141","v":{"v":409879.76,"d":"410"}},{"$f":"+D140+D141","v":{"v":201992.83,"d":"202"}},{"v":109887.28,"d":"110"},{"v":287590,"d":"288"},{"v":287590,"d":"288"},{"v":287590,"d":"288"},{"v":4806921,"d":"4,807"},{"v":4966159,"d":"4,966"},{"v":5125801,"d":"5,126"}]
["Servitudes"]
["Licences and Rights",null,{"$f":"SUM(C142:C147)","v":{"v":409879.76,"d":"410"}},{"$f":"SUM(D142:D147)","v":{"v":201992.83,"d":"202"}},{"v":109887.28,"d":"110"},{"v":287590,"d":"288"},{"v":287590,"d":"288"},{"v":287590,"d":"288"},{"v":4806921,"d":"4,807"},{"v":4966159,"d":"4,966"},{"v":5125801,"d":"5,126"}]
["Water Rights"]
["Effluent Licenses"]
["Solid Waste Licenses"]
["Computer Software and Applications",null,{"v":133563.99,"d":"134"},{"v":201992.83,"d":"202"},{"v":109887.28,"d":"110"},{"v":287590,"d":"288"},{"v":287590,"d":"288"},{"v":287590,"d":"288"},{"v":4806921,"d":"4,807"},{"v":4966159,"d":"4,966"},{"v":5125801,"d":"5,126"}]
["Load Settlement Software Applications"]
["Unspecified",null,{"v":276315.77,"d":"276"},0,0,0,0,0,0,0,0]
[]
["Computer Equipment",null,{"$f":"SUM(C150:C150)","v":{"v":2492124.42,"d":"2,492"}},{"v":1646165.84,"d":"1,646"},{"v":2110971.61,"d":"2,111"},{"v":3242783,"d":"3,243"},{"v":3242783,"d":"3,243"},{"v":3242783,"d":"3,243"},{"v":3372498,"d":"3,372"},{"v":3486255,"d":"3,486"},{"v":3600748,"d":"3,601"}]
["Computer Equipment",null,{"v":2492124.42,"d":"2,492"},{"v":1646165.84,"d":"1,646"},{"v":2110971.61,"d":"2,111"},{"v":3242783,"d":"3,243"},{"v":3242783,"d":"3,243"},{"v":3242783,"d":"3,243"},{"v":3372498,"d":"3,372"},{"v":3486255,"d":"3,486"},{"v":3600748,"d":"3,601"}]
[]
["Furniture and Office Equipment",null,{"$f":"SUM(C153:C153)","v":{"v":595810.58,"d":"596"}},{"v":691447.58,"d":"691"},{"v":706671.3,"d":"707"},{"v":829678,"d":"830"},{"v":829678,"d":"830"},{"v":829678,"d":"830"},{"v":867362,"d":"867"},{"v":897502,"d":"898"},{"v":928027,"d":"928"}]
["Furniture and Office Equipment",null,{"v":595810.58,"d":"596"},{"v":691447.58,"d":"691"},{"v":706671.3,"d":"707"},{"v":829678,"d":"830"},{"v":829678,"d":"830"},{"v":829678,"d":"830"},{"v":867362,"d":"867"},{"v":897502,"d":"898"},{"v":928027,"d":"928"}]
[]
["Machinery and Equipment",null,{"$f":"SUM(C156:C156)","v":{"v":547745.47,"d":"548"}},{"v":624441.97,"d":"624"},{"v":770285.07,"d":"770"},{"v":722378,"d":"722"},{"v":722378,"d":"722"},{"v":722378,"d":"722"},{"v":746782,"d":"747"},{"v":772111,"d":"772"},{"v":797634,"d":"798"}]
["Machinery and Equipment",null,{"v":547745.47,"d":"548"},{"v":624441.97,"d":"624"},{"v":770285.07,"d":"770"},{"v":722378,"d":"722"},{"v":722378,"d":"722"},{"v":722378,"d":"722"},{"v":746782,"d":"747"},{"v":772111,"d":"772"},{"v":797634,"d":"798"}]
[]
["Transport Assets",null,{"$f":"SUM(C159:C159)","v":{"v":7409187.68,"d":"7,409"}},{"v":5089808.56,"d":"5,090"},{"v":6547425.36,"d":"6,547"},{"v":12023639,"d":"12,024"},{"v":12023639,"d":"12,024"},{"v":12023639,"d":"12,024"},{"v":10723328,"d":"10,723"},{"v":11077197,"d":"11,077"},{"v":11431669,"d":"11,432"}]
["Transport Assets",null,{"v":7409187.68,"d":"7,409"},{"v":5089808.56,"d":"5,090"},{"v":6547425.36,"d":"6,547"},{"v":12023639,"d":"12,024"},{"v":12023639,"d":"12,024"},{"v":12023639,"d":"12,024"},{"v":10723328,"d":"10,723"},{"v":11077197,"d":"11,077"},{"v":11431669,"d":"11,432"}]
[]
["Land",null,{"$f":"SUM(C162:C162)","v":0},0,0,0,0,0,0,0,0]
["Land"]
[]
["Zoo's, Marine and Non-biological Animals",null,{"$f":"SUM(C165:C165)","v":0},0,0,0,0,0,0,0,0]
["Zoo's, Marine and Non-biological Animals"]
[]
["Living resources"," ",{"$f":"+C168+C171","v":0},{"$f":"+D168+D171","v":0},0,0,0,0,0,0,0]
["Mature"," ",{"$f":"SUM(C169:C170)","v":0},0,0,0,0,0,0,0,0]
["Policing and Protection"," "]
["Zoological plants and animals"," "]
["Immature"," ",{"$f":"SUM(C172:C173)","v":0},{"$f":"SUM(D172:D173)","v":0},0,0,0,0,0,0,0]
["Policing and Protection"," "]
["Zoological plants and animals"," "]
[""]
["Total Depreciation",1,{"$f":"C6+C74+C103+C110+C118+C136+C139+C149+C152+C155+C158+C161+C164+C167","v":{"v":93063085.03000003,"d":"93,063"}},{"$f":"D6+D74+D103+D110+D118+D136+D139+D149+D152+D155+D158+D161+D164+D167","v":{"v":236930110.17000005,"d":"236,930"}},{"v":116317072.97,"d":"116,317"},{"v":107788020,"d":"107,788"},{"v":107788020,"d":"107,788"},{"v":107788020,"d":"107,788"},{"v":114839336,"d":"114,839"},{"v":118634451,"d":"118,634"},{"v":122437196,"d":"122,437"}]
[]
[{"$f":"head27a","v":"References"}]
["1. Depreciation based on write down values. Not including Depreciation resulting from revaluation."]

{"sheet":"SA34e","index":60,"n_rows":180,"n_cols":11,"rows_kept":180,"merged":[[1,5,1,7],[1,8,1,10]]}
[{"$f":"muni&\" - \"&TableA34e","v":"DC43 Harry Gwala - Supporting Table SA34e Consolidated capital expenditure on the upgrading of existing assets by asset class"}]
[{"$f":"desc","v":"Description"},{"$f":"head27","v":"Ref"},{"$f":"head1b","v":"2022/23"},{"$f":"head1A","v":"2023/24"},{"$f":"Head1","v":"2024/25"},{"$f":"Head2","v":"Current Year 2025/26"},null,null,{"$f":"Head3","v":"2026/27 Medium Term Revenue & Expenditure Framework"}]
["R thousand",1,{"$f":"Head5","v":"Audited Outcome"},{"$f":"Head5","v":"Audited Outcome"},{"$f":"Head5","v":"Audited Outcome"},{"$f":"Head6","v":"Original Budget"},{"$f":"Head7","v":"Adjusted Budget"},{"$f":"Head8","v":"Full Year Forecast"},{"$f":"Head9","v":"Budget Year 2026/27"},{"$f":"Head10","v":"Budget Year +1 2027/28"},{"$f":"Head11","v":"Budget Year +2 2028/29"}]
["Capital expenditure on upgrading of existing assets by Asset Class/Sub-class"]
[]
["Infrastructure",null,{"$f":"C7+C12+C16+C26+C37+C44+C52+C62+C68","v":{"v":5593556.88,"d":"5,594"}},{"$f":"D7+D12+D16+D26+D37+D44+D52+D62+D68","v":{"v":15131233.86,"d":"15,131"}},{"v":7591888.4399999995,"d":"7,592"},{"v":19553076,"d":"19,553"},{"v":15789408,"d":"15,789"},{"v":15789408,"d":"15,789"},{"v":63539951,"d":"63,540"},{"v":115449226,"d":"115,449"},{"v":138065653,"d":"138,066"}]
["Roads Infrastructure",null,{"$f":"SUM(C8:C11)","v":0},0,0,0,0,0,0,0,0]
["Roads"]
["Road Structures"]
["Road Furniture"]
["Capital Spares"]
["Storm water Infrastructure",null,{"$f":"SUM(C13:C15)","v":0},{"$f":"SUM(D13:D15)","v":0},0,0,0,0,0,0,0]
["Drainage Collection"]
["Storm water Conveyance"]
["Attenuation"]
["Electrical Infrastructure",null,{"$f":"SUM(C17:C25)","v":0},0,0,0,0,0,0,0,0]
["Power Plants"]
["HV Substations"]
["HV Switching Station"]
["HV Transmission Conductors"]
["MV Substations"]
["MV Switching Stations"]
["MV Networks"]
["LV Networks"]
["Capital Spares"]
["Water Supply Infrastructure",null,{"$f":"SUM(C27:C36)","v":{"v":5593556.88,"d":"5,594"}},{"$f":"SUM(D27:D36)","v":{"v":15131233.86,"d":"15,131"}},{"v":7591888.4399999995,"d":"7,592"},{"v":17379165,"d":"17,379"},{"v":9963866,"d":"9,964"},{"v":9963866,"d":"9,964"},{"v":43781347,"d":"43,781"},{"v":58318277,"d":"58,318"},{"v":85891738,"d":"85,892"}]
["Dams and Weirs",null,0,0,0,0,0,0,0,0,0]
["Boreholes",null,0,0,0,0,0,0,0,0,0]
["Reservoirs",null,0,0,0,0,0,0,{"v":1304348,"d":"1,304"},{"v":4782609,"d":"4,783"},{"v":13043479,"d":"13,043"}]
["Pump Stations",null,0,0,0,0,0,0,0,0,0]
["Water Treatment Works",null,{"v":5593556.88,"d":"5,594"},{"v":15131233.86,"d":"15,131"},{"v":1620293.44,"d":"1,620"},0,0,0,0,0,0]
["Bulk Mains",null,0,0,0,{"v":15379165,"d":"15,379"},{"v":1733866,"d":"1,734"},{"v":1733866,"d":"1,734"},{"v":42401898,"d":"42,402"},{"v":53457563,"d":"53,458"},{"v":72767654,"d":"72,768"}]
["Distribution",null,0,0,0,0,0,0,0,0,0]
["Distribution Points",null,0,0,{"v":5971595,"d":"5,972"},{"v":2000000,"d":"2,000"},{"v":8230000,"d":"8,230"},{"v":8230000,"d":"8,230"},{"v":75101,"d":"75"},{"v":78105,"d":"78"},{"v":80605,"d":"81"}]
["PRV Stations"]
["Capital Spares"]
["Sanitation Infrastructure",null,{"$f":"SUM(C38:C43)","v":0},{"$f":"SUM(D38:D43)","v":0},0,{"v":2173911,"d":"2,174"},{"v":5825542,"d":"5,826"},{"v":5825542,"d":"5,826"},{"v":19758604,"d":"19,759"},{"v":57130949,"d":"57,131"},{"v":52173915,"d":"52,174"}]
["Pump Station"]
["Reticulation",null,0,0,0,{"v":2173911,"d":"2,174"},{"v":5825542,"d":"5,826"},{"v":5825542,"d":"5,826"},{"v":19758604,"d":"19,759"},{"v":57130949,"d":"57,131"},{"v":52173915,"d":"52,174"}]
["Waste Water Treatment Works",null,0,0,0,0,0,0,0,0,0]
["Outfall Sewers"]
["Toilet Facilities"]
["Capital Spares"]
["Solid Waste Infrastructure",null,{"$f":"SUM(C45:C51)","v":0},{"$f":"SUM(D45:D51)","v":0},0,0,0,0,0,0,0]
["Landfill Sites"]
["Waste Transfer Stations"]
["Waste Processing Facilities"]
["Waste Drop-off Points"]
["Waste Separation Facilities"]
["Electricity Generation Facilities"]
["Capital Spares"]
["Rail Infrastructure",null,{"$f":"SUM(C53:C61)","v":0},0,0,0,0,0,0,0,0]
["Rail Lines"]
["Rail Structures"]
["Rail Furniture"]
["Drainage Collection"]
["Storm water Conveyance"]
["Attenuation"]
["MV Substations"]
["LV Networks"]
["Capital Spares"]
["Coastal Infrastructure",null,{"$f":"SUM(C63:C67)","v":0},{"$f":"SUM(D63:D67)","v":0},0,0,0,0,0,0,0]
["Sand Pumps"]
["Piers"]
["Revetments"]
["Promenades"]
["Capital Spares"]
["Information and Communication Infrastructure",null,{"$f":"SUM(C69:C72)","v":0},{"$f":"SUM(D69:D72)","v":0},0,0,0,0,0,0,0]
["Data Centres"]
["Core Layers"]
["Distribution Layers"]
["Capital Spares"]
[]
["Community Assets",null,{"$f":"C75+C98","v":0},{"$f":"D75+D98","v":0},0,0,0,0,0,0,0]
["Community Facilities",null,{"$f":"SUM(C76:C97)","v":0},{"$f":"SUM(D76:D97)","v":0},0,0,0,0,0,0,0]
["Halls"]
["Centres"]
["Crèches"]
["Clinics/Care Centres"]
["Fire/Ambulance Stations"]
["Testing Stations"]
["Museums"]
["Galleries"]
["Theatres"]
["Libraries"]
["Cemeteries/Crematoria"]
["Police"]
["Parks"]
["Public Open Space"]
["Nature Reserves"]
["Public Ablution Facilities"]
["Markets"]
["Stalls"]
["Abattoirs"]
["Airports"]
["Taxi Ranks/Bus Terminals"]
["Capital Spares"]
["Sport and Recreation Facilities",null,{"$f":"SUM(C99:C101)","v":0},{"$f":"SUM(D99:D101)","v":0},0,0,0,0,0,0,0]
["Indoor Facilities"]
["Outdoor Facilities"]
["Capital Spares"]
[]
["Heritage assets",null,{"$f":"SUM(C104:C108)","v":0},{"$f":"SUM(D104:D108)","v":0},0,0,0,0,0,0,0]
["Monuments"]
["Historic Buildings"]
["Works of Art"]
["Conservation Areas"]
["Other Heritage"]
[]
["Investment properties",null,{"$f":"+C111+C114","v":0},{"$f":"+D111+D114","v":0},0,0,0,0,0,0,0]
["Revenue Generating",null,{"$f":"SUM(C112:C113)","v":0},0,0,0,0,0,0,0,0]
["Improved Property"]
["Unimproved Property"]
["Non-revenue Generating",null,{"$f":"SUM(C115:C116)","v":0},{"$f":"SUM(D115:D116)","v":0},0,0,0,0,0,0,0]
["Improved Property"]
["Unimproved Property"]
[]
["Other assets",null,{"$f":"+C119+C131","v":0},{"$f":"+D119+D131","v":0},0,0,0,0,0,0,0]
["Operational Buildings",null,{"$f":"SUM(C120:C130)","v":0},{"$f":"SUM(D120:D130)","v":0},0,0,0,0,0,0,0]
["Municipal Offices"]
["Pay/Enquiry Points"]
["Building Plan Offices"]
["Workshops"]
["Yards"]
["Stores"]
["Laboratories"]
["Training Centres"]
["Manufacturing Plant"]
["Depots"]
["Capital Spares"]
["Housing",null,{"$f":"SUM(C132:C134)","v":0},{"$f":"SUM(D132:D134)","v":0},0,0,0,0,0,0,0]
["Staff Housing"]
["Social Housing"]
["Capital Spares"]
[]
["Biological or Cultivated Assets",null,{"$f":"SUM(C137:C137)","v":0},0,0,0,0,0,0,0,0]
["Biological or Cultivated Assets"]
[]
["Intangible Assets",null,{"$f":"+C140+C141","v":0},{"$f":"+D140+D141","v":0},0,0,0,0,0,0,0]
["Servitudes"]
["Licences and Rights",null,{"$f":"SUM(C142:C147)","v":0},{"$f":"SUM(D142:D147)","v":0},0,0,0,0,0,0,0]
["Water Rights"]
["Effluent Licenses"]
["Solid Waste Licenses"]
["Computer Software and Applications"]
["Load Settlement Software Applications"]
["Unspecified"]
[]
["Computer Equipment",null,{"$f":"SUM(C150:C150)","v":0},0,0,0,0,0,0,0,0]
["Computer Equipment"]
[]
["Furniture and Office Equipment",null,{"$f":"SUM(C153:C153)","v":0},0,0,0,0,0,0,0,0]
["Furniture and Office Equipment"]
[]
["Machinery and Equipment",null,{"$f":"SUM(C156:C156)","v":0},0,0,0,0,0,0,0,0]
["Machinery and Equipment"]
[]
["Transport Assets",null,{"$f":"SUM(C159:C159)","v":0},0,0,0,0,0,0,0,0]
["Transport Assets"]
[]
["Land",null,{"$f":"SUM(C162:C162)","v":0},{"$f":"SUM(D162:D162)","v":0},0,0,0,0,0,0,0]
["Land"]
[]
["Zoo's, Marine and Non-biological Animals",null,{"$f":"SUM(C165:C165)","v":0},{"$f":"SUM(D165:D165)","v":0},0,0,0,0,0,0,0]
["Zoo's, Marine and Non-biological Animals"]
[]
["Living resources"," ",{"$f":"+C168+C171","v":0},{"$f":"+D168+D171","v":0},0,0,0,0,0,0,0]
["Mature"," ",{"$f":"SUM(C169:C170)","v":0},{"$f":"SUM(D169:D170)","v":0},0,0,0,0,0,0,0]
["Policing and Protection"," "]
["Zoological plants and animals"," "]
["Immature"," ",{"$f":"SUM(C172:C173)","v":0},{"$f":"SUM(D172:D173)","v":0},0,0,0,0,0,0,0]
["Policing and Protection"," "]
["Zoological plants and animals"," "]
[""]
["Total Capital Expenditure on upgrading of existing assets ",1,{"$f":"C6+C74+C103+C110+C118+C136+C139+C149+C152+C155+C158+C161+C164+C167","v":{"v":5593556.88,"d":"5,594"}},{"$f":"D6+D74+D103+D110+D118+D136+D139+D149+D152+D155+D158+D161+D164+D167","v":{"v":15131233.86,"d":"15,131"}},{"v":7591888.4399999995,"d":"7,592"},{"v":19553076,"d":"19,553"},{"v":15789408,"d":"15,789"},{"v":15789408,"d":"15,789"},{"v":63539951,"d":"63,540"},{"v":115449226,"d":"115,449"},{"v":138065653,"d":"138,066"}]
[]
["Upgrading of Existing Assets as % of total capex",null,{"$f":"IF(ISERROR(C175/'A9-Asset'!C110),0,(C175/'A9-Asset'!C110))","v":{"v":0.02078480151813129,"d":"2.1%"}},{"$f":"IF(ISERROR(D175/'A9-Asset'!D110),0,(D175/'A9-Asset'!D110))","v":{"v":0.048872941632557995,"d":"4.9%"}},{"$f":"IF(ISERROR(E175/'A9-Asset'!E110),0,(E175/'A9-Asset'!E110))","v":{"v":0.02174859919081514,"d":"2.2%"}},{"$f":"IF(ISERROR(F175/'A9-Asset'!F110),0,(F175/'A9-Asset'!F110))","v":{"v":0.06473248081211486,"d":"6.5%"}},{"$f":"IF(ISERROR(G175/'A9-Asset'!G110),0,(G175/'A9-Asset'!G110))","v":{"v":0.047616226927844174,"d":"4.8%"}},{"$f":"IF(ISERROR(H175/'A9-Asset'!H110),0,(H175/'A9-Asset'!H110))","v":{"v":0.047616226927844174,"d":"4.8%"}},{"$f":"IF(ISERROR(I175/'A9-Asset'!I110),0,(I175/'A9-Asset'!I110))","v":{"v":0.19292594602900087,"d":"19.3%"}},{"$f":"IF(ISERROR(J175/'A9-Asset'!J110),0,(J175/'A9-Asset'!J110))","v":{"v":0.3008695587271268,"d":"30.1%"}},{"$f":"IF(ISERROR(K175/'A9-Asset'!K110),0,(K175/'A9-Asset'!K110))","v":{"v":0.35992857636816,"d":"36.0%"}}]
["Upgrading of Existing Assets as % of deprecn\"",null,{"$f":"IF(ISERROR(C175/'A9-Asset'!C183),0,(C175/'A9-Asset'!C183))","v":{"v":0.06010500165771259,"d":"6.0%"}},{"$f":"IF(ISERROR(D175/'A9-Asset'!D183),0,(D175/'A9-Asset'!D183))","v":{"v":0.06386370161708517,"d":"6.4%"}},{"$f":"IF(ISERROR(E175/'A9-Asset'!E183),0,(E175/'A9-Asset'!E183))","v":{"v":0.06526890890693292,"d":"6.5%"}},{"$f":"IF(ISERROR(F175/'A9-Asset'!F183),0,(F175/'A9-Asset'!F183))","v":{"v":0.18140305388298256,"d":"18.1%"}},{"$f":"IF(ISERROR(G175/'A9-Asset'!G183),0,(G175/'A9-Asset'!G183))","v":{"v":0.14648574117977117,"d":"14.6%"}},{"$f":"IF(ISERROR(H175/'A9-Asset'!H183),0,(H175/'A9-Asset'!H183))","v":{"v":0.14648574117977117,"d":"14.6%"}},{"$f":"IF(ISERROR(I175/'A9-Asset'!I183),0,(I175/'A9-Asset'!I183))","v":{"v":0.5532943084937377,"d":"55.3%"}},{"$f":"IF(ISERROR(J175/'A9-Asset'!J183),0,(J175/'A9-Asset'!J183))","v":{"v":0.9731509272968272,"d":"97.3%"}},{"$f":"IF(ISERROR(K175/'A9-Asset'!K183),0,(K175/'A9-Asset'!K183))","v":{"v":1.1276446824215085,"d":"112.8%"}}]
[{"$f":"head27a","v":"References"}]
["1.  Total Capital Expenditure  on upgrading of existing assets (SA34e) plus Total Capital Expenditure on new assets (SA34a)  plus Total Capital Expenditure  on renewal of existing assets (SA34b) must reconcile to total capital expenditure in Budgeted Capital Expenditure"]

{"sheet":"SA35","index":61,"n_rows":57,"n_cols":9,"rows_kept":57,"merged":[[1,2,1,4],[1,5,1,8]]}
[{"$f":"muni&\" - \"&TableA35","v":"DC43 Harry Gwala - Supporting Table SA35 Consolidated future financial implications of the capital budget"}]
[{"$f":"Vdesc","v":"Vote Description"},{"$f":"head27","v":"Ref"},{"$f":"Head3","v":"2026/27 Medium Term Revenue & Expenditure Framework"},null,null,"Forecasts"]
["R thousand",null,{"$f":"Head9","v":"Budget Year 2026/27"},{"$f":"Head10","v":"Budget Year +1 2027/28"},{"$f":"Head11","v":"Budget Year +2 2028/29"},{"$f":"Head12","v":"Forecast 2029/30"},{"$f":"Head13","v":"Forecast 2030/31"},{"$f":"Head14","v":"Forecast 2031/32"},{"$f":"Head48","v":"Present value"}]
["Capital expenditure",1]
[{"$f":"'A5-Capex'!A6","v":"Vote 01 - Summary Council"},null,{"$f":"'A5-Capex'!J6+'A5-Capex'!J24","v":0},{"$f":"'A5-Capex'!K6+'A5-Capex'!K24","v":0},{"$f":"'A5-Capex'!L6+'A5-Capex'!L24","v":0}]
[{"$f":"'A5-Capex'!A7","v":"Vote 02 - Summary Municipal Manager"},null,{"$f":"'A5-Capex'!J7+'A5-Capex'!J25","v":0},{"$f":"'A5-Capex'!K7+'A5-Capex'!K25","v":0},{"$f":"'A5-Capex'!L7+'A5-Capex'!L25","v":0}]
[{"$f":"'A5-Capex'!A8","v":"Vote 03 - Summary Budget And Treasury Office"},null,{"$f":"'A5-Capex'!J8+'A5-Capex'!J26","v":{"v":150229,"d":"150"}},{"$f":"'A5-Capex'!K8+'A5-Capex'!K26","v":{"v":156239,"d":"156"}},{"$f":"'A5-Capex'!L8+'A5-Capex'!L26","v":{"v":1852047,"d":"1,852"}}]
[{"$f":"'A5-Capex'!A9","v":"Vote 04 - Summary Corporate Services"},null,{"$f":"'A5-Capex'!J9+'A5-Capex'!J27","v":{"v":10201348,"d":"10,201"}},{"$f":"'A5-Capex'!K9+'A5-Capex'!K27","v":{"v":10609402,"d":"10,609"}},{"$f":"'A5-Capex'!L9+'A5-Capex'!L27","v":{"v":11861417,"d":"11,861"}}]
[{"$f":"'A5-Capex'!A10","v":"Vote 05 - Summary Social Services & Development Planing"},null,{"$f":"'A5-Capex'!J10+'A5-Capex'!J28","v":{"v":3652314,"d":"3,652"}},{"$f":"'A5-Capex'!K10+'A5-Capex'!K28","v":{"v":3772842,"d":"3,773"}},{"$f":"'A5-Capex'!L10+'A5-Capex'!L28","v":{"v":5542079,"d":"5,542"}}]
[{"$f":"'A5-Capex'!A11","v":"Vote 06 - Summary Infrastructure Services"},null,{"$f":"'A5-Capex'!J11+'A5-Capex'!J29","v":{"v":141472880,"d":"141,473"}},{"$f":"'A5-Capex'!K11+'A5-Capex'!K29","v":{"v":238829421,"d":"238,829"}},{"$f":"'A5-Capex'!L11+'A5-Capex'!L29","v":{"v":258181501,"d":"258,182"}}]
[{"$f":"'A5-Capex'!A12","v":"Vote 07 - Summary Water Services"},null,{"$f":"'A5-Capex'!J12+'A5-Capex'!J30","v":{"v":173872144,"d":"173,872"}},{"$f":"'A5-Capex'!K12+'A5-Capex'!K30","v":{"v":130350630,"d":"130,351"}},{"$f":"'A5-Capex'!L12+'A5-Capex'!L30","v":{"v":106154763,"d":"106,155"}}]
[{"$f":"'A5-Capex'!A13","v":"Vote 08 - "},null,{"$f":"'A5-Capex'!J13+'A5-Capex'!J31","v":0},{"$f":"'A5-Capex'!K13+'A5-Capex'!K31","v":0},{"$f":"'A5-Capex'!L13+'A5-Capex'!L31","v":0}]
[{"$f":"'A5-Capex'!A14","v":"Vote 09 - "},null,{"$f":"'A5-Capex'!J14+'A5-Capex'!J32","v":0},{"$f":"'A5-Capex'!K14+'A5-Capex'!K32","v":0},{"$f":"'A5-Capex'!L14+'A5-Capex'!L32","v":0}]
[{"$f":"'A5-Capex'!A15","v":"Vote 10 - "},null,{"$f":"'A5-Capex'!J15+'A5-Capex'!J33","v":0},{"$f":"'A5-Capex'!K15+'A5-Capex'!K33","v":0},{"$f":"'A5-Capex'!L15+'A5-Capex'!L33","v":0}]
[{"$f":"'A5-Capex'!A16","v":"Vote 11 - "},null,{"$f":"'A5-Capex'!J16+'A5-Capex'!J34","v":0},{"$f":"'A5-Capex'!K16+'A5-Capex'!K34","v":0},{"$f":"'A5-Capex'!L16+'A5-Capex'!L34","v":0}]
[{"$f":"'A5-Capex'!A17","v":"Vote 12 - "},null,{"$f":"'A5-Capex'!J17+'A5-Capex'!J35","v":0},{"$f":"'A5-Capex'!K17+'A5-Capex'!K35","v":0},{"$f":"'A5-Capex'!L17+'A5-Capex'!L35","v":0}]
[{"$f":"'A5-Capex'!A18","v":"Vote 13 - "},null,{"$f":"'A5-Capex'!J18+'A5-Capex'!J36","v":0},{"$f":"'A5-Capex'!K18+'A5-Capex'!K36","v":0},{"$f":"'A5-Capex'!L18+'A5-Capex'!L36","v":0}]
[{"$f":"'A5-Capex'!A19","v":"Vote 14 - "},null,{"$f":"'A5-Capex'!J19+'A5-Capex'!J37","v":0},{"$f":"'A5-Capex'!K19+'A5-Capex'!K37","v":0},{"$f":"'A5-Capex'!L19+'A5-Capex'!L37","v":0}]
[{"$f":"'A5-Capex'!A20","v":"Vote 15 - Other"},null,{"$f":"'A5-Capex'!J20+'A5-Capex'!J38","v":0},{"$f":"'A5-Capex'!K20+'A5-Capex'!K38","v":0},{"$f":"'A5-Capex'!L20+'A5-Capex'!L38","v":0}]
["List entity summary if applicable"]
["Total Capital Expenditure ",null,{"$f":"SUM(C5:C20)","v":{"v":329348915,"d":"329,349"}},{"$f":"SUM(D5:D20)","v":{"v":383718534,"d":"383,719"}},{"v":383591807,"d":"383,592"},{"$f":"SUM(F5:F20)","v":0},0,0,0]
[]
["Future operational costs by vote",2]
[{"$f":"A5","v":"Vote 01 - Summary Council"}]
[{"$f":"A6","v":"Vote 02 - Summary Municipal Manager"}]
["Vote 03 - Summary Budget And Treasury Office"]
["Vote 04 - Summary Corporate Services"]
["Vote 05 - Summary Social Services & Development Planing"]
["Vote 06 - Summary Infrastructure Services"]
["Vote 07 - Summary Water Services"]
["Vote 08 - "]
["Vote 09 - "]
["Vote 10 - "]
["Vote 11 - "]
["Vote 12 - "]
["Vote 13 - "]
["Vote 14 - "]
["Vote 15 - Other"]
["List entity summary if applicable"]
["Total future operational costs",null,{"$f":"SUM(C24:C39)","v":0},{"$f":"SUM(D24:D39)","v":0},0,0,0,0,0]
[]
["Future revenue by source",3]
[{"$f":"'A4-FinPerf RE'!A5","v":"Exchange Revenue"},null,{"v":41253931,"d":"41,254"},{"v":43688135,"d":"43,688"},{"v":46262339,"d":"46,262"}]
[{"$f":"'A4-FinPerf RE'!A6","v":"Service charges - Electricity"}]
[{"$f":"'A4-FinPerf RE'!A7","v":"Service charges - Water"},null,{"v":77496524,"d":"77,497"},{"v":82146315,"d":"82,146"},{"v":87075093,"d":"87,075"}]
[{"$f":"'A4-FinPerf RE'!A8","v":"Service charges - Waste Water Management"},null,{"v":14341063,"d":"14,341"},{"v":15201527,"d":"15,202"},{"v":16113618,"d":"16,114"}]
[{"$f":"'A4-FinPerf RE'!A9","v":"Service charges - Waste Management"}]
[]
[{"$f":"'A4-FinPerf RE'!A11","v":"Agency services"}]
["List other revenues sources if applicable",null,{"v":936995860,"d":"936,996"},{"v":1029863177,"d":"1,029,863"},{"v":1029815528,"d":"1,029,816"}]
["List entity summary if applicable"]
["Total future revenue",null,{"$f":"SUM(C43:C47)+SUM(C49:C51)","v":{"v":1070087378,"d":"1,070,087"}},{"$f":"SUM(D43:D47)+SUM(D49:D51)","v":{"v":1170899154,"d":"1,170,899"}},{"v":1179266578,"d":"1,179,267"},0,0,0,0]
["Net Financial Implications",null,{"$f":"C21+C40-C52","v":{"v":-740738463,"d":"(740,738)"}},{"$f":"D21+D40-D52","v":{"v":-787180620,"d":"(787,181)"}},{"v":-795674771,"d":"(795,675)"},0,0,0,0]
[{"$f":"head27a","v":"References"}]
["1. Summarise the total capital cost until capital project is operational (MFMA s19(2)(a))"]
["2. Summary of future operational costs from when projects operational (present value until the end of each asset's useful life) (MFMA s19(2)(b))"]
["3. Summarise the future revenue from when projects are operational, including municipal tax and tariff implications, (present value until the end of asset's useful life)"]

{"sheet":"SA36","index":62,"n_rows":126,"n_cols":21,"rows_kept":126,"merged":[[1,15,1,17],[1,18,1,20]]}
[{"$f":"muni&\" - \"&TableA36","v":"DC43 Harry Gwala - Supporting Table SA36 Consolidated detailed capital budget"}]
["R thousand",{"$nulls":11},{"$f":"head1b","v":"2022/23"},{"$f":"head1A","v":"2023/24"},{"$f":"Head1","v":"2024/25"},{"$f":"Head2","v":"Current Year 2025/26"},null,null,{"$f":"Head3","v":"2026/27 Medium Term Revenue & Expenditure Framework"}]
["Function","Project Description","Project Number","Type","MTDP Service Outcome","IUDF","Own Strategic Objectives","Asset Class","Asset Sub-Class","Ward Location","GPS Longitude","GPS Lattitude",{"$f":"Head5","v":"Audited Outcome"},{"$f":"Head5","v":"Audited Outcome"},{"$f":"Head5","v":"Audited Outcome"},{"$f":"Head6","v":"Original Budget"},{"$f":"Head7","v":"Adjusted Budget"},{"$f":"Head8","v":"Full Year Forecast"},{"$f":"Head9","v":"Budget Year 2026/27"},{"$f":"Head10","v":"Budget Year +1 2027/28"},{"$f":"Head11","v":"Budget Year +2 2028/29"}]
["Parent municipality:"]
["List all capital projects grouped by Function"]
[]
["Administrative And Corporate Support","Municipal Vehicles","PC002002001010_00006","RENEWAL",null,"Governance","OWN MUNICIPAL STRATEGIC OBJECTIVE                                          ","Transport Assets","Transport Assets","R-ADMIN OR HEAD OFFICE",30.1574,30.0648,0,0,0,3636363,0,0,0,0,0]
["Administrative And Corporate Support","Municipal Vehicles","PC002002001010_00008","RENEWAL",null,"Governance","OWN MUNICIPAL STRATEGIC OBJECTIVE                                          ","Transport Assets","Transport Assets","R-ADMIN OR HEAD OFFICE",30.1574,30.0648,0,0,0,0,{"v":3769071,"d":"3,769"},0,{"v":2000000,"d":"2,000"},{"v":2080000,"d":"2,080"},{"v":3919834,"d":"3,920"}]
["Administrative And Corporate Support","Vehicle New - Mayor","PC002002001010_00001","RENEWAL",null,"Governance","OWN MUNICIPAL STRATEGIC OBJECTIVE                                          ","Transport Assets","Transport Assets","R-ADMIN OR HEAD OFFICE",30.1574,30.0648,4562970.74,1224504.13,6259054,0,0,0,0,0,0]
["Administrative And Corporate Support","Computers","PC002003004_00002","NEW","An efficient; effective and development-oriented public service","Growth","OWN MUNICIPAL STRATEGIC OBJECTIVE                                          ","Computer Equipment","Computer Equipment","R-ADMIN OR HEAD OFFICE",30.1574,30.0648,1576297.04,0,0,0,0,0,0,0,0]
["Administrative And Corporate Support","Computers","PC002003004_00006","NEW","An efficient; effective and development-oriented public service","Growth","OWN MUNICIPAL STRATEGIC OBJECTIVE                                          ","Computer Equipment","Computer Equipment","R-ADMIN OR HEAD OFFICE",30.1574,30.0648,0,0,0,1000000,0,0,0,0,0]
["Administrative And Corporate Support","Computers","PC002003004_00007","NEW","An efficient; effective and development-oriented public service","Growth","OWN MUNICIPAL STRATEGIC OBJECTIVE                                          ","Computer Equipment","Computer Equipment","R-ADMIN OR HEAD OFFICE",30.1574,30.0648,0,0,0,0,{"v":1000000,"d":"1,000"},0,{"v":1037000,"d":"1,037"},{"v":1078480,"d":"1,078"},{"v":1040000,"d":"1,040"}]
["Administrative And Corporate Support","New Furniture","PC002003005_00002","NEW","An efficient; effective and development-oriented public service","Growth","OWN MUNICIPAL STRATEGIC OBJECTIVE                                          ","Furniture And Office Equipment","Furniture And Office Equipment","R-ADMIN OR HEAD OFFICE",30.1574,30.0648,1843766.94,473775.41,0,454545,{"v":729870,"d":"730"},0,{"v":756876,"d":"757"},{"v":787151,"d":"787"},{"v":759065,"d":"759"}]
["Administrative And Corporate Support","Office Equipment","PC002003005_00003","NEW","An efficient; effective and development-oriented public service","Growth","OWN MUNICIPAL STRATEGIC OBJECTIVE                                          ","Furniture And Office Equipment","Furniture And Office Equipment","R-ADMIN OR HEAD OFFICE",30.1574,30.0648,88087,339979.15,393610.76,391636,{"v":250118,"d":"250"},0,{"v":259372,"d":"259"},{"v":269747,"d":"270"},{"v":260123,"d":"260"}]
["Administrative And Corporate Support","Biometrics & Drone","PC002003009_00005","NEW",null,"Growth","OWN MUNICIPAL STRATEGIC OBJECTIVE                                          ","Machinery And Equipment","Machinery And Equipment","R-ADMIN OR HEAD OFFICE",30.1574,30.0648,3279824.72,28000,0,500000,{"v":849259,"d":"849"},0,{"v":200000,"d":"200"},{"v":208000,"d":"208"},{"v":883229,"d":"883"}]
["Economic Development/Planning","New Vehicles","PC002002001010_00004","RENEWAL",null,"Governance","OWN MUNICIPAL STRATEGIC OBJECTIVE                                          ","Transport Assets","Transport Assets","R-ADMIN OR HEAD OFFICE",30.1574,30.0648,0,0,0,1500000,{"v":1100000,"d":"1,100"},0,0,0,0]
["Economic Development/Planning","Disaster Truck Equipment","PC002003005_00007","NEW","An efficient; effective and development-oriented public service","Growth","OWN MUNICIPAL STRATEGIC OBJECTIVE                                          ","Furniture And Office Equipment","Furniture And Office Equipment","R-WHOLE OF THE DISTRICT",30.1574,30.0648,0,0,0,350000,{"v":350000,"d":"350"},0,0,0,0]
["Finance","New Vehicles","PC002002001010_00005","RENEWAL",null,"Governance","OWN MUNICIPAL STRATEGIC OBJECTIVE                                          ","Transport Assets","Transport Assets","R-ADMIN OR HEAD OFFICE",30.1574,30.0648,0,0,0,1636363,{"v":1636363,"d":"1,636"},0,0,0,{"v":1701818,"d":"1,702"}]
["Finance","Computer Equipment","PC002003004_00005","NEW","An efficient; effective and development-oriented public service","Growth","OWN MUNICIPAL STRATEGIC OBJECTIVE                                          ","Computer Equipment","Computer Equipment","R-ADMIN OR HEAD OFFICE",30.1574,30.0648,0,0,0,180000,{"v":180000,"d":"180"},0,0,0,0]
["Finance","Computers","PC002003004_00004","NEW","An efficient; effective and development-oriented public service","Growth","OWN MUNICIPAL STRATEGIC OBJECTIVE                                          ","Computer Equipment","Computer Equipment","R-ADMIN OR HEAD OFFICE",30.1574,30.0648,0,0,0,204545,{"v":79980,"d":"80"},0,{"v":41590,"d":"42"},{"v":43254,"d":"43"},{"v":41590,"d":"42"}]
["Finance","Furniture And Office Equipment","PC002003005_00010","NEW","An efficient; effective and development-oriented public service","Growth","OWN MUNICIPAL STRATEGIC OBJECTIVE                                          ","Furniture And Office Equipment","Furniture And Office Equipment","R-ADMIN OR HEAD OFFICE",30.1574,30.0648,0,0,0,174545,{"v":174545,"d":"175"},0,0,0,0]
["Finance","Office Equipment","PC002003005_00011","NEW","An efficient; effective and development-oriented public service","Growth","OWN MUNICIPAL STRATEGIC OBJECTIVE                                          ","Furniture And Office Equipment","Furniture And Office Equipment","R-WHOLE OF THE DISTRICT",30.1574,30.0648,0,0,0,263636,{"v":208922,"d":"209"},0,{"v":108639,"d":"109"},{"v":112985,"d":"113"},{"v":108639,"d":"109"}]
["Governance Function","Office Equipment","PC002003005_00009","NEW","An efficient; effective and development-oriented public service","Growth","OWN MUNICIPAL STRATEGIC OBJECTIVE                                          ","Furniture And Office Equipment","Furniture And Office Equipment","R-WHOLE OF THE DISTRICT",30.1574,30.0648,0,0,0,1363636,{"v":500000,"d":"500"},0,0,0,0]
["Human Resources","Fire System","PC002003009_00004","NEW",null,"Growth","OWN MUNICIPAL STRATEGIC OBJECTIVE                                          ","Machinery And Equipment","Machinery And Equipment","R-ADMIN OR HEAD OFFICE",30.1574,30.0648,0,0,0,363636,{"v":300000,"d":"300"},0,{"v":311100,"d":"311"},{"v":323544,"d":"324"},{"v":312000,"d":"312"}]
["Information Technology","Ict Network Infrastructure Upgrade","PC002003004_00003","NEW","An efficient; effective and development-oriented public service","Growth","OWN MUNICIPAL STRATEGIC OBJECTIVE                                          ","Computer Equipment","Computer Equipment","R-ADMIN OR HEAD OFFICE",30.1574,30.0648,379851,0,0,474545,{"v":612590,"d":"613"},0,{"v":3000000,"d":"3,000"},{"v":3120000,"d":"3,120"},{"v":637094,"d":"637"}]
["Information Technology","Server & Desktop Backup","PC002003004_00001","NEW","An efficient; effective and development-oriented public service","Growth","OWN MUNICIPAL STRATEGIC OBJECTIVE                                          ","Computer Equipment","Computer Equipment","R-ADMIN OR HEAD OFFICE",30.1574,30.0648,72669,943411.62,410050,1000000,{"v":1000000,"d":"1,000"},0,{"v":1037000,"d":"1,037"},{"v":1078480,"d":"1,078"},{"v":1040000,"d":"1,040"}]
["Information Technology","Installation Of Sevilliance Cameras","PC002003005_00006","NEW","An efficient; effective and development-oriented public service","Growth","OWN MUNICIPAL STRATEGIC OBJECTIVE                                          ","Furniture And Office Equipment","Furniture And Office Equipment","R-WHOLE OF THE DISTRICT",30.1574,30.0648,100698.94,0,0,500000,{"v":2496500,"d":"2,497"},0,{"v":1100000,"d":"1,100"},{"v":1144000,"d":"1,144"},{"v":2596360,"d":"2,596"}]
["Information Technology","New Projector & Microphones","PC002003005_00004","NEW","An efficient; effective and development-oriented public service","Growth","OWN MUNICIPAL STRATEGIC OBJECTIVE                                          ","Furniture And Office Equipment","Furniture And Office Equipment","R-ADMIN OR HEAD OFFICE",30.1574,30.0648,96340,131768.24,338685.1,189818,{"v":397800,"d":"398"},0,{"v":500000,"d":"500"},{"v":520000,"d":"520"},{"v":413712,"d":"414"}]
["Project Management Unit","Greater Mhlabashana Water Scheme","PC001001001004003_00001","RENEWAL","An efficient; competitive and responsive economic infrastructure network","Inclusion and Access",null,"Water Supply Infrastructure","Reservoirs","R-UBUHLEBEZWE",0,0,0,0,0,0,0,0,{"v":1739131,"d":"1,739"},{"v":21359598,"d":"21,360"},{"v":21739131,"d":"21,739"}]
["Project Management Unit","Greater Bulwer Bulk Water Supply","PC001001001004007_00029","RENEWAL","An efficient; competitive and responsive economic infrastructure network","Inclusion and Access","OWN MUNICIPAL STRATEGIC OBJECTIVE                                          ","Water Supply Infrastructure","Distribution","R-INGWE/KWA SANI",30.1574,30.0648,20925500,0,0,0,0,0,0,0,0]
["Project Management Unit","Mfulamhle/Cabane Water Supply","PC001001001004007_00029","RENEWAL","An efficient; competitive and responsive economic infrastructure network","Inclusion and Access","OWN MUNICIPAL STRATEGIC OBJECTIVE                                          ","Water Supply Infrastructure","Distribution","R-WHOLE OF THE DISTRICT",30.1574,30.0648,523011,0,0,0,0,0,0,0,0]
["Project Management Unit","Building Construction","PC001001001005003_00012","RENEWAL","An efficient; competitive and responsive economic infrastructure network","Inclusion and Access","OWN MUNICIPAL STRATEGIC OBJECTIVE                                          ","Sanitation Infrastructure","Waste Water Treatment Works","R-GREATER KOKSTAD",30.1574,30.0648,1658491,0,0,0,0,0,0,0,0]
["Project Management Unit","Mahhagu Sanitation","PC001001001005003_00011","RENEWAL","An efficient; competitive and responsive economic infrastructure network","Inclusion and Access","OWN MUNICIPAL STRATEGIC OBJECTIVE                                          ","Sanitation Infrastructure","Waste Water Treatment Works","R-GREATER KOKSTAD",30.1574,30.0648,0,0,0,1739130,{"v":2747221,"d":"2,747"},0,{"v":9130435,"d":"9,130"},0,0]
["Project Management Unit","Umzimkhulu Town Water Infrastructure Upg","PC001001002004003_00001","UPGRADING","An efficient; competitive and responsive economic infrastructure network","Inclusion and Access",null,"Water Supply Infrastructure","Reservoirs","R-UMZIMKHULU",0,0,0,0,0,0,0,0,{"v":1304348,"d":"1,304"},{"v":4782609,"d":"4,783"},{"v":13043479,"d":"13,043"}]
["Project Management Unit","Nokweja/Mashumi Community Water Suppl","PC001001002004005_00005","UPGRADING","An efficient; competitive and responsive economic infrastructure network","Inclusion and Access","OWN MUNICIPAL STRATEGIC OBJECTIVE                                          ","Water Supply Infrastructure","Water Treatment Works","R-UBUHLEBEZWE",30.1574,30.0648,325570,0,0,0,0,0,0,0,0]
["Project Management Unit","Refurb & Upgr Bhongweni Ph2","PC001001002004006_00002","UPGRADING","An efficient; competitive and responsive economic infrastructure network","Inclusion and Access","OWN MUNICIPAL STRATEGIC OBJECTIVE                                          ","Water Supply Infrastructure","Bulk Mains","R-GREATER KOKSTAD",0,0,0,0,0,4690045,{"v":620740,"d":"621"},0,{"v":20894449,"d":"20,894"},{"v":19861933,"d":"19,862"},{"v":35905450,"d":"35,905"}]
["Project Management Unit","Refurb & Upgr Shayamoya Ph2","PC001001002004006_00003","UPGRADING","An efficient; competitive and responsive economic infrastructure network","Inclusion and Access","OWN MUNICIPAL STRATEGIC OBJECTIVE                                          ","Water Supply Infrastructure","Bulk Mains","R-GREATER KOKSTAD",0,0,0,0,0,5445994,{"v":1015477,"d":"1,015"},0,{"v":20355894,"d":"20,356"},{"v":21589666,"d":"21,590"},{"v":35987344,"d":"35,987"}]
["Project Management Unit","Ward 19 & 21 Umzimkhulu Intervention","PC001001002004006_00004","UPGRADING","An efficient; competitive and responsive economic infrastructure network","Inclusion and Access","OWN MUNICIPAL STRATEGIC OBJECTIVE                                          ","Water Supply Infrastructure","Bulk Mains","R-UMZIMKHULU",0,0,0,0,0,3915477,0,0,{"v":1050000,"d":"1,050"},{"v":11900346,"d":"11,900"},{"v":765863,"d":"766"}]
["Project Management Unit","Fairview / Ixopo Sewer Upgrade","PC001001002005002_00008","UPGRADING","An efficient; competitive and responsive economic infrastructure network","Inclusion and Access","OWN MUNICIPAL STRATEGIC OBJECTIVE                                          ","Sanitation Infrastructure","Reticulation","R-UBUHLEBEZWE",30.1574,30.0648,0,0,0,434782,{"v":2803909,"d":"2,804"},0,{"v":2173914,"d":"2,174"},{"v":17723659,"d":"17,724"},{"v":26086957,"d":"26,087"}]
["Project Management Unit","Kokstand Town/Shayamoya Sewer Upgrage","PC001001002005002_00007","UPGRADING","An efficient; competitive and responsive economic infrastructure network","Inclusion and Access",null,"Sanitation Infrastructure","Reticulation","R-GREATER KOKSTAD",30.1574,30.0648,0,0,0,0,0,0,{"v":1826087,"d":"1,826"},{"v":12680080,"d":"12,680"},{"v":17391305,"d":"17,391"}]
["Project Management Unit","Mamiesa Outfall Sewer","PC001001002005002_00009","UPGRADING","An efficient; competitive and responsive economic infrastructure network","Inclusion and Access","OWN MUNICIPAL STRATEGIC OBJECTIVE                                          ","Sanitation Infrastructure","Reticulation","R-GREATER KOKSTAD",30.1574,30.0648,0,0,0,434782,0,0,{"v":734255,"d":"734"},{"v":1590250,"d":"1,590"},0]
["Project Management Unit","Underberg Himville Sewer Upgrade","PC001001002005002_00007","UPGRADING","An efficient; competitive and responsive economic infrastructure network","Inclusion and Access","OWN MUNICIPAL STRATEGIC OBJECTIVE                                          ","Sanitation Infrastructure","Reticulation","R-INGWE/KWA SANI",30.1574,30.0648,0,0,0,1304347,{"v":3021633,"d":"3,022"},0,{"v":15024348,"d":"15,024"},{"v":25136960,"d":"25,137"},{"v":8695653,"d":"8,696"}]
["Project Management Unit","Underberg Himville Water Upgrade","PC001002004003_00003","NEW","An efficient; competitive and responsive economic infrastructure network","Growth","OWN MUNICIPAL STRATEGIC OBJECTIVE                                          ","Water Supply Infrastructure","Reservoirs","R-INGWE/KWA SANI",30.1574,30.0648,0,0,0,434782,0,0,0,0,0]
["Project Management Unit","Mechanical & Electrical Components","PC001002004004_00008","NEW","An efficient; competitive and responsive economic infrastructure network","Growth","OWN MUNICIPAL STRATEGIC OBJECTIVE                                          ","Water Supply Infrastructure","Pump Stations","R-WHOLE OF THE DISTRICT",30.1574,30.0648,21237161.11,3440544.13,0,0,0,0,0,0,0]
["Project Management Unit","Bhongweni Water Supply","PC001002004006_00009","NEW","An efficient; competitive and responsive economic infrastructure network","Growth","OWN MUNICIPAL STRATEGIC OBJECTIVE                                          ","Water Supply Infrastructure","Bulk Mains","R-GREATER KOKSTAD",30.1574,30.0648,29439275.19,0,0,11317578,{"v":11411690,"d":"11,412"},0,{"v":3517000,"d":"3,517"},0,0]
["Project Management Unit","Bhongweni Water Supply","PC001002004006_00015","NEW","An efficient; competitive and responsive economic infrastructure network","Growth","OWN MUNICIPAL STRATEGIC OBJECTIVE                                          ","Water Supply Infrastructure","Bulk Mains","R-GREATER KOKSTAD",30.1574,30.0648,476061,0,0,0,0,0,0,0,0]
["Project Management Unit","Corinth Nyanisweni Water Supply","PC001002004006_00012","NEW","An efficient; competitive and responsive economic infrastructure network","Growth","OWN MUNICIPAL STRATEGIC OBJECTIVE                                          ","Water Supply Infrastructure","Bulk Mains","R-WHOLE OF THE DISTRICT",30.1574,30.0648,0,0,0,7400000,{"v":5484669,"d":"5,485"},0,{"v":5430390,"d":"5,430"},{"v":13538598,"d":"13,539"},{"v":17544590,"d":"17,545"}]
["Project Management Unit","Dulathi - Marhewini Water Supply","PC001002004006_00013","NEW","An efficient; competitive and responsive economic infrastructure network","Growth","OWN MUNICIPAL STRATEGIC OBJECTIVE                                          ","Water Supply Infrastructure","Bulk Mains","R-INGWE/KWA SANI",30.1574,30.0648,0,0,0,289656,{"v":1073456,"d":"1,073"},0,{"v":19097700,"d":"19,098"},{"v":17454500,"d":"17,455"},{"v":3566890,"d":"3,567"}]
["Project Management Unit","Emazizini Water Supply","PC001002004006_00011","NEW","An efficient; competitive and responsive economic infrastructure network","Growth","OWN MUNICIPAL STRATEGIC OBJECTIVE                                          ","Water Supply Infrastructure","Bulk Mains","R-INGWE/KWA SANI",30.1574,30.0648,2572870.6,20297733.82,12561197.58,2500000,0,0,{"v":1050000,"d":"1,050"},0,0]
["Project Management Unit","Hostela-Mncweba Water Supply","PC001002004006_00012","NEW","An efficient; competitive and responsive economic infrastructure network","Growth","OWN MUNICIPAL STRATEGIC OBJECTIVE                                          ","Water Supply Infrastructure","Bulk Mains","R-INGWE/KWA SANI",30.1574,30.0648,5534262.03,19201850.75,9616669.55,220000,{"v":147096,"d":"147"},0,0,0,0]
["Project Management Unit","Machunwini Water Supply","PC001002004006_00009","NEW","An efficient; competitive and responsive economic infrastructure network","Growth","OWN MUNICIPAL STRATEGIC OBJECTIVE                                          ","Water Supply Infrastructure","Bulk Mains","R-INGWE/KWA SANI",30.1574,30.0648,9537601.29,3174406.29,954539.77,8779089,{"v":16454992,"d":"16,455"},0,{"v":2337663,"d":"2,338"},0,0]
["Project Management Unit","Machunwini Water Supply","PC001002004006_00014","NEW","An efficient; competitive and responsive economic infrastructure network","Growth","OWN MUNICIPAL STRATEGIC OBJECTIVE                                          ","Water Supply Infrastructure","Bulk Mains","R-INGWE/KWA SANI",30.1574,30.0648,649291,0,0,0,0,0,0,0,0]
["Project Management Unit","Mahhehle Water Supply","PC001002004006_00013","NEW","An efficient; competitive and responsive economic infrastructure network","Growth","OWN MUNICIPAL STRATEGIC OBJECTIVE                                          ","Water Supply Infrastructure","Bulk Mains","R-UBUHLEBEZWE",30.1574,30.0648,0,0,0,0,0,0,{"v":1593716,"d":"1,594"},0,{"v":26086957,"d":"26,087"}]
["Project Management Unit","Mkhohlwa Mdayane Water Supply","PC001002004006_00011","NEW","An efficient; competitive and responsive economic infrastructure network","Growth","OWN MUNICIPAL STRATEGIC OBJECTIVE                                          ","Water Supply Infrastructure","Bulk Mains","R-INGWE/KWA SANI",30.1574,30.0648,17937872.39,0,0,11475583,{"v":21762704,"d":"21,763"},0,{"v":2969438,"d":"2,969"},0,0]
["Project Management Unit","Shayamoya Water Supply","PC001002004006_00010","NEW","An efficient; competitive and responsive economic infrastructure network","Growth","OWN MUNICIPAL STRATEGIC OBJECTIVE                                          ","Water Supply Infrastructure","Bulk Mains","R-GREATER KOKSTAD",30.1574,30.0648,15092785.01,0,0,17825045,{"v":19812681,"d":"19,813"},0,{"v":3245693,"d":"3,246"},0,0]
["Project Management Unit","Shayamoya Water Supply","PC001002004006_00016","NEW","An efficient; competitive and responsive economic infrastructure network","Growth","OWN MUNICIPAL STRATEGIC OBJECTIVE                                          ","Water Supply Infrastructure","Bulk Mains","R-GREATER KOKSTAD",30.1574,30.0648,1049611,0,0,0,0,0,0,0,0]
["Project Management Unit","Ixopo Slums & Cru Gravity Main","PC001002004007_00022","NEW","An efficient; competitive and responsive economic infrastructure network","Growth",null,"Water Supply Infrastructure","Distribution","R-UBUHLEBEZWE",30.1574,30.0648,0,0,0,0,0,0,{"v":1304348,"d":"1,304"},{"v":16443178,"d":"16,443"},{"v":8695653,"d":"8,696"}]
["Project Management Unit","Mahehle Water Supply Scheme","PC001002004007_00022","NEW","An efficient; competitive and responsive economic infrastructure network","Growth","OWN MUNICIPAL STRATEGIC OBJECTIVE                                          ","Water Supply Infrastructure","Distribution","R-UBUHLEBEZWE",30.1574,30.0648,0,0,0,173913,{"v":200000,"d":"200"},0,0,0,0]
["Project Management Unit","Mfulamhle Water Supply","PC001002004007_00026","NEW","An efficient; competitive and responsive economic infrastructure network","Growth","OWN MUNICIPAL STRATEGIC OBJECTIVE                                          ","Water Supply Infrastructure","Distribution","R-UMZIMKHULU",30.1574,30.0648,0,0,0,434782,0,0,{"v":925450,"d":"925"},{"v":2105620,"d":"2,106"},0]
["Project Management Unit","Mhlangeni Water Intervention","PC001002004007_00024","NEW","An efficient; competitive and responsive economic infrastructure network","Growth","OWN MUNICIPAL STRATEGIC OBJECTIVE                                          ","Water Supply Infrastructure","Distribution","R-INGWE/KWA SANI",30.1574,30.0648,0,0,0,0,0,0,{"v":896000,"d":"896"},{"v":869564,"d":"870"},0]
["Project Management Unit","Nazareth Water Supply","PC001002004007_00027","NEW","An efficient; competitive and responsive economic infrastructure network","Growth","OWN MUNICIPAL STRATEGIC OBJECTIVE                                          ","Water Supply Infrastructure","Distribution","R-UMZIMKHULU",30.1574,30.0648,0,0,0,3681587,{"v":4765168,"d":"4,765"},0,{"v":5540545,"d":"5,541"},{"v":19668450,"d":"19,668"},{"v":3550396,"d":"3,550"}]
["Project Management Unit","Ngwangwane Water Intervention","PC001002004007_00023","NEW","An efficient; competitive and responsive economic infrastructure network","Growth","OWN MUNICIPAL STRATEGIC OBJECTIVE                                          ","Water Supply Infrastructure","Distribution","R-UMZIMKHULU",30.1574,30.0648,0,0,0,434782,0,0,{"v":896436,"d":"896"},{"v":3555840,"d":"3,556"},0]
["Project Management Unit","Refurbishment Bhayi-Gudlicingo Schemes","PC001002004007_00021","NEW","An efficient; competitive and responsive economic infrastructure network","Growth","OWN MUNICIPAL STRATEGIC OBJECTIVE                                          ","Water Supply Infrastructure","Distribution","R-WHOLE OF THE DISTRICT",30.1574,30.0648,4006683,13237610.75,7439607.14,0,{"v":2879261,"d":"2,879"},0,{"v":2003963,"d":"2,004"},{"v":1086957,"d":"1,087"},0]
["Project Management Unit","Water Conserv/Demand Mngment (Wcwdm)","PC001002004007_00025","NEW","An efficient; competitive and responsive economic infrastructure network","Growth","OWN MUNICIPAL STRATEGIC OBJECTIVE                                          ","Water Supply Infrastructure","Distribution","R-WHOLE OF THE DISTRICT",30.1574,30.0648,0,0,0,434782,0,0,0,0,0]
["Project Management Unit","Water Conservation & Demand Management","PC001002004007_00021","NEW","An efficient; competitive and responsive economic infrastructure network","Growth",null,"Water Supply Infrastructure","Distribution","R-GREATER KOKSTAD",30.1574,30.0648,0,0,0,0,0,0,{"v":2608696,"d":"2,609"},{"v":4782609,"d":"4,783"},{"v":13043479,"d":"13,043"}]
["Project Management Unit","Hgdm Vip Toilets","PC002002001003001001_00002","RENEWAL","An efficient; effective and development-oriented public service","Governance","OWN MUNICIPAL STRATEGIC OBJECTIVE                                          ","Operational Buildings","Municipal Offices","R-WHOLE OF THE DISTRICT",0,0,0,0,0,173913,{"v":173913,"d":"174"},0,0,0,0]
["Project Management Unit","Umngeni Office Renovations","PC002002001003001001_00001","RENEWAL","An efficient; effective and development-oriented public service","Governance","OWN MUNICIPAL STRATEGIC OBJECTIVE                                          ","Operational Buildings","Municipal Offices","R-ADMIN OR HEAD OFFICE",0,0,0,0,0,3700000,{"v":2200000,"d":"2,200"},0,{"v":2000000,"d":"2,000"},{"v":2080000,"d":"2,080"},{"v":2146560,"d":"2,147"}]
["Project Management Unit","Staff Compound","PC002003003002001_00001","NEW","Sustainable human settlements and improved quality of household life","Growth","OWN MUNICIPAL STRATEGIC OBJECTIVE                                          ","Housing","Staff Housing","R-ADMIN OR HEAD OFFICE",30.1574,30.0648,1042173.88,0,0,2000000,{"v":1000000,"d":"1,000"},0,{"v":1040000,"d":"1,040"},{"v":1081600,"d":"1,082"},{"v":1116212,"d":"1,116"}]
["Project Management Unit","Computers","PC002003004_00003","NEW","An efficient; effective and development-oriented public service","Growth",null,"Computer Equipment","Computer Equipment","R-ADMIN OR HEAD OFFICE",30.1574,30.0648,0,0,0,0,0,0,{"v":120000,"d":"120"},0,0]
["Project Management Unit","Furniture And Office Equipment","PC002003005_00012","NEW","An efficient; effective and development-oriented public service","Growth","OWN MUNICIPAL STRATEGIC OBJECTIVE                                          ","Furniture And Office Equipment","Furniture And Office Equipment","R-ADMIN OR HEAD OFFICE",30.1574,30.0648,0,0,0,1100000,0,0,0,0,0]
["Project Management Unit","Machinery","PC002003009_00003","NEW",null,"Growth","OWN MUNICIPAL STRATEGIC OBJECTIVE                                          ","Machinery And Equipment","Machinery And Equipment","R-WHOLE OF THE DISTRICT",30.1574,30.0648,1487396.15,1278456.55,7252632.29,1000000,{"v":1900000,"d":"1,900"},0,{"v":1107856,"d":"1,108"},{"v":1152171,"d":"1,152"},{"v":1189040,"d":"1,189"}]
["Project Management Unit","Security Guard Room","PC002003003001001_00001","NEW","An efficient; effective and development-oriented public service","Growth","OWN MUNICIPAL STRATEGIC OBJECTIVE                                          ","Operational Buildings","Municipal Offices","R-ADMIN OR HEAD OFFICE",30.1574,30.0648,1267779.08,0,0,2551298,{"v":1864416,"d":"1,864"},0,{"v":500000,"d":"500"},{"v":520000,"d":"520"},{"v":536640,"d":"537"}]
["Sewerage","Horseshoe Sanitation Project Pump Statio","PC001002005001_00001","NEW","An efficient; competitive and responsive economic infrastructure network","Growth","OWN MUNICIPAL STRATEGIC OBJECTIVE                                          ","Sanitation Infrastructure","Pump Station","R-GREATER KOKSTAD",30.1574,30.0648,1234210.96,12051395.21,0,86956,{"v":434782,"d":"435"},0,0,0,0]
["Sewerage","Ibisi Housing  Reticulatio_Sewer Pipes","PC001002005002_00006","NEW","An efficient; competitive and responsive economic infrastructure network","Growth","OWN MUNICIPAL STRATEGIC OBJECTIVE                                          ","Sanitation Infrastructure","Reticulation","R-INGWE/KWA SANI",30.1574,30.0648,6719694.41,22548508.46,3465588.15,86956,0,0,0,0,0]
["Sewerage","Umzimkhulu Upgrade  Phase 2 Sewer Pipes","PC001002005002_00007","NEW","An efficient; competitive and responsive economic infrastructure network","Growth","OWN MUNICIPAL STRATEGIC OBJECTIVE                                          ","Sanitation Infrastructure","Reticulation","R-WHOLE OF THE DISTRICT",30.1574,30.0648,12100834.39,15301037.34,37498008.63,86956,{"v":4699820,"d":"4,700"},0,0,0,0]
["Water Distribution","Umzimkulu Cru Bulk Proviosion","PC001001002004006_00001","UPGRADING","An efficient; competitive and responsive economic infrastructure network","Inclusion and Access","OWN MUNICIPAL STRATEGIC OBJECTIVE                                          ","Water Supply Infrastructure","Bulk Mains","R-WHOLE OF THE DISTRICT",0,0,0,0,0,1327649,{"v":97649,"d":"98"},0,{"v":101555,"d":"102"},{"v":105618,"d":"106"},{"v":108997,"d":"109"}]
["Water Distribution","Spring Protection","PC001001002004008_00001","UPGRADING","An efficient; competitive and responsive economic infrastructure network","Inclusion and Access","OWN MUNICIPAL STRATEGIC OBJECTIVE                                          ","Water Supply Infrastructure","Distribution Points","R-WHOLE OF THE DISTRICT",0,0,5971595,0,0,2000000,{"v":8230000,"d":"8,230"},0,{"v":75101,"d":"75"},{"v":78105,"d":"78"},{"v":80605,"d":"81"}]
["Water Distribution","Kempsdale  Raising Project  Dams & Weirs","PC001002004001_00004","NEW","An efficient; competitive and responsive economic infrastructure network","Growth","OWN MUNICIPAL STRATEGIC OBJECTIVE                                          ","Water Supply Infrastructure","Dams And Weirs","R-GREATER KOKSTAD",30.1574,30.0648,26190108.14,10591449.98,0,53063326,{"v":59748171,"d":"59,748"},0,{"v":33830705,"d":"33,831"},0,0]
["Water Distribution","Mnqumeni / Santombe Wtr  Phs 4  Dams&Wei","PC001002004001_00006","NEW","An efficient; competitive and responsive economic infrastructure network","Growth","OWN MUNICIPAL STRATEGIC OBJECTIVE                                          ","Water Supply Infrastructure","Dams And Weirs","R-WHOLE OF THE DISTRICT",30.1574,30.0648,7196268.96,13877144.75,16569815.58,86956,{"v":3188490,"d":"3,188"},0,0,0,0]
["Water Distribution","Borehole Drilling","PC001002004002_00003","NEW","An efficient; competitive and responsive economic infrastructure network","Growth","OWN MUNICIPAL STRATEGIC OBJECTIVE                                          ","Water Supply Infrastructure","Boreholes","R-WHOLE OF THE DISTRICT",30.1574,30.0648,14332594.3,0,0,0,{"v":5025000,"d":"5,025"},0,{"v":26000,"d":"26"},{"v":27040,"d":"27"},{"v":27906,"d":"28"}]
["Water Distribution","Water Identified Village In Ndz Borehole","PC001002004002_00004","NEW","An efficient; competitive and responsive economic infrastructure network","Growth","OWN MUNICIPAL STRATEGIC OBJECTIVE                                          ","Water Supply Infrastructure","Boreholes","R-INGWE/KWA SANI",30.1574,30.0648,0,0,4509766.32,0,{"v":641391,"d":"641"},0,0,0,0]
["Water Distribution","Water Identified Village In Nmz Borehole","PC001002004002_00005","NEW","An efficient; competitive and responsive economic infrastructure network","Growth","OWN MUNICIPAL STRATEGIC OBJECTIVE                                          ","Water Supply Infrastructure","Boreholes","R-WHOLE OF THE DISTRICT",30.1574,30.0648,0,1167934.9,15443938.56,0,{"v":114975,"d":"115"},0,0,0,0]
["Water Distribution","Greater Summerfield  Suppl  Pump Station","PC001002004004_00003","NEW","An efficient; competitive and responsive economic infrastructure network","Growth","OWN MUNICIPAL STRATEGIC OBJECTIVE                                          ","Water Supply Infrastructure","Pump Stations","R-WHOLE OF THE DISTRICT",30.1574,30.0648,11568295.51,14565947.61,2435604.82,86956,{"v":434782,"d":"435"},0,0,0,0]
["Water Distribution","Mechanical & Electrical Components","PC001002004004_00001","NEW","An efficient; competitive and responsive economic infrastructure network","Growth","OWN MUNICIPAL STRATEGIC OBJECTIVE                                          ","Water Supply Infrastructure","Pump Stations","R-WHOLE OF THE DISTRICT",30.1574,30.0648,0,0,0,0,{"v":10990865,"d":"10,991"},0,{"v":12434527,"d":"12,435"},{"v":12931908,"d":"12,932"},{"v":13345729,"d":"13,346"}]
["Water Distribution","Water Mainternance","PC001002004005_00003","NEW","An efficient; competitive and responsive economic infrastructure network","Growth","OWN MUNICIPAL STRATEGIC OBJECTIVE                                          ","Water Supply Infrastructure","Water Treatment Works","R-WHOLE OF THE DISTRICT",30.1574,30.0648,0,0,0,3300000,0,0,0,0,0]
["Water Distribution","Creighton Water Supply_Pipes","PC001002004007_00022","NEW","An efficient; competitive and responsive economic infrastructure network","Growth","OWN MUNICIPAL STRATEGIC OBJECTIVE                                          ","Water Supply Infrastructure","Distribution","R-INGWE/KWA SANI",30.1574,30.0648,34423687.48,33042170.55,662743.13,35199100,{"v":42154852,"d":"42,155"},0,{"v":23478261,"d":"23,478"},{"v":17391305,"d":"17,391"},{"v":8695653,"d":"8,696"}]
["Water Distribution","Gala Donnybrook Water Supply_Pipes","PC001002004007_00024","NEW","An efficient; competitive and responsive economic infrastructure network","Growth","OWN MUNICIPAL STRATEGIC OBJECTIVE                                          ","Water Supply Infrastructure","Distribution","R-INGWE/KWA SANI",30.1574,30.0648,0,0,0,86956,{"v":2000000,"d":"2,000"},0,{"v":6521740,"d":"6,522"},0,0]
["Water Distribution","Greater Kilimon Water Supply  Pipe Line","PC001002004007_00028","NEW","An efficient; competitive and responsive economic infrastructure network","Growth","OWN MUNICIPAL STRATEGIC OBJECTIVE                                          ","Water Supply Infrastructure","Distribution","R-INGWE/KWA SANI",30.1574,30.0648,0,0,0,0,0,0,{"v":347827,"d":"348"},{"v":13999083,"d":"13,999"},{"v":17391305,"d":"17,391"}]
["Water Distribution","Greater Mhlangeni Water Supply Pipe Line","PC001002004007_00031","NEW","An efficient; competitive and responsive economic infrastructure network","Growth","OWN MUNICIPAL STRATEGIC OBJECTIVE                                          ","Water Supply Infrastructure","Distribution","R-INGWE/KWA SANI",30.1574,30.0648,0,0,0,0,0,0,{"v":2434783,"d":"2,435"},{"v":17308138,"d":"17,308"},{"v":5703836,"d":"5,704"}]
["Water Distribution","Greater Summerfield Wtr Supply  Pipe Lin","PC001002004007_00038","NEW","An efficient; competitive and responsive economic infrastructure network","Growth","OWN MUNICIPAL STRATEGIC OBJECTIVE                                          ","Water Supply Infrastructure","Distribution","R-WHOLE OF THE DISTRICT",30.1574,30.0648,22761493.61,54213246.52,29894626.29,4347826,{"v":9790627,"d":"9,791"},0,{"v":33913044,"d":"33,913"},{"v":19747526,"d":"19,748"},{"v":8695653,"d":"8,696"}]
["Water Distribution","Installation Of Bulk Water Meters","PC001002004007_00001","NEW","An efficient; competitive and responsive economic infrastructure network","Growth","OWN MUNICIPAL STRATEGIC OBJECTIVE                                          ","Water Supply Infrastructure","Distribution","R-ADMIN OR HEAD OFFICE",30.1574,30.0648,0,15343.19,923515.75,3592727,{"v":4675884,"d":"4,676"},0,{"v":3862920,"d":"3,863"},{"v":4017437,"d":"4,017"},{"v":4145995,"d":"4,146"}]
["Water Distribution","Installation Of Smart Meter","PC001002004007_00021","NEW","An efficient; competitive and responsive economic infrastructure network","Growth","OWN MUNICIPAL STRATEGIC OBJECTIVE                                          ","Water Supply Infrastructure","Distribution","R-ADMIN OR HEAD OFFICE",30.1574,30.0648,0,0,0,4000000,{"v":10585363,"d":"10,585"},0,{"v":4400000,"d":"4,400"},{"v":4576000,"d":"4,576"},{"v":4722432,"d":"4,722"}]
["Water Distribution","Khukhulela Water Supply_Pipes","PC001002004007_00023","NEW","An efficient; competitive and responsive economic infrastructure network","Growth","OWN MUNICIPAL STRATEGIC OBJECTIVE                                          ","Water Supply Infrastructure","Distribution","R-INGWE/KWA SANI",30.1574,30.0648,31149378.2,17567859.55,31731551.84,40222946,{"v":23053760,"d":"23,054"},0,{"v":13043479,"d":"13,043"},0,{"v":8695653,"d":"8,696"}]
["Water Distribution","Kwamay-Theekloof Water S_Pipe Line","PC001002004007_00040","NEW","An efficient; competitive and responsive economic infrastructure network","Growth","OWN MUNICIPAL STRATEGIC OBJECTIVE                                          ","Water Supply Infrastructure","Distribution","R-WHOLE OF THE DISTRICT",30.1574,30.0648,3952519.04,843765.62,1635588.88,86956,{"v":1623872,"d":"1,624"},0,0,0,0]
["Water Distribution","Mnqumeni / Santombe Wtr  Phs 4  Pipe Lin","PC001002004007_00049","NEW","An efficient; competitive and responsive economic infrastructure network","Growth","OWN MUNICIPAL STRATEGIC OBJECTIVE                                          ","Water Supply Infrastructure","Distribution","R-WHOLE OF THE DISTRICT",30.1574,30.0648,10242552.09,2620613.05,15289855.94,30434782,{"v":12148663,"d":"12,149"},0,{"v":30959382,"d":"30,959"},{"v":16269224,"d":"16,269"},{"v":8695653,"d":"8,696"}]
["Water Distribution","Underberg Himeville Water Upgr Pipe Line","PC001002004007_00037","NEW","An efficient; competitive and responsive economic infrastructure network","Growth","OWN MUNICIPAL STRATEGIC OBJECTIVE                                          ","Water Supply Infrastructure","Distribution","R-INGWE/KWA SANI",30.1574,30.0648,0,0,0,0,0,0,{"v":4616965,"d":"4,617"},{"v":19920356,"d":"19,920"},{"v":21739131,"d":"21,739"}]
["Water Distribution","Water Tankers","PC001002004007_00022","NEW","An efficient; competitive and responsive economic infrastructure network","Growth","OWN MUNICIPAL STRATEGIC OBJECTIVE                                          ","Water Supply Infrastructure","Distribution","R-ADMIN OR HEAD OFFICE",30.1574,30.0648,10381116.84,0,0,0,0,0,0,0,0]
["Water Distribution","New Vehicles","PC002002001010_00007","RENEWAL",null,"Governance","OWN MUNICIPAL STRATEGIC OBJECTIVE                                          ","Transport Assets","Transport Assets","R-ADMIN OR HEAD OFFICE",30.1574,30.0648,2277586.96,0,0,0,0,0,0,0,0]
["Water Distribution","Vehicle New - Mayor","PC002002001010_00001","RENEWAL",null,"Governance","OWN MUNICIPAL STRATEGIC OBJECTIVE                                          ","Transport Assets","Transport Assets","R-ADMIN OR HEAD OFFICE",30.1574,30.0648,0,1332354,0,1822584,{"v":7500173,"d":"7,500"},0,{"v":1400180,"d":"1,400"},{"v":1456188,"d":"1,456"},{"v":1502786,"d":"1,503"}]
["Water Distribution","Office Equipment","PC002003005_00003","NEW","An efficient; effective and development-oriented public service","Growth","OWN MUNICIPAL STRATEGIC OBJECTIVE                                          ","Furniture And Office Equipment","Furniture And Office Equipment","R-ADMIN OR HEAD OFFICE",30.1574,30.0648,48614.8,117500,0,99274,{"v":99274,"d":"99"},0,{"v":102948,"d":"103"},{"v":107066,"d":"107"},{"v":110492,"d":"110"}]
["Water Distribution","Call Centre Software","PC002003007002004_00002","NEW","An efficient; effective and development-oriented public service","Growth","OWN MUNICIPAL STRATEGIC OBJECTIVE                                          ","Licences And Rights","Computer Software And Applications","R-ADMIN OR HEAD OFFICE",30.1574,30.0648,0,0,0,454545,{"v":454545,"d":"455"},0,{"v":1872727,"d":"1,873"},{"v":1947636,"d":"1,948"},{"v":2009961,"d":"2,010"}]
["Water Distribution","Diesel Tanks","PC002003009_00006","NEW",null,"Growth","OWN MUNICIPAL STRATEGIC OBJECTIVE                                          ","Machinery And Equipment","Machinery And Equipment","R-ADMIN OR HEAD OFFICE",30.1574,30.0648,0,0,0,496374,{"v":1136000,"d":"1,136"},0,{"v":450000,"d":"450"},{"v":468000,"d":"468"},{"v":482976,"d":"483"}]
["Water Treatment","Greater Bulwer Donnybrook Water Supply","PC001001001004007_00003","RENEWAL","An efficient; competitive and responsive economic infrastructure network","Inclusion and Access","OWN MUNICIPAL STRATEGIC OBJECTIVE                                          ","Water Supply Infrastructure","Distribution","R-WHOLE OF THE DISTRICT",30.1574,30.0648,0,0,0,86956,0,0,0,0,0]
["Water Treatment","Kwanjunga/Raloti Refurbishment/Upgrade","PC001001001004007_00010","RENEWAL","An efficient; competitive and responsive economic infrastructure network","Inclusion and Access","OWN MUNICIPAL STRATEGIC OBJECTIVE                                          ","Water Supply Infrastructure","Distribution","R-WHOLE OF THE DISTRICT",30.1574,30.0648,0,0,0,7677339,{"v":772228,"d":"772"},0,{"v":7804600,"d":"7,805"},{"v":17865233,"d":"17,865"},{"v":21089902,"d":"21,090"}]
["Water Treatment","Mfulamhle/Cabane Water Supply","PC001001001004007_00011","RENEWAL","An efficient; competitive and responsive economic infrastructure network","Inclusion and Access","OWN MUNICIPAL STRATEGIC OBJECTIVE                                          ","Water Supply Infrastructure","Distribution","R-WHOLE OF THE DISTRICT",30.1574,30.0648,465650,0,0,0,0,0,{"v":1250525,"d":"1,251"},0,0]
["Water Treatment","Nokweja/Mashumi Community Water Suppl","PC001001002004005_00004","UPGRADING","An efficient; competitive and responsive economic infrastructure network","Inclusion and Access","OWN MUNICIPAL STRATEGIC OBJECTIVE                                          ","Water Supply Infrastructure","Water Treatment Works","R-UBUHLEBEZWE",30.1574,30.0648,1294723.44,15131233.86,5593556.88,0,0,0,0,0,0]
["Parent Capital expenditure",{"$nulls":15},{"$f":"SUM(Q7:Q106)","v":{"v":326575210,"d":"326,575"}},null,{"$f":"SUM(S7:S106)","v":{"v":325696601,"d":"325,697"}},{"$f":"SUM(T7:T106)","v":{"v":379945692,"d":"379,946"}},{"$f":"SUM(U7:U106)","v":{"v":378049728,"d":"378,050"}}]
[]
["Entities:"]
["List all capital projects grouped by Entity"]
["Entity A"]
[]
["Harry Gwala Development Agency"]
["Economic Development/Planning","Furniture & Office Equipment","PC002003005_00005","NEW","An efficient; effective and development-oriented public service","Growth","OWN MUNICIPAL STRATEGIC OBJECTIVE                                          ","Furniture And Office Equipment","Furniture And Office Equipment","R-ADMIN OR HEAD OFFICE","30.157400","30.064800",0,0,0,150000,{"v":150000,"d":"150"},0,{"v":154950,"d":"155"},{"v":159599,"d":"160"},{"v":165983,"d":"166"}]
["Finance","It Equipment","PC002003005_00007","NEW","An efficient; effective and development-oriented public service","Growth","OWN MUNICIPAL STRATEGIC OBJECTIVE                                          ","Furniture And Office Equipment","Furniture And Office Equipment","R-ADMIN OR HEAD OFFICE","30.157400","30.064800",0,0,0,251000,{"v":251000,"d":"251"},0,{"v":259283,"d":"259"},{"v":267062,"d":"267"},{"v":277744,"d":"278"}]
["Finance","Software ( Intangible Asset)","PC002003007002004_00001","NEW","An efficient; effective and development-oriented public service","Growth","OWN MUNICIPAL STRATEGIC OBJECTIVE                                          ","Licences And Rights","Computer Software And Applications","R-ADMIN OR HEAD OFFICE","30.157400","30.064800",0,0,0,500000,{"v":500000,"d":"500"},0,{"v":516500,"d":"517"},{"v":537160,"d":"537"},{"v":558647,"d":"559"}]
["Finance","Building","PC002003003001001_00002","NEW","An efficient; effective and development-oriented public service","Growth","OWN MUNICIPAL STRATEGIC OBJECTIVE                                          ","Operational Buildings","Municipal Offices","R-ADMIN OR HEAD OFFICE","30.157400","30.064800",0,0,0,4350000,{"v":4121000,"d":"4,121"},0,{"v":2721581,"d":"2,722"},{"v":2809021,"d":"2,809"},{"v":4539705,"d":"4,540"}]
["Entity Capital expenditure",{"$nulls":15},{"$f":"SUM(Q111:Q117)","v":{"v":5022000,"d":"5,022"}},null,{"$f":"SUM(S111:S117)","v":{"v":3652314,"d":"3,652"}},{"$f":"SUM(T111:T117)","v":{"v":3772842,"d":"3,773"}},{"$f":"SUM(U111:U117)","v":{"v":5542079,"d":"5,542"}}]
["Total Capital expenditure",{"$nulls":15},{"$f":"SUM(Q7:Q106)+SUM(Q111:Q117)","v":{"v":331597210,"d":"331,597"}},null,{"$f":"SUM(S7:S106)+SUM(S111:S117)","v":{"v":329348915,"d":"329,349"}},{"$f":"SUM(T7:T106)+SUM(T111:T117)","v":{"v":383718534,"d":"383,719"}},{"$f":"SUM(U7:U106)+SUM(U111:U117)","v":{"v":383591807,"d":"383,592"}}]
[{"$f":"head27a","v":"References"}]
["Must reconcile with Budgeted Capital Expenditure"]
["Projects that fall above the threshold values applicable to the municipality as identified in regulation 13 of the Municipal Budget and Reporting Regulations must be listed individually. Other projects by Function"]
["Asset class as per table A9 and asset sub-class as per table SA34"]
["GPS coordinates correct to seconds. Provide a logical starting point on networked infrastructure."]
["Distinguish projects approved in terms of MFMA section 19(1)(b) and MRRR Regulation 13",{"$nulls":10},"check",{"$nulls":4},{"$f":"SUM(SA34a!G175+SA34b!G175+SA34e!G175)-'SA36'!Q119","v":0},null,{"$f":"SUM(SA34a!I175+SA34b!I175+SA34e!I175)-'SA36'!S119","v":0},{"$f":"SUM(SA34a!J175+SA34b!J175+SA34e!J175)-'SA36'!T119","v":0},{"$f":"SUM(SA34a!K175+SA34b!K175+SA34e!K175)-'SA36'!U119","v":0}]
["Project Number consists of MSCOA Project Longcode and seq No (sample PC001002006002_00002)"]

{"sheet":"SA37","index":63,"n_rows":22,"n_cols":18,"rows_kept":22,"merged":[[1,12,2,12],[1,13,1,14],[1,15,1,17]]}
[{"$f":"muni&\" - \"&TableA37","v":"DC43 Harry Gwala - Supporting Table SA37 Consolidated projects delayed from previous financial year/s"}]
["R thousand",{"$nulls":11},{"$f":"Head47","v":"Previous target year to complete"},{"$f":"Head2","v":"Current Year 2025/26"},null,{"$f":"Head3","v":"2026/27 Medium Term Revenue & Expenditure Framework"}]
["Function","Project name","Project number","Type","MTDP Service Outcome","IUDF","Own Strategic Objectives","Asset Class","Asset Sub-Class","Ward Location","GPS Longitude","GPS Lattitude",null,{"$f":"Head6","v":"Original Budget"},{"$f":"Head8","v":"Full Year Forecast"},{"$f":"Head9","v":"Budget Year 2026/27"},{"$f":"Head10","v":"Budget Year +1 2027/28"},{"$f":"Head11","v":"Budget Year +2 2028/29"}]
["Parent municipality:"]
["List all capital projects grouped by Function"]
[]
[]
["Entities:"]
["List all capital projects grouped by Entity"]
[]
["Entity Name"]
["Harry Gwala Development Agency"]
["Project name"]
[]
[]
[]
[]
[{"$f":"head27a","v":"References"}]
["List all projects with planned completion dates in current year that have been re-budgeted in the MTREF"]
["Asset class as per table A9 and asset sub-class as per table SA34"]
["GPS coordinates correct to seconds. Provide a logical starting point on networked infrastructure."]
["Project Number consists of MSCOA Project Longcode and seq No (sample PC001002006002_00002)"]

{"sheet":"SA38","index":64,"n_rows":191,"n_cols":21,"rows_kept":191,"merged":[[1,15,1,17],[1,18,1,20]]}
[{"$f":"muni&\" - \"&TableA38","v":"DC43 Harry Gwala - Supporting Table SA38 Consolidated detailed operational projects"}]
["R thousand",{"$nulls":11},{"$f":"head1b","v":"2022/23"},{"$f":"head1A","v":"2023/24"},{"$f":"Head1","v":"2024/25"},{"$f":"Head2","v":"Current Year 2025/26"},null,null,{"$f":"Head3","v":"2026/27 Medium Term Revenue & Expenditure Framework"}]
["Function","Project Description","Project Number","Type","MTDP Service Outcome","IUDF","Own Strategic Objectives","Asset Class","Asset Sub-Class","Ward Location","GPS Longitude","GPS Lattitude",{"$f":"Head5","v":"Audited Outcome"},{"$f":"Head5","v":"Audited Outcome"},{"$f":"Head5","v":"Audited Outcome"},{"$f":"Head6","v":"Original Budget"},{"$f":"Head7","v":"Adjusted Budget"},{"$f":"Head8","v":"Full Year Forecast"},{"$f":"Head9","v":"Budget Year 2026/27"},{"$f":"Head10","v":"Budget Year +1 2027/28"},{"$f":"Head11","v":"Budget Year +2 2028/29"}]
["Parent municipality:"]
["List all operational projects grouped by Function"]
[]
["Administrative And Corporate Support","O_Municipal Running Cost","PO002_00000","Municipal Running Cost","Sustainable human settlements and improved quality of household life","Governance","OWN MUNICIPAL STRATEGIC OBJECTIVE                                          ",null,null,"R-ADMIN OR HEAD OFFICE",0,0,29569844.52,28866088.12,26552179.44,32665040,{"v":33698521,"d":"33,699"},0,{"v":34995790,"d":"34,996"},{"v":36385593,"d":"36,386"},{"v":37829174,"d":"37,829"}]
["Administrative And Corporate Support","O_Municipal Running Cost","PO002_00000","Municipal Running Cost","Sustainable human settlements and improved quality of household life","Governance","OWN MUNICIPAL STRATEGIC OBJECTIVE                                          ",null,null,"R-GREATER KOKSTAD",0,0,-33269.92,-8302.13,0,4146,{"v":-50056,"d":"(50)"},0,{"v":-51908,"d":"(52)"},{"v":-53621,"d":"(54)"},{"v":-55337,"d":"(55)"}]
["Administrative And Corporate Support","O_Municipal Running Cost","PO002_00000","Municipal Running Cost","Sustainable human settlements and improved quality of household life","Governance","OWN MUNICIPAL STRATEGIC OBJECTIVE                                          ",null,null,"R-INGWE/KWA SANI",0,0,-868.25,-16683.11,-3483.29,3292,{"v":-4430,"d":"(4)"},0,{"v":-4594,"d":"(5)"},{"v":-4746,"d":"(5)"},{"v":-4898,"d":"(5)"}]
["Administrative And Corporate Support","O_Municipal Running Cost","PO002_00000","Municipal Running Cost","Sustainable human settlements and improved quality of household life","Governance","OWN MUNICIPAL STRATEGIC OBJECTIVE                                          ",null,null,"R-UBUHLEBEZWE",0,0,622794.39,620401.61,421465.97,759272,{"v":477713,"d":"478"},0,{"v":495388,"d":"495"},{"v":511736,"d":"512"},{"v":528111,"d":"528"}]
["Administrative And Corporate Support","O_Municipal Running Cost","PO002_00000","Municipal Running Cost","Sustainable human settlements and improved quality of household life","Governance","OWN MUNICIPAL STRATEGIC OBJECTIVE                                          ",null,null,"R-WHOLE OF THE DISTRICT",0,0,29078578.5,26267215.76,27711023.73,41358628,{"v":55076933,"d":"55,077"},0,{"v":48681407,"d":"48,681"},{"v":50462612,"d":"50,463"},{"v":52285072,"d":"52,285"}]
["Administrative And Corporate Support","Capacity Building Local Municipalities (District Boundaries)","PO003004003_00001","Work Streams","A skilled and capable workforce to support an inclusive growth path","Governance","OWN MUNICIPAL STRATEGIC OBJECTIVE                                          ",null,null,"R-ADMIN OR HEAD OFFICE",0,0,12899.3,12396.09,16341.3,15909,{"v":15909,"d":"16"},0,{"v":27000,"d":"27"},{"v":27891,"d":"28"},{"v":28784,"d":"29"}]
["Administrative And Corporate Support","Human Resource Management","PO003020003_00004","Work Streams","Responsive; accountable; effective and efficient local government","Governance","OWN MUNICIPAL STRATEGIC OBJECTIVE                                          ",null,null,"R-ADMIN OR HEAD OFFICE",0,0,0,0,0,18181,{"v":18181,"d":"18"},0,{"v":70000,"d":"70"},{"v":72310,"d":"72"},{"v":74624,"d":"75"}]
["Administrative And Corporate Support","O_Tws_Capacity Build Train & Dev_Workshops; Seminars & Subject Matter Train","PO003004010_00005","Work Streams","A skilled and capable workforce to support an inclusive growth path","Governance","OWN MUNICIPAL STRATEGIC OBJECTIVE                                          ",null,null,"R-ADMIN OR HEAD OFFICE",0,0,0,114495.51,34500,0,0,0,0,0,0]
["Administrative And Corporate Support","O_Tws_Capacity Build Train & Dev_Workshops; Seminars & Subject Matter Train","PO003004010_00011","Work Streams","A skilled and capable workforce to support an inclusive growth path","Governance","OWN MUNICIPAL STRATEGIC OBJECTIVE                                          ",null,null,"R-ADMIN OR HEAD OFFICE",0,0,329577.22,141952.71,369306.76,308454,{"v":551628,"d":"552"},0,{"v":300000,"d":"300"},{"v":309900,"d":"310"},{"v":319817,"d":"320"}]
["Administrative And Corporate Support","Capital Spares","PO001001001002007010_00001","Preventative Maintenance","An efficient; competitive and responsive economic infrastructure network","Inclusion and Access","OWN MUNICIPAL STRATEGIC OBJECTIVE                                          ","Water Supply Infrastructure","Capital Spares","R-WHOLE OF THE DISTRICT",0,0,5629010.68,10696287.82,7513508.38,10118181,{"v":8995998,"d":"8,996"},0,{"v":6875838,"d":"6,876"},{"v":7102741,"d":"7,103"},{"v":7330028,"d":"7,330"}]
["Administrative And Corporate Support","Mechanical Equipment","PO001001001002007008007_00001","Preventative Maintenance","An efficient; competitive and responsive economic infrastructure network","Inclusion and Access","OWN MUNICIPAL STRATEGIC OBJECTIVE                                          ","Water Supply Infrastructure","Pump Stations","R-WHOLE OF THE DISTRICT",0,0,8961101.6,9614847.28,11207171.12,9472727,{"v":9579809,"d":"9,580"},0,{"v":8463002,"d":"8,463"},{"v":8742281,"d":"8,742"},{"v":9022034,"d":"9,022"}]
["Administrative And Corporate Support","Pipe Work","PO001001001002007006010_00003","Preventative Maintenance","An efficient; competitive and responsive economic infrastructure network","Inclusion and Access","OWN MUNICIPAL STRATEGIC OBJECTIVE                                          ","Water Supply Infrastructure","Reservoirs","R-ADMIN OR HEAD OFFICE",0,0,10094855.63,10789538.33,19451557.9,10422727,{"v":14794615,"d":"14,795"},0,{"v":6963002,"d":"6,963"},{"v":7192781,"d":"7,193"},{"v":7422950,"d":"7,423"}]
["Governance Function","O_Municipal Running Cost","PO002_00000","Municipal Running Cost","Sustainable human settlements and improved quality of household life","Governance","OWN MUNICIPAL STRATEGIC OBJECTIVE                                          ",null,null,"R-ADMIN OR HEAD OFFICE",0,0,8082841.9,8411938.66,11016360.43,9522258,{"v":9596225,"d":"9,596"},0,{"v":10036978,"d":"10,037"},{"v":10434874,"d":"10,435"},{"v":10848040,"d":"10,848"}]
["Governance Function","Disciplinary Committee","PO003020001_00001","Work Streams","Responsive; accountable; effective and efficient local government","Governance","OWN MUNICIPAL STRATEGIC OBJECTIVE                                          ",null,null,"R-ADMIN OR HEAD OFFICE",0,0,46273.12,0,0,142363,{"v":142363,"d":"142"},0,{"v":147631,"d":"148"},{"v":152503,"d":"153"},{"v":157383,"d":"157"}]
["Governance Function","Risk Management","PO003044015_00001","Work Streams","Responsive; accountable; effective and efficient local government","Inclusion and Access","OWN MUNICIPAL STRATEGIC OBJECTIVE                                          ",null,null,"R-ADMIN OR HEAD OFFICE",0,0,155259.68,14900,168000,227272,{"v":247272,"d":"247"},0,{"v":300000,"d":"300"},{"v":309900,"d":"310"},{"v":319817,"d":"320"}]
["Mayor And Council","O_Municipal Running Cost","PO002_00000","Municipal Running Cost","Sustainable human settlements and improved quality of household life","Governance","OWN MUNICIPAL STRATEGIC OBJECTIVE                                          ",null,null,"R-ADMIN OR HEAD OFFICE",0,0,17452027.61,15967238.78,18350566.58,19967341,{"v":19467435,"d":"19,467"},0,{"v":20883991,"d":"20,884"},{"v":21660462,"d":"21,660"},{"v":22457348,"d":"22,457"}]
["Mayor And Council","O_Municipal Running Cost","PO002_00000","Municipal Running Cost","Sustainable human settlements and improved quality of household life","Governance","OWN MUNICIPAL STRATEGIC OBJECTIVE                                          ",null,null,"R-WHOLE OF THE DISTRICT",0,0,485323.63,469039.05,445324.43,1010755,{"v":1010156,"d":"1,010"},0,{"v":1050551,"d":"1,051"},{"v":1092542,"d":"1,093"},{"v":1136206,"d":"1,136"}]
["Mayor And Council","Awareness And Information","PO003002001_00001","Work Streams","Sustainable human settlements and improved quality of household life","Inclusion and Access","OWN MUNICIPAL STRATEGIC OBJECTIVE                                          ",null,null,"R-WHOLE OF THE DISTRICT",0,0,0,0,0,100000,{"v":135248,"d":"135"},0,{"v":100000,"d":"100"},{"v":103300,"d":"103"},{"v":106607,"d":"107"}]
["Mayor And Council","Capacity Building Councillors","PO003004002_00001","Work Streams","A skilled and capable workforce to support an inclusive growth path","Governance","OWN MUNICIPAL STRATEGIC OBJECTIVE                                          ",null,null,"R-ADMIN OR HEAD OFFICE",0,0,0,29368.48,52500,0,0,0,0,0,0]
["Mayor And Council","Capacity Building Local Municipalities (District Boundaries)","PO003004003_00001","Work Streams","A skilled and capable workforce to support an inclusive growth path","Governance","OWN MUNICIPAL STRATEGIC OBJECTIVE                                          ",null,null,"R-ADMIN OR HEAD OFFICE",0,0,1014961.07,759279.47,1014553.98,723207,{"v":1625070,"d":"1,625"},0,{"v":1000000,"d":"1,000"},{"v":1033000,"d":"1,033"},{"v":1066056,"d":"1,066"}]
["Mayor And Council","Community Development Initiatives","PO003007003_00002","Work Streams","A comprehensive; responsive and sustainable social protection system","Inclusion and Access","OWN MUNICIPAL STRATEGIC OBJECTIVE                                          ",null,null,"R-WHOLE OF THE DISTRICT",0,0,0,0,0,167272,{"v":209992,"d":"210"},0,{"v":217762,"d":"218"},{"v":224949,"d":"225"},{"v":232147,"d":"232"}]
["Mayor And Council","Community Initiatives","PO003007002_00001","Work Streams","A comprehensive; responsive and sustainable social protection system","Inclusion and Access",{"$nulls":3},"R-WHOLE OF THE DISTRICT",0,0,0,0,0,0,0,0,{"v":150000,"d":"150"},{"v":154950,"d":"155"},{"v":159909,"d":"160"}]
["Mayor And Council","Drinking Water Quality","PO003011_00002","Work Streams","A long and healthy life for all South Africans","Inclusion and Access","OWN MUNICIPAL STRATEGIC OBJECTIVE                                          ",null,null,"R-ADMIN OR HEAD OFFICE",0,0,0,0,0,0,0,0,{"v":100000,"d":"100"},{"v":103300,"d":"103"},{"v":106606,"d":"107"}]
["Mayor And Council","Government Information System (Gis) Project And Support","PO003044007_00010","Work Streams","Responsive; accountable; effective and efficient local government","Spatial Integration","OWN MUNICIPAL STRATEGIC OBJECTIVE                                          ",null,null,"R-ADMIN OR HEAD OFFICE",0,0,12250,0,0,99654,{"v":50000,"d":"50"},0,{"v":51850,"d":"52"},{"v":53562,"d":"54"},{"v":55276,"d":"55"}]
["Mayor And Council","Government Information System (Gis) Project And Support","PO003044007_00017","Work Streams","Responsive; accountable; effective and efficient local government","Spatial Integration","OWN MUNICIPAL STRATEGIC OBJECTIVE                                          ",null,null,"R-ADMIN OR HEAD OFFICE",0,0,0,0,130413.04,0,0,0,0,0,0]
["Mayor And Council","Holiday Program","PO003007012_00001","Work Streams","A comprehensive; responsive and sustainable social protection system","Inclusion and Access","OWN MUNICIPAL STRATEGIC OBJECTIVE                                          ",null,null,"R-ADMIN OR HEAD OFFICE",0,0,114312.35,55522.64,13700,0,0,0,0,0,0]
["Mayor And Council","Idp Planning And Revision","PO003044008_00004","Work Streams","Responsive; accountable; effective and efficient local government","Spatial Integration","OWN MUNICIPAL STRATEGIC OBJECTIVE                                          ",null,null,"R-WHOLE OF THE DISTRICT",0,0,0,0,0,1500000,{"v":986125,"d":"986"},0,{"v":1000000,"d":"1,000"},{"v":1033000,"d":"1,033"},{"v":1066056,"d":"1,066"}]
["Mayor And Council","Indigent And Cultural Management And Services","PO003021_00002","Work Streams","Responsive; accountable; effective and efficient local government","Inclusion and Access","OWN MUNICIPAL STRATEGIC OBJECTIVE                                          ",null,null,"R-WHOLE OF THE DISTRICT",0,0,0,0,0,0,0,0,{"v":750000,"d":"750"},{"v":774750,"d":"775"},{"v":799542,"d":"800"}]
["Mayor And Council","Mayoral/Executive Mayor Campaigns","PO003006004_00001","Work Streams","Sustainable human settlements and improved quality of household life","Inclusion and Access","OWN MUNICIPAL STRATEGIC OBJECTIVE                                          ",null,null,"R-ADMIN OR HEAD OFFICE",0,0,161130.5,133877.5,3548.9,142363,{"v":200930,"d":"201"},0,{"v":300000,"d":"300"},{"v":309900,"d":"310"},{"v":319817,"d":"320"}]
["Mayor And Council","Mayoral/Executive Mayor Campaigns","PO003006004_00002","Work Streams","Sustainable human settlements and improved quality of household life","Inclusion and Access","OWN MUNICIPAL STRATEGIC OBJECTIVE                                          ",null,null,"R-ADMIN OR HEAD OFFICE",0,0,0,0,0,100000,{"v":149550,"d":"150"},0,{"v":155084,"d":"155"},{"v":160201,"d":"160"},{"v":165328,"d":"165"}]
["Mayor And Council","Mayoral/Executive Mayor Campaigns","PO003006004_00003","Work Streams","Sustainable human settlements and improved quality of household life","Inclusion and Access","OWN MUNICIPAL STRATEGIC OBJECTIVE                                          ",null,null,"R-ADMIN OR HEAD OFFICE",0,0,218727.48,111256.42,91547.24,284727,{"v":561682,"d":"562"},0,{"v":750000,"d":"750"},{"v":774750,"d":"775"},{"v":799542,"d":"800"}]
["Mayor And Council","Mayoral/Executive Mayor Campaigns","PO003006004_00004","Work Streams","Sustainable human settlements and improved quality of household life","Inclusion and Access","OWN MUNICIPAL STRATEGIC OBJECTIVE                                          ",null,null,"R-ADMIN OR HEAD OFFICE",0,0,0,0,0,47454,{"v":147454,"d":"147"},0,0,0,0]
["Mayor And Council","Newsletters","PO003006005_00002","Work Streams","Sustainable human settlements and improved quality of household life","Inclusion and Access","OWN MUNICIPAL STRATEGIC OBJECTIVE                                          ",null,null,"R-ADMIN OR HEAD OFFICE",0,0,212946.5,105000,0,295454,{"v":431800,"d":"432"},0,{"v":500000,"d":"500"},{"v":516500,"d":"517"},{"v":533028,"d":"533"}]
["Mayor And Council","O_Tws_Capacity Build Train & Dev_Workshops; Seminars & Subject Matter Train","PO003004010_00008","Work Streams","A skilled and capable workforce to support an inclusive growth path","Governance","OWN MUNICIPAL STRATEGIC OBJECTIVE                                          ",null,null,"R-ADMIN OR HEAD OFFICE",0,0,0,341215.09,73135.16,0,0,0,0,0,0]
["Mayor And Council","O_Tws_Capacity Build Train & Dev_Workshops; Seminars & Subject Matter Train","PO003004010_00011","Work Streams","A skilled and capable workforce to support an inclusive growth path","Governance","OWN MUNICIPAL STRATEGIC OBJECTIVE                                          ",null,null,"R-ADMIN OR HEAD OFFICE",0,0,497112.59,344679.27,249560.91,370145,{"v":636656,"d":"637"},0,{"v":350000,"d":"350"},{"v":361550,"d":"362"},{"v":373120,"d":"373"}]
["Mayor And Council","O_Tws_Capacity Build Train & Dev_Workshops; Seminars & Subject Matter Train","PO003004010_00013","Work Streams","A skilled and capable workforce to support an inclusive growth path","Governance",{"$nulls":3},"R-ADMIN OR HEAD OFFICE",0,0,0,0,0,0,0,0,{"v":150000,"d":"150"},{"v":154950,"d":"155"},{"v":159909,"d":"160"}]
["Municipal Manager, Town Secretary And Chief Executive","O_Municipal Running Cost","PO002_00000","Municipal Running Cost","Sustainable human settlements and improved quality of household life","Governance","OWN MUNICIPAL STRATEGIC OBJECTIVE                                          ",null,null,"R-ADMIN OR HEAD OFFICE",0,0,11306123.87,8759978.38,5733057.61,13208310,{"v":13235780,"d":"13,236"},0,{"v":13292824,"d":"13,293"},{"v":13750512,"d":"13,751"},{"v":14213139,"d":"14,213"}]
["Municipal Manager, Town Secretary And Chief Executive","O_Municipal Running Cost","PO002_00000","Municipal Running Cost","Sustainable human settlements and improved quality of household life","Governance","OWN MUNICIPAL STRATEGIC OBJECTIVE                                          ",null,null,"R-WHOLE OF THE DISTRICT",0,0,3502403.99,3115591.15,2871148.38,3626219,{"v":4163715,"d":"4,164"},0,{"v":4330175,"d":"4,330"},{"v":4503157,"d":"4,503"},{"v":4683020,"d":"4,683"}]
["Municipal Manager, Town Secretary And Chief Executive","Capacity Building Local Municipalities (District Boundaries)","PO003004003_00001","Work Streams","A skilled and capable workforce to support an inclusive growth path","Governance","OWN MUNICIPAL STRATEGIC OBJECTIVE                                          ",null,null,"R-ADMIN OR HEAD OFFICE",0,0,28420.63,30476.86,24944.89,66436,{"v":66436,"d":"66"},0,{"v":68895,"d":"69"},{"v":71168,"d":"71"},{"v":73446,"d":"73"}]
["Municipal Manager, Town Secretary And Chief Executive","Government Information System (Gis) Project And Support","PO003044007_00010","Work Streams","Responsive; accountable; effective and efficient local government","Spatial Integration","OWN MUNICIPAL STRATEGIC OBJECTIVE                                          ",null,null,"R-ADMIN OR HEAD OFFICE",0,0,0,29654.2,0,99274,{"v":86274,"d":"86"},0,{"v":89467,"d":"89"},{"v":92419,"d":"92"},{"v":95376,"d":"95"}]
["Municipal Manager, Town Secretary And Chief Executive","Special Events And Functions","PO003017005_00001","Work Streams","An efficient; effective and development-oriented public service","Inclusion and Access","OWN MUNICIPAL STRATEGIC OBJECTIVE                                          ",null,null,"R-WHOLE OF THE DISTRICT",0,0,0,0,0,130000,{"v":104400,"d":"104"},0,{"v":108263,"d":"108"},{"v":111837,"d":"112"},{"v":115416,"d":"115"}]
["Finance","O_Municipal Running Cost","PO002_00000","Municipal Running Cost","Sustainable human settlements and improved quality of household life","Governance","OWN MUNICIPAL STRATEGIC OBJECTIVE                                          ",null,null,"R-ADMIN OR HEAD OFFICE",0,0,21574741.43,21792808.02,15392322.95,18478456,{"v":30031678,"d":"30,032"},0,{"v":28080133,"d":"28,080"},{"v":29042483,"d":"29,042"},{"v":29998382,"d":"29,998"}]
["Finance","O_Municipal Running Cost","PO002_00000","Municipal Running Cost","Sustainable human settlements and improved quality of household life","Governance","OWN MUNICIPAL STRATEGIC OBJECTIVE                                          ",null,null,"R-WHOLE OF THE DISTRICT",0,0,86474.35,86474.33,56137.9,65729,{"v":65729,"d":"66"},0,{"v":118359,"d":"118"},{"v":122264,"d":"122"},{"v":126177,"d":"126"}]
["Finance","Abet And Life Long Learning Programme","PO003004001_00001","Work Streams","A skilled and capable workforce to support an inclusive growth path","Governance","OWN MUNICIPAL STRATEGIC OBJECTIVE                                          ",null,null,"R-ADMIN OR HEAD OFFICE",0,0,523705.14,599469.95,94323.48,238056,{"v":237672,"d":"238"},0,{"v":450000,"d":"450"},{"v":361550,"d":"362"},{"v":491472,"d":"491"}]
["Finance","Assistance To Local Municipalities (Capacity Building)","PO003010001_00001","Work Streams","A skilled and capable workforce to support an inclusive growth path","Inclusion and Access","OWN MUNICIPAL STRATEGIC OBJECTIVE                                          ",null,null,"R-ADMIN OR HEAD OFFICE",0,0,306027.99,201107.18,269731.78,379635,{"v":417599,"d":"418"},0,{"v":433050,"d":"433"},{"v":447341,"d":"447"},{"v":461656,"d":"462"}]
["Finance","Financial Systems","PO003050005_00001","Work Streams","Responsive; accountable; effective and efficient local government","Governance","OWN MUNICIPAL STRATEGIC OBJECTIVE                                          ",null,null,"R-ADMIN OR HEAD OFFICE",0,0,4646697.67,3043368.87,3508791.33,3636363,{"v":4000000,"d":"4,000"},0,{"v":4148000,"d":"4,148"},{"v":4284884,"d":"4,285"},{"v":4422001,"d":"4,422"}]
["Finance","Financial Systems","PO003050005_00002","Work Streams","Responsive; accountable; effective and efficient local government","Governance","OWN MUNICIPAL STRATEGIC OBJECTIVE                                          ",null,null,"R-ADMIN OR HEAD OFFICE",0,0,0,0,216930.97,200000,{"v":200000,"d":"200"},0,{"v":300000,"d":"300"},{"v":454186,"d":"454"},{"v":503040,"d":"503"}]
["Finance","Government Information System (Gis) Project And Support","PO003044007_00006","Work Streams","Responsive; accountable; effective and efficient local government","Spatial Integration","OWN MUNICIPAL STRATEGIC OBJECTIVE                                          ",null,null,"R-ADMIN OR HEAD OFFICE",0,0,0,0,33986.94,284727,{"v":284727,"d":"285"},0,{"v":295262,"d":"295"},{"v":305006,"d":"305"},{"v":314766,"d":"315"}]
["Human Resources","O_Municipal Running Cost","PO002_00000","Municipal Running Cost","Sustainable human settlements and improved quality of household life","Governance","OWN MUNICIPAL STRATEGIC OBJECTIVE                                          ",null,null,"R-ADMIN OR HEAD OFFICE",0,0,8342393.8,8198991.39,9583554.44,9756463,{"v":9711359,"d":"9,711"},0,{"v":10362453,"d":"10,362"},{"v":10767796,"d":"10,768"},{"v":11187704,"d":"11,188"}]
["Human Resources","Disaster Relief","PO003014003_00001","Work Streams","A comprehensive; responsive and sustainable social protection system","Governance","OWN MUNICIPAL STRATEGIC OBJECTIVE                                          ",null,null,"R-ADMIN OR HEAD OFFICE",0,0,0,0,55000,0,0,0,0,0,0]
["Human Resources","Employee Assistance Programme","PO003020002_00003","Work Streams","Responsive; accountable; effective and efficient local government","Governance","OWN MUNICIPAL STRATEGIC OBJECTIVE                                          ",null,null,"R-ADMIN OR HEAD OFFICE",0,0,25539.16,19871.85,7750,0,0,0,0,0,0]
["Human Resources","Employee Assistance Programme","PO003020002_00005","Work Streams","Responsive; accountable; effective and efficient local government","Governance","OWN MUNICIPAL STRATEGIC OBJECTIVE                                          ",null,null,"R-ADMIN OR HEAD OFFICE",0,0,0,0,0,150727,{"v":180642,"d":"181"},0,{"v":114636,"d":"115"},{"v":118419,"d":"118"},{"v":122209,"d":"122"}]
["Human Resources","Government Information System (Gis) Project And Support","PO003044007_00012","Work Streams","Responsive; accountable; effective and efficient local government","Spatial Integration","OWN MUNICIPAL STRATEGIC OBJECTIVE                                          ",null,null,"R-ADMIN OR HEAD OFFICE",0,0,4116482.17,2734679,2345432,4000000,{"v":5355753,"d":"5,356"},0,{"v":5000000,"d":"5,000"},{"v":5165000,"d":"5,165"},{"v":5330280,"d":"5,330"}]
["Human Resources","Human Resource Management","PO003020003_00002","Work Streams","Responsive; accountable; effective and efficient local government","Governance","OWN MUNICIPAL STRATEGIC OBJECTIVE                                          ",null,null,"R-ADMIN OR HEAD OFFICE",0,0,58896.28,16365.49,72422.65,26944,{"v":79395,"d":"79"},0,{"v":100000,"d":"100"},{"v":103300,"d":"103"},{"v":106606,"d":"107"}]
["Human Resources","Municipal Health Service","PO003019004_00001","Work Streams","A long and healthy life for all South Africans","Inclusion and Access","OWN MUNICIPAL STRATEGIC OBJECTIVE                                          ",null,null,"R-ADMIN OR HEAD OFFICE",0,0,0,0,0,354865,{"v":354865,"d":"355"},0,{"v":360000,"d":"360"},{"v":371880,"d":"372"},{"v":383781,"d":"384"}]
["Human Resources","O_Tws_Capacity Build Train & Dev_Workshops; Seminars & Subject Matter Train","PO003004010_00002","Work Streams","A skilled and capable workforce to support an inclusive growth path","Governance","OWN MUNICIPAL STRATEGIC OBJECTIVE                                          ",null,null,"R-ADMIN OR HEAD OFFICE",0,0,1529373.29,73860.95,215102.88,1818181,{"v":1818181,"d":"1,818"},0,{"v":1900000,"d":"1,900"},{"v":1962700,"d":"1,963"},{"v":2025507,"d":"2,026"}]
["Human Resources","O_Tws_Capacity Build Train & Dev_Workshops; Seminars & Subject Matter Train","PO003004010_00014","Work Streams","A skilled and capable workforce to support an inclusive growth path","Governance","OWN MUNICIPAL STRATEGIC OBJECTIVE                                          ",null,null,"R-ADMIN OR HEAD OFFICE",0,0,31354.22,24832.28,0,0,0,0,0,0,0]
["Human Resources","O_Tws_Capacity Build Train & Dev_Workshops; Seminars & Subject Matter Train","PO003004010_00015","Work Streams","A skilled and capable workforce to support an inclusive growth path","Governance","OWN MUNICIPAL STRATEGIC OBJECTIVE                                          ",null,null,"R-ADMIN OR HEAD OFFICE",0,0,0,0,0,369504,{"v":867876,"d":"868"},0,{"v":473224,"d":"473"},{"v":488841,"d":"489"},{"v":504483,"d":"504"}]
["Information Technology","O_Municipal Running Cost","PO002_00000","Municipal Running Cost","Sustainable human settlements and improved quality of household life","Governance","OWN MUNICIPAL STRATEGIC OBJECTIVE                                          ",null,null,"R-ADMIN OR HEAD OFFICE",0,0,72499768.87,63499725.69,55521235.63,66078379,{"v":82757234,"d":"82,757"},0,{"v":82354154,"d":"82,354"},{"v":85180035,"d":"85,180"},{"v":88034391,"d":"88,034"}]
["Information Technology","O_Municipal Running Cost","PO002_00000","Municipal Running Cost","Sustainable human settlements and improved quality of household life","Governance","OWN MUNICIPAL STRATEGIC OBJECTIVE                                          ",null,null,"R-WHOLE OF THE DISTRICT",0,0,1301090.55,1313050.83,1847296.26,2121500,{"v":2122830,"d":"2,123"},0,{"v":11217688,"d":"11,218"},{"v":11587869,"d":"11,588"},{"v":11958682,"d":"11,959"}]
["Information Technology","Employee Assistance Programme","PO003020002_00001","Work Streams","Responsive; accountable; effective and efficient local government","Governance","OWN MUNICIPAL STRATEGIC OBJECTIVE                                          ",null,null,"R-ADMIN OR HEAD OFFICE",0,0,627500,240635,311825,727272,{"v":943000,"d":"943"},0,{"v":977891,"d":"978"},{"v":1010162,"d":"1,010"},{"v":1042487,"d":"1,042"}]
["Information Technology","Government Information System (Gis) Project And Support","PO003044007_00007","Work Streams","Responsive; accountable; effective and efficient local government","Spatial Integration","OWN MUNICIPAL STRATEGIC OBJECTIVE                                          ",null,null,"R-ADMIN OR HEAD OFFICE",0,0,0,0,485.03,9090,{"v":1500,"d":"2"},0,{"v":1556,"d":"2"},{"v":1607,"d":"2"},{"v":1659,"d":"2"}]
["Information Technology","Government Information System (Gis) Project And Support","PO003044007_00008","Work Streams","Responsive; accountable; effective and efficient local government","Spatial Integration","OWN MUNICIPAL STRATEGIC OBJECTIVE                                          ",null,null,"R-ADMIN OR HEAD OFFICE",0,0,444981,376591.81,425819.75,569454,{"v":123000,"d":"123"},0,{"v":300000,"d":"300"},{"v":309900,"d":"310"},{"v":319817,"d":"320"}]
["Information Technology","Government Information System (Gis) Project And Support","PO003044007_00010","Work Streams","Responsive; accountable; effective and efficient local government","Spatial Integration","OWN MUNICIPAL STRATEGIC OBJECTIVE                                          ",null,null,"R-ADMIN OR HEAD OFFICE",0,0,1913653.36,850239.91,758951.4,409090,{"v":947112,"d":"947"},0,{"v":982155,"d":"982"},{"v":1014566,"d":"1,015"},{"v":1047032,"d":"1,047"}]
["Information Technology","Government Information System (Gis) Project And Support","PO003044007_00014","Work Streams","Responsive; accountable; effective and efficient local government","Spatial Integration","OWN MUNICIPAL STRATEGIC OBJECTIVE                                          ",null,null,"R-ADMIN OR HEAD OFFICE",0,0,417167.4,480698.31,1253701.18,545454,{"v":480705,"d":"481"},0,{"v":498491,"d":"498"},{"v":514941,"d":"515"},{"v":531419,"d":"531"}]
["Information Technology","Government Information System (Gis) Project And Support","PO003044007_00015","Work Streams","Responsive; accountable; effective and efficient local government","Spatial Integration","OWN MUNICIPAL STRATEGIC OBJECTIVE                                          ",null,null,"R-ADMIN OR HEAD OFFICE",0,0,803997.46,1714663.62,3932895.21,454545,{"v":613780,"d":"614"},0,{"v":221690,"d":"222"},{"v":229006,"d":"229"},{"v":236334,"d":"236"}]
["Information Technology","O_Tws_Capacity Build Train & Dev_Workshops; Seminars & Subject Matter Train","PO003004010_00013","Work Streams","A skilled and capable workforce to support an inclusive growth path","Governance","OWN MUNICIPAL STRATEGIC OBJECTIVE                                          ",null,null,"R-ADMIN OR HEAD OFFICE",0,0,493750,651000,300000,474545,{"v":658830,"d":"659"},0,{"v":2000000,"d":"2,000"},{"v":2066000,"d":"2,066"},{"v":2132112,"d":"2,132"}]
["Information Technology","Computer Equipment","PO001002002001004_00001","Corrective Maintenance","An efficient; effective and development-oriented public service","Governance","OWN MUNICIPAL STRATEGIC OBJECTIVE                                          ","Computer Equipment","Computer Equipment","R-ADMIN OR HEAD OFFICE",0,0,40832.22,15900,15500,47454,{"v":33000,"d":"33"},0,{"v":34221,"d":"34"},{"v":35351,"d":"35"},{"v":36482,"d":"36"}]
["Information Technology","Computer Equipment","PO001002002001004_00002","Corrective Maintenance","An efficient; effective and development-oriented public service","Governance","OWN MUNICIPAL STRATEGIC OBJECTIVE                                          ","Computer Equipment","Computer Equipment","R-ADMIN OR HEAD OFFICE",0,0,0,0,1987.9,29345,{"v":29345,"d":"29"},0,{"v":30431,"d":"30"},{"v":31435,"d":"31"},{"v":32441,"d":"32"}]
["Information Technology","Mechanical Equipment","PO001002001001002002001007_00001","Preventative Maintenance","A long and healthy life for all South Africans","Inclusion and Access","OWN MUNICIPAL STRATEGIC OBJECTIVE                                          ","Sport And Recreation Facilities","Indoor Facilities","R-ADMIN OR HEAD OFFICE",0,0,76795,87208.8,62765,272727,{"v":169600,"d":"170"},0,{"v":250000,"d":"250"},{"v":258250,"d":"258"},{"v":266514,"d":"267"}]
["Information Technology","Transport Assets","PO001002001001010_00001","Preventative Maintenance",null,"Governance","OWN MUNICIPAL STRATEGIC OBJECTIVE                                          ","Transport Assets","Transport Assets","R-ADMIN OR HEAD OFFICE",0,0,478016.4,49050,204408.05,332181,{"v":160083,"d":"160"},0,{"v":166006,"d":"166"},{"v":171485,"d":"171"},{"v":176972,"d":"177"}]
["Legal Services","O_Municipal Running Cost","PO002_00000","Municipal Running Cost","Sustainable human settlements and improved quality of household life","Governance","OWN MUNICIPAL STRATEGIC OBJECTIVE                                          ",null,null,"R-ADMIN OR HEAD OFFICE",0,0,2001171.74,1970044.88,1924802.41,2774240,{"v":3005362,"d":"3,005"},0,{"v":3125524,"d":"3,126"},{"v":3250410,"d":"3,250"},{"v":3380262,"d":"3,380"}]
["Marketing, Customer Relations, Publicity And Media Co-Ordination","O_Municipal Running Cost","PO002_00000","Municipal Running Cost","Sustainable human settlements and improved quality of household life","Governance","OWN MUNICIPAL STRATEGIC OBJECTIVE                                          ",null,null,"R-ADMIN OR HEAD OFFICE",0,0,0,0,29500,19854,{"v":19854,"d":"20"},0,{"v":20589,"d":"21"},{"v":21269,"d":"21"},{"v":21949,"d":"22"}]
["Marketing, Customer Relations, Publicity And Media Co-Ordination","O_Municipal Running Cost","PO002_00000","Municipal Running Cost","Sustainable human settlements and improved quality of household life","Governance","OWN MUNICIPAL STRATEGIC OBJECTIVE                                          ",null,null,"R-WHOLE OF THE DISTRICT",0,0,1950314.4,2211682.26,2104409.04,2548916,{"v":2750212,"d":"2,750"},0,{"v":2859613,"d":"2,860"},{"v":2972302,"d":"2,972"},{"v":3089195,"d":"3,089"}]
["Marketing, Customer Relations, Publicity And Media Co-Ordination","Mayoral/Executive Mayor Campaigns","PO003006004_00004","Work Streams","Sustainable human settlements and improved quality of household life","Inclusion and Access","OWN MUNICIPAL STRATEGIC OBJECTIVE                                          ",null,null,"R-ADMIN OR HEAD OFFICE",0,0,22400,13000,23500,29782,{"v":50000,"d":"50"},0,{"v":51850,"d":"52"},{"v":53562,"d":"54"},{"v":55276,"d":"55"}]
["Marketing, Customer Relations, Publicity And Media Co-Ordination","O_Tws_Capacity Build Train & Dev_Workshops; Seminars & Subject Matter Train","PO003004010_00015","Work Streams","A skilled and capable workforce to support an inclusive growth path","Governance","OWN MUNICIPAL STRATEGIC OBJECTIVE                                          ",null,null,"R-ADMIN OR HEAD OFFICE",0,0,14980,0,0,237272,{"v":207272,"d":"207"},0,{"v":214942,"d":"215"},{"v":222035,"d":"222"},{"v":229140,"d":"229"}]
["Supply Chain Management","O_Municipal Running Cost","PO002_00000","Municipal Running Cost","Sustainable human settlements and improved quality of household life","Governance","OWN MUNICIPAL STRATEGIC OBJECTIVE                                          ",null,null,"R-ADMIN OR HEAD OFFICE",0,0,16008495.31,15387230.83,14837919.89,11973229,{"v":12541029,"d":"12,541"},0,{"v":13016805,"d":"13,017"},{"v":13528793,"d":"13,529"},{"v":14059694,"d":"14,060"}]
["Supply Chain Management","Capacity Building Local Municipalities (District Boundaries)","PO003004003_00001","Work Streams","A skilled and capable workforce to support an inclusive growth path","Governance","OWN MUNICIPAL STRATEGIC OBJECTIVE                                          ",null,null,"R-ADMIN OR HEAD OFFICE",0,0,46663.32,44584.45,16019.15,66436,{"v":66436,"d":"66"},0,{"v":68895,"d":"69"},{"v":71168,"d":"71"},{"v":73446,"d":"73"}]
["Supply Chain Management","O_Tws_Capacity Build Train & Dev_Workshops; Seminars & Subject Matter Train","PO003004010_00011","Work Streams","A skilled and capable workforce to support an inclusive growth path","Governance","OWN MUNICIPAL STRATEGIC OBJECTIVE                                          ",null,null,"R-ADMIN OR HEAD OFFICE",0,0,292810.41,316466.95,307534.37,454545,{"v":352439,"d":"352"},0,{"v":365479,"d":"365"},{"v":377540,"d":"378"},{"v":389621,"d":"390"}]
["Disaster Management","O_Municipal Running Cost","PO002_00000","Municipal Running Cost","Sustainable human settlements and improved quality of household life","Governance","OWN MUNICIPAL STRATEGIC OBJECTIVE                                          ",null,null,"R-ADMIN OR HEAD OFFICE",0,0,15695409.34,17184813.45,15780660.81,19080243,{"v":17338083,"d":"17,338"},0,{"v":18154494,"d":"18,154"},{"v":18877793,"d":"18,878"},{"v":19629511,"d":"19,630"}]
["Disaster Management","O_Municipal Running Cost","PO002_00000","Municipal Running Cost","Sustainable human settlements and improved quality of household life","Governance","OWN MUNICIPAL STRATEGIC OBJECTIVE                                          ",null,null,"R-WHOLE OF THE DISTRICT",0,0,751013.78,1060539.3,1498444.87,1733416,{"v":1733416,"d":"1,733"},0,{"v":12000,"d":"12"},{"v":12396,"d":"12"},{"v":12795,"d":"13"}]
["Disaster Management","Disaster Management","PO003014002_00001","Work Streams","A comprehensive; responsive and sustainable social protection system","Governance","OWN MUNICIPAL STRATEGIC OBJECTIVE                                          ",null,null,"R-ADMIN OR HEAD OFFICE",0,0,533880.11,496774.29,365945.64,1200000,{"v":858578,"d":"859"},0,{"v":1070097,"d":"1,070"},{"v":1105410,"d":"1,105"},{"v":1140784,"d":"1,141"}]
["Disaster Management","Disaster Management","PO003014002_00003","Work Streams","A comprehensive; responsive and sustainable social protection system","Governance","OWN MUNICIPAL STRATEGIC OBJECTIVE                                          ",null,null,"R-ADMIN OR HEAD OFFICE",0,0,0.2,62400,86000,100909,{"v":100909,"d":"101"},0,{"v":200000,"d":"200"},{"v":206600,"d":"207"},{"v":213212,"d":"213"}]
["Disaster Management","Disaster Management","PO003014002_00004","Work Streams","A comprehensive; responsive and sustainable social protection system","Governance",{"$nulls":3},"R-WHOLE OF THE DISTRICT",0,0,0,0,0,0,0,0,{"v":100000,"d":"100"},{"v":103300,"d":"103"},{"v":106607,"d":"107"}]
["Disaster Management","Drinking Water Quality","PO003011_00001","Work Streams","A long and healthy life for all South Africans","Inclusion and Access","OWN MUNICIPAL STRATEGIC OBJECTIVE                                          ",null,null,"R-ADMIN OR HEAD OFFICE",0,0,975674.03,170105.54,70986.35,500000,{"v":472853,"d":"473"},0,{"v":500000,"d":"500"},{"v":516500,"d":"517"},{"v":533028,"d":"533"}]
["Disaster Management","Environmental Health","PO003015004_00002","Work Streams","Protect and enhance our environmental assets and natural resources","Spatial Integration","OWN MUNICIPAL STRATEGIC OBJECTIVE                                          ",null,null,"R-ADMIN OR HEAD OFFICE",0,0,91355.15,70980,0,150363,{"v":150363,"d":"150"},0,{"v":155927,"d":"156"},{"v":161073,"d":"161"},{"v":166227,"d":"166"}]
["Corporate Wide Strategic Planning (Idps, Leds)","O_Municipal Running Cost","PO002_00000","Municipal Running Cost","Sustainable human settlements and improved quality of household life","Governance","OWN MUNICIPAL STRATEGIC OBJECTIVE                                          ",null,null,"R-ADMIN OR HEAD OFFICE",0,0,2684717.23,3018467.7,2807085.07,3433594,{"v":3471407,"d":"3,471"},0,{"v":3610194,"d":"3,610"},{"v":3754421,"d":"3,754"},{"v":3904381,"d":"3,904"}]
["Corporate Wide Strategic Planning (Idps, Leds)","Budget Road Show Public Participation","PO003006002_00001","Work Streams","Sustainable human settlements and improved quality of household life","Inclusion and Access","OWN MUNICIPAL STRATEGIC OBJECTIVE                                          ",null,null,"R-ADMIN OR HEAD OFFICE",0,0,1567382.94,0,0,0,0,0,0,0,0]
["Corporate Wide Strategic Planning (Idps, Leds)","Idp Planning And Revision","PO003044008_00003","Work Streams","Responsive; accountable; effective and efficient local government","Spatial Integration","OWN MUNICIPAL STRATEGIC OBJECTIVE                                          ",null,null,"R-ADMIN OR HEAD OFFICE",0,0,0,1602335.21,821402.85,0,0,0,0,0,0]
["Economic Development/Planning","O_Municipal Running Cost","PO002_00000","Municipal Running Cost","Sustainable human settlements and improved quality of household life","Governance","OWN MUNICIPAL STRATEGIC OBJECTIVE                                          ",null,null,"R-ADMIN OR HEAD OFFICE",0,0,8185564.74,9012107.4,8847084.46,9815744,{"v":12700827,"d":"12,701"},0,{"v":13282628,"d":"13,283"},{"v":13812622,"d":"13,813"},{"v":14363584,"d":"14,364"}]
["Economic Development/Planning","O_Municipal Running Cost","PO002_00000","Municipal Running Cost","Sustainable human settlements and improved quality of household life","Governance","OWN MUNICIPAL STRATEGIC OBJECTIVE                                          ",null,null,"R-WHOLE OF THE DISTRICT",0,0,90549.61,216203.32,15393537.85,23115861,{"v":23115861,"d":"23,116"},0,{"v":23194819,"d":"23,195"},{"v":25701249,"d":"25,701"},{"v":25207690,"d":"25,208"}]
["Economic Development/Planning","Air Quality Management","PO003015001_00001","Work Streams","Protect and enhance our environmental assets and natural resources","Spatial Integration","OWN MUNICIPAL STRATEGIC OBJECTIVE                                          ",null,null,"R-WHOLE OF THE DISTRICT",0,0,0,612000,216000,0,0,0,0,0,0]
["Economic Development/Planning","Annual Review Of Disaster Management Plan","PO003014001_00001","Work Streams","A comprehensive; responsive and sustainable social protection system","Governance","OWN MUNICIPAL STRATEGIC OBJECTIVE                                          ",null,null,"R-ADMIN OR HEAD OFFICE",0,0,0,0,0,363636,{"v":636363,"d":"636"},0,{"v":400000,"d":"400"},{"v":413200,"d":"413"},{"v":426423,"d":"426"}]
["Economic Development/Planning","Annual Review Of Disaster Management Plan","PO003014001_00002","Work Streams","A comprehensive; responsive and sustainable social protection system","Governance","OWN MUNICIPAL STRATEGIC OBJECTIVE                                          ",null,null,"R-ADMIN OR HEAD OFFICE",0,0,0,0,0,272727,0,0,0,0,0]
["Economic Development/Planning","Capacity Building Local Municipalities (District Boundaries)","PO003004003_00001","Work Streams","A skilled and capable workforce to support an inclusive growth path","Governance","OWN MUNICIPAL STRATEGIC OBJECTIVE                                          ",null,null,"R-ADMIN OR HEAD OFFICE",0,0,16903,7976.5,19252.09,43636,{"v":43636,"d":"44"},0,{"v":45251,"d":"45"},{"v":46744,"d":"47"},{"v":48240,"d":"48"}]
["Economic Development/Planning","Disaster Management","PO003014002_00002","Work Streams","A comprehensive; responsive and sustainable social protection system","Governance","OWN MUNICIPAL STRATEGIC OBJECTIVE                                          ",null,null,"R-ADMIN OR HEAD OFFICE",0,0,129900.2,183040,0,200000,{"v":200000,"d":"200"},0,{"v":300000,"d":"300"},{"v":309900,"d":"310"},{"v":319817,"d":"320"}]
["Economic Development/Planning","Environmental Health","PO003015004_00001","Work Streams","Protect and enhance our environmental assets and natural resources","Spatial Integration","OWN MUNICIPAL STRATEGIC OBJECTIVE                                          ",null,null,"R-WHOLE OF THE DISTRICT",0,0,346000,0,0,108181,0,0,{"v":500000,"d":"500"},{"v":516500,"d":"517"},{"v":533028,"d":"533"}]
["Economic Development/Planning","Municipal Games","PO003043001_00001","Work Streams","An efficient; effective and development-oriented public service","Inclusion and Access","OWN MUNICIPAL STRATEGIC OBJECTIVE                                          ",null,null,"R-ADMIN OR HEAD OFFICE",0,0,0,0,0,0,0,0,{"v":700000,"d":"700"},{"v":723100,"d":"723"},{"v":746240,"d":"746"}]
["Economic Development/Planning","O_Tws_Capacity Build Train & Dev_Workshops; Seminars & Subject Matter Train","PO003004010_00011","Work Streams","A skilled and capable workforce to support an inclusive growth path","Governance","OWN MUNICIPAL STRATEGIC OBJECTIVE                                          ",null,null,"R-WHOLE OF THE DISTRICT",0,0,337012.99,258953.59,295352.46,218181,{"v":290487,"d":"290"},0,{"v":301235,"d":"301"},{"v":311176,"d":"311"},{"v":321134,"d":"321"}]
["Economic Development/Planning","O_Tws_Sport Development_Marathons; Sport And Recreation","PO003043002_00005","Work Streams","An efficient; effective and development-oriented public service","Inclusion and Access","OWN MUNICIPAL STRATEGIC OBJECTIVE                                          ",null,null,"R-ADMIN OR HEAD OFFICE",0,0,0,0,0,0,0,0,{"v":150000,"d":"150"},{"v":154950,"d":"155"},{"v":159909,"d":"160"}]
["Economic Development/Planning","Workshops And Sessions","PO003044016001_00003","Work Streams","Responsive; accountable; effective and efficient local government","Inclusion and Access","OWN MUNICIPAL STRATEGIC OBJECTIVE                                          ",null,null,"R-ADMIN OR HEAD OFFICE",0,0,0,0,20000,0,0,0,0,0,0]
["Economic Development/Planning","Youth Development","PO003007017002_00003","Work Streams","A comprehensive; responsive and sustainable social protection system","Inclusion and Access","OWN MUNICIPAL STRATEGIC OBJECTIVE                                          ",null,null,"R-ADMIN OR HEAD OFFICE",0,0,0,0,0,0,0,0,{"v":750000,"d":"750"},{"v":774750,"d":"775"},{"v":799542,"d":"800"}]
["Project Management Unit","O_Municipal Running Cost","PO002_00000","Municipal Running Cost","Sustainable human settlements and improved quality of household life","Governance","OWN MUNICIPAL STRATEGIC OBJECTIVE                                          ",null,null,"R-ADMIN OR HEAD OFFICE",0,0,0,0,0,350000,{"v":1700000,"d":"1,700"},0,{"v":1082211,"d":"1,082"},{"v":1117924,"d":"1,118"},{"v":1153699,"d":"1,154"}]
["Project Management Unit","O_Municipal Running Cost","PO002_00000","Municipal Running Cost","Sustainable human settlements and improved quality of household life","Governance","OWN MUNICIPAL STRATEGIC OBJECTIVE                                          ",null,null,"R-WHOLE OF THE DISTRICT",0,0,149260562.15,245669438.43,99589555.79,136512308,{"v":135898924,"d":"135,899"},0,{"v":129416739,"d":"129,417"},{"v":135676029,"d":"135,676"},{"v":140143222,"d":"140,143"}]
["Project Management Unit","Clean-Up Actions","PO003005001_00001","Work Streams","Protect and enhance our environmental assets and natural resources","Inclusion and Access","OWN MUNICIPAL STRATEGIC OBJECTIVE                                          ",null,null,"R-ADMIN OR HEAD OFFICE",0,0,5270340.21,7176541.99,9729405.66,8638134,{"v":9344420,"d":"9,344"},0,{"v":9718197,"d":"9,718"},{"v":10106921,"d":"10,107"},{"v":10511190,"d":"10,511"}]
["Project Management Unit","Drinking Water Quality","PO003011_00002","Work Streams","A long and healthy life for all South Africans","Inclusion and Access","OWN MUNICIPAL STRATEGIC OBJECTIVE                                          ",null,null,"R-WHOLE OF THE DISTRICT",0,0,0,0,0,2000000,{"v":2000000,"d":"2,000"},0,0,0,0]
["Project Management Unit","Government Information System (Gis) Project And Support","PO003044007_00010","Work Streams","Responsive; accountable; effective and efficient local government","Spatial Integration","OWN MUNICIPAL STRATEGIC OBJECTIVE                                          ",null,null,"R-ADMIN OR HEAD OFFICE",0,0,0,96562,0,109202,{"v":305054,"d":"305"},0,{"v":317256,"d":"317"},{"v":327726,"d":"328"},{"v":338213,"d":"338"}]
["Project Management Unit","Government Information System (Gis) Project And Support","PO003044007_00020","Work Streams","Responsive; accountable; effective and efficient local government","Spatial Integration","OWN MUNICIPAL STRATEGIC OBJECTIVE                                          ",null,null,"R-ADMIN OR HEAD OFFICE",0,0,0,0,0,600000,{"v":1510840,"d":"1,511"},0,{"v":1571274,"d":"1,571"},{"v":1623126,"d":"1,623"},{"v":1675066,"d":"1,675"}]
["Project Management Unit","Inter Governmental Relations (Igr) Programme","PO003044010_00001","Work Streams","Responsive; accountable; effective and efficient local government","Inclusion and Access","OWN MUNICIPAL STRATEGIC OBJECTIVE                                          ",null,null,"R-WHOLE OF THE DISTRICT",0,0,0,0,0,11950300,{"v":11590300,"d":"11,590"},0,{"v":5579136,"d":"5,579"},{"v":6226330,"d":"6,226"},{"v":6431985,"d":"6,432"}]
["Project Management Unit","O_Tws_Capacity Build Train & Dev_Workshops; Seminars & Subject Matter Train","PO003004010_00011","Work Streams","A skilled and capable workforce to support an inclusive growth path","Governance","OWN MUNICIPAL STRATEGIC OBJECTIVE                                          ",null,null,"R-WHOLE OF THE DISTRICT",0,0,36280.37,231652.67,201403.83,365400,{"v":257720,"d":"258"},0,{"v":268029,"d":"268"},{"v":276875,"d":"277"},{"v":285735,"d":"286"}]
["Project Management Unit","O_Tws_Capacity Build Train & Dev_Workshops; Seminars & Subject Matter Train","PO003004010_00017","Work Streams","A skilled and capable workforce to support an inclusive growth path","Governance","OWN MUNICIPAL STRATEGIC OBJECTIVE                                          ",null,null,"R-WHOLE OF THE DISTRICT",0,0,0,0,0,0,{"v":360000,"d":"360"},0,{"v":390877,"d":"391"},{"v":403776,"d":"404"},{"v":416697,"d":"417"}]
["Project Management Unit","Project","PO003016001_00001","Work Streams","An efficient; effective and development-oriented public service","Inclusion and Access","OWN MUNICIPAL STRATEGIC OBJECTIVE                                          ",null,null,"R-WHOLE OF THE DISTRICT",0,0,3226475.19,0,0,0,0,0,0,0,0]
["Project Management Unit","Buildings","PO001002001002003001001002_00001","Preventative Maintenance","An efficient; effective and development-oriented public service","Governance","OWN MUNICIPAL STRATEGIC OBJECTIVE                                          ","Operational Buildings","Municipal Offices","R-WHOLE OF THE DISTRICT",0,0,3939174.72,4272263.62,4007602.84,4264000,{"v":1833046,"d":"1,833"},0,{"v":1906367,"d":"1,906"},{"v":1969278,"d":"1,969"},{"v":2032294,"d":"2,032"}]
["Project Management Unit","Toilet Facilities","PO004002007005_00001","NEW","An efficient; competitive and responsive economic infrastructure network","Growth","OWN MUNICIPAL STRATEGIC OBJECTIVE                                          ","Sanitation Infrastructure","Toilet Facilities","R-UBUHLEBEZWE",0,0,0,0,5949226.8,0,0,0,0,0,0]
["Support To Local Municipalities","O_Municipal Running Cost","PO002_00000","Municipal Running Cost","Sustainable human settlements and improved quality of household life","Governance","OWN MUNICIPAL STRATEGIC OBJECTIVE                                          ",null,null,"R-ADMIN OR HEAD OFFICE",0,0,2947951.37,2776586.61,3210145.75,4109701,{"v":4413625,"d":"4,414"},0,{"v":3484520,"d":"3,485"},{"v":3616782,"d":"3,617"},{"v":3753048,"d":"3,753"}]
["Support To Local Municipalities","O_Municipal Running Cost","PO002_00000","Municipal Running Cost","Sustainable human settlements and improved quality of household life","Governance","OWN MUNICIPAL STRATEGIC OBJECTIVE                                          ",null,null,"R-WHOLE OF THE DISTRICT",0,0,2057.89,2057.94,2057.96,2409,{"v":2409,"d":"2"},0,{"v":4000,"d":"4"},{"v":4132,"d":"4"},{"v":4265,"d":"4"}]
["Support To Local Municipalities","Administrative Strategy And Planning","PO003044001_00001","Work Streams","Responsive; accountable; effective and efficient local government","Spatial Integration","OWN MUNICIPAL STRATEGIC OBJECTIVE                                          ",null,null,"R-WHOLE OF THE DISTRICT",0,0,0,0,0,210000,{"v":210000,"d":"210"},0,0,0,0]
["Support To Local Municipalities","Awareness Campaign","PO003006001_00002","Work Streams","Sustainable human settlements and improved quality of household life","Inclusion and Access","OWN MUNICIPAL STRATEGIC OBJECTIVE                                          ",null,null,"R-ADMIN OR HEAD OFFICE",0,0,73107.37,56975.03,195536.15,0,0,0,0,0,0]
["Support To Local Municipalities","Drinking Water Quality","PO003011_00002","Work Streams","A long and healthy life for all South Africans","Inclusion and Access",{"$nulls":3},"R-WHOLE OF THE DISTRICT",0,0,0,0,0,0,0,0,{"v":100000,"d":"100"},{"v":103300,"d":"103"},{"v":106606,"d":"107"}]
["Support To Local Municipalities","Elderly","PO003007007_00001","Work Streams","A comprehensive; responsive and sustainable social protection system","Inclusion and Access","OWN MUNICIPAL STRATEGIC OBJECTIVE                                          ",null,null,"R-ADMIN OR HEAD OFFICE",0,0,823829.2,585048.78,0,0,0,0,0,0,0]
["Support To Local Municipalities","Elderly","PO003007007_00003","Work Streams","A comprehensive; responsive and sustainable social protection system","Inclusion and Access",{"$nulls":3},"R-WHOLE OF THE DISTRICT",0,0,0,0,0,0,0,0,{"v":200000,"d":"200"},{"v":206600,"d":"207"},{"v":213212,"d":"213"}]
["Support To Local Municipalities","Government Information System (Gis) Project And Support","PO003044007_00002","Work Streams","Responsive; accountable; effective and efficient local government","Spatial Integration","OWN MUNICIPAL STRATEGIC OBJECTIVE                                          ",null,null,"R-ADMIN OR HEAD OFFICE",0,0,543974,521867.39,39000,0,0,0,0,0,0]
["Support To Local Municipalities","Mayoral/Executive Mayor Campaigns","PO003006004_00005","Work Streams","Sustainable human settlements and improved quality of household life","Inclusion and Access","OWN MUNICIPAL STRATEGIC OBJECTIVE                                          ",null,null,"R-ADMIN OR HEAD OFFICE",0,0,0,0,6500,0,0,0,0,0,0]
["Support To Local Municipalities","Municipal Games","PO003043001_00001","Work Streams","An efficient; effective and development-oriented public service","Inclusion and Access",{"$nulls":3},"R-WHOLE OF THE DISTRICT",0,0,0,0,0,0,0,0,{"v":300000,"d":"300"},{"v":309900,"d":"310"},{"v":319818,"d":"320"}]
["Support To Local Municipalities","Municipal Games","PO003043001_00001","Work Streams","An efficient; effective and development-oriented public service","Inclusion and Access","OWN MUNICIPAL STRATEGIC OBJECTIVE                                          ",null,null,"R-WHOLE OF THE DISTRICT",0,0,0,0,0,745000,{"v":62500,"d":"63"},0,{"v":880000,"d":"880"},{"v":909040,"d":"909"},{"v":938130,"d":"938"}]
["Support To Local Municipalities","Municipal Games","PO003043001_00002","Work Streams","An efficient; effective and development-oriented public service","Inclusion and Access",{"$nulls":3},"R-WHOLE OF THE DISTRICT",0,0,0,0,0,0,0,0,{"v":250000,"d":"250"},{"v":258250,"d":"258"},{"v":266516,"d":"267"}]
["Support To Local Municipalities","Municipal Games","PO003043001_00002","Work Streams","An efficient; effective and development-oriented public service","Inclusion and Access","OWN MUNICIPAL STRATEGIC OBJECTIVE                                          ",null,null,"R-WHOLE OF THE DISTRICT",0,0,0,0,0,1328727,{"v":553912,"d":"554"},0,{"v":662902,"d":"663"},{"v":684778,"d":"685"},{"v":706692,"d":"707"}]
["Support To Local Municipalities","Municipal Games","PO003043001_00003","Work Streams","An efficient; effective and development-oriented public service","Inclusion and Access","OWN MUNICIPAL STRATEGIC OBJECTIVE                                          ",null,null,"R-WHOLE OF THE DISTRICT",0,0,0,0,0,2150000,{"v":1922945,"d":"1,923"},0,{"v":2132960,"d":"2,133"},{"v":2203348,"d":"2,203"},{"v":2273856,"d":"2,274"}]
["Support To Local Municipalities","Municipal Games","PO003043001_00004","Work Streams","An efficient; effective and development-oriented public service","Inclusion and Access","OWN MUNICIPAL STRATEGIC OBJECTIVE                                          ",null,null,"R-WHOLE OF THE DISTRICT",0,0,0,0,0,60000,{"v":50380,"d":"50"},0,{"v":95000,"d":"95"},{"v":98135,"d":"98"},{"v":101276,"d":"101"}]
["Support To Local Municipalities","Municipal Games","PO003043001_00005","Work Streams","An efficient; effective and development-oriented public service","Inclusion and Access","OWN MUNICIPAL STRATEGIC OBJECTIVE                                          ",null,null,"R-WHOLE OF THE DISTRICT",0,0,0,0,0,100000,0,0,0,0,0]
["Support To Local Municipalities","Municipal Games","PO003043001_00006","Work Streams","An efficient; effective and development-oriented public service","Inclusion and Access","OWN MUNICIPAL STRATEGIC OBJECTIVE                                          ",null,null,"R-WHOLE OF THE DISTRICT",0,0,0,0,0,650000,{"v":1072928,"d":"1,073"},0,{"v":1112627,"d":"1,113"},{"v":1149343,"d":"1,149"},{"v":1186122,"d":"1,186"}]
["Support To Local Municipalities","O_Tws_Sport Development_Marathons; Sport And Recreation","PO003043002_00004","Work Streams","An efficient; effective and development-oriented public service","Inclusion and Access","OWN MUNICIPAL STRATEGIC OBJECTIVE                                          ",null,null,"R-ADMIN OR HEAD OFFICE",0,0,278260.87,194000,0,318181,{"v":320000,"d":"320"},0,0,0,0]
["Support To Local Municipalities","O_Tws_Sport Development_Marathons; Sport And Recreation","PO003043002_00005","Work Streams","An efficient; effective and development-oriented public service","Inclusion and Access",{"$nulls":3},"R-WHOLE OF THE DISTRICT",0,0,0,0,0,0,0,0,{"v":50000,"d":"50"},{"v":51650,"d":"52"},{"v":53304,"d":"53"}]
["Support To Local Municipalities","O_Tws_Sport Development_Marathons; Sport And Recreation","PO003043002_00005","Work Streams","An efficient; effective and development-oriented public service","Inclusion and Access","OWN MUNICIPAL STRATEGIC OBJECTIVE                                          ",null,null,"R-WHOLE OF THE DISTRICT",0,0,0,0,0,156000,{"v":146000,"d":"146"},0,{"v":151402,"d":"151"},{"v":156399,"d":"156"},{"v":161405,"d":"161"}]
["Support To Local Municipalities","O_Tws_Sport Development_Marathons; Sport And Recreation","PO003043002_00006","Work Streams","An efficient; effective and development-oriented public service","Inclusion and Access","OWN MUNICIPAL STRATEGIC OBJECTIVE                                          ",null,null,"R-WHOLE OF THE DISTRICT",0,0,0,0,0,763158,{"v":931340,"d":"931"},0,{"v":965800,"d":"966"},{"v":997673,"d":"998"},{"v":1029600,"d":"1,030"}]
["Support To Local Municipalities","O_Tws_Sport Development_Marathons; Sport And Recreation","PO003043002_00007","Work Streams","An efficient; effective and development-oriented public service","Inclusion and Access","OWN MUNICIPAL STRATEGIC OBJECTIVE                                          ",null,null,"R-WHOLE OF THE DISTRICT",0,0,0,0,0,536841,{"v":780000,"d":"780"},0,{"v":808860,"d":"809"},{"v":835553,"d":"836"},{"v":862291,"d":"862"}]
["Support To Local Municipalities","Social Development Programme  (Welfare)","PO003007016_00004","Work Streams","A comprehensive; responsive and sustainable social protection system","Inclusion and Access","OWN MUNICIPAL STRATEGIC OBJECTIVE                                          ",null,null,"R-ADMIN OR HEAD OFFICE",0,0,24690.9,26523.91,30000,0,0,0,0,0,0]
["Support To Local Municipalities","Youth Development","PO003007017002_00001","Work Streams","A comprehensive; responsive and sustainable social protection system","Inclusion and Access","OWN MUNICIPAL STRATEGIC OBJECTIVE                                          ",null,null,"R-ADMIN OR HEAD OFFICE",0,0,932109.24,1040911.39,442673.37,0,0,0,0,0,0]
["Support To Local Municipalities","Youth Development","PO003007017002_00003","Work Streams","A comprehensive; responsive and sustainable social protection system","Inclusion and Access","OWN MUNICIPAL STRATEGIC OBJECTIVE                                          ",null,null,"R-WHOLE OF THE DISTRICT",0,0,0,0,0,1199999,{"v":1199999,"d":"1,200"},0,{"v":1615378,"d":"1,615"},{"v":1668687,"d":"1,669"},{"v":1722086,"d":"1,722"}]
["Water Treatment","O_Municipal Running Cost","PO002_00000","Municipal Running Cost","Sustainable human settlements and improved quality of household life","Governance","OWN MUNICIPAL STRATEGIC OBJECTIVE                                          ",null,null,"R-WHOLE OF THE DISTRICT",0,0,134371655.49,118994541.39,112116665.37,126048907,{"v":135277810,"d":"135,278"},0,{"v":134522263,"d":"134,522"},{"v":139631948,"d":"139,632"},{"v":144897053,"d":"144,897"}]
["Water Treatment","Drinking Water Quality","PO003011_00001","Work Streams","A long and healthy life for all South Africans","Inclusion and Access","OWN MUNICIPAL STRATEGIC OBJECTIVE                                          ",null,null,"R-WHOLE OF THE DISTRICT",0,0,4511709.1,4405328.44,5069235.9,3636363,{"v":4073394,"d":"4,073"},0,{"v":4224110,"d":"4,224"},{"v":4363506,"d":"4,364"},{"v":4503138,"d":"4,503"}]
["Water Treatment","Drinking Water Quality","PO003011_00002","Work Streams","A long and healthy life for all South Africans","Inclusion and Access","OWN MUNICIPAL STRATEGIC OBJECTIVE                                          ",null,null,"R-WHOLE OF THE DISTRICT",0,0,0,0,0,0,{"v":500000,"d":"500"},0,{"v":800000,"d":"800"},{"v":826400,"d":"826"},{"v":852845,"d":"853"}]
["Water Treatment","Government Information System (Gis) Project And Support","PO003044007_00001","Work Streams","Responsive; accountable; effective and efficient local government","Spatial Integration","OWN MUNICIPAL STRATEGIC OBJECTIVE                                          ",null,null,"R-WHOLE OF THE DISTRICT",0,0,3293600,1099017.6,9412772.37,3132000,{"v":3329650,"d":"3,330"},0,{"v":3452848,"d":"3,453"},{"v":3566792,"d":"3,567"},{"v":3680929,"d":"3,681"}]
["Water Treatment","Government Information System (Gis) Project And Support","PO003044007_00004","Work Streams","Responsive; accountable; effective and efficient local government","Spatial Integration","OWN MUNICIPAL STRATEGIC OBJECTIVE                                          ",null,null,"R-WHOLE OF THE DISTRICT",0,0,442184.1,562062.8,426593.71,694924,{"v":694924,"d":"695"},0,{"v":720637,"d":"721"},{"v":744418,"d":"744"},{"v":768239,"d":"768"}]
["Water Treatment","O_Tws_Capacity Build Train & Dev_Workshops; Seminars & Subject Matter Train","PO003004010_00014","Work Streams","A skilled and capable workforce to support an inclusive growth path","Governance","OWN MUNICIPAL STRATEGIC OBJECTIVE                                          ",null,null,"R-ADMIN OR HEAD OFFICE",0,0,0,0,0,0,0,0,{"v":1200000,"d":"1,200"},{"v":1239600,"d":"1,240"},{"v":1279268,"d":"1,279"}]
["Water Treatment","Policy Review","PO003044014_00001","Work Streams","Responsive; accountable; effective and efficient local government","Inclusion and Access","OWN MUNICIPAL STRATEGIC OBJECTIVE                                          ",null,null,"R-WHOLE OF THE DISTRICT",0,0,2699218.6,2210838.69,1096602,2727272,{"v":2727272,"d":"2,727"},0,{"v":2828182,"d":"2,828"},{"v":2921512,"d":"2,922"},{"v":3015000,"d":"3,015"}]
["Water Treatment","Machinery And Equipment","PO001002001002009_00001","Preventative Maintenance",null,"Governance","OWN MUNICIPAL STRATEGIC OBJECTIVE                                          ","Machinery And Equipment","Machinery And Equipment","R-WHOLE OF THE DISTRICT",0,0,0,0,3055050,0,0,0,0,0,0]
["Sewerage","O_Municipal Running Cost","PO002_00000","Municipal Running Cost","Sustainable human settlements and improved quality of household life","Governance","OWN MUNICIPAL STRATEGIC OBJECTIVE                                          ",null,null,"R-ADMIN OR HEAD OFFICE",0,0,0,0,0,8503724,{"v":8503724,"d":"8,504"},0,{"v":9013948,"d":"9,014"},{"v":9311408,"d":"9,311"},{"v":9609373,"d":"9,609"}]
["Sewerage","O_Municipal Running Cost","PO002_00000","Municipal Running Cost","Sustainable human settlements and improved quality of household life","Governance","OWN MUNICIPAL STRATEGIC OBJECTIVE                                          ",null,null,"R-WHOLE OF THE DISTRICT",0,0,184922.97,186573.05,750908.52,788677,{"v":641776,"d":"642"},0,{"v":667443,"d":"667"},{"v":694114,"d":"694"},{"v":721848,"d":"722"}]
["Sewerage","Toilet Facilities","PO004002007005_00002","NEW","An efficient; competitive and responsive economic infrastructure network","Growth","OWN MUNICIPAL STRATEGIC OBJECTIVE                                          ","Sanitation Infrastructure","Toilet Facilities","R-UBUHLEBEZWE",0,0,0,0,1754547.6,0,0,0,0,0,0]
["Water Distribution","O_Municipal Running Cost","PO002_00000","Municipal Running Cost","Sustainable human settlements and improved quality of household life","Governance","OWN MUNICIPAL STRATEGIC OBJECTIVE                                          ",null,null,"R-ADMIN OR HEAD OFFICE",0,0,38713663.76,33419965.01,13062760.11,83990789,{"v":86169000,"d":"86,169"},0,{"v":90405141,"d":"90,405"},{"v":93539508,"d":"93,540"},{"v":96712241,"d":"96,712"}]
["Water Distribution","O_Municipal Running Cost","PO002_00000","Municipal Running Cost","Sustainable human settlements and improved quality of household life","Governance","OWN MUNICIPAL STRATEGIC OBJECTIVE                                          ",null,null,"R-WHOLE OF THE DISTRICT",0,0,49492430.33,23014141.94,25426476.97,29447857,{"v":35569132,"d":"35,569"},0,{"v":29637272,"d":"29,637"},{"v":30615303,"d":"30,615"},{"v":31594994,"d":"31,595"}]
["Water Distribution","Capacity Building Local Municipalities (District Boundaries)","PO003004003_00001","Work Streams","A skilled and capable workforce to support an inclusive growth path","Governance","OWN MUNICIPAL STRATEGIC OBJECTIVE                                          ",null,null,"R-ADMIN OR HEAD OFFICE",0,0,4740,4570,0,54000,{"v":54000,"d":"54"},0,{"v":55998,"d":"56"},{"v":57846,"d":"58"},{"v":59698,"d":"60"}]
["Water Distribution","Government Information System (Gis) Project And Support","PO003044007_00010","Work Streams","Responsive; accountable; effective and efficient local government","Spatial Integration","OWN MUNICIPAL STRATEGIC OBJECTIVE                                          ",null,null,"R-ADMIN OR HEAD OFFICE",0,0,7980,58350,0,9927,{"v":60000,"d":"60"},0,{"v":62220,"d":"62"},{"v":64274,"d":"64"},{"v":66331,"d":"66"}]
["Water Distribution","O_Tws_Capacity Build Train & Dev_Workshops; Seminars & Subject Matter Train","PO003004010_00007","Work Streams","A skilled and capable workforce to support an inclusive growth path","Governance","OWN MUNICIPAL STRATEGIC OBJECTIVE                                          ",null,null,"R-ADMIN OR HEAD OFFICE",0,0,0,446923.64,63280.37,0,0,0,0,0,0]
["Water Distribution","O_Tws_Capacity Build Train & Dev_Workshops; Seminars & Subject Matter Train","PO003004010_00011","Work Streams","A skilled and capable workforce to support an inclusive growth path","Governance","OWN MUNICIPAL STRATEGIC OBJECTIVE                                          ",null,null,"R-ADMIN OR HEAD OFFICE",0,0,269241.87,95708.59,42274.11,286968,{"v":286968,"d":"287"},0,{"v":297586,"d":"298"},{"v":307407,"d":"307"},{"v":317244,"d":"317"}]
["Water Distribution","Buildings","PO001001001002007006003_00002","Preventative Maintenance","An efficient; competitive and responsive economic infrastructure network","Inclusion and Access","OWN MUNICIPAL STRATEGIC OBJECTIVE                                          ","Water Supply Infrastructure","Reservoirs","R-WHOLE OF THE DISTRICT",0,0,11246566.43,8256395.94,6947961.93,10227272,{"v":11645166,"d":"11,645"},0,{"v":6110973,"d":"6,111"},{"v":6312635,"d":"6,313"},{"v":6514639,"d":"6,515"}]
["Parent Operational expenditure",{"$nulls":15},{"$f":"SUM(Q7:Q163)","v":{"v":865159424,"d":"865,159"}},null,{"$f":"SUM(S7:S163)","v":{"v":844080294,"d":"844,080"}},{"$f":"SUM(T7:T163)","v":{"v":878270760,"d":"878,271"}},{"$f":"SUM(U7:U163)","v":{"v":907826802,"d":"907,827"}}]
[]
["Entities:"]
["List all Operational projects grouped by Entity"]
[]
[]
["Harry Gwala Development Agency"]
["Administrative And Corporate Support","O_Municipal Running Cost","PO002_00000","Municipal Running Cost","Sustainable human settlements and improved quality of household life","Governance","OWN MUNICIPAL STRATEGIC OBJECTIVE                                          ",null,null,"R-ADMIN OR HEAD OFFICE","0","0",0,0,0,7069695,{"v":7069695,"d":"7,070"},0,{"v":7352486,"d":"7,352"},{"v":7646586,"d":"7,647"},{"v":7952452,"d":"7,952"}]
["Administrative And Corporate Support","Disaster Relief","PO003014003_00001","Work Streams","A comprehensive; responsive and sustainable social protection system","Governance","OWN MUNICIPAL STRATEGIC OBJECTIVE                                          ",null,null,"R-ADMIN OR HEAD OFFICE","0","0",0,0,0,90000,{"v":90000,"d":"90"},0,{"v":93600,"d":"94"},{"v":97344,"d":"97"},{"v":101238,"d":"101"}]
["Administrative And Corporate Support","Government Information System (Gis) Project And Support","PO003044007_00008","Work Streams","Responsive; accountable; effective and efficient local government","Spatial Integration","OWN MUNICIPAL STRATEGIC OBJECTIVE                                          ",null,null,"R-ADMIN OR HEAD OFFICE","0","0",0,0,0,450000,{"v":450000,"d":"450"},0,{"v":468000,"d":"468"},{"v":486720,"d":"487"},{"v":506189,"d":"506"}]
["Administrative And Corporate Support","Buildings","PO001002001002003001001002_00001","Preventative Maintenance","An efficient; effective and development-oriented public service","Governance","OWN MUNICIPAL STRATEGIC OBJECTIVE                                          ","Operational Buildings","Municipal Offices","R-ADMIN OR HEAD OFFICE","0","0",0,0,0,5230,{"v":5230,"d":"5"},0,{"v":5440,"d":"5"},{"v":5657,"d":"6"},{"v":5884,"d":"6"}]
["Municipal Manager, Town Secretary And Chief Executive","O_Municipal Running Cost","PO002_00000","Municipal Running Cost","Sustainable human settlements and improved quality of household life","Governance","OWN MUNICIPAL STRATEGIC OBJECTIVE                                          ",null,null,"R-ADMIN OR HEAD OFFICE","0","0",0,0,0,10256187,{"v":10202100,"d":"10,202"},0,{"v":2583926,"d":"2,584"},{"v":2672548,"d":"2,673"},{"v":2764798,"d":"2,765"}]
["Finance","O_Municipal Running Cost","PO002_00000","Municipal Running Cost","Sustainable human settlements and improved quality of household life","Governance","OWN MUNICIPAL STRATEGIC OBJECTIVE                                          ",null,null,"R-ADMIN OR HEAD OFFICE","0","0",0,0,0,1419412,{"v":1419412,"d":"1,419"},0,{"v":11473777,"d":"11,474"},{"v":11862749,"d":"11,863"},{"v":12254209,"d":"12,254"}]
["Finance","O_Tws_Capacity Build Train & Dev_Workshops; Seminars & Subject Matter Train","PO003004010_00014","Work Streams","A skilled and capable workforce to support an inclusive growth path","Governance","OWN MUNICIPAL STRATEGIC OBJECTIVE                                          ",null,null,"R-ADMIN OR HEAD OFFICE","0","0",0,0,0,2600000,{"v":2597589,"d":"2,598"},0,{"v":2663122,"d":"2,663"},{"v":2676801,"d":"2,677"},{"v":2619541,"d":"2,620"}]
["Economic Development/Planning","O_Municipal Running Cost","PO002_00000","Municipal Running Cost","Sustainable human settlements and improved quality of household life","Governance","OWN MUNICIPAL STRATEGIC OBJECTIVE                                          ",null,null,"R-ADMIN OR HEAD OFFICE","0","0",0,0,0,2097221,{"v":2097221,"d":"2,097"},0,{"v":174774,"d":"175"},{"v":181764,"d":"182"},{"v":189036,"d":"189"}]
["Economic Development/Planning","Project Implementation","PO003023002_00004","Work Streams","An efficient; effective and development-oriented public service","Spatial Integration","OWN MUNICIPAL STRATEGIC OBJECTIVE                                          ",null,null,"R-ADMIN OR HEAD OFFICE","0","0",0,0,0,10000,{"v":70000,"d":"70"},0,{"v":72800,"d":"73"},{"v":75712,"d":"76"},{"v":78741,"d":"79"}]
["Economic Development/Planning","Project Implementation","PO003023002_00007","Work Streams","An efficient; effective and development-oriented public service","Spatial Integration","OWN MUNICIPAL STRATEGIC OBJECTIVE                                          ",null,null,"R-WHOLE OF THE DISTRICT","0","0",0,0,0,41840,{"v":41840,"d":"42"},0,{"v":43514,"d":"44"},{"v":45255,"d":"45"},{"v":47065,"d":"47"}]
["Economic Development/Planning","Project Implementation","PO003023002_00008","Work Streams","An efficient; effective and development-oriented public service","Spatial Integration","OWN MUNICIPAL STRATEGIC OBJECTIVE                                          ",null,null,"R-UBUHLEBEZWE","0","0",0,0,0,90000,{"v":90000,"d":"90"},0,{"v":93600,"d":"94"},{"v":97344,"d":"97"},{"v":101238,"d":"101"}]
["Economic Development/Planning","Project Implementation","PO003023002_00009","Work Streams","An efficient; effective and development-oriented public service","Spatial Integration","OWN MUNICIPAL STRATEGIC OBJECTIVE                                          ",null,null,"R-INGWE/KWA SANI","0","0",0,0,0,228174,{"v":228174,"d":"228"},0,{"v":237301,"d":"237"},{"v":246793,"d":"247"},{"v":256665,"d":"257"}]
["Tourism","Tourism Development","PO003046003_00003","Work Streams","An efficient; effective and development-oriented public service","Growth","OWN MUNICIPAL STRATEGIC OBJECTIVE                                          ",null,null,"R-ADMIN OR HEAD OFFICE","0","0",0,0,0,100000,{"v":100000,"d":"100"},0,{"v":104000,"d":"104"},{"v":108160,"d":"108"},{"v":112487,"d":"112"}]
["Entity Operational expenditure",{"$nulls":15},{"$f":"SUM(Q169:Q183)","v":{"v":24461261,"d":"24,461"}},null,{"$f":"SUM(S169:S183)","v":{"v":25366340,"d":"25,366"}},{"$f":"SUM(T169:T183)","v":{"v":26203433,"d":"26,203"}},{"$f":"SUM(U169:U183)","v":{"v":26989543,"d":"26,990"}}]
["Total Operational expenditure",{"$nulls":15},{"$f":"SUM(Q7:Q163)+SUM(Q169:Q183)","v":{"v":889620685,"d":"889,621"}},null,{"$f":"SUM(S7:S163)+SUM(S169:S183)","v":{"v":869446634,"d":"869,447"}},{"$f":"SUM(T7:T163)+SUM(T169:T183)","v":{"v":904474193,"d":"904,474"}},{"$f":"SUM(U7:U163)+SUM(U169:U183)","v":{"v":934816345,"d":"934,816"}}]
[{"$f":"head27a","v":"References"}]
["Must reconcile with Budgeted Operating Expenditure"]
["Asset class as per table A9 and asset sub-class as per table SA34"]
["GPS coordinates correct to seconds. Provide a logical starting point on networked infrastructure."]
["Project Number consists of MSCOA Project Longcode and seq No (sample PO001001002001002001002_00066)",{"$nulls":10},"check"]
[{"$nulls":16},{"$f":"'A4-FinPerf RE'!G50-'SA38'!Q185","v":{"v":800000,"d":"800"}}," ",{"$f":"'A4-FinPerf RE'!J50-'SA38'!S185","v":{"v":1200000,"d":"1,200"}},{"$f":"'A4-FinPerf RE'!K50-'SA38'!T185","v":{"v":1239600,"d":"1,240"}},{"$f":"'A4-FinPerf RE'!L50-'SA38'!U185","v":{"v":1279268,"d":"1,279"}}]

{"sheet":"LGDB_EXPORT","index":65,"n_rows":2876,"n_cols":23,"rows_kept":2876}
["FORM","YEAR END","MUNCDE","ITEMCODE","SEQ","DESCRIPTION",{"$nulls":16},"~"]
["BSD",{"$f":"+MTREF","v":2026},{"$f":"LEFT(muni,(FIND(\" \",muni,1)-1))","v":"DC43"},"1000",1,"Household service targets (000)",{"$nulls":16},"~"]
["BSD",2026,"DC43","1100",2,"Water:",{"$nulls":16},"~"]
["BSD",2026,"DC43","1101",3,"Piped water inside dwelling",{"$nulls":16},"~"]
["BSD",2026,"DC43","1102",4,"Piped water inside yard (but not in dwelling)",{"$nulls":16},"~"]
["BSD",2026,"DC43","1103",5,"Using public tap (at least min.service level)",{"$nulls":16},"~"]
["BSD",2026,"DC43","1104",6,"Other water supply (at least min.service level)",{"$nulls":16},"~"]
["BSD",2026,"DC43","1105",7,"Minimum Service Level and Above sub-total",{"$nulls":16},"~"]
["BSD",2026,"DC43","1106",8,"Using public tap (< min.service level)",{"$nulls":16},"~"]
["BSD",2026,"DC43","1107",9,"Other water supply (< min.service level)",{"$nulls":16},"~"]
["BSD",2026,"DC43","1108",10,"No water supply",{"$nulls":16},"~"]
["BSD",2026,"DC43","1109",11,"Below Minimum Service Level sub-total",{"$nulls":16},"~"]
["BSD",2026,"DC43","1110",12,"Total number of households",{"$nulls":16},"~"]
["BSD",2026,"DC43","1200",13,"Sanitation/sewerage:",{"$nulls":16},"~"]
["BSD",2026,"DC43","1201",14,"Flush toilet (connected to sewerage)",{"$nulls":16},"~"]
["BSD",2026,"DC43","1202",15,"Flush toilet (with septic tank)",{"$nulls":16},"~"]
["BSD",2026,"DC43","1203",16,"Chemical toilet",{"$nulls":16},"~"]
["BSD",2026,"DC43","1204",17,"Pit toilet (ventilated)",{"$nulls":16},"~"]
["BSD",2026,"DC43","1205",18,"Other toilet provisions (> min.service level)",{"$nulls":16},"~"]
["BSD",2026,"DC43","1206",19,"Minimum Service Level and Above sub-total",{"$nulls":16},"~"]
["BSD",2026,"DC43","1207",20,"Bucket toilet",{"$nulls":16},"~"]
["BSD",2026,"DC43","1208",21,"Other toilet provisions (< min.service level)",{"$nulls":16},"~"]
["BSD",2026,"DC43","1209",22,"No toilet provisions",{"$nulls":16},"~"]
["BSD",2026,"DC43","1210",23,"Below Minimum Service Level sub-total",{"$nulls":16},"~"]
["BSD",2026,"DC43","1211",24,"Total number of households",{"$nulls":16},"~"]
["BSD",2026,"DC43","1300",25,"Energy:",{"$nulls":16},"~"]
["BSD",2026,"DC43","1301",26,"Electricity (at least min.service level)",{"$nulls":16},"~"]
["BSD",2026,"DC43","1302",27,"Electricity - prepaid (min.service level)",{"$nulls":16},"~"]
["BSD",2026,"DC43","1303",28,"Minimum Service Level and Above sub-total",{"$nulls":16},"~"]
["BSD",2026,"DC43","1304",29,"Electricity (< min.service level)",{"$nulls":16},"~"]
["BSD",2026,"DC43","1305",30,"Electricity - prepaid (< min. service level)",{"$nulls":16},"~"]
["BSD",2026,"DC43","1306",31,"Other energy sources",{"$nulls":16},"~"]
["BSD",2026,"DC43","1307",32,"Below Minimum Service Level sub-total",{"$nulls":16},"~"]
["BSD",2026,"DC43","1308",33,"Total number of households",{"$nulls":16},"~"]
["BSD",2026,"DC43","1400",34,"Refuse:",{"$nulls":16},"~"]
["BSD",2026,"DC43","1401",35,"Removed at least once a week",{"$nulls":16},"~"]
["BSD",2026,"DC43","1402",36,"Minimum Service Level and Above sub-total",{"$nulls":16},"~"]
["BSD",2026,"DC43","1403",37,"Removed less frequently than once a week",{"$nulls":16},"~"]
["BSD",2026,"DC43","1404",38,"Using communal refuse dump",{"$nulls":16},"~"]
["BSD",2026,"DC43","1405",39,"Using own refuse dump",{"$nulls":16},"~"]
["BSD",2026,"DC43","1406",40,"Other rubbish disposal",{"$nulls":16},"~"]
["BSD",2026,"DC43","1407",41,"No rubbish disposal",{"$nulls":16},"~"]
["BSD",2026,"DC43","1408",42,"Below Minimum Service Level sub-total",{"$nulls":16},"~"]
["BSD",2026,"DC43","1409",43,"Total number of households",{"$nulls":16},"~"]
["BSD",2026,"DC43",{"$nulls":19},"~"]
["BSD",2026,"DC43","1500",45,"Households receiving Free Basic Service",{"$nulls":16},"~"]
["BSD",2026,"DC43","1501",46,"Water (6 kilolitres per household per month)",{"$nulls":16},"~"]
["BSD",2026,"DC43","1502",47,"Sanitation (free minimum level service)",{"$nulls":16},"~"]
["BSD",2026,"DC43","1503",48,"Electricity/other energy (50kwh per household per month)",{"$nulls":16},"~"]
["BSD",2026,"DC43","1504",49,"Refuse (removed at least once a week)",{"$nulls":16},"~"]
["BSD",2026,"DC43",{"$nulls":19},"~"]
["BSD",2026,"DC43","1600",51,"Cost of Free Basic Services provided - Formal Settlements (R'000)",{"$nulls":16},"~"]
["BSD",2026,"DC43","1601",52,"Water (6 kilolitres per indigent household per month)",{"$nulls":16},"~"]
["BSD",2026,"DC43","1602",53,"Sanitation (free sanitation service to indigent households)",{"$nulls":16},"~"]
["BSD",2026,"DC43","1603",54,"Electricity/other energy (50kwh per indigent household per month)",{"$nulls":16},"~"]
["BSD",2026,"DC43","1604",55,"Refuse (removed once a week for indigent households)",{"$nulls":16},"~"]
["BSD",2026,"DC43",1606,56,"Cost of Free Basic Services provided - Informal Formal Settlements (R'000)",{"$nulls":16},"~"]
["BSD",2026,"DC43",1607,57,"Total cost of FBS provided  ",{"$nulls":16},"~"]
["BSD",2026,"DC43",{"$nulls":19},"~"]
["BSD",2026,"DC43","1700",58,"Highest level of free service provided per household",{"$nulls":16},"~"]
["BSD",2026,"DC43","1701",59,"Property rates (R value threshold)",{"$nulls":16},"~"]
["BSD",2026,"DC43","1702",60,"Water (kilolitres per household per month)",{"$nulls":16},"~"]
["BSD",2026,"DC43","1703",61,"Sanitation (kilolitres per household per month)",{"$nulls":16},"~"]
["BSD",2026,"DC43","1704",62,"Sanitation (Rand per household per month)",{"$nulls":16},"~"]
["BSD",2026,"DC43","1705",63,"Electricity (kwh per household per month)",{"$nulls":16},"~"]
["BSD",{"$f":"+MTREF","v":2026},{"$f":"LEFT(muni,(FIND(\" \",muni,1)-1))","v":"DC43"},"1706",64,"Refuse (average litres per week)",{"$nulls":16},"~"]
["BSD",2026,"DC43","1707",65,"Revenue  cost of subsidised services provided (R'000)",{"$nulls":16},"~"]
["BSD",2026,"DC43","1708",66,"Property rates (tariff adjustment) ( impermissable values per section 17 of MPRA)",{"$nulls":16},"~"]
["BSD",2026,"DC43","1709",67,"Property rates  exemptions, reductions and rebates and impermissable values in excess of section 17 of MPRA)",{"$nulls":16},"~"]
["BSD",2026,"DC43","1710",68,"Water (in excess of 6 kilolitres per indigent household per month)",{"$nulls":16},"~"]
["BSD",2026,"DC43","1711",69,"Sanitation (in excess of free sanitation service to indigent households)",{"$nulls":16},"~"]
["BSD",2026,"DC43","1712",70,"Electricity/other energy (in excess of 50 kwh per indigent household per month)",{"$nulls":16},"~"]
["BSD",2026,"DC43","1713",71,"Refuse (in excess of one removal a week for indigent households)",{"$nulls":16},"~"]
["BSD",2026,"DC43","1714",72,"Municipal Housing - rental rebates",{"$nulls":16},"~"]
["BSD",2026,"DC43","1715",73,"Housing - top structure subsidies",{"$nulls":16},"~"]
["BSD",2026,"DC43","1716",74,"Other",{"$nulls":16},"~"]
["BSD",2026,"DC43","1717",75,"Total revenue cost of subsidised services provided ",{"$nulls":16},"~"]
["SA11",2026,"DC43",1000,"T","Valuation:",{"$nulls":16},"~"]
["SA11",2026,"DC43",1001,"T","Date of valuation:",{"$nulls":16},"~"]
["SA11",2026,"DC43",1002,"T","Financial year valuation used",{"$nulls":16},"~"]
["SA11",2026,"DC43",1003,"T","Municipal by-laws s6 in place? (Y/N)",{"$nulls":16},"~"]
["SA11",2026,"DC43",1004,"T","Municipal/assistant valuer appointed? (Y/N)",{"$nulls":16},"~"]
["SA11",2026,"DC43",1005,"T","Municipal partnership s38 used? (Y/N)",{"$nulls":16},"~"]
["SA11",2026,"DC43",1006,"V","No. of assistant valuers (FTE)",{"$nulls":16},"~"]
["SA11",2026,"DC43",1007,"V","No. of data collectors (FTE)",{"$nulls":16},"~"]
["SA11",2026,"DC43",1008,"V","No. of internal valuers (FTE)",{"$nulls":16},"~"]
["SA11",2026,"DC43",1009,"V","No. of external valuers (FTE)",{"$nulls":16},"~"]
["SA11",2026,"DC43",1010,"V","No. of additional valuers (FTE)",{"$nulls":16},"~"]
["SA11",2026,"DC43",1011,"T","Valuation appeal board established? (Y/N)",{"$nulls":16},"~"]
["SA11",2026,"DC43",1012,"V","Implementation time of new valuation roll (mths)",{"$nulls":16},"~"]
["SA11",2026,"DC43",1020,"V","No. of properties",{"$nulls":16},"~"]
["SA11",2026,"DC43",1021,"V","No. of sectional title values",{"$nulls":16},"~"]
["SA11",2026,"DC43",1022,"V","No. of unreasonably difficult properties s7(2)",{"$nulls":16},"~"]
["SA11",2026,"DC43",1023,"V","No. of supplementary valuations",{"$nulls":16},"~"]
["SA11",2026,"DC43",1024,"V","No. of valuation roll amendments",{"$nulls":16},"~"]
["SA11",2026,"DC43",1025,"V","No. of objections by rate payers",{"$nulls":16},"~"]
["SA11",2026,"DC43",1026,"V","No. of appeals by rate payers",{"$nulls":16},"~"]
["SA11",2026,"DC43",1028,"V","No. of successful objections",{"$nulls":16},"~"]
["SA11",2026,"DC43",1029,"V","No. of successful objections > 10%",{"$nulls":16},"~"]
["SA11",2026,"DC43",1030,"V","Supplementary valuation",{"$nulls":16},"~"]
["SA11",2026,"DC43",1031,"V","Public service infrastructure value ",{"$nulls":16},"~"]
["SA11",2026,"DC43",1032,"V","Municipality owned property value ",{"$nulls":16},"~"]
["SA11",2026,"DC43",1100,"T","Valuation reductions:",{"$nulls":16},"~"]
["SA11",2026,"DC43",1101,"V","Valuation reductions-public infrastructure",{"$nulls":16},"~"]
["SA11",2026,"DC43",1102,"V","Valuation reductions-nature reserves/park",{"$nulls":16},"~"]
["SA11",2026,"DC43",1103,"V","Valuation reductions-mineral rights",{"$nulls":16},"~"]
["SA11",2026,"DC43",1104,"V","Valuation reductions-R15,000 threshold",{"$nulls":16},"~"]
["SA11",2026,"DC43",1105,"V","Valuation reductions-public worship ",{"$nulls":16},"~"]
["SA11",2026,"DC43",1106,"V","Valuation reductions-other",{"$nulls":16},"~"]
["SA11",2026,"DC43",1107,"V","Total valuation reductions:",{"$nulls":16},"~"]
["SA11",2026,"DC43",1108,"V","Total value used for rating",{"$nulls":16},"~"]
["SA11",2026,"DC43",1109,"V","Total land value ",{"$nulls":16},"~"]
["SA11",2026,"DC43",1110,"V","Total value of improvements",{"$nulls":16},"~"]
["SA11",2026,"DC43",1111,"V","Total market value",{"$nulls":16},"~"]
["SA11",2026,"DC43",{"$nulls":19},"~"]
["SA11",2026,"DC43",1200,"T","Rating:",{"$nulls":16},"~"]
["SA11",2026,"DC43",1202,"T","Residential rate used to determine rate for other categories? (Y/N)",{"$nulls":16},"~"]
["SA11",2026,"DC43",1203,"T","Differential rates used? (Y/N)",{"$nulls":16},"~"]
["SA11",2026,"DC43",1204,"T","Limit on annual rate increase (s20)? (Y/N)",{"$nulls":16},"~"]
["SA11",2026,"DC43",1205,"T","Special rating area used? (Y/N)",{"$nulls":16},"~"]
["SA11",2026,"DC43",1206,"V","Phasing-in properties s21 (number)",{"$nulls":16},"~"]
["SA11",2026,"DC43",1207,"T","Rates policy accompanying budget? (Y/N)",{"$nulls":16},"~"]
["SA11",2026,"DC43",1208,"V","Fixed amount minimum value",{"$nulls":16},"~"]
["SA11",2026,"DC43",1209,"P","Non-residential prescribed ratio s19? (%)",{"$nulls":16},"~"]
["SA11",2026,"DC43",{"$nulls":19},"~"]
["SA11",2026,"DC43",1300,"T","Rate revenue:",{"$nulls":16},"~"]
["SA11",2026,"DC43",1301,"V","Rate revenue budget ",{"$nulls":16},"~"]
["SA11",2026,"DC43",1302,"V","Rate revenue expected to collect",{"$nulls":16},"~"]
["SA11",2026,"DC43",1303,"P","Expected cash collection rate (%)",{"$nulls":16},"~"]
["SA11",{"$f":"+MTREF","v":2026},{"$f":"LEFT(muni,(FIND(\" \",muni,1)-1))","v":"DC43"},1304,"V","Special rating areas",{"$nulls":16},"~"]
["SA11",2026,"DC43",1305,"V","Rebates, exemptions - indigent",{"$nulls":16},"~"]
["SA11",2026,"DC43",1306,"V","Rebates, exemptions - pensioners",{"$nulls":16},"~"]
["SA11",2026,"DC43",1307,"V","Rebates, exemptions - bona fide farm",{"$nulls":16},"~"]
["SA11",2026,"DC43",1308,"V","Rebates, exemptions - other",{"$nulls":16},"~"]
["SA11",2026,"DC43",1309,"V","Phase-in reductions/discounts",{"$nulls":16},"~"]
["SA11",2026,"DC43",1310,"V","Total rebates,exemptns,reductns,discs",{"$nulls":16},"~"]
["SA12",2026,"DC43",1000,"T","Valuation:",{"$nulls":16},"~"]
["SA12",2026,"DC43",1020,"V","No. of properties",{"$nulls":16},"~"]
["SA12",2026,"DC43",1021,"V","No. of sectional title property values",{"$nulls":16},"~"]
["SA12",2026,"DC43",1022,"V","No. of unreasonably difficult properties s7(2)",{"$nulls":16},"~"]
["SA12",2026,"DC43",1023,"V","No. of supplementary valuations",{"$nulls":16},"~"]
["SA12",2026,"DC43",1030,"V","Supplementary valuation ",{"$nulls":16},"~"]
["SA12",2026,"DC43",1024,"V","No. of valuation roll amendments",{"$nulls":16},"~"]
["SA12",2026,"DC43",1025,"V","No. of objections by rate-payers",{"$nulls":16},"~"]
["SA12",2026,"DC43",1026,"V","No. of appeals by rate-payers",{"$nulls":16},"~"]
["SA12",2026,"DC43",1027,"V","No. of appeals by rate-payers finalised",{"$nulls":16},"~"]
["SA12",2026,"DC43",1028,"V","No. of successful objections",{"$nulls":16},"~"]
["SA12",2026,"DC43",1029,"V","No. of successful objections > 10%",{"$nulls":16},"~"]
["SA12",2026,"DC43",1040,"V","Estimated no. of properties not valued",{"$nulls":16},"~"]
["SA12",2026,"DC43",1041,"T","Years since last valuation",{"$nulls":16},"~"]
["SA12",2026,"DC43",1042,"T","Frequency of valuation ",{"$nulls":16},"~"]
["SA12",2026,"DC43",1043,"T","Method of valuation used",{"$nulls":16},"~"]
["SA12",2026,"DC43",1044,"T","Base of valuation",{"$nulls":16},"~"]
["SA12",2026,"DC43",1206,"V","Phasing-in properties s21 (number)",{"$nulls":16},"~"]
["SA12",2026,"DC43",1046,"T","Combination of rating types used? (Y/N)",{"$nulls":16},"~"]
["SA12",2026,"DC43",1047,"T","Flat rate used? (Y/N)",{"$nulls":16},"~"]
["SA12",2026,"DC43",1048,"T","Is balance rated by uniform rate/variable rate?",{"$nulls":16},"~"]
["SA12",2026,"DC43",1100,"T","Valuation reductions:",{"$nulls":16},"~"]
["SA12",2026,"DC43",1101,"V","Valuation reductions-public infrastructure",{"$nulls":16},"~"]
["SA12",2026,"DC43",1102,"V","Valuation reductions-nature reserves/park",{"$nulls":16},"~"]
["SA12",2026,"DC43",1103,"V","Valuation reductions-mineral rights",{"$nulls":16},"~"]
["SA12",2026,"DC43",1104,"V","Valuation reductions-R15,000 threshold ",{"$nulls":16},"~"]
["SA12",2026,"DC43",1105,"V","Valuation reductions-public worship",{"$nulls":16},"~"]
["SA12",2026,"DC43",1106,"V","Valuation reductions-other",{"$nulls":16},"~"]
["SA12",2026,"DC43",1107,"V","Total valuation reductions:",{"$nulls":16},"~"]
["SA12",2026,"DC43",1108,"V","Total value used for rating",{"$nulls":16},"~"]
["SA12",2026,"DC43",1109,"V","Total land value ",{"$nulls":16},"~"]
["SA12",2026,"DC43",1110,"V","Total value of improvements",{"$nulls":16},"~"]
["SA12",2026,"DC43",1111,"V","Total market value ",{"$nulls":16},"~"]
["SA12",2026,"DC43",1200,"T","Rating:",{"$nulls":16},"~"]
["SA12",2026,"DC43",1201,"V","Average rate",{"$nulls":16},"~"]
["SA12",2026,"DC43",1301,"V","Rate revenue budget ",{"$nulls":16},"~"]
["SA12",2026,"DC43",1302,"V","Rate revenue expected to collect",{"$nulls":16},"~"]
["SA12",2026,"DC43",1303,"P","Expected cash collection rate (%)",{"$nulls":16},"~"]
["SA12",2026,"DC43",1304,"V","Special rating areas",{"$nulls":16},"~"]
["SA12",2026,"DC43",1305,"V","Rebates, exemptions - indigent",{"$nulls":16},"~"]
["SA12",2026,"DC43",1306,"V","Rebates, exemptions - pensioners",{"$nulls":16},"~"]
["SA12",2026,"DC43",1307,"V","Rebates, exemptions - bona fide farm. ",{"$nulls":16},"~"]
["SA12",2026,"DC43",1308,"V","Rebates, exemptions - other ",{"$nulls":16},"~"]
["SA12",2026,"DC43",1309,"V","Phase-in reductions/discounts ",{"$nulls":16},"~"]
["SA12",2026,"DC43",1310,"V","Total rebates,exemptns,reductns,discs",{"$nulls":16},"~"]
["SA12",2026,"DC43",{"$nulls":19},"~"]
["SA12",2026,"DC43",{"$nulls":19},"~"]
["SA12",2026,"DC43",{"$nulls":19},"~"]
["SA12",2026,"DC43",{"$nulls":19},"~"]
["SA12",2026,"DC43",1000,"T","Valuation:",{"$nulls":16},"~"]
["SA12",2026,"DC43",1020,"V","No. of properties",{"$nulls":16},"~"]
["SA12",2026,"DC43",1021,"V","No. of sectional title property values",{"$nulls":16},"~"]
["SA12",2026,"DC43",1022,"V","No. of unreasonably difficult properties s7(2)",{"$nulls":16},"~"]
["SA12",2026,"DC43",1023,"V","No. of supplementary valuations",{"$nulls":16},"~"]
["SA12",2026,"DC43",1030,"V","Supplementary valuation ",{"$nulls":16},"~"]
["SA12",2026,"DC43",1024,"V","No. of valuation roll amendments",{"$nulls":16},"~"]
["SA12",2026,"DC43",1025,"V","No. of objections by rate-payers",{"$nulls":16},"~"]
["SA12",{"$f":"+MTREF","v":2026},{"$f":"LEFT(muni,(FIND(\" \",muni,1)-1))","v":"DC43"},1026,"V","No. of appeals by rate-payers",{"$nulls":16},"~"]
["SA12",2026,"DC43",1027,"V","No. of appeals by rate-payers finalised",{"$nulls":16},"~"]
["SA12",2026,"DC43",1028,"V","No. of successful objections",{"$nulls":16},"~"]
["SA12",2026,"DC43",1029,"V","No. of successful objections > 10%",{"$nulls":16},"~"]
["SA12",2026,"DC43",1040,"V","Estimated no. of properties not valued",{"$nulls":16},"~"]
["SA12",2026,"DC43",1041,"T","Years since last valuation",{"$nulls":16},"~"]
["SA12",2026,"DC43",1042,"T","Frequency of valuation ",{"$nulls":16},"~"]
["SA12",2026,"DC43",1043,"T","Method of valuation used",{"$nulls":16},"~"]
["SA12",2026,"DC43",1044,"T","Base of valuation",{"$nulls":16},"~"]
["SA12",2026,"DC43",1206,"V","Phasing-in properties s21 (number)",{"$nulls":16},"~"]
["SA12",2026,"DC43",1046,"T","Combination of rating types used? (Y/N)",{"$nulls":16},"~"]
["SA12",2026,"DC43",1047,"T","Flat rate used? (Y/N)",{"$nulls":16},"~"]
["SA12",2026,"DC43",1048,"T","Is balance rated by uniform rate/variable rate?",{"$nulls":16},"~"]
["SA12",2026,"DC43",1100,"T","Valuation reductions:",{"$nulls":16},"~"]
["SA12",2026,"DC43",1101,"V","Valuation reductions-public infrastructure",{"$nulls":16},"~"]
["SA12",2026,"DC43",1102,"V","Valuation reductions-nature reserves/park",{"$nulls":16},"~"]
["SA12",2026,"DC43",1103,"V","Valuation reductions-mineral rights",{"$nulls":16},"~"]
["SA12",2026,"DC43",1104,"V","Valuation reductions-R15,000 threshold ",{"$nulls":16},"~"]
["SA12",2026,"DC43",1105,"V","Valuation reductions-public worship",{"$nulls":16},"~"]
["SA12",2026,"DC43",1106,"V","Valuation reductions-other",{"$nulls":16},"~"]
["SA12",2026,"DC43",1107,"V","Total valuation reductions:",{"$nulls":16},"~"]
["SA12",2026,"DC43",1108,"V","Total value used for rating",{"$nulls":16},"~"]
["SA12",2026,"DC43",1109,"V","Total land value ",{"$nulls":16},"~"]
["SA12",2026,"DC43",1110,"V","Total value of improvements",{"$nulls":16},"~"]
["SA12",2026,"DC43",1111,"V","Total market value ",{"$nulls":16},"~"]
["SA12",2026,"DC43",1200,"T","Rating:",{"$nulls":16},"~"]
["SA12",2026,"DC43",1201,"V","Average rate",{"$nulls":16},"~"]
["SA12",2026,"DC43",1301,"V","Rate revenue budget ",{"$nulls":16},"~"]
["SA12",2026,"DC43",1302,"V","Rate revenue expected to collect",{"$nulls":16},"~"]
["SA12",2026,"DC43",1303,"P","Expected cash collection rate (%)",{"$nulls":16},"~"]
["SA12",2026,"DC43",1304,"V","Special rating areas",{"$nulls":16},"~"]
["SA12",2026,"DC43",1305,"V","Rebates, exemptions - indigent",{"$nulls":16},"~"]
["SA12",2026,"DC43",1306,"V","Rebates, exemptions - pensioners",{"$nulls":16},"~"]
["SA12",2026,"DC43",1307,"V","Rebates, exemptions - bona fide farm. ",{"$nulls":16},"~"]
["SA12",2026,"DC43",1308,"V","Rebates, exemptions - other ",{"$nulls":16},"~"]
["SA12",2026,"DC43",1309,"V","Phase-in reductions/discounts ",{"$nulls":16},"~"]
["SA12",2026,"DC43",1310,"V","Total rebates,exemptns,reductns,discs",{"$nulls":16},"~"]
["SA13",2026,"DC43",1000,1,"Property rates (rate in the Rand)",{"$nulls":16},"~"]
["SA13",2026,"DC43",1001,2,"Residential properties",{"$nulls":16},"~"]
["SA13",2026,"DC43",1002,3,"Residential properties - vacant land",{"$nulls":16},"~"]
["SA13",2026,"DC43",1003,4,"Formal/informal settlements",{"$nulls":16},"~"]
["SA13",2026,"DC43",1004,5,"Small holdings",{"$nulls":16},"~"]
["SA13",2026,"DC43",1005,6,"Farm properties - used",{"$nulls":16},"~"]
["SA13",2026,"DC43",1006,7,"Farm properties - not used",{"$nulls":16},"~"]
["SA13",2026,"DC43",1007,8,"Industrial properties",{"$nulls":16},"~"]
["SA13",2026,"DC43",1008,9,"Business and commercial properties",{"$nulls":16},"~"]
["SA13",2026,"DC43",1009,10,"Communal land - residential",{"$nulls":16},"~"]
["SA13",2026,"DC43",1010,11,"Communal land - small holdings",{"$nulls":16},"~"]
["SA13",2026,"DC43",1011,12,"Communal land - farm property",{"$nulls":16},"~"]
["SA13",2026,"DC43",1012,13,"Communal land - business and commercial",{"$nulls":16},"~"]
["SA13",2026,"DC43",1013,14,"Communal land - other",{"$nulls":16},"~"]
["SA13",2026,"DC43",1014,15,"State-owned properties",{"$nulls":16},"~"]
["SA13",2026,"DC43",1015,16,"Municipal properties",{"$nulls":16},"~"]
["SA13",2026,"DC43",1016,17,"Public service infrastructure",{"$nulls":16},"~"]
["SA13",2026,"DC43",1017,18,"Privately owned towns serviced by the owner",{"$nulls":16},"~"]
["SA13",2026,"DC43",1018,19,"State trust land",{"$nulls":16},"~"]
["SA13",2026,"DC43",1019,20,"Restitution and redistribution properties",{"$nulls":16},"~"]
["SA13",2026,"DC43",1020,21,"Protected areas",{"$nulls":16},"~"]
["SA13",2026,"DC43",1021,22,"National monuments properties",{"$nulls":16},"~"]
["SA13",2026,"DC43",{"$nulls":19},"~"]
["SA13",2026,"DC43",1030,23,"Exemptions, reductions and rebates (Rands)",{"$nulls":16},"~"]
["SA13",2026,"DC43",1031,24,"Residential properties",{"$nulls":16},"~"]
["SA13",2026,"DC43",1032,25,"R15 000 threshhold rebate",{"$nulls":16},"~"]
["SA13",2026,"DC43",1033,26,"General residential rebate",{"$nulls":16},"~"]
["SA13",{"$f":"+MTREF","v":2026},{"$f":"LEFT(muni,(FIND(\" \",muni,1)-1))","v":"DC43"},1034,27,"Indigent rebate or exemption",{"$nulls":16},"~"]
["SA13",2026,"DC43",1035,28,"Pensioners/social grants rebate or exemption ",{"$nulls":16},"~"]
["SA13",2026,"DC43",1036,29,"Temporary relief rebate or exemption",{"$nulls":16},"~"]
["SA13",2026,"DC43",1037,30," Bona fide farmers rebate or exemption",{"$nulls":16},"~"]
["SA13",2026,"DC43",1038,31,"Other rebates or exemptions",{"$nulls":16},"~"]
["SA13",2026,"DC43",{"$nulls":19},"~"]
["SA13",2026,"DC43",1100,32,"Water tariffs",{"$nulls":16},"~"]
["SA13",2026,"DC43",1101,33,"Domestic",{"$nulls":16},"~"]
["SA13",2026,"DC43",1102,34,"Basic charge/fixed fee (Rands/month)",{"$nulls":16},"~"]
["SA13",2026,"DC43",1103,35,"Service point - vacant land (Rands/month)",{"$nulls":16},"~"]
["SA13",2026,"DC43",1104,36,"Water usage - flat rate tariff (c/kl)",{"$nulls":16},"~"]
["SA13",2026,"DC43",1105,37,"Water usage - life line tariff",{"$nulls":16},"~"]
["SA13",2026,"DC43",1106,38,"Water usage - Block 1 (c/kl)",{"$nulls":16},"~"]
["SA13",2026,"DC43",1107,39,"Water usage - Block 2 (c/kl)",{"$nulls":16},"~"]
["SA13",2026,"DC43",1108,40,"Water usage - Block 3 (c/kl)",{"$nulls":16},"~"]
["SA13",2026,"DC43",1109,41,"Water usage - Block 4 (c/kl)",{"$nulls":16},"~"]
["SA13",2026,"DC43",1110,42,"Other",{"$nulls":16},"~"]
["SA13",2026,"DC43",{"$nulls":19},"~"]
["SA13",2026,"DC43",1200,43,"Waste water tariffs",{"$nulls":16},"~"]
["SA13",2026,"DC43",1201,44,"Domestic",{"$nulls":16},"~"]
["SA13",2026,"DC43",1202,45,"Basic charge/fixed fee (Rands/month)",{"$nulls":16},"~"]
["SA13",2026,"DC43",1203,46,"Service point - vacant land (Rands/month)",{"$nulls":16},"~"]
["SA13",2026,"DC43",1204,47,"Waste water - flat rate tariff (c/kl)",{"$nulls":16},"~"]
["SA13",2026,"DC43",1205,48,"Volumetric charge - Block 1 (c/kl)",{"$nulls":16},"~"]
["SA13",2026,"DC43",1206,49,"Volumetric charge - Block 2 (c/kl)",{"$nulls":16},"~"]
["SA13",2026,"DC43",1207,50,"Volumetric charge - Block 3 (c/kl)",{"$nulls":16},"~"]
["SA13",2026,"DC43",1208,51,"Volumetric charge - Block 4 (c/kl)",{"$nulls":16},"~"]
["SA13",2026,"DC43",1209,52,"Other",{"$nulls":16},"~"]
["SA13",2026,"DC43",{"$nulls":19},"~"]
["SA13",2026,"DC43",1300,53,"Electricity tariffs",{"$nulls":16},"~"]
["SA13",2026,"DC43",1301,54,"Domestic",{"$nulls":16},"~"]
["SA13",2026,"DC43",1302,55,"Basic charge/fixed fee (Rands/month)",{"$nulls":16},"~"]
["SA13",2026,"DC43",1303,56,"Service point - vacant land (Rands/month)",{"$nulls":16},"~"]
["SA13",2026,"DC43",1304,57,"FBE",{"$nulls":16},"~"]
["SA13",2026,"DC43",1305,58,"Life-line tariff - meter",{"$nulls":16},"~"]
["SA13",2026,"DC43",1306,59,"Life-line tariff - prepaid",{"$nulls":16},"~"]
["SA13",2026,"DC43",1307,60,"Flat rate tariff - meter (c/kwh)",{"$nulls":16},"~"]
["SA13",2026,"DC43",1308,61,"Flat rate tariff - prepaid(c/kwh)",{"$nulls":16},"~"]
["SA13",2026,"DC43",1309,62,"Meter - IBT Block 1 (c/kwh)",{"$nulls":16},"~"]
["SA13",2026,"DC43",1310,63,"Meter - IBT Block 2 (c/kwh)",{"$nulls":16},"~"]
["SA13",2026,"DC43",1311,64,"Meter - IBT Block 3 (c/kwh)",{"$nulls":16},"~"]
["SA13",2026,"DC43",1312,65,"Meter - IBT Block 4 (c/kwh)",{"$nulls":16},"~"]
["SA13",2026,"DC43",1313,66,"Meter - IBT Block 5 (c/kwh)",{"$nulls":16},"~"]
["SA13",2026,"DC43",1314,67,"Prepaid - IBT Block 1 (c/kwh)",{"$nulls":16},"~"]
["SA13",2026,"DC43",1315,68,"Prepaid - IBT Block 2 (c/kwh)",{"$nulls":16},"~"]
["SA13",2026,"DC43",1316,69,"Prepaid - IBT Block 3 (c/kwh)",{"$nulls":16},"~"]
["SA13",2026,"DC43",1317,70,"Prepaid - IBT Block 4 (c/kwh)",{"$nulls":16},"~"]
["SA13",2026,"DC43",1318,71,"Prepaid - IBT Block 5 (c/kwh)",{"$nulls":16},"~"]
["SA13",2026,"DC43",1319,72,"Other",{"$nulls":16},"~"]
["SA13",2026,"DC43",{"$nulls":19},"~"]
["SA13",2026,"DC43",1400,73,"Waste management tariffs",{"$nulls":16},"~"]
["SA13",2026,"DC43",1401,74,"Domestic",{"$nulls":16},"~"]
["SA13",2026,"DC43",1402,75,"Street cleaning charge",{"$nulls":16},"~"]
["SA13",2026,"DC43",1403,76,"Basic charge/fixed fee",{"$nulls":16},"~"]
["SA13",2026,"DC43",1404,77,"80l bin - once a week",{"$nulls":16},"~"]
["SA13",2026,"DC43",1405,78,"250l bin - once a week",{"$nulls":16},"~"]
["SA14",2026,"DC43",1000,1,"Monthly Account for Household - 'Middle Income Range'",{"$nulls":16},"~"]
["SA14",2026,"DC43",1001,2,"Rates and services charges:",{"$nulls":16},"~"]
["SA14",2026,"DC43",1002,3,"Property rates",{"$nulls":16},"~"]
["SA14",2026,"DC43",1003,4,"Electricity: Basic levy",{"$nulls":16},"~"]
["SA14",2026,"DC43",1004,5,"Electricity: Consumption",{"$nulls":16},"~"]
["SA14",2026,"DC43",1005,6,"Water: Basic levy",{"$nulls":16},"~"]
["SA14",2026,"DC43",1006,7,"Water: Consumption",{"$nulls":16},"~"]
["SA14",2026,"DC43",1007,8,"Sanitation",{"$nulls":16},"~"]
["SA14",{"$f":"+MTREF","v":2026},{"$f":"LEFT(muni,(FIND(\" \",muni,1)-1))","v":"DC43"},1008,9,"Refuse removal",{"$nulls":16},"~"]
["SA14",2026,"DC43",1009,10,"Other",{"$nulls":16},"~"]
["SA14",2026,"DC43",1090,11,"sub-total",{"$nulls":16},"~"]
["SA14",2026,"DC43",1091,12,"VAT on Services",{"$nulls":16},"~"]
["SA14",2026,"DC43",1095,13,"Total large household bill:",{"$nulls":16},"~"]
["SA14",2026,"DC43",1096,14,"% increase/-decrease",{"$nulls":16},"~"]
["SA14",2026,"DC43",{"$nulls":19},"~"]
["SA14",2026,"DC43",1100,15,"Monthly Account for Household - 'Affordable Range' ",{"$nulls":16},"~"]
["SA14",2026,"DC43",1101,16,"Rates and services charges:",{"$nulls":16},"~"]
["SA14",2026,"DC43",1102,17,"Property rates",{"$nulls":16},"~"]
["SA14",2026,"DC43",1103,18,"Electricity: Basic levy",{"$nulls":16},"~"]
["SA14",2026,"DC43",1110,19,"Electricity: Consumption",{"$nulls":16},"~"]
["SA14",2026,"DC43",1107,20,"Water: Basic levy",{"$nulls":16},"~"]
["SA14",2026,"DC43",1104,21,"Water: Consumption",{"$nulls":16},"~"]
["SA14",2026,"DC43",1105,22,"Sanitation",{"$nulls":16},"~"]
["SA14",2026,"DC43",1106,23,"Refuse removal",{"$nulls":16},"~"]
["SA14",2026,"DC43",1108,24,"Other",{"$nulls":16},"~"]
["SA14",2026,"DC43",1190,25,"sub-total",{"$nulls":16},"~"]
["SA14",2026,"DC43",1191,26,"VAT on Services",{"$nulls":16},"~"]
["SA14",2026,"DC43",1195,27,"Total small household bill:",{"$nulls":16},"~"]
["SA14",2026,"DC43",1196,28,"% increase/-decrease",{"$nulls":16},"~"]
["SA14",2026,"DC43",{"$nulls":19},"~"]
["SA14",2026,"DC43",1200,29,"Monthly Account for Household - 'Indigent' HH receiving FBS",{"$nulls":16},"~"]
["SA14",2026,"DC43",1201,30,"Rates and services charges:",{"$nulls":16},"~"]
["SA14",2026,"DC43",1202,31,"Property rates",{"$nulls":16},"~"]
["SA14",2026,"DC43",1203,32,"Electricity: Basic levy",{"$nulls":16},"~"]
["SA14",2026,"DC43",1207,33,"Electricity: Consumption",{"$nulls":16},"~"]
["SA14",2026,"DC43",1208,34,"Water: Basic levy",{"$nulls":16},"~"]
["SA14",2026,"DC43",1204,35,"Water: Consumption",{"$nulls":16},"~"]
["SA14",2026,"DC43",1205,36,"Sanitation",{"$nulls":16},"~"]
["SA14",2026,"DC43",1206,37,"Refuse removal",{"$nulls":16},"~"]
["SA14",2026,"DC43",1209,38,"Other",{"$nulls":16},"~"]
["SA14",2026,"DC43",1290,39,"sub-total",{"$nulls":16},"~"]
["SA14",2026,"DC43",1291,40,"VAT on Services",{"$nulls":16},"~"]
["SA14",2026,"DC43",1295,41,"Total small household bill:",{"$nulls":16},"~"]
["SA14",2026,"DC43",1296,42,"% increase/-decrease",{"$nulls":16},"~"]
["SA22",2026,"DC43",1000,1,"Councillors (Political Office Bearers plus Other)",{"$nulls":16},"~"]
["SA22",2026,"DC43",1001,2,"Basic Salaries and Wages",{"$nulls":16},"~"]
["SA22",2026,"DC43",1002,3,"Pension and UIF Contributions",{"$nulls":16},"~"]
["SA22",2026,"DC43",1003,4,"Medical Aid Contributions",{"$nulls":16},"~"]
["SA22",2026,"DC43",1004,5,"Motor Vehicle Allowance",{"$nulls":16},"~"]
["SA22",2026,"DC43",1005,6,"Cellphone Allowance",{"$nulls":16},"~"]
["SA22",2026,"DC43",1006,7,"Housing Allowances",{"$nulls":16},"~"]
["SA22",2026,"DC43",1007,8,"Other benefits and allowances",{"$nulls":16},"~"]
["SA22",2026,"DC43",1090,9,"Sub Total - Councillors",{"$nulls":16},"~"]
["SA22",2026,"DC43",1091,10,"% increase",{"$nulls":16},"~"]
["SA22",2026,"DC43",{"$nulls":19},"~"]
["SA22",2026,"DC43",1100,11,"Senior Managers of the Municipality",{"$nulls":16},"~"]
["SA22",2026,"DC43",1101,12,"Basic Salaries and Wages",{"$nulls":16},"~"]
["SA22",2026,"DC43",1102,13,"Pension and UIF Contributions",{"$nulls":16},"~"]
["SA22",2026,"DC43",1103,14,"Medical Aid Contributions",{"$nulls":16},"~"]
["SA22",2026,"DC43",1110,15,"Overtime",{"$nulls":16},"~"]
["SA22",2026,"DC43",1107,16,"Performance Bonus",{"$nulls":16},"~"]
["SA22",2026,"DC43",1104,17,"Motor Vehicle Allowance",{"$nulls":16},"~"]
["SA22",2026,"DC43",1105,18,"Cellphone Allowance",{"$nulls":16},"~"]
["SA22",2026,"DC43",1106,19,"Housing Allowances",{"$nulls":16},"~"]
["SA22",2026,"DC43",1108,20,"Other benefits and allowances",{"$nulls":16},"~"]
["SA22",2026,"DC43",1111,21,"Payments in lieu of leave",{"$nulls":16},"~"]
["SA22",2026,"DC43",1112,22,"Long service awards",{"$nulls":16},"~"]
["SA22",2026,"DC43",1113,23,"Post-retirement benefit obligations",{"$nulls":16},"~"]
["SA22",2026,"DC43",1190,24,"Sub Total - Senior Managers of Municipality",{"$nulls":16},"~"]
["SA22",2026,"DC43",1191,25,"% increase",{"$nulls":16},"~"]
["SA22",2026,"DC43",{"$nulls":19},"~"]
["SA22",2026,"DC43",1200,26,"Other Municipal Staff",{"$nulls":16},"~"]
["SA22",{"$f":"+MTREF","v":2026},{"$f":"LEFT(muni,(FIND(\" \",muni,1)-1))","v":"DC43"},1201,27,"Basic Salaries and Wages",{"$nulls":16},"~"]
["SA22",2026,"DC43",1202,28,"Pension and UIF Contributions",{"$nulls":16},"~"]
["SA22",2026,"DC43",1203,29,"Medical Aid Contributions",{"$nulls":16},"~"]
["SA22",2026,"DC43",1207,30,"Overtime",{"$nulls":16},"~"]
["SA22",2026,"DC43",1208,31,"Performance Bonus",{"$nulls":16},"~"]
["SA22",2026,"DC43",1204,32,"Motor Vehicle Allowance",{"$nulls":16},"~"]
["SA22",2026,"DC43",1205,33,"Cellphone Allowance",{"$nulls":16},"~"]
["SA22",2026,"DC43",1206,34,"Housing Allowances",{"$nulls":16},"~"]
["SA22",2026,"DC43",1209,35,"Other benefits and allowances",{"$nulls":16},"~"]
["SA22",2026,"DC43",1211,36,"Payments in lieu of leave",{"$nulls":16},"~"]
["SA22",2026,"DC43",1212,37,"Long service awards",{"$nulls":16},"~"]
["SA22",2026,"DC43",1213,38,"Post-retirement benefit obligations",{"$nulls":16},"~"]
["SA22",2026,"DC43",1290,39,"Sub Total - Other Municipal Staff",{"$nulls":16},"~"]
["SA22",2026,"DC43",1291,40,"% increase",{"$nulls":16},"~"]
["SA22",2026,"DC43",{"$nulls":19},"~"]
["SA22",2026,"DC43",1295,41,"Total Parent Municipality",{"$nulls":16},"~"]
["SA22",2026,"DC43",1297,42,"% increase",{"$nulls":16},"~"]
["SA22",2026,"DC43",{"$nulls":19},"~"]
["SA22",2026,"DC43",2000,43,"Board Members of Entities",{"$nulls":16},"~"]
["SA22",2026,"DC43",2001,44,"Basic Salaries and Wages",{"$nulls":16},"~"]
["SA22",2026,"DC43",2002,45,"Pension and UIF Contributions",{"$nulls":16},"~"]
["SA22",2026,"DC43",2003,46,"Medical Aid Contributions",{"$nulls":16},"~"]
["SA22",2026,"DC43",2010,47,"Overtime",{"$nulls":16},"~"]
["SA22",2026,"DC43",2011,48,"Performance Bonus",{"$nulls":16},"~"]
["SA22",2026,"DC43",2004,49,"Motor Vehicle Allowance",{"$nulls":16},"~"]
["SA22",2026,"DC43",2005,50,"Cellphone Allowance",{"$nulls":16},"~"]
["SA22",2026,"DC43",2006,51,"Housing Allowances",{"$nulls":16},"~"]
["SA22",2026,"DC43",2008,52,"Other benefits and allowances",{"$nulls":16},"~"]
["SA22",2026,"DC43",2007,53,"Board Fees",{"$nulls":16},"~"]
["SA22",2026,"DC43",2012,54,"Payments in lieu of leave",{"$nulls":16},"~"]
["SA22",2026,"DC43",2013,55,"Long service awards",{"$nulls":16},"~"]
["SA22",2026,"DC43",2014,56,"Post-retirement benefit obligations",{"$nulls":16},"~"]
["SA22",2026,"DC43",2090,57,"Sub Total - Board Members of Entities",{"$nulls":16},"~"]
["SA22",2026,"DC43",2091,58,"% increase",{"$nulls":16},"~"]
["SA22",2026,"DC43",{"$nulls":19},"~"]
["SA22",2026,"DC43",2100,59,"Senior Managers of Entities",{"$nulls":16},"~"]
["SA22",2026,"DC43",2101,60,"Basic Salaries and Wages",{"$nulls":16},"~"]
["SA22",2026,"DC43",2102,61,"Pension and UIF Contributions",{"$nulls":16},"~"]
["SA22",2026,"DC43",2103,62,"Medical Aid Contributions",{"$nulls":16},"~"]
["SA22",2026,"DC43",2110,63,"Overtime",{"$nulls":16},"~"]
["SA22",2026,"DC43",2107,64,"Performance Bonus",{"$nulls":16},"~"]
["SA22",2026,"DC43",2104,65,"Motor Vehicle Allowance",{"$nulls":16},"~"]
["SA22",2026,"DC43",2105,66,"Cellphone Allowance",{"$nulls":16},"~"]
["SA22",2026,"DC43",2106,67,"Housing Allowances",{"$nulls":16},"~"]
["SA22",2026,"DC43",2108,68,"Other benefits and allowances",{"$nulls":16},"~"]
["SA22",2026,"DC43",2111,69,"Payments in lieu of leave",{"$nulls":16},"~"]
["SA22",2026,"DC43",2112,70,"Long service awards",{"$nulls":16},"~"]
["SA22",2026,"DC43",2113,71,"Post-retirement benefit obligations",{"$nulls":16},"~"]
["SA22",2026,"DC43",2190,72,"Sub Total - Senior Managers of Entities",{"$nulls":16},"~"]
["SA22",2026,"DC43",2191,73,"% increase",{"$nulls":16},"~"]
["SA22",2026,"DC43",{"$nulls":19},"~"]
["SA22",2026,"DC43",2200,74,"Other Staff of Entities",{"$nulls":16},"~"]
["SA22",2026,"DC43",2201,75,"Basic Salaries and Wages",{"$nulls":16},"~"]
["SA22",2026,"DC43",2202,76,"Pension and UIF Contributions",{"$nulls":16},"~"]
["SA22",2026,"DC43",2203,77,"Medical Aid Contributions",{"$nulls":16},"~"]
["SA22",2026,"DC43",2207,78,"Overtime",{"$nulls":16},"~"]
["SA22",2026,"DC43",2208,79,"Performance Bonus",{"$nulls":16},"~"]
["SA22",2026,"DC43",2204,80,"Motor Vehicle Allowance",{"$nulls":16},"~"]
["SA22",2026,"DC43",2205,81,"Cellphone Allowance",{"$nulls":16},"~"]
["SA22",2026,"DC43",2206,82,"Housing Allowances",{"$nulls":16},"~"]
["SA22",2026,"DC43",2209,83,"Other benefits and allowances",{"$nulls":16},"~"]
["SA22",2026,"DC43",2211,84,"Payments in lieu of leave",{"$nulls":16},"~"]
["SA22",2026,"DC43",2212,85,"Long service awards",{"$nulls":16},"~"]
["SA22",2026,"DC43",2213,86,"Post-retirement benefit obligations",{"$nulls":16},"~"]
["SA22",{"$f":"+MTREF","v":2026},{"$f":"LEFT(muni,(FIND(\" \",muni,1)-1))","v":"DC43"},2290,87,"Sub Total - Other Staff of Entities",{"$nulls":16},"~"]
["SA22",2026,"DC43",2291,89,"% increase",{"$nulls":16},"~"]
["SA22",2026,"DC43",{"$nulls":19},"~"]
["SA22",2026,"DC43",2295,90,"Total Municipal Entities",{"$nulls":16},"~"]
["SA22",2026,"DC43",{"$nulls":19},"~"]
["SA22",2026,"DC43",2296,91,"TOTAL SALARY, ALLOWANCES & BENEFITS",{"$nulls":16},"~"]
["SA22",2026,"DC43",2297,92,"% increase",{"$nulls":16},"~"]
["SA22",2026,"DC43",2298,93,"TOTAL MANAGERS AND STAFF",{"$nulls":16},"~"]
["SA23",2026,"DC43",1000,1,{"$nulls":17},"~"]
["SA23",2026,"DC43",1001,2,{"$nulls":17},"~"]
["SA23",2026,"DC43",1002,3,{"$nulls":17},"~"]
["SA23",2026,"DC43",1003,4,{"$nulls":17},"~"]
["SA23",2026,"DC43",1004,5,{"$nulls":17},"~"]
["SA23",2026,"DC43",1005,6,{"$nulls":17},"~"]
["SA23",2026,"DC43",1006,7,{"$nulls":17},"~"]
["SA23",2026,"DC43",1090,8,{"$nulls":17},"~"]
["SA23",2026,"DC43",{"$nulls":19},"~"]
["SA23",2026,"DC43",{"$nulls":19},"~"]
["SA23",2026,"DC43",{"$nulls":19},"~"]
["SA23",2026,"DC43",{"$nulls":19},"~"]
["SA23",2026,"DC43",{"$nulls":19},"~"]
["SA23",2026,"DC43",{"$nulls":19},"~"]
["SA23",2026,"DC43",{"$nulls":19},"~"]
["SA23",2026,"DC43",{"$nulls":19},"~"]
["SA23",2026,"DC43",{"$nulls":19},"~"]
["SA23",2026,"DC43",{"$nulls":19},"~"]
["SA23",2026,"DC43",{"$nulls":19},"~"]
["SA23",2026,"DC43",{"$nulls":19},"~"]
["SA23",2026,"DC43",{"$nulls":19},"~"]
["SA23",2026,"DC43",{"$nulls":19},"~"]
["SA23",2026,"DC43",{"$nulls":19},"~"]
["SA23",2026,"DC43",{"$nulls":19},"~"]
["SA23",2026,"DC43",{"$nulls":19},"~"]
["SA23",2026,"DC43",{"$nulls":19},"~"]
["SA23",2026,"DC43",{"$nulls":19},"~"]
["SA23",2026,"DC43",{"$nulls":19},"~"]
["SA23",2026,"DC43",{"$nulls":19},"~"]
["SA23",2026,"DC43",{"$nulls":19},"~"]
["SA23",2026,"DC43",{"$nulls":19},"~"]
["SA23",2026,"DC43",{"$nulls":19},"~"]
["SA23",2026,"DC43",{"$nulls":19},"~"]
["SA23",2026,"DC43",{"$nulls":19},"~"]
["SA23",2026,"DC43",{"$nulls":19},"~"]
["SA23",2026,"DC43",{"$nulls":19},"~"]
["SA23",2026,"DC43",{"$nulls":19},"~"]
["SA23",2026,"DC43",{"$nulls":19},"~"]
["SA23",2026,"DC43",{"$nulls":19},"~"]
["SA23",2026,"DC43",{"$nulls":19},"~"]
["SA23",2026,"DC43",{"$nulls":19},"~"]
["SA23",2026,"DC43",{"$nulls":19},"~"]
["SA23",2026,"DC43",{"$nulls":19},"~"]
["SA23",2026,"DC43",{"$nulls":19},"~"]
["SA23",2026,"DC43",{"$nulls":19},"~"]
["SA23",2026,"DC43",{"$nulls":19},"~"]
["SA23",2026,"DC43",{"$nulls":19},"~"]
["SA23",2026,"DC43",{"$nulls":19},"~"]
["SA23",2026,"DC43",{"$nulls":19},"~"]
["SA23",2026,"DC43",{"$nulls":19},"~"]
["SA23",2026,"DC43",{"$nulls":19},"~"]
["SA23",2026,"DC43",{"$nulls":19},"~"]
["SA23",2026,"DC43",{"$nulls":19},"~"]
["SA23",2026,"DC43",{"$nulls":19},"~"]
["SA23",2026,"DC43",{"$nulls":19},"~"]
["SA23",2026,"DC43",{"$nulls":19},"~"]
["SA23",{"$f":"+MTREF","v":2026},{"$f":"LEFT(muni,(FIND(\" \",muni,1)-1))","v":"DC43"},{"$nulls":19},"~"]
["SA23",2026,"DC43",{"$nulls":19},"~"]
["SA23",2026,"DC43",{"$nulls":19},"~"]
["SA23",2026,"DC43",{"$nulls":19},"~"]
["SA23",2026,"DC43",{"$nulls":19},"~"]
["SA23",2026,"DC43",{"$nulls":19},"~"]
["SA23",2026,"DC43",{"$nulls":19},"~"]
["SA23",2026,"DC43",{"$nulls":19},"~"]
["SA23",2026,"DC43",{"$nulls":19},"~"]
["SA23",2026,"DC43",{"$nulls":19},"~"]
["SA23",2026,"DC43",{"$nulls":19},"~"]
["SA23",2026,"DC43",{"$nulls":19},"~"]
["SA23",2026,"DC43",{"$nulls":19},"~"]
["SA23",2026,"DC43",{"$nulls":19},"~"]
["SA23",2026,"DC43",{"$nulls":19},"~"]
["SA23",2026,"DC43",{"$nulls":19},"~"]
["SA23",2026,"DC43",{"$nulls":19},"~"]
["SA23",2026,"DC43",{"$nulls":19},"~"]
["SA23",2026,"DC43",{"$nulls":19},"~"]
["SA23",2026,"DC43",{"$nulls":19},"~"]
["SA23",2026,"DC43",{"$nulls":19},"~"]
["SA23",2026,"DC43",{"$nulls":19},"~"]
["SA23",2026,"DC43",{"$nulls":19},"~"]
["SA23",2026,"DC43",{"$nulls":19},"~"]
["SA23",2026,"DC43",{"$nulls":19},"~"]
["SA23",2026,"DC43",{"$nulls":19},"~"]
["SA23",2026,"DC43",{"$nulls":19},"~"]
["SA23",2026,"DC43",{"$nulls":19},"~"]
["SA23",2026,"DC43",{"$nulls":19},"~"]
["SA23",2026,"DC43",{"$nulls":19},"~"]
["SA23",2026,"DC43",{"$nulls":19},"~"]
["SA23",2026,"DC43",{"$nulls":19},"~"]
["SA23",2026,"DC43",{"$nulls":19},"~"]
["SA23",2026,"DC43",{"$nulls":19},"~"]
["SA23",2026,"DC43",{"$nulls":19},"~"]
["SA23",2026,"DC43",{"$nulls":19},"~"]
["SA23",2026,"DC43",{"$nulls":19},"~"]
["SA23",2026,"DC43",{"$nulls":19},"~"]
["SA23",2026,"DC43",{"$nulls":19},"~"]
["SA23",2026,"DC43",{"$nulls":19},"~"]
["SA23",2026,"DC43",{"$nulls":19},"~"]
["SA23",2026,"DC43",{"$nulls":19},"~"]
["SA23",2026,"DC43",{"$nulls":19},"~"]
["SA24",2026,"DC43",1000,1,"Municipal Council and Boards of Municipal Entities",{"$nulls":16},"~"]
["SA24",2026,"DC43",1001,2,"Councillors (Political Office Bearers and Other Councillors)",{"$nulls":16},"~"]
["SA24",2026,"DC43",1002,3,"Board Members of municipal entities",{"$nulls":16},"~"]
["SA24",2026,"DC43",1100,4,"Municipal employees",{"$nulls":16},"~"]
["SA24",2026,"DC43",1101,5,"Municipal Manager and Senior Managers",{"$nulls":16},"~"]
["SA24",2026,"DC43",1102,6,"Other Managers",{"$nulls":16},"~"]
["SA24",2026,"DC43",1103,7,"Professionals",{"$nulls":16},"~"]
["SA24",2026,"DC43",1104,8,"Finance",{"$nulls":16},"~"]
["SA24",2026,"DC43",1105,9,"Spatial/town planning",{"$nulls":16},"~"]
["SA24",2026,"DC43",1106,10,"Information Technology",{"$nulls":16},"~"]
["SA24",2026,"DC43",1107,11,"Roads",{"$nulls":16},"~"]
["SA24",2026,"DC43",1108,12,"Electricity",{"$nulls":16},"~"]
["SA24",2026,"DC43",1109,13,"Water",{"$nulls":16},"~"]
["SA24",2026,"DC43",1110,14,"Sanitation",{"$nulls":16},"~"]
["SA24",2026,"DC43",1111,15,"Refuse",{"$nulls":16},"~"]
["SA24",2026,"DC43",1112,16,"Other",{"$nulls":16},"~"]
["SA24",2026,"DC43",1113,17,"Technicians",{"$nulls":16},"~"]
["SA24",2026,"DC43",1114,18,"Finance",{"$nulls":16},"~"]
["SA24",2026,"DC43",1115,19,"Spatial/town planning",{"$nulls":16},"~"]
["SA24",2026,"DC43",1116,20,"Information Technology",{"$nulls":16},"~"]
["SA24",2026,"DC43",1117,21,"Roads",{"$nulls":16},"~"]
["SA24",{"$f":"+MTREF","v":2026},{"$f":"LEFT(muni,(FIND(\" \",muni,1)-1))","v":"DC43"},1118,22,"Electricity",{"$nulls":16},"~"]
["SA24",2026,"DC43",1119,23,"Water",{"$nulls":16},"~"]
["SA24",2026,"DC43",1120,24,"Sanitation",{"$nulls":16},"~"]
["SA24",2026,"DC43",1121,25,"Refuse",{"$nulls":16},"~"]
["SA24",2026,"DC43",1122,26,"Other",{"$nulls":16},"~"]
["SA24",2026,"DC43",1123,27,"Clerks (Clerical and administrative)",{"$nulls":16},"~"]
["SA24",2026,"DC43",1124,28,"Service and sales workers",{"$nulls":16},"~"]
["SA24",2026,"DC43",1125,29,"Skilled agricultural and fishery workers",{"$nulls":16},"~"]
["SA24",2026,"DC43",1126,30,"Craft and related trades",{"$nulls":16},"~"]
["SA24",2026,"DC43",1127,31,"Plant and Machine Operators",{"$nulls":16},"~"]
["SA24",2026,"DC43",1128,32,"Elementary Occupations",{"$nulls":16},"~"]
["SA24",2026,"DC43",1190,33,"TOTAL PERSONNEL NUMBERS",{"$nulls":16},"~"]
["SA24",2026,"DC43",1191,34,"% increase",{"$nulls":16},"~"]
["SA24",2026,"DC43",{"$nulls":19},"~"]
["SA24",2026,"DC43",1200,35,"Total municipal employees headcount",{"$nulls":16},"~"]
["SA24",2026,"DC43",1201,36,"Finance personnel headcount",{"$nulls":16},"~"]
["SA24",2026,"DC43",1202,37,"Human Resources personnel headcount",{"$nulls":16},"~"]
["OTHER",2026,"DC43","1001",1,"Unspent conditional transfers",{"$nulls":16},"~"]
["OTHER",2026,"DC43","1002",2,"Unspent borrowing",{"$nulls":16},"~"]
["OTHER",2026,"DC43","1003",3,"Statutory requirements",{"$nulls":16},"~"]
["OTHER",2026,"DC43","1005",5,"Other provisions",{"$nulls":16},"~"]
["OTHER",2026,"DC43","1006",6,"Long term investments committed",{"$nulls":16},"~"]
["OTHER",2026,"DC43","1007",7,"Reserves to be backed by cash/investments",{"$nulls":16},"~"]
["OTHER",2026,"DC43","1008",8,"Estimate of other debtors > 90 days",{"$nulls":16},"~"]
["OTHER",2026,"DC43",2001,9,"Contributions recognised - capital",{"$nulls":16},"~"]
["OTHER",2026,"DC43","3001",10,"Depreciation offsets",{"$nulls":16},"~"]
["OTHER",2026,"DC43","4001",11,"Fixed operational expenditure % assumption",{"$nulls":16},"~"]
["OTHER",2026,"DC43",5000,50,"Repairs and Maintenance by Expenditure Item",{"$nulls":16},"~"]
["OTHER",2026,"DC43",5001,51,"Employee related costs",{"$nulls":16},"~"]
["OTHER",2026,"DC43",5002,52,"Other materials",{"$nulls":16},"~"]
["OTHER",2026,"DC43",5003,53,"Contracted Services",{"$nulls":16},"~"]
["OTHER",2026,"DC43",5004,54,"Other Expenditure",{"$nulls":16},"~"]
["OTHER",2026,"DC43",5005,55,"Total Repairs and Maintenance Expenditure",{"$nulls":16},"~"]
["OTHER",2026,"DC43",6001,61,"Volume Electricity Distribution Losses",{"$nulls":16},"~"]
["OTHER",2026,"DC43",6002,62,"Cost Electiricty Distribution Losses",{"$nulls":16},"~"]
["OTHER",2026,"DC43",{"$nulls":19},"~"]
["OTHER",2026,"DC43",6003,63,"Volume Water Distribution Losses",{"$nulls":16},"~"]
["OTHER",2026,"DC43",6004,64,"Cost Water Distribution Losses",{"$nulls":16},"~"]
["OTHER",2026,"DC43",{"$nulls":19},"~"]
["OTHER",2026,"DC43",7001,71,"Consultant Fees",{"$nulls":16},"~"]
["OTHER",2026,"DC43",7002,72,"Audit Fees",{"$nulls":16},"~"]
["SA36",2026,"DC43",1,{"$nulls":18},"~"]
["SA36",2026,"DC43",2,{"$nulls":18},"~"]
["SA36",2026,"DC43",3,{"$nulls":18},"~"]
["SA36",2026,"DC43",4,{"$nulls":18},"~"]
["SA36",2026,"DC43",5,{"$nulls":18},"~"]
["SA36",2026,"DC43",6,{"$nulls":18},"~"]
["SA36",2026,"DC43",7,{"$nulls":18},"~"]
["SA36",2026,"DC43",8,{"$nulls":18},"~"]
["SA36",2026,"DC43",9,{"$nulls":18},"~"]
["SA36",2026,"DC43",10,{"$nulls":18},"~"]
["SA36",2026,"DC43",11,{"$nulls":18},"~"]
["SA36",2026,"DC43",12,{"$nulls":18},"~"]
["SA36",2026,"DC43",13,{"$nulls":18},"~"]
["SA36",2026,"DC43",14,{"$nulls":18},"~"]
["SA36",2026,"DC43",15,{"$nulls":18},"~"]
["SA36",2026,"DC43",16,{"$nulls":18},"~"]
["SA36",2026,"DC43",17,{"$nulls":11},0,0,null,null,0,null,null,"~"]
["SA36",2026,"DC43",18,{"$nulls":18},"~"]
["SA36",2026,"DC43",19,{"$nulls":18},"~"]
["SA36",2026,"DC43",20,{"$nulls":18},"~"]
["SA36",2026,"DC43",21,{"$nulls":18},"~"]
["SA36",2026,"DC43",22,{"$nulls":18},"~"]
["SA36",2026,"DC43",23,{"$nulls":18},"~"]
["SA36",{"$f":"+MTREF","v":2026},{"$f":"LEFT(muni,(FIND(\" \",muni,1)-1))","v":"DC43"},24,{"$nulls":18},"~"]
["SA36",2026,"DC43",25,{"$nulls":18},"~"]
["SA36",2026,"DC43",26,{"$nulls":18},"~"]
["SA36",2026,"DC43",27,{"$nulls":18},"~"]
["SA36",2026,"DC43",28,{"$nulls":18},"~"]
["SA36",2026,"DC43",29,{"$nulls":18},"~"]
["SA36",2026,"DC43",30,{"$nulls":9},0,0,0,0,{"$nulls":5},"~"]
["SA36",2026,"DC43",31,{"$nulls":9},0,0,0,0,{"$nulls":5},"~"]
["SA36",2026,"DC43",32,{"$nulls":18},"~"]
["SA36",2026,"DC43",33,{"$nulls":18},"~"]
["SA36",2026,"DC43",34,{"$nulls":18},"~"]
["SA36",2026,"DC43",35,{"$nulls":18},"~"]
["SA36",2026,"DC43",36,{"$nulls":18},"~"]
["SA36",2026,"DC43",37,{"$nulls":18},"~"]
["SA36",2026,"DC43",38,{"$nulls":8},"Check",0,{"$nulls":8},"~"]
["SA36",2026,"DC43",39,{"$nulls":18},"~"]
["SA36",2026,"DC43",40,{"$nulls":18},"~"]
["SA36",2026,"DC43",41,{"$nulls":18},"~"]
["SA36",2026,"DC43",42,{"$nulls":18},"~"]
["SA36",2026,"DC43",43,{"$nulls":18},"~"]
["SA36",2026,"DC43",44,{"$nulls":18},"~"]
["SA36",2026,"DC43",45,{"$nulls":18},"~"]
["SA36",2026,"DC43",46,{"$nulls":18},"~"]
["SA36",2026,"DC43",47,{"$nulls":18},"~"]
["SA36",2026,"DC43",48,{"$nulls":18},"~"]
["SA36",2026,"DC43",49,{"$nulls":18},"~"]
["SA36",2026,"DC43",50,{"$nulls":18},"~"]
["SA36",2026,"DC43",51,{"$nulls":18},"~"]
["SA36",2026,"DC43",52,{"$nulls":18},"~"]
["SA36",2026,"DC43",53,{"$nulls":18},"~"]
["SA36",2026,"DC43",54,{"$nulls":18},"~"]
["SA36",2026,"DC43",55,{"$nulls":18},"~"]
["SA36",2026,"DC43",56,{"$nulls":18},"~"]
["SA36",2026,"DC43",57,{"$nulls":18},"~"]
["SA36",2026,"DC43",58,{"$nulls":18},"~"]
["SA36",2026,"DC43",59,{"$nulls":18},"~"]
["SA36",2026,"DC43",60,{"$nulls":18},"~"]
["SA36",2026,"DC43",61,{"$nulls":18},"~"]
["SA36",2026,"DC43",62,{"$nulls":18},"~"]
["SA36",2026,"DC43",63,{"$nulls":18},"~"]
["SA36",2026,"DC43",64,{"$nulls":18},"~"]
["SA36",2026,"DC43",65,{"$nulls":18},"~"]
["SA36",2026,"DC43",66,{"$nulls":18},"~"]
["SA36",2026,"DC43",67,{"$nulls":18},"~"]
["SA36",2026,"DC43",68,{"$nulls":18},"~"]
["SA36",2026,"DC43",69,{"$nulls":18},"~"]
["SA36",2026,"DC43",70,{"$nulls":18},"~"]
["SA36",2026,"DC43",71,{"$nulls":18},"~"]
["SA36",2026,"DC43",72,{"$nulls":18},"~"]
["SA36",2026,"DC43",73,{"$nulls":18},"~"]
["SA36",2026,"DC43",74,{"$nulls":18},"~"]
["SA36",2026,"DC43",75,{"$nulls":18},"~"]
["SA36",2026,"DC43",76,{"$nulls":18},"~"]
["SA36",2026,"DC43",77,{"$nulls":18},"~"]
["SA36",2026,"DC43",78,{"$nulls":18},"~"]
["SA36",2026,"DC43",79,{"$nulls":18},"~"]
["SA36",2026,"DC43",80,{"$nulls":18},"~"]
["SA36",2026,"DC43",81,{"$nulls":18},"~"]
["SA36",2026,"DC43",82,{"$nulls":18},"~"]
["SA36",2026,"DC43",83,{"$nulls":18},"~"]
["SA36",2026,"DC43",84,{"$nulls":18},"~"]
["SA36",2026,"DC43",85,{"$nulls":18},"~"]
["SA36",2026,"DC43",86,{"$nulls":18},"~"]
["SA36",2026,"DC43",87,{"$nulls":18},"~"]
["SA36",{"$f":"+MTREF","v":2026},{"$f":"LEFT(muni,(FIND(\" \",muni,1)-1))","v":"DC43"},88,{"$nulls":18},"~"]
["SA36",2026,"DC43",89,{"$nulls":18},"~"]
["SA36",2026,"DC43",90,{"$nulls":18},"~"]
["SA36",2026,"DC43",91,{"$nulls":18},"~"]
["SA36",2026,"DC43",92,{"$nulls":18},"~"]
["SA36",2026,"DC43",93,{"$nulls":18},"~"]
["SA36",2026,"DC43",94,{"$nulls":18},"~"]
["SA36",2026,"DC43",95,{"$nulls":18},"~"]
["SA36",2026,"DC43",96,{"$nulls":18},"~"]
["SA36",2026,"DC43",97,{"$nulls":18},"~"]
["SA36",2026,"DC43",98,{"$nulls":18},"~"]
["SA36",2026,"DC43",99,{"$nulls":18},"~"]
["SA36",2026,"DC43",100,{"$nulls":18},"~"]
["SA36",2026,"DC43",101,{"$nulls":18},"~"]
["SA36",2026,"DC43",102,{"$nulls":18},"~"]
["SA36",2026,"DC43",103,{"$nulls":18},"~"]
["SA36",2026,"DC43",104,{"$nulls":18},"~"]
["SA36",2026,"DC43",105,{"$nulls":18},"~"]
["SA36",2026,"DC43",106,{"$nulls":18},"~"]
["SA36",2026,"DC43",107,{"$nulls":18},"~"]
["SA36",2026,"DC43",108,{"$nulls":18},"~"]
["SA36",2026,"DC43",109,{"$nulls":18},"~"]
["SA36",2026,"DC43",110,{"$nulls":18},"~"]
["SA36",2026,"DC43",111,{"$nulls":18},"~"]
["SA36",2026,"DC43",112,{"$nulls":18},"~"]
["SA36",2026,"DC43",113,{"$nulls":18},"~"]
["SA36",2026,"DC43",114,{"$nulls":18},"~"]
["SA36",2026,"DC43",115,{"$nulls":18},"~"]
["SA36",2026,"DC43",116,{"$nulls":18},"~"]
["SA36",2026,"DC43",117,{"$nulls":18},"~"]
["SA36",2026,"DC43",118,{"$nulls":18},"~"]
["SA36",2026,"DC43",119,{"$nulls":18},"~"]
["SA36",2026,"DC43",120,{"$nulls":18},"~"]
["SA36",2026,"DC43",121,{"$nulls":18},"~"]
["SA36",2026,"DC43",122,{"$nulls":18},"~"]
["SA36",2026,"DC43",123,{"$nulls":18},"~"]
["SA36",2026,"DC43",124,{"$nulls":18},"~"]
["SA36",2026,"DC43",125,{"$nulls":18},"~"]
["SA36",2026,"DC43",126,{"$nulls":18},"~"]
["SA36",2026,"DC43",127,{"$nulls":18},"~"]
["SA36",2026,"DC43",128,{"$nulls":18},"~"]
["SA36",2026,"DC43",129,{"$nulls":18},"~"]
["SA36",2026,"DC43",130,{"$nulls":18},"~"]
["SA36",2026,"DC43",131,{"$nulls":18},"~"]
["SA36",2026,"DC43",132,{"$nulls":18},"~"]
["SA36",2026,"DC43",133,{"$nulls":18},"~"]
["SA36",2026,"DC43",134,{"$nulls":18},"~"]
["SA36",2026,"DC43",135,{"$nulls":18},"~"]
["SA36",2026,"DC43",136,{"$nulls":18},"~"]
["SA36",2026,"DC43",137,{"$nulls":18},"~"]
["SA36",2026,"DC43",138,{"$nulls":18},"~"]
["SA36",2026,"DC43",139,{"$nulls":18},"~"]
["SA36",2026,"DC43",140,{"$nulls":18},"~"]
["SA36",2026,"DC43",141,{"$nulls":18},"~"]
["SA36",2026,"DC43",142,{"$nulls":18},"~"]
["SA36",2026,"DC43",143,{"$nulls":18},"~"]
["SA36",2026,"DC43",144,{"$nulls":18},"~"]
["SA36",2026,"DC43",145,{"$nulls":18},"~"]
["SA36",2026,"DC43",146,{"$nulls":18},"~"]
["SA36",2026,"DC43",147,{"$nulls":18},"~"]
["SA36",2026,"DC43",148,{"$nulls":18},"~"]
["SA36",2026,"DC43",149,{"$nulls":18},"~"]
["SA36",2026,"DC43",150,{"$nulls":18},"~"]
["SA36",2026,"DC43",151,{"$nulls":18},"~"]
["SA36",{"$f":"+MTREF","v":2026},{"$f":"LEFT(muni,(FIND(\" \",muni,1)-1))","v":"DC43"},152,{"$nulls":18},"~"]
["SA36",2026,"DC43",153,{"$nulls":18},"~"]
["SA36",2026,"DC43",154,{"$nulls":18},"~"]
["SA36",2026,"DC43",155,{"$nulls":18},"~"]
["SA36",2026,"DC43",156,{"$nulls":18},"~"]
["SA36",2026,"DC43",157,{"$nulls":18},"~"]
["SA36",2026,"DC43",158,{"$nulls":18},"~"]
["SA36",2026,"DC43",159,{"$nulls":18},"~"]
["SA36",2026,"DC43",160,{"$nulls":18},"~"]
["SA36",2026,"DC43",161,{"$nulls":18},"~"]
["SA36",2026,"DC43",162,{"$nulls":18},"~"]
["SA36",2026,"DC43",163,{"$nulls":18},"~"]
["SA36",2026,"DC43",164,{"$nulls":18},"~"]
["SA36",2026,"DC43",165,{"$nulls":18},"~"]
["SA36",2026,"DC43",166,{"$nulls":18},"~"]
["SA36",2026,"DC43",167,{"$nulls":18},"~"]
["SA36",2026,"DC43",168,{"$nulls":18},"~"]
["SA36",2026,"DC43",169,{"$nulls":18},"~"]
["SA36",2026,"DC43",170,{"$nulls":18},"~"]
["SA36",2026,"DC43",171,{"$nulls":18},"~"]
["SA36",2026,"DC43",172,{"$nulls":18},"~"]
["SA36",2026,"DC43",173,{"$nulls":18},"~"]
["SA36",2026,"DC43",174,{"$nulls":18},"~"]
["SA36",2026,"DC43",175,{"$nulls":18},"~"]
["SA36",2026,"DC43",176,{"$nulls":18},"~"]
["SA36",2026,"DC43",177,{"$nulls":18},"~"]
["SA36",2026,"DC43",178,{"$nulls":18},"~"]
["SA36",2026,"DC43",179,{"$nulls":18},"~"]
["SA36",2026,"DC43",180,{"$nulls":18},"~"]
["SA36",2026,"DC43",181,{"$nulls":18},"~"]
["SA36",2026,"DC43",182,{"$nulls":18},"~"]
["SA36",2026,"DC43",183,{"$nulls":18},"~"]
["SA36",2026,"DC43",184,{"$nulls":18},"~"]
["SA36",2026,"DC43",185,{"$nulls":18},"~"]
["SA36",2026,"DC43",186,{"$nulls":18},"~"]
["SA36",2026,"DC43",187,{"$nulls":18},"~"]
["SA36",2026,"DC43",188,{"$nulls":18},"~"]
["SA36",2026,"DC43",189,{"$nulls":18},"~"]
["SA36",2026,"DC43",190,{"$nulls":18},"~"]
["SA36",2026,"DC43",191,{"$nulls":18},"~"]
["SA36",2026,"DC43",192,{"$nulls":18},"~"]
["SA36",2026,"DC43",193,{"$nulls":18},"~"]
["SA36",2026,"DC43",194,{"$nulls":18},"~"]
["SA36",2026,"DC43",195,{"$nulls":18},"~"]
["SA36",2026,"DC43",196,{"$nulls":18},"~"]
["SA36",2026,"DC43",197,{"$nulls":18},"~"]
["SA36",2026,"DC43",198,{"$nulls":18},"~"]
["SA36",2026,"DC43",199,{"$nulls":18},"~"]
["SA36",2026,"DC43",200,{"$nulls":18},"~"]
["SA36",2026,"DC43",201,{"$nulls":18},"~"]
["SA36",2026,"DC43",202,{"$nulls":18},"~"]
["SA36",2026,"DC43",203,{"$nulls":18},"~"]
["SA36",2026,"DC43",204,{"$nulls":18},"~"]
["SA36",2026,"DC43",205,{"$nulls":18},"~"]
["SA36",2026,"DC43",206,{"$nulls":18},"~"]
["SA36",2026,"DC43",207,{"$nulls":18},"~"]
["SA36",2026,"DC43",208,{"$nulls":18},"~"]
["SA36",2026,"DC43",209,{"$nulls":18},"~"]
["SA36",2026,"DC43",210,{"$nulls":18},"~"]
["SA36",2026,"DC43",211,{"$nulls":18},"~"]
["SA36",2026,"DC43",212,{"$nulls":18},"~"]
["SA36",2026,"DC43",213,{"$nulls":18},"~"]
["SA36",2026,"DC43",214,{"$nulls":18},"~"]
["SA36",2026,"DC43",215,{"$nulls":18},"~"]
["SA36",{"$f":"+MTREF","v":2026},{"$f":"LEFT(muni,(FIND(\" \",muni,1)-1))","v":"DC43"},216,{"$nulls":18},"~"]
["SA36",2026,"DC43",217,{"$nulls":18},"~"]
["SA36",2026,"DC43",218,{"$nulls":18},"~"]
["SA36",2026,"DC43",219,{"$nulls":18},"~"]
["SA36",2026,"DC43",220,{"$nulls":18},"~"]
["SA36",2026,"DC43",221,{"$nulls":18},"~"]
["SA36",2026,"DC43",222,{"$nulls":18},"~"]
["SA36",2026,"DC43",223,{"$nulls":18},"~"]
["SA36",2026,"DC43",224,{"$nulls":18},"~"]
["SA36",2026,"DC43",225,{"$nulls":18},"~"]
["SA36",2026,"DC43",226,{"$nulls":18},"~"]
["SA36",2026,"DC43",227,{"$nulls":18},"~"]
["SA36",2026,"DC43",228,{"$nulls":18},"~"]
["SA36",2026,"DC43",229,{"$nulls":18},"~"]
["SA36",2026,"DC43",230,{"$nulls":18},"~"]
["SA36",2026,"DC43",231,{"$nulls":18},"~"]
["SA36",2026,"DC43",232,{"$nulls":18},"~"]
["SA36",2026,"DC43",233,{"$nulls":18},"~"]
["SA36",2026,"DC43",234,{"$nulls":18},"~"]
["SA36",2026,"DC43",235,{"$nulls":18},"~"]
["SA36",2026,"DC43",236,{"$nulls":18},"~"]
["SA36",2026,"DC43",237,{"$nulls":18},"~"]
["SA36",2026,"DC43",238,{"$nulls":18},"~"]
["SA36",2026,"DC43",239,{"$nulls":18},"~"]
["SA36",2026,"DC43",240,{"$nulls":18},"~"]
["SA36",2026,"DC43",241,{"$nulls":18},"~"]
["SA36",2026,"DC43",242,{"$nulls":18},"~"]
["SA36",2026,"DC43",243,{"$nulls":18},"~"]
["SA36",2026,"DC43",244,{"$nulls":18},"~"]
["SA36",2026,"DC43",245,{"$nulls":18},"~"]
["SA36",2026,"DC43",246,{"$nulls":18},"~"]
["SA36",2026,"DC43",247,{"$nulls":18},"~"]
["SA36",2026,"DC43",248,{"$nulls":18},"~"]
["SA36",2026,"DC43",249,{"$nulls":18},"~"]
["SA36",2026,"DC43",250,{"$nulls":18},"~"]
["SA36",2026,"DC43",251,{"$nulls":18},"~"]
["SA36",2026,"DC43",252,{"$nulls":18},"~"]
["SA36",2026,"DC43",253,{"$nulls":18},"~"]
["SA36",2026,"DC43",254,{"$nulls":18},"~"]
["SA36",2026,"DC43",255,{"$nulls":18},"~"]
["SA36",2026,"DC43",256,{"$nulls":18},"~"]
["SA36",2026,"DC43",257,{"$nulls":18},"~"]
["SA36",2026,"DC43",258,{"$nulls":18},"~"]
["SA36",2026,"DC43",259,{"$nulls":18},"~"]
["SA36",2026,"DC43",260,{"$nulls":18},"~"]
["SA36",2026,"DC43",261,{"$nulls":18},"~"]
["SA36",2026,"DC43",262,{"$nulls":18},"~"]
["SA36",2026,"DC43",263,{"$nulls":18},"~"]
["SA36",2026,"DC43",264,{"$nulls":18},"~"]
["SA36",2026,"DC43",265,{"$nulls":18},"~"]
["SA36",2026,"DC43",266,{"$nulls":18},"~"]
["SA36",2026,"DC43",267,{"$nulls":18},"~"]
["SA36",2026,"DC43",268,{"$nulls":18},"~"]
["SA36",2026,"DC43",269,{"$nulls":18},"~"]
["SA36",2026,"DC43",270,{"$nulls":18},"~"]
["SA36",2026,"DC43",271,{"$nulls":18},"~"]
["SA36",2026,"DC43",272,{"$nulls":18},"~"]
["SA36",2026,"DC43",273,{"$nulls":18},"~"]
["SA36",2026,"DC43",274,{"$nulls":18},"~"]
["SA36",2026,"DC43",275,{"$nulls":18},"~"]
["SA36",2026,"DC43",276,{"$nulls":18},"~"]
["SA36",2026,"DC43",277,{"$nulls":18},"~"]
["SA36",2026,"DC43",278,{"$nulls":18},"~"]
["SA36",2026,"DC43",279,{"$nulls":18},"~"]
["SA36",{"$f":"+MTREF","v":2026},{"$f":"LEFT(muni,(FIND(\" \",muni,1)-1))","v":"DC43"},280,{"$nulls":18},"~"]
["SA36",2026,"DC43",281,{"$nulls":18},"~"]
["SA36",2026,"DC43",282,{"$nulls":18},"~"]
["SA36",2026,"DC43",283,{"$nulls":18},"~"]
["SA36",2026,"DC43",284,{"$nulls":18},"~"]
["SA36",2026,"DC43",285,{"$nulls":18},"~"]
["SA36",2026,"DC43",286,{"$nulls":18},"~"]
["SA36",2026,"DC43",287,{"$nulls":18},"~"]
["SA36",2026,"DC43",288,{"$nulls":18},"~"]
["SA36",2026,"DC43",289,{"$nulls":18},"~"]
["SA36",2026,"DC43",290,{"$nulls":18},"~"]
["SA36",2026,"DC43",291,{"$nulls":18},"~"]
["SA36",2026,"DC43",292,{"$nulls":18},"~"]
["SA36",2026,"DC43",293,{"$nulls":18},"~"]
["SA36",2026,"DC43",294,{"$nulls":18},"~"]
["SA36",2026,"DC43",295,{"$nulls":18},"~"]
["SA36",2026,"DC43",296,{"$nulls":18},"~"]
["SA36",2026,"DC43",297,{"$nulls":18},"~"]
["SA36",2026,"DC43",298,{"$nulls":18},"~"]
["SA36",2026,"DC43",299,{"$nulls":18},"~"]
["SA36",2026,"DC43",300,{"$nulls":18},"~"]
["SA36",2026,"DC43",301,{"$nulls":18},"~"]
["SA36",2026,"DC43",302,{"$nulls":18},"~"]
["SA36",2026,"DC43",303,{"$nulls":18},"~"]
["SA36",2026,"DC43",304,{"$nulls":18},"~"]
["SA36",2026,"DC43",305,{"$nulls":18},"~"]
["SA36",2026,"DC43",306,{"$nulls":18},"~"]
["SA36",2026,"DC43",307,{"$nulls":18},"~"]
["SA36",2026,"DC43",308,{"$nulls":18},"~"]
["SA36",2026,"DC43",309,{"$nulls":18},"~"]
["SA36",2026,"DC43",310,{"$nulls":18},"~"]
["SA36",2026,"DC43",311,{"$nulls":18},"~"]
["SA36",2026,"DC43",312,{"$nulls":18},"~"]
["SA36",2026,"DC43",313,{"$nulls":18},"~"]
["SA36",2026,"DC43",314,{"$nulls":18},"~"]
["SA36",2026,"DC43",315,{"$nulls":18},"~"]
["SA36",2026,"DC43",316,{"$nulls":18},"~"]
["SA36",2026,"DC43",317,{"$nulls":18},"~"]
["SA36",2026,"DC43",318,{"$nulls":18},"~"]
["SA36",2026,"DC43",319,{"$nulls":18},"~"]
["SA36",2026,"DC43",320,{"$nulls":18},"~"]
["SA36",2026,"DC43",321,{"$nulls":18},"~"]
["SA36",2026,"DC43",322,{"$nulls":18},"~"]
["SA36",2026,"DC43",323,{"$nulls":18},"~"]
["SA36",2026,"DC43",324,{"$nulls":18},"~"]
["SA36",2026,"DC43",325,{"$nulls":18},"~"]
["SA36",2026,"DC43",326,{"$nulls":18},"~"]
["SA36",2026,"DC43",327,{"$nulls":18},"~"]
["SA36",2026,"DC43",328,{"$nulls":18},"~"]
["SA36",2026,"DC43",329,{"$nulls":18},"~"]
["SA36",2026,"DC43",330,{"$nulls":18},"~"]
["SA36",2026,"DC43",331,{"$nulls":18},"~"]
["SA36",2026,"DC43",332,{"$nulls":18},"~"]
["SA36",2026,"DC43",333,{"$nulls":18},"~"]
["SA36",2026,"DC43",334,{"$nulls":18},"~"]
["SA36",2026,"DC43",335,{"$nulls":18},"~"]
["SA36",2026,"DC43",336,{"$nulls":18},"~"]
["SA36",2026,"DC43",337,{"$nulls":18},"~"]
["SA36",2026,"DC43",338,{"$nulls":18},"~"]
["SA36",2026,"DC43",339,{"$nulls":18},"~"]
["SA36",2026,"DC43",340,{"$nulls":18},"~"]
["SA36",2026,"DC43",341,{"$nulls":18},"~"]
["SA36",2026,"DC43",342,{"$nulls":18},"~"]
["SA36",2026,"DC43",343,{"$nulls":18},"~"]
["SA36",{"$f":"+MTREF","v":2026},{"$f":"LEFT(muni,(FIND(\" \",muni,1)-1))","v":"DC43"},344,{"$nulls":18},"~"]
["SA36",2026,"DC43",345,{"$nulls":18},"~"]
["SA36",2026,"DC43",346,{"$nulls":18},"~"]
["SA36",2026,"DC43",347,{"$nulls":18},"~"]
["SA36",2026,"DC43",348,{"$nulls":18},"~"]
["SA36",2026,"DC43",349,{"$nulls":18},"~"]
["SA36",2026,"DC43",350,{"$nulls":18},"~"]
["SA36",2026,"DC43",351,{"$nulls":18},"~"]
["SA36",2026,"DC43",352,{"$nulls":18},"~"]
["SA36",2026,"DC43",353,{"$nulls":18},"~"]
["SA36",2026,"DC43",354,{"$nulls":18},"~"]
["SA36",2026,"DC43",355,{"$nulls":18},"~"]
["SA36",2026,"DC43",356,{"$nulls":18},"~"]
["SA36",2026,"DC43",357,{"$nulls":18},"~"]
["SA36",2026,"DC43",358,{"$nulls":18},"~"]
["SA36",2026,"DC43",359,{"$nulls":18},"~"]
["SA36",2026,"DC43",360,{"$nulls":18},"~"]
["SA36",2026,"DC43",361,{"$nulls":18},"~"]
["SA36",2026,"DC43",362,{"$nulls":18},"~"]
["SA36",2026,"DC43",363,{"$nulls":18},"~"]
["SA36",2026,"DC43",364,{"$nulls":18},"~"]
["SA36",2026,"DC43",365,{"$nulls":18},"~"]
["SA36",2026,"DC43",366,{"$nulls":18},"~"]
["SA36",2026,"DC43",367,{"$nulls":18},"~"]
["SA36",2026,"DC43",368,{"$nulls":18},"~"]
["SA36",2026,"DC43",369,{"$nulls":18},"~"]
["SA36",2026,"DC43",370,{"$nulls":18},"~"]
["SA36",2026,"DC43",371,{"$nulls":18},"~"]
["SA36",2026,"DC43",372,{"$nulls":18},"~"]
["SA36",2026,"DC43",373,{"$nulls":18},"~"]
["SA36",2026,"DC43",374,{"$nulls":18},"~"]
["SA36",2026,"DC43",375,{"$nulls":18},"~"]
["SA36",2026,"DC43",376,{"$nulls":18},"~"]
["SA36",2026,"DC43",377,{"$nulls":18},"~"]
["SA36",2026,"DC43",378,{"$nulls":18},"~"]
["SA36",2026,"DC43",379,{"$nulls":18},"~"]
["SA36",2026,"DC43",380,{"$nulls":18},"~"]
["SA36",2026,"DC43",381,{"$nulls":18},"~"]
["SA36",2026,"DC43",382,{"$nulls":18},"~"]
["SA36",2026,"DC43",383,{"$nulls":18},"~"]
["SA36",2026,"DC43",384,{"$nulls":18},"~"]
["SA36",2026,"DC43",385,{"$nulls":18},"~"]
["SA36",2026,"DC43",386,{"$nulls":18},"~"]
["SA36",2026,"DC43",387,{"$nulls":18},"~"]
["SA36",2026,"DC43",388,{"$nulls":18},"~"]
["SA36",2026,"DC43",389,{"$nulls":18},"~"]
["SA36",2026,"DC43",390,{"$nulls":18},"~"]
["SA36",2026,"DC43",391,{"$nulls":18},"~"]
["SA36",2026,"DC43",392,{"$nulls":18},"~"]
["SA36",2026,"DC43",393,{"$nulls":18},"~"]
["SA36",2026,"DC43",394,{"$nulls":18},"~"]
["SA36",2026,"DC43",395,{"$nulls":18},"~"]
["SA36",2026,"DC43",396,{"$nulls":18},"~"]
["SA36",2026,"DC43",397,{"$nulls":18},"~"]
["SA36",2026,"DC43",398,{"$nulls":18},"~"]
["SA36",2026,"DC43",399,{"$nulls":18},"~"]
["SA36",2026,"DC43",400,{"$nulls":18},"~"]
["SA36",2026,"DC43",401,{"$nulls":18},"~"]
["SA36",2026,"DC43",402,{"$nulls":18},"~"]
["SA36",2026,"DC43",403,{"$nulls":18},"~"]
["SA36",2026,"DC43",404,{"$nulls":18},"~"]
["SA36",2026,"DC43",405,{"$nulls":18},"~"]
["SA36",2026,"DC43",406,{"$nulls":18},"~"]
["SA36",2026,"DC43",407,{"$nulls":18},"~"]
["SA36",{"$f":"+MTREF","v":2026},{"$f":"LEFT(muni,(FIND(\" \",muni,1)-1))","v":"DC43"},408,{"$nulls":18},"~"]
["SA36",2026,"DC43",409,{"$nulls":18},"~"]
["SA36",2026,"DC43",410,{"$nulls":18},"~"]
["SA36",2026,"DC43",411,{"$nulls":18},"~"]
["SA36",2026,"DC43",412,{"$nulls":18},"~"]
["SA36",2026,"DC43",413,{"$nulls":18},"~"]
["SA36",2026,"DC43",414,{"$nulls":18},"~"]
["SA36",2026,"DC43",415,{"$nulls":18},"~"]
["SA36",2026,"DC43",416,{"$nulls":18},"~"]
["SA36",2026,"DC43",417,{"$nulls":18},"~"]
["SA36",2026,"DC43",418,{"$nulls":18},"~"]
["SA36",2026,"DC43",419,{"$nulls":18},"~"]
["SA36",2026,"DC43",420,{"$nulls":18},"~"]
["SA36",2026,"DC43",421,{"$nulls":18},"~"]
["SA36",2026,"DC43",422,{"$nulls":18},"~"]
["SA36",2026,"DC43",423,{"$nulls":18},"~"]
["SA36",2026,"DC43",424,{"$nulls":18},"~"]
["SA36",2026,"DC43",425,{"$nulls":18},"~"]
["SA36",2026,"DC43",426,{"$nulls":18},"~"]
["SA36",2026,"DC43",427,{"$nulls":18},"~"]
["SA36",2026,"DC43",428,{"$nulls":18},"~"]
["SA36",2026,"DC43",429,{"$nulls":18},"~"]
["SA36",2026,"DC43",430,{"$nulls":18},"~"]
["SA36",2026,"DC43",431,{"$nulls":18},"~"]
["SA36",2026,"DC43",432,{"$nulls":18},"~"]
["SA36",2026,"DC43",433,{"$nulls":18},"~"]
["SA36",2026,"DC43",434,{"$nulls":18},"~"]
["SA36",2026,"DC43",435,{"$nulls":18},"~"]
["SA36",2026,"DC43",436,{"$nulls":18},"~"]
["SA36",2026,"DC43",437,{"$nulls":18},"~"]
["SA36",2026,"DC43",438,{"$nulls":18},"~"]
["SA36",2026,"DC43",439,{"$nulls":18},"~"]
["SA36",2026,"DC43",440,{"$nulls":18},"~"]
["SA36",2026,"DC43",441,{"$nulls":18},"~"]
["SA36",2026,"DC43",442,{"$nulls":18},"~"]
["SA36",2026,"DC43",443,{"$nulls":18},"~"]
["SA36",2026,"DC43",444,{"$nulls":18},"~"]
["SA36",2026,"DC43",445,{"$nulls":18},"~"]
["SA36",2026,"DC43",446,{"$nulls":18},"~"]
["SA36",2026,"DC43",447,{"$nulls":18},"~"]
["SA36",2026,"DC43",448,{"$nulls":18},"~"]
["SA36",2026,"DC43",449,{"$nulls":18},"~"]
["SA36",2026,"DC43",450,{"$nulls":18},"~"]
["SA36",2026,"DC43",451,{"$nulls":18},"~"]
["SA36",2026,"DC43",452,{"$nulls":18},"~"]
["SA36",2026,"DC43",453,{"$nulls":18},"~"]
["SA36",2026,"DC43",454,{"$nulls":18},"~"]
["SA36",2026,"DC43",455,{"$nulls":18},"~"]
["SA36",2026,"DC43",456,{"$nulls":18},"~"]
["SA36",2026,"DC43",457,{"$nulls":18},"~"]
["SA36",2026,"DC43",458,{"$nulls":18},"~"]
["SA36",2026,"DC43",459,{"$nulls":18},"~"]
["SA36",2026,"DC43",460,{"$nulls":18},"~"]
["SA36",2026,"DC43",461,{"$nulls":18},"~"]
["SA36",2026,"DC43",462,{"$nulls":18},"~"]
["SA36",2026,"DC43",463,{"$nulls":18},"~"]
["SA36",2026,"DC43",464,{"$nulls":18},"~"]
["SA36",2026,"DC43",465,{"$nulls":18},"~"]
["SA36",2026,"DC43",466,{"$nulls":18},"~"]
["SA36",2026,"DC43",467,{"$nulls":18},"~"]
["SA36",2026,"DC43",468,{"$nulls":18},"~"]
["SA36",2026,"DC43",469,{"$nulls":18},"~"]
["SA36",2026,"DC43",470,{"$nulls":18},"~"]
["SA36",2026,"DC43",471,{"$nulls":18},"~"]
["SA36",{"$f":"+MTREF","v":2026},{"$f":"LEFT(muni,(FIND(\" \",muni,1)-1))","v":"DC43"},472,{"$nulls":18},"~"]
["SA36",2026,"DC43",473,{"$nulls":18},"~"]
["SA36",2026,"DC43",474,{"$nulls":18},"~"]
["SA36",2026,"DC43",475,{"$nulls":18},"~"]
["SA36",2026,"DC43",476,{"$nulls":18},"~"]
["SA36",2026,"DC43",477,{"$nulls":18},"~"]
["SA36",2026,"DC43",478,{"$nulls":18},"~"]
["SA36",2026,"DC43",479,{"$nulls":18},"~"]
["SA36",2026,"DC43",480,{"$nulls":18},"~"]
["SA36",2026,"DC43",481,{"$nulls":18},"~"]
["SA36",2026,"DC43",482,{"$nulls":18},"~"]
["SA36",2026,"DC43",483,{"$nulls":18},"~"]
["SA36",2026,"DC43",484,{"$nulls":18},"~"]
["SA36",2026,"DC43",485,{"$nulls":18},"~"]
["SA36",2026,"DC43",486,{"$nulls":18},"~"]
["SA36",2026,"DC43",487,{"$nulls":18},"~"]
["SA36",2026,"DC43",488,{"$nulls":18},"~"]
["SA36",2026,"DC43",489,{"$nulls":18},"~"]
["SA36",2026,"DC43",490,{"$nulls":18},"~"]
["SA36",2026,"DC43",491,{"$nulls":18},"~"]
["SA36",2026,"DC43",492,{"$nulls":18},"~"]
["SA36",2026,"DC43",493,{"$nulls":18},"~"]
["SA36",2026,"DC43",494,{"$nulls":18},"~"]
["SA36",2026,"DC43",495,{"$nulls":18},"~"]
["SA36",2026,"DC43",496,{"$nulls":18},"~"]
["SA36",2026,"DC43",497,{"$nulls":18},"~"]
["SA36",2026,"DC43",498,{"$nulls":18},"~"]
["SA36",2026,"DC43",499,{"$nulls":18},"~"]
["SA36",2026,"DC43",500,{"$nulls":18},"~"]
["SA36",2026,"DC43",501,{"$nulls":18},"~"]
["SA36",2026,"DC43",502,{"$nulls":18},"~"]
["SA36",2026,"DC43",503,{"$nulls":18},"~"]
["SA36",2026,"DC43",504,{"$nulls":18},"~"]
["SA36",2026,"DC43",505,{"$nulls":18},"~"]
["SA36",2026,"DC43",506,{"$nulls":18},"~"]
["SA36",2026,"DC43",507,{"$nulls":18},"~"]
["SA36",2026,"DC43",508,{"$nulls":18},"~"]
["SA36",2026,"DC43",509,{"$nulls":18},"~"]
["SA36",2026,"DC43",510,{"$nulls":18},"~"]
["SA36",2026,"DC43",511,{"$nulls":18},"~"]
["SA36",2026,"DC43",512,{"$nulls":18},"~"]
["SA36",2026,"DC43",513,{"$nulls":18},"~"]
["SA36",2026,"DC43",514,{"$nulls":18},"~"]
["SA36",2026,"DC43",515,{"$nulls":18},"~"]
["SA36",2026,"DC43",516,{"$nulls":18},"~"]
["SA36",2026,"DC43",517,{"$nulls":18},"~"]
["SA36",2026,"DC43",518,{"$nulls":18},"~"]
["SA36",2026,"DC43",519,{"$nulls":18},"~"]
["SA36",2026,"DC43",520,{"$nulls":18},"~"]
["SA36",2026,"DC43",521,{"$nulls":18},"~"]
["SA36",2026,"DC43",522,{"$nulls":18},"~"]
["SA36",2026,"DC43",523,{"$nulls":18},"~"]
["SA36",2026,"DC43",524,{"$nulls":18},"~"]
["SA36",2026,"DC43",525,{"$nulls":18},"~"]
["SA36",2026,"DC43",526,{"$nulls":18},"~"]
["SA36",2026,"DC43",527,{"$nulls":18},"~"]
["SA36",2026,"DC43",528,{"$nulls":18},"~"]
["SA36",2026,"DC43",529,{"$nulls":18},"~"]
["SA36",2026,"DC43",530,{"$nulls":18},"~"]
["SA36",2026,"DC43",531,{"$nulls":18},"~"]
["SA36",2026,"DC43",532,{"$nulls":18},"~"]
["SA36",2026,"DC43",533,{"$nulls":18},"~"]
["SA36",2026,"DC43",534,{"$nulls":18},"~"]
["SA36",2026,"DC43",535,{"$nulls":18},"~"]
["SA36",{"$f":"+MTREF","v":2026},{"$f":"LEFT(muni,(FIND(\" \",muni,1)-1))","v":"DC43"},536,{"$nulls":18},"~"]
["SA36",2026,"DC43",537,{"$nulls":18},"~"]
["SA36",2026,"DC43",538,{"$nulls":18},"~"]
["SA36",2026,"DC43",539,{"$nulls":18},"~"]
["SA36",2026,"DC43",540,{"$nulls":18},"~"]
["SA36",2026,"DC43",541,{"$nulls":18},"~"]
["SA36",2026,"DC43",542,{"$nulls":18},"~"]
["SA36",2026,"DC43",543,{"$nulls":18},"~"]
["SA36",2026,"DC43",544,{"$nulls":18},"~"]
["SA36",2026,"DC43",545,{"$nulls":18},"~"]
["SA36",2026,"DC43",546,{"$nulls":18},"~"]
["SA36",2026,"DC43",547,{"$nulls":18},"~"]
["SA36",2026,"DC43",548,{"$nulls":18},"~"]
["SA36",2026,"DC43",549,{"$nulls":18},"~"]
["SA36",2026,"DC43",550,{"$nulls":18},"~"]
["SA36",2026,"DC43",551,{"$nulls":18},"~"]
["SA36",2026,"DC43",552,{"$nulls":18},"~"]
["SA36",2026,"DC43",553,{"$nulls":18},"~"]
["SA36",2026,"DC43",554,{"$nulls":18},"~"]
["SA36",2026,"DC43",555,{"$nulls":18},"~"]
["SA36",2026,"DC43",556,{"$nulls":18},"~"]
["SA36",2026,"DC43",557,{"$nulls":18},"~"]
["SA36",2026,"DC43",558,{"$nulls":18},"~"]
["SA36",2026,"DC43",559,{"$nulls":18},"~"]
["SA36",2026,"DC43",560,{"$nulls":18},"~"]
["SA36",2026,"DC43",561,{"$nulls":18},"~"]
["SA36",2026,"DC43",562,{"$nulls":18},"~"]
["SA36",2026,"DC43",563,{"$nulls":18},"~"]
["SA36",2026,"DC43",564,{"$nulls":18},"~"]
["SA36",2026,"DC43",565,{"$nulls":18},"~"]
["SA36",2026,"DC43",566,{"$nulls":18},"~"]
["SA36",2026,"DC43",567,{"$nulls":18},"~"]
["SA36",2026,"DC43",568,{"$nulls":18},"~"]
["SA36",2026,"DC43",569,{"$nulls":18},"~"]
["SA36",2026,"DC43",570,{"$nulls":18},"~"]
["SA36",2026,"DC43",571,{"$nulls":18},"~"]
["SA36",2026,"DC43",572,{"$nulls":18},"~"]
["SA36",2026,"DC43",573,{"$nulls":18},"~"]
["SA36",2026,"DC43",574,{"$nulls":18},"~"]
["SA36",2026,"DC43",575,{"$nulls":18},"~"]
["SA36",2026,"DC43",576,{"$nulls":18},"~"]
["SA36",2026,"DC43",577,{"$nulls":18},"~"]
["SA36",2026,"DC43",578,{"$nulls":18},"~"]
["SA36",2026,"DC43",579,{"$nulls":18},"~"]
["SA36",2026,"DC43",580,{"$nulls":18},"~"]
["SA36",2026,"DC43",581,{"$nulls":18},"~"]
["SA36",2026,"DC43",582,{"$nulls":18},"~"]
["SA36",2026,"DC43",583,{"$nulls":18},"~"]
["SA36",2026,"DC43",584,{"$nulls":18},"~"]
["SA36",2026,"DC43",585,{"$nulls":18},"~"]
["SA36",2026,"DC43",586,{"$nulls":18},"~"]
["SA36",2026,"DC43",587,{"$nulls":18},"~"]
["SA36",2026,"DC43",588,{"$nulls":18},"~"]
["SA36",2026,"DC43",589,{"$nulls":18},"~"]
["SA36",2026,"DC43",590,{"$nulls":18},"~"]
["SA36",2026,"DC43",591,{"$nulls":18},"~"]
["SA36",2026,"DC43",592,{"$nulls":18},"~"]
["SA36",2026,"DC43",593,{"$nulls":18},"~"]
["SA36",2026,"DC43",594,{"$nulls":18},"~"]
["SA36",2026,"DC43",595,{"$nulls":18},"~"]
["SA36",2026,"DC43",596,{"$nulls":18},"~"]
["SA36",2026,"DC43",597,{"$nulls":18},"~"]
["SA36",2026,"DC43",598,{"$nulls":18},"~"]
["SA36",2026,"DC43",599,{"$nulls":18},"~"]
["SA36",{"$f":"+MTREF","v":2026},{"$f":"LEFT(muni,(FIND(\" \",muni,1)-1))","v":"DC43"},600,{"$nulls":18},"~"]
["SA36",2026,"DC43",601,{"$nulls":18},"~"]
["SA36",2026,"DC43",602,{"$nulls":18},"~"]
["SA36",2026,"DC43",603,{"$nulls":18},"~"]
["SA36",2026,"DC43",604,{"$nulls":18},"~"]
["SA36",2026,"DC43",605,{"$nulls":18},"~"]
["SA36",2026,"DC43",606,{"$nulls":18},"~"]
["SA36",2026,"DC43",607,{"$nulls":18},"~"]
["SA36",2026,"DC43",608,{"$nulls":18},"~"]
["SA36",2026,"DC43",609,{"$nulls":18},"~"]
["SA36",2026,"DC43",610,{"$nulls":18},"~"]
["SA36",2026,"DC43",611,{"$nulls":18},"~"]
["SA36",2026,"DC43",612,{"$nulls":18},"~"]
["SA36",2026,"DC43",613,{"$nulls":18},"~"]
["SA36",2026,"DC43",614,{"$nulls":18},"~"]
["SA36",2026,"DC43",615,{"$nulls":18},"~"]
["SA36",2026,"DC43",616,{"$nulls":18},"~"]
["SA36",2026,"DC43",617,{"$nulls":18},"~"]
["SA36",2026,"DC43",618,{"$nulls":18},"~"]
["SA36",2026,"DC43",619,{"$nulls":18},"~"]
["SA36",2026,"DC43",620,{"$nulls":18},"~"]
["SA36",2026,"DC43",621,{"$nulls":18},"~"]
["SA36",2026,"DC43",622,{"$nulls":18},"~"]
["SA36",2026,"DC43",623,{"$nulls":18},"~"]
["SA36",2026,"DC43",624,{"$nulls":18},"~"]
["SA36",2026,"DC43",625,{"$nulls":18},"~"]
["SA36",2026,"DC43",626,{"$nulls":18},"~"]
["SA36",2026,"DC43",627,{"$nulls":18},"~"]
["SA36",2026,"DC43",628,{"$nulls":18},"~"]
["SA36",2026,"DC43",629,{"$nulls":18},"~"]
["SA36",2026,"DC43",630,{"$nulls":18},"~"]
["SA36",2026,"DC43",631,{"$nulls":18},"~"]
["SA36",2026,"DC43",632,{"$nulls":18},"~"]
["SA36",2026,"DC43",633,{"$nulls":18},"~"]
["SA36",2026,"DC43",634,{"$nulls":18},"~"]
["SA36",2026,"DC43",635,{"$nulls":18},"~"]
["SA36",2026,"DC43",636,{"$nulls":18},"~"]
["SA36",2026,"DC43",637,{"$nulls":18},"~"]
["SA36",2026,"DC43",638,{"$nulls":18},"~"]
["SA36",2026,"DC43",639,{"$nulls":18},"~"]
["SA36",2026,"DC43",640,{"$nulls":18},"~"]
["SA36",2026,"DC43",641,{"$nulls":18},"~"]
["SA36",2026,"DC43",642,{"$nulls":18},"~"]
["SA36",2026,"DC43",643,{"$nulls":18},"~"]
["SA36",2026,"DC43",644,{"$nulls":18},"~"]
["SA36",2026,"DC43",645,{"$nulls":18},"~"]
["SA36",2026,"DC43",646,{"$nulls":18},"~"]
["SA36",2026,"DC43",647,{"$nulls":18},"~"]
["SA36",2026,"DC43",648,{"$nulls":18},"~"]
["SA36",2026,"DC43",649,{"$nulls":18},"~"]
["SA36",2026,"DC43",650,{"$nulls":18},"~"]
["SA36",2026,"DC43",651,{"$nulls":18},"~"]
["SA36",2026,"DC43",652,{"$nulls":18},"~"]
["SA36",2026,"DC43",653,{"$nulls":18},"~"]
["SA36",2026,"DC43",654,{"$nulls":18},"~"]
["SA36",2026,"DC43",655,{"$nulls":18},"~"]
["SA36",2026,"DC43",656,{"$nulls":18},"~"]
["SA36",2026,"DC43",657,{"$nulls":18},"~"]
["SA36",2026,"DC43",658,{"$nulls":18},"~"]
["SA36",2026,"DC43",659,{"$nulls":18},"~"]
["SA36",2026,"DC43",660,{"$nulls":18},"~"]
["SA36",2026,"DC43",661,{"$nulls":18},"~"]
["SA36",2026,"DC43",662,{"$nulls":18},"~"]
["SA36",2026,"DC43",663,{"$nulls":18},"~"]
["SA36",{"$f":"+MTREF","v":2026},{"$f":"LEFT(muni,(FIND(\" \",muni,1)-1))","v":"DC43"},664,{"$nulls":18},"~"]
["SA36",2026,"DC43",665,{"$nulls":18},"~"]
["SA36",2026,"DC43",666,{"$nulls":18},"~"]
["SA36",2026,"DC43",667,{"$nulls":18},"~"]
["SA36",2026,"DC43",668,{"$nulls":18},"~"]
["SA36",2026,"DC43",669,{"$nulls":18},"~"]
["SA36",2026,"DC43",670,{"$nulls":18},"~"]
["SA36",2026,"DC43",671,{"$nulls":18},"~"]
["SA36",2026,"DC43",672,{"$nulls":18},"~"]
["SA36",2026,"DC43",673,{"$nulls":18},"~"]
["SA36",2026,"DC43",674,{"$nulls":18},"~"]
["SA36",2026,"DC43",675,{"$nulls":18},"~"]
["SA36",2026,"DC43",676,{"$nulls":18},"~"]
["SA36",2026,"DC43",677,{"$nulls":18},"~"]
["SA36",2026,"DC43",678,{"$nulls":18},"~"]
["SA36",2026,"DC43",679,{"$nulls":18},"~"]
["SA36",2026,"DC43",680,{"$nulls":18},"~"]
["SA36",2026,"DC43",681,{"$nulls":18},"~"]
["SA36",2026,"DC43",682,{"$nulls":18},"~"]
["SA36",2026,"DC43",683,{"$nulls":18},"~"]
["SA36",2026,"DC43",684,{"$nulls":18},"~"]
["SA36",2026,"DC43",685,{"$nulls":18},"~"]
["SA36",2026,"DC43",686,{"$nulls":18},"~"]
["SA36",2026,"DC43",687,{"$nulls":18},"~"]
["SA36",2026,"DC43",688,{"$nulls":18},"~"]
["SA36",2026,"DC43",689,{"$nulls":18},"~"]
["SA36",2026,"DC43",690,{"$nulls":18},"~"]
["SA36",2026,"DC43",691,{"$nulls":18},"~"]
["SA36",2026,"DC43",692,{"$nulls":18},"~"]
["SA36",2026,"DC43",693,{"$nulls":18},"~"]
["SA36",2026,"DC43",694,{"$nulls":18},"~"]
["SA36",2026,"DC43",695,{"$nulls":18},"~"]
["SA36",2026,"DC43",696,{"$nulls":18},"~"]
["SA36",2026,"DC43",697,{"$nulls":18},"~"]
["SA36",2026,"DC43",698,{"$nulls":18},"~"]
["SA36",2026,"DC43",699,{"$nulls":18},"~"]
["SA36",2026,"DC43",700,{"$nulls":18},"~"]
["SA36",2026,"DC43",701,{"$nulls":18},"~"]
["SA36",2026,"DC43",702,{"$nulls":18},"~"]
["SA36",2026,"DC43",703,{"$nulls":18},"~"]
["SA36",2026,"DC43",704,{"$nulls":18},"~"]
["SA36",2026,"DC43",705,{"$nulls":18},"~"]
["SA36",2026,"DC43",706,{"$nulls":18},"~"]
["SA36",2026,"DC43",707,{"$nulls":18},"~"]
["SA36",2026,"DC43",708,{"$nulls":18},"~"]
["SA36",2026,"DC43",709,{"$nulls":18},"~"]
["SA36",2026,"DC43",710,{"$nulls":18},"~"]
["SA36",2026,"DC43",711,{"$nulls":18},"~"]
["SA36",2026,"DC43",712,{"$nulls":18},"~"]
["SA36",2026,"DC43",713,{"$nulls":18},"~"]
["SA36",2026,"DC43",714,{"$nulls":18},"~"]
["SA36",2026,"DC43",715,{"$nulls":18},"~"]
["SA36",2026,"DC43",716,{"$nulls":18},"~"]
["SA36",2026,"DC43",717,{"$nulls":18},"~"]
["SA36",2026,"DC43",718,{"$nulls":18},"~"]
["SA36",2026,"DC43",719,{"$nulls":18},"~"]
["SA36",2026,"DC43",720,{"$nulls":18},"~"]
["SA36",2026,"DC43",721,{"$nulls":18},"~"]
["SA36",2026,"DC43",722,{"$nulls":18},"~"]
["SA36",2026,"DC43",723,{"$nulls":18},"~"]
["SA36",2026,"DC43",724,{"$nulls":18},"~"]
["SA36",2026,"DC43",725,{"$nulls":18},"~"]
["SA36",2026,"DC43",726,{"$nulls":18},"~"]
["SA36",2026,"DC43",727,{"$nulls":18},"~"]
["SA36",{"$f":"+MTREF","v":2026},{"$f":"LEFT(muni,(FIND(\" \",muni,1)-1))","v":"DC43"},728,{"$nulls":18},"~"]
["SA36",2026,"DC43",729,{"$nulls":18},"~"]
["SA36",2026,"DC43",730,{"$nulls":18},"~"]
["SA36",2026,"DC43",731,{"$nulls":18},"~"]
["SA36",2026,"DC43",732,{"$nulls":18},"~"]
["SA36",2026,"DC43",733,{"$nulls":18},"~"]
["SA36",2026,"DC43",734,{"$nulls":18},"~"]
["SA36",2026,"DC43",735,{"$nulls":18},"~"]
["SA36",2026,"DC43",736,{"$nulls":18},"~"]
["SA36",2026,"DC43",737,{"$nulls":18},"~"]
["SA36",2026,"DC43",738,{"$nulls":18},"~"]
["SA36",2026,"DC43",739,{"$nulls":18},"~"]
["SA36",2026,"DC43",740,{"$nulls":18},"~"]
["SA36",2026,"DC43",741,{"$nulls":18},"~"]
["SA36",2026,"DC43",742,{"$nulls":18},"~"]
["SA36",2026,"DC43",743,{"$nulls":18},"~"]
["SA36",2026,"DC43",744,{"$nulls":18},"~"]
["SA36",2026,"DC43",745,{"$nulls":18},"~"]
["SA36",2026,"DC43",746,{"$nulls":18},"~"]
["SA36",2026,"DC43",747,{"$nulls":18},"~"]
["SA36",2026,"DC43",748,{"$nulls":18},"~"]
["SA36",2026,"DC43",749,{"$nulls":18},"~"]
["SA36",2026,"DC43",750,{"$nulls":18},"~"]
["SA36",2026,"DC43",751,{"$nulls":18},"~"]
["SA36",2026,"DC43",752,{"$nulls":18},"~"]
["SA36",2026,"DC43",753,{"$nulls":18},"~"]
["SA36",2026,"DC43",754,{"$nulls":18},"~"]
["SA36",2026,"DC43",755,{"$nulls":18},"~"]
["SA36",2026,"DC43",756,{"$nulls":18},"~"]
["SA36",2026,"DC43",757,{"$nulls":18},"~"]
["SA36",2026,"DC43",758,{"$nulls":18},"~"]
["SA36",2026,"DC43",759,{"$nulls":18},"~"]
["SA36",2026,"DC43",760,{"$nulls":18},"~"]
["SA36",2026,"DC43",761,{"$nulls":18},"~"]
["SA36",2026,"DC43",762,{"$nulls":18},"~"]
["SA36",2026,"DC43",763,{"$nulls":18},"~"]
["SA36",2026,"DC43",764,{"$nulls":18},"~"]
["SA36",2026,"DC43",765,{"$nulls":18},"~"]
["SA36",2026,"DC43",766,{"$nulls":18},"~"]
["SA36",2026,"DC43",767,{"$nulls":18},"~"]
["SA36",2026,"DC43",768,{"$nulls":18},"~"]
["SA36",2026,"DC43",769,{"$nulls":18},"~"]
["SA36",2026,"DC43",770,{"$nulls":18},"~"]
["SA36",2026,"DC43",771,{"$nulls":18},"~"]
["SA36",2026,"DC43",772,{"$nulls":18},"~"]
["SA36",2026,"DC43",773,{"$nulls":18},"~"]
["SA36",2026,"DC43",774,{"$nulls":18},"~"]
["SA36",2026,"DC43",775,{"$nulls":18},"~"]
["SA36",2026,"DC43",776,{"$nulls":18},"~"]
["SA36",2026,"DC43",777,{"$nulls":18},"~"]
["SA36",2026,"DC43",778,{"$nulls":18},"~"]
["SA36",2026,"DC43",779,{"$nulls":18},"~"]
["SA36",2026,"DC43",780,{"$nulls":18},"~"]
["SA36",2026,"DC43",781,{"$nulls":18},"~"]
["SA36",2026,"DC43",782,{"$nulls":18},"~"]
["SA36",2026,"DC43",783,{"$nulls":18},"~"]
["SA36",2026,"DC43",784,{"$nulls":18},"~"]
["SA36",2026,"DC43",785,{"$nulls":18},"~"]
["SA36",2026,"DC43",786,{"$nulls":18},"~"]
["SA36",2026,"DC43",787,{"$nulls":18},"~"]
["SA36",2026,"DC43",788,{"$nulls":18},"~"]
["SA36",2026,"DC43",789,{"$nulls":18},"~"]
["SA36",2026,"DC43",790,{"$nulls":18},"~"]
["SA36",2026,"DC43",791,{"$nulls":18},"~"]
["SA36",{"$f":"+MTREF","v":2026},{"$f":"LEFT(muni,(FIND(\" \",muni,1)-1))","v":"DC43"},792,{"$nulls":18},"~"]
["SA36",2026,"DC43",793,{"$nulls":18},"~"]
["SA36",2026,"DC43",794,{"$nulls":18},"~"]
["SA36",2026,"DC43",795,{"$nulls":18},"~"]
["SA36",2026,"DC43",796,{"$nulls":18},"~"]
["SA36",2026,"DC43",797,{"$nulls":18},"~"]
["SA36",2026,"DC43",798,{"$nulls":18},"~"]
["SA36",2026,"DC43",799,{"$nulls":18},"~"]
["SA36",2026,"DC43",800,{"$nulls":18},"~"]
["SA36",2026,"DC43",801,{"$nulls":18},"~"]
["SA36",2026,"DC43",802,{"$nulls":18},"~"]
["SA36",2026,"DC43",803,{"$nulls":18},"~"]
["SA36",2026,"DC43",804,{"$nulls":18},"~"]
["SA36",2026,"DC43",805,{"$nulls":18},"~"]
["SA36",2026,"DC43",806,{"$nulls":18},"~"]
["SA36",2026,"DC43",807,{"$nulls":18},"~"]
["SA36",2026,"DC43",808,{"$nulls":18},"~"]
["SA36",2026,"DC43",809,{"$nulls":18},"~"]
["SA36",2026,"DC43",810,{"$nulls":18},"~"]
["SA36",2026,"DC43",811,{"$nulls":18},"~"]
["SA36",2026,"DC43",812,{"$nulls":18},"~"]
["SA36",2026,"DC43",813,{"$nulls":18},"~"]
["SA36",2026,"DC43",814,{"$nulls":18},"~"]
["SA36",2026,"DC43",815,{"$nulls":18},"~"]
["SA36",2026,"DC43",816,{"$nulls":18},"~"]
["SA36",2026,"DC43",817,{"$nulls":18},"~"]
["SA36",2026,"DC43",818,{"$nulls":18},"~"]
["SA36",2026,"DC43",819,{"$nulls":18},"~"]
["SA36",2026,"DC43",820,{"$nulls":18},"~"]
["SA36",2026,"DC43",821,{"$nulls":18},"~"]
["SA36",2026,"DC43",822,{"$nulls":18},"~"]
["SA36",2026,"DC43",823,{"$nulls":18},"~"]
["SA36",2026,"DC43",824,{"$nulls":18},"~"]
["SA36",2026,"DC43",825,{"$nulls":18},"~"]
["SA36",2026,"DC43",826,{"$nulls":18},"~"]
["SA36",2026,"DC43",827,{"$nulls":18},"~"]
["SA36",2026,"DC43",828,{"$nulls":18},"~"]
["SA36",2026,"DC43",829,{"$nulls":18},"~"]
["SA36",2026,"DC43",830,{"$nulls":18},"~"]
["SA36",2026,"DC43",831,{"$nulls":18},"~"]
["SA36",2026,"DC43",832,{"$nulls":18},"~"]
["SA36",2026,"DC43",833,{"$nulls":18},"~"]
["SA36",2026,"DC43",834,{"$nulls":18},"~"]
["SA36",2026,"DC43",835,{"$nulls":18},"~"]
["SA36",2026,"DC43",836,{"$nulls":18},"~"]
["SA36",2026,"DC43",837,{"$nulls":18},"~"]
["SA36",2026,"DC43",838,{"$nulls":18},"~"]
["SA36",2026,"DC43",839,{"$nulls":18},"~"]
["SA36",2026,"DC43",840,{"$nulls":18},"~"]
["SA36",2026,"DC43",841,{"$nulls":18},"~"]
["SA36",2026,"DC43",842,{"$nulls":18},"~"]
["SA36",2026,"DC43",843,{"$nulls":18},"~"]
["SA36",2026,"DC43",844,{"$nulls":18},"~"]
["SA36",2026,"DC43",845,{"$nulls":18},"~"]
["SA36",2026,"DC43",846,{"$nulls":18},"~"]
["SA36",2026,"DC43",847,{"$nulls":18},"~"]
["SA36",2026,"DC43",848,{"$nulls":18},"~"]
["SA36",2026,"DC43",849,{"$nulls":18},"~"]
["SA36",2026,"DC43",850,{"$nulls":18},"~"]
["SA36",2026,"DC43",851,{"$nulls":18},"~"]
["SA36",2026,"DC43",852,{"$nulls":18},"~"]
["SA36",2026,"DC43",853,{"$nulls":18},"~"]
["SA36",2026,"DC43",854,{"$nulls":18},"~"]
["SA36",2026,"DC43",855,{"$nulls":18},"~"]
["SA36",{"$f":"+MTREF","v":2026},{"$f":"LEFT(muni,(FIND(\" \",muni,1)-1))","v":"DC43"},856,{"$nulls":18},"~"]
["SA36",2026,"DC43",857,{"$nulls":18},"~"]
["SA36",2026,"DC43",858,{"$nulls":18},"~"]
["SA36",2026,"DC43",859,{"$nulls":18},"~"]
["SA36",2026,"DC43",860,{"$nulls":18},"~"]
["SA36",2026,"DC43",861,{"$nulls":18},"~"]
["SA36",2026,"DC43",862,{"$nulls":18},"~"]
["SA36",2026,"DC43",863,{"$nulls":18},"~"]
["SA36",2026,"DC43",864,{"$nulls":18},"~"]
["SA36",2026,"DC43",865,{"$nulls":18},"~"]
["SA36",2026,"DC43",866,{"$nulls":18},"~"]
["SA36",2026,"DC43",867,{"$nulls":18},"~"]
["SA36",2026,"DC43",868,{"$nulls":18},"~"]
["SA36",2026,"DC43",869,{"$nulls":18},"~"]
["SA36",2026,"DC43",870,{"$nulls":18},"~"]
["SA36",2026,"DC43",871,{"$nulls":18},"~"]
["SA36",2026,"DC43",872,{"$nulls":18},"~"]
["SA36",2026,"DC43",873,{"$nulls":18},"~"]
["SA36",2026,"DC43",874,{"$nulls":18},"~"]
["SA36",2026,"DC43",875,{"$nulls":18},"~"]
["SA36",2026,"DC43",876,{"$nulls":18},"~"]
["SA36",2026,"DC43",877,{"$nulls":18},"~"]
["SA36",2026,"DC43",878,{"$nulls":18},"~"]
["SA36",2026,"DC43",879,{"$nulls":18},"~"]
["SA36",2026,"DC43",880,{"$nulls":18},"~"]
["SA36",2026,"DC43",881,{"$nulls":18},"~"]
["SA36",2026,"DC43",882,{"$nulls":18},"~"]
["SA36",2026,"DC43",883,{"$nulls":18},"~"]
["SA36",2026,"DC43",884,{"$nulls":18},"~"]
["SA36",2026,"DC43",885,{"$nulls":18},"~"]
["SA36",2026,"DC43",886,{"$nulls":18},"~"]
["SA36",2026,"DC43",887,{"$nulls":18},"~"]
["SA36",2026,"DC43",888,{"$nulls":18},"~"]
["SA36",2026,"DC43",889,{"$nulls":18},"~"]
["SA36",2026,"DC43",890,{"$nulls":18},"~"]
["SA36",2026,"DC43",891,{"$nulls":18},"~"]
["SA36",2026,"DC43",892,{"$nulls":18},"~"]
["SA36",2026,"DC43",893,{"$nulls":18},"~"]
["SA36",2026,"DC43",894,{"$nulls":18},"~"]
["SA36",2026,"DC43",895,{"$nulls":18},"~"]
["SA36",2026,"DC43",896,{"$nulls":18},"~"]
["SA36",2026,"DC43",897,{"$nulls":18},"~"]
["SA36",2026,"DC43",898,{"$nulls":18},"~"]
["SA36",2026,"DC43",899,{"$nulls":18},"~"]
["SA36",2026,"DC43",900,{"$nulls":18},"~"]
["SA36",2026,"DC43",901,{"$nulls":18},"~"]
["SA36",2026,"DC43",902,{"$nulls":18},"~"]
["SA36",2026,"DC43",903,{"$nulls":18},"~"]
["SA36",2026,"DC43",904,{"$nulls":18},"~"]
["SA36",2026,"DC43",905,{"$nulls":18},"~"]
["SA36",2026,"DC43",906,{"$nulls":18},"~"]
["SA36",2026,"DC43",907,{"$nulls":18},"~"]
["SA36",2026,"DC43",908,{"$nulls":18},"~"]
["SA36",2026,"DC43",909,{"$nulls":18},"~"]
["SA36",2026,"DC43",910,{"$nulls":18},"~"]
["SA36",2026,"DC43",911,{"$nulls":18},"~"]
["SA36",2026,"DC43",912,{"$nulls":18},"~"]
["SA36",2026,"DC43",913,{"$nulls":18},"~"]
["SA36",2026,"DC43",914,{"$nulls":18},"~"]
["SA36",2026,"DC43",915,{"$nulls":18},"~"]
["SA36",2026,"DC43",916,{"$nulls":18},"~"]
["SA36",2026,"DC43",917,{"$nulls":18},"~"]
["SA36",2026,"DC43",918,{"$nulls":18},"~"]
["SA36",2026,"DC43",919,{"$nulls":18},"~"]
["SA36",{"$f":"+MTREF","v":2026},{"$f":"LEFT(muni,(FIND(\" \",muni,1)-1))","v":"DC43"},920,{"$nulls":18},"~"]
["SA36",2026,"DC43",921,{"$nulls":18},"~"]
["SA36",2026,"DC43",922,{"$nulls":18},"~"]
["SA36",2026,"DC43",923,{"$nulls":18},"~"]
["SA36",2026,"DC43",924,{"$nulls":18},"~"]
["SA36",2026,"DC43",925,{"$nulls":18},"~"]
["SA36",2026,"DC43",926,{"$nulls":18},"~"]
["SA36",2026,"DC43",927,{"$nulls":18},"~"]
["SA36",2026,"DC43",928,{"$nulls":18},"~"]
["SA36",2026,"DC43",929,{"$nulls":18},"~"]
["SA36",2026,"DC43",930,{"$nulls":18},"~"]
["SA36",2026,"DC43",931,{"$nulls":18},"~"]
["SA36",2026,"DC43",932,{"$nulls":18},"~"]
["SA36",2026,"DC43",933,{"$nulls":18},"~"]
["SA36",2026,"DC43",934,{"$nulls":18},"~"]
["SA36",2026,"DC43",935,{"$nulls":18},"~"]
["SA36",2026,"DC43",936,{"$nulls":18},"~"]
["SA36",2026,"DC43",937,{"$nulls":18},"~"]
["SA36",2026,"DC43",938,{"$nulls":18},"~"]
["SA36",2026,"DC43",939,{"$nulls":18},"~"]
["SA36",2026,"DC43",940,{"$nulls":18},"~"]
["SA36",2026,"DC43",941,{"$nulls":18},"~"]
["SA36",2026,"DC43",942,{"$nulls":18},"~"]
["SA36",2026,"DC43",943,{"$nulls":18},"~"]
["SA36",2026,"DC43",944,{"$nulls":18},"~"]
["SA36",2026,"DC43",945,{"$nulls":18},"~"]
["SA36",2026,"DC43",946,{"$nulls":18},"~"]
["SA36",2026,"DC43",947,{"$nulls":18},"~"]
["SA36",2026,"DC43",948,{"$nulls":18},"~"]
["SA36",2026,"DC43",949,{"$nulls":18},"~"]
["SA36",2026,"DC43",950,{"$nulls":18},"~"]
["SA36",2026,"DC43",951,{"$nulls":18},"~"]
["SA36",2026,"DC43",952,{"$nulls":18},"~"]
["SA36",2026,"DC43",953,{"$nulls":18},"~"]
["SA36",2026,"DC43",954,{"$nulls":18},"~"]
["SA36",2026,"DC43",955,{"$nulls":18},"~"]
["SA36",2026,"DC43",956,{"$nulls":18},"~"]
["SA36",2026,"DC43",957,{"$nulls":18},"~"]
["SA36",2026,"DC43",958,{"$nulls":18},"~"]
["SA36",2026,"DC43",959,{"$nulls":18},"~"]
["SA36",2026,"DC43",960,{"$nulls":18},"~"]
["SA36",2026,"DC43",961,{"$nulls":18},"~"]
["SA36",2026,"DC43",962,{"$nulls":18},"~"]
["SA36",2026,"DC43",963,{"$nulls":18},"~"]
["SA36",2026,"DC43",964,{"$nulls":18},"~"]
["SA36",2026,"DC43",965,{"$nulls":18},"~"]
["SA36",2026,"DC43",966,{"$nulls":18},"~"]
["SA36",2026,"DC43",967,{"$nulls":18},"~"]
["SA36",2026,"DC43",968,{"$nulls":18},"~"]
["SA36",2026,"DC43",969,{"$nulls":18},"~"]
["SA36",2026,"DC43",970,{"$nulls":18},"~"]
["SA36",2026,"DC43",971,{"$nulls":18},"~"]
["SA36",2026,"DC43",972,{"$nulls":18},"~"]
["SA36",2026,"DC43",973,{"$nulls":18},"~"]
["SA36",2026,"DC43",974,{"$nulls":18},"~"]
["SA36",2026,"DC43",975,{"$nulls":18},"~"]
["SA36",2026,"DC43",976,{"$nulls":18},"~"]
["SA36",2026,"DC43",977,{"$nulls":18},"~"]
["SA36",2026,"DC43",978,{"$nulls":18},"~"]
["SA36",2026,"DC43",979,{"$nulls":18},"~"]
["SA36",2026,"DC43",980,{"$nulls":18},"~"]
["SA36",2026,"DC43",981,{"$nulls":18},"~"]
["SA36",2026,"DC43",982,{"$nulls":18},"~"]
["SA36",2026,"DC43",983,{"$nulls":18},"~"]
["SA36",{"$f":"+MTREF","v":2026},{"$f":"LEFT(muni,(FIND(\" \",muni,1)-1))","v":"DC43"},984,{"$nulls":18},"~"]
["SA36",2026,"DC43",985,{"$nulls":18},"~"]
["SA36",2026,"DC43",986,{"$nulls":18},"~"]
["SA36",2026,"DC43",987,{"$nulls":18},"~"]
["SA36",2026,"DC43",988,{"$nulls":18},"~"]
["SA36",2026,"DC43",989,{"$nulls":18},"~"]
["SA36",2026,"DC43",990,{"$nulls":18},"~"]
["SA36",2026,"DC43",991,{"$nulls":18},"~"]
["SA36",2026,"DC43",992,{"$nulls":18},"~"]
["SA36",2026,"DC43",993,{"$nulls":18},"~"]
["SA36",2026,"DC43",994,{"$nulls":18},"~"]
["SA36",2026,"DC43",995,{"$nulls":18},"~"]
["SA36",2026,"DC43",996,{"$nulls":18},"~"]
["SA36",2026,"DC43",997,{"$nulls":18},"~"]
["SA36",2026,"DC43",998,{"$nulls":18},"~"]
["SA36",2026,"DC43",999,{"$nulls":18},"~"]
["SA36",2026,"DC43",1000,{"$nulls":18},"~"]
["SA37",2026,"DC43",1,{"$nulls":18},"~"]
["SA37",2026,"DC43",2,{"$nulls":18},"~"]
["SA37",2026,"DC43",3,{"$nulls":18},"~"]
["SA37",2026,"DC43",4,{"$nulls":18},"~"]
["SA37",2026,"DC43",5,{"$nulls":18},"~"]
["SA37",2026,"DC43",6,{"$nulls":18},"~"]
["SA37",2026,"DC43",7,{"$nulls":18},"~"]
["SA37",2026,"DC43",8,{"$nulls":18},"~"]
["SA37",2026,"DC43",9,{"$nulls":18},"~"]
["SA37",2026,"DC43",10,{"$nulls":18},"~"]
["SA37",2026,"DC43",11,{"$nulls":18},"~"]
["SA37",2026,"DC43",12,{"$nulls":18},"~"]
["SA37",2026,"DC43",13,{"$nulls":18},"~"]
["SA37",2026,"DC43",14,{"$nulls":18},"~"]
["SA37",2026,"DC43",15,{"$nulls":18},"~"]
["SA37",2026,"DC43",16,{"$nulls":18},"~"]
["SA37",2026,"DC43",17,{"$nulls":18},"~"]
["SA37",2026,"DC43",18,{"$nulls":18},"~"]
["SA37",2026,"DC43",19,{"$nulls":18},"~"]
["SA37",2026,"DC43",20,{"$nulls":18},"~"]
["SA37",2026,"DC43",21,{"$nulls":18},"~"]
["SA37",2026,"DC43",22,{"$nulls":18},"~"]
["SA37",2026,"DC43",23,{"$nulls":18},"~"]
["SA37",2026,"DC43",24,{"$nulls":18},"~"]
["SA37",2026,"DC43",25,{"$nulls":18},"~"]
["SA37",2026,"DC43",26,{"$nulls":18},"~"]
["SA37",2026,"DC43",27,{"$nulls":18},"~"]
["SA37",2026,"DC43",28,{"$nulls":18},"~"]
["SA37",2026,"DC43",29,{"$nulls":18},"~"]
["SA37",2026,"DC43",30,{"$nulls":18},"~"]
["SA37",2026,"DC43",31,{"$nulls":18},"~"]
["SA37",2026,"DC43",32,{"$nulls":18},"~"]
["SA37",2026,"DC43",33,{"$nulls":18},"~"]
["SA37",2026,"DC43",34,{"$nulls":18},"~"]
["SA37",2026,"DC43",35,{"$nulls":18},"~"]
["SA37",2026,"DC43",36,{"$nulls":18},"~"]
["SA37",2026,"DC43",37,{"$nulls":18},"~"]
["SA37",2026,"DC43",38,{"$nulls":18},"~"]
["SA37",2026,"DC43",39,{"$nulls":18},"~"]
["SA37",2026,"DC43",40,{"$nulls":18},"~"]
["SA37",2026,"DC43",41,{"$nulls":18},"~"]
["SA37",2026,"DC43",42,{"$nulls":18},"~"]
["SA37",2026,"DC43",43,{"$nulls":18},"~"]
["SA37",2026,"DC43",44,{"$nulls":18},"~"]
["SA37",2026,"DC43",45,{"$nulls":18},"~"]
["SA37",2026,"DC43",46,{"$nulls":18},"~"]
["SA37",2026,"DC43",47,{"$nulls":18},"~"]
["SA37",{"$f":"+MTREF","v":2026},{"$f":"LEFT(muni,(FIND(\" \",muni,1)-1))","v":"DC43"},48,{"$nulls":18},"~"]
["SA37",2026,"DC43",49,{"$nulls":18},"~"]
["SA37",2026,"DC43",50,{"$nulls":18},"~"]
["SA37",2026,"DC43",51,{"$nulls":18},"~"]
["SA37",2026,"DC43",52,{"$nulls":18},"~"]
["SA37",2026,"DC43",53,{"$nulls":18},"~"]
["SA37",2026,"DC43",54,{"$nulls":18},"~"]
["SA37",2026,"DC43",55,{"$nulls":18},"~"]
["SA37",2026,"DC43",56,{"$nulls":18},"~"]
["SA37",2026,"DC43",57,{"$nulls":18},"~"]
["SA37",2026,"DC43",58,{"$nulls":18},"~"]
["SA37",2026,"DC43",59,{"$nulls":18},"~"]
["SA37",2026,"DC43",60,{"$nulls":18},"~"]
["SA37",2026,"DC43",61,{"$nulls":18},"~"]
["SA37",2026,"DC43",62,{"$nulls":18},"~"]
["SA37",2026,"DC43",63,{"$nulls":18},"~"]
["SA37",2026,"DC43",64,{"$nulls":18},"~"]
["SA37",2026,"DC43",65,{"$nulls":18},"~"]
["SA37",2026,"DC43",66,{"$nulls":18},"~"]
["SA37",2026,"DC43",67,{"$nulls":18},"~"]
["SA37",2026,"DC43",68,{"$nulls":18},"~"]
["SA37",2026,"DC43",69,{"$nulls":18},"~"]
["SA37",2026,"DC43",70,{"$nulls":18},"~"]
["SA37",2026,"DC43",71,{"$nulls":18},"~"]
["SA37",2026,"DC43",72,{"$nulls":18},"~"]
["SA37",2026,"DC43",73,{"$nulls":18},"~"]
["SA37",2026,"DC43",74,{"$nulls":18},"~"]
["SA37",2026,"DC43",75,{"$nulls":18},"~"]
["SA37",2026,"DC43",76,{"$nulls":18},"~"]
["SA37",2026,"DC43",77,{"$nulls":18},"~"]
["SA37",2026,"DC43",78,{"$nulls":18},"~"]
["SA37",2026,"DC43",79,{"$nulls":18},"~"]
["SA37",2026,"DC43",80,{"$nulls":18},"~"]
["SA37",2026,"DC43",81,{"$nulls":18},"~"]
["SA37",2026,"DC43",82,{"$nulls":18},"~"]
["SA37",2026,"DC43",83,{"$nulls":18},"~"]
["SA37",2026,"DC43",84,{"$nulls":18},"~"]
["SA37",2026,"DC43",85,{"$nulls":18},"~"]
["SA37",2026,"DC43",86,{"$nulls":18},"~"]
["SA37",2026,"DC43",87,{"$nulls":18},"~"]
["SA37",2026,"DC43",88,{"$nulls":18},"~"]
["SA37",2026,"DC43",89,{"$nulls":18},"~"]
["SA37",2026,"DC43",90,{"$nulls":18},"~"]
["SA37",2026,"DC43",91,{"$nulls":18},"~"]
["SA37",2026,"DC43",92,{"$nulls":18},"~"]
["SA37",2026,"DC43",93,{"$nulls":18},"~"]
["SA37",2026,"DC43",94,{"$nulls":18},"~"]
["SA37",2026,"DC43",95,{"$nulls":18},"~"]
["SA37",2026,"DC43",96,{"$nulls":18},"~"]
["SA37",2026,"DC43",97,{"$nulls":18},"~"]
["SA37",2026,"DC43",98,{"$nulls":18},"~"]
["SA37",2026,"DC43",99,{"$nulls":18},"~"]
["SA37",2026,"DC43",100,{"$nulls":18},"~"]
["SA37",2026,"DC43",101,{"$nulls":18},"~"]
["SA37",2026,"DC43",102,{"$nulls":18},"~"]
["SA37",2026,"DC43",103,{"$nulls":18},"~"]
["SA37",2026,"DC43",104,{"$nulls":18},"~"]
["SA37",2026,"DC43",105,{"$nulls":18},"~"]
["SA37",2026,"DC43",106,{"$nulls":18},"~"]
["SA37",2026,"DC43",107,{"$nulls":18},"~"]
["SA37",2026,"DC43",108,{"$nulls":18},"~"]
["SA37",2026,"DC43",109,{"$nulls":18},"~"]
["SA37",2026,"DC43",110,{"$nulls":18},"~"]
["SA37",2026,"DC43",111,{"$nulls":18},"~"]
["SA37",{"$f":"+MTREF","v":2026},{"$f":"LEFT(muni,(FIND(\" \",muni,1)-1))","v":"DC43"},112,{"$nulls":18},"~"]
["SA37",2026,"DC43",113,{"$nulls":18},"~"]
["SA37",2026,"DC43",114,{"$nulls":18},"~"]
["SA37",2026,"DC43",115,{"$nulls":18},"~"]
["SA37",2026,"DC43",116,{"$nulls":18},"~"]
["SA37",2026,"DC43",117,{"$nulls":18},"~"]
["SA37",2026,"DC43",118,{"$nulls":18},"~"]
["SA37",2026,"DC43",119,{"$nulls":18},"~"]
["SA37",2026,"DC43",120,{"$nulls":18},"~"]
["SA37",2026,"DC43",121,{"$nulls":18},"~"]
["SA37",2026,"DC43",122,{"$nulls":18},"~"]
["SA37",2026,"DC43",123,{"$nulls":18},"~"]
["SA37",2026,"DC43",124,{"$nulls":18},"~"]
["SA37",2026,"DC43",125,{"$nulls":18},"~"]
["SA37",2026,"DC43",126,{"$nulls":18},"~"]
["SA37",2026,"DC43",127,{"$nulls":18},"~"]
["SA37",2026,"DC43",128,{"$nulls":18},"~"]
["SA37",2026,"DC43",129,{"$nulls":18},"~"]
["SA37",2026,"DC43",130,{"$nulls":18},"~"]
["SA37",2026,"DC43",131,{"$nulls":18},"~"]
["SA37",2026,"DC43",132,{"$nulls":18},"~"]
["SA37",2026,"DC43",133,{"$nulls":18},"~"]
["SA37",2026,"DC43",134,{"$nulls":18},"~"]
["SA37",2026,"DC43",135,{"$nulls":18},"~"]
["SA37",2026,"DC43",136,{"$nulls":18},"~"]
["SA37",2026,"DC43",137,{"$nulls":18},"~"]
["SA37",2026,"DC43",138,{"$nulls":18},"~"]
["SA37",2026,"DC43",139,{"$nulls":18},"~"]
["SA37",2026,"DC43",140,{"$nulls":18},"~"]
["SA37",2026,"DC43",141,{"$nulls":18},"~"]
["SA37",2026,"DC43",142,{"$nulls":18},"~"]
["SA37",2026,"DC43",143,{"$nulls":18},"~"]
["SA37",2026,"DC43",144,{"$nulls":18},"~"]
["SA37",2026,"DC43",145,{"$nulls":18},"~"]
["SA37",2026,"DC43",146,{"$nulls":18},"~"]
["SA37",2026,"DC43",147,{"$nulls":18},"~"]
["SA37",2026,"DC43",148,{"$nulls":18},"~"]
["SA37",2026,"DC43",149,{"$nulls":18},"~"]
["SA37",2026,"DC43",150,{"$nulls":18},"~"]
["SA37",2026,"DC43",151,{"$nulls":18},"~"]
["SA37",2026,"DC43",152,{"$nulls":18},"~"]
["SA37",2026,"DC43",153,{"$nulls":18},"~"]
["SA37",2026,"DC43",154,{"$nulls":18},"~"]
["SA37",2026,"DC43",155,{"$nulls":18},"~"]
["SA37",2026,"DC43",156,{"$nulls":18},"~"]
["SA37",2026,"DC43",157,{"$nulls":18},"~"]
["SA37",2026,"DC43",158,{"$nulls":18},"~"]
["SA37",2026,"DC43",159,{"$nulls":18},"~"]
["SA37",2026,"DC43",160,{"$nulls":18},"~"]
["SA37",2026,"DC43",161,{"$nulls":18},"~"]
["SA37",2026,"DC43",162,{"$nulls":18},"~"]
["SA37",2026,"DC43",163,{"$nulls":18},"~"]
["SA37",2026,"DC43",164,{"$nulls":18},"~"]
["SA37",2026,"DC43",165,{"$nulls":18},"~"]
["SA37",2026,"DC43",166,{"$nulls":18},"~"]
["SA37",2026,"DC43",167,{"$nulls":18},"~"]
["SA37",2026,"DC43",168,{"$nulls":18},"~"]
["SA37",2026,"DC43",169,{"$nulls":18},"~"]
["SA37",2026,"DC43",170,{"$nulls":18},"~"]
["SA37",2026,"DC43",171,{"$nulls":18},"~"]
["SA37",2026,"DC43",172,{"$nulls":18},"~"]
["SA37",2026,"DC43",173,{"$nulls":18},"~"]
["SA37",2026,"DC43",174,{"$nulls":18},"~"]
["SA37",2026,"DC43",175,{"$nulls":18},"~"]
["SA37",{"$f":"+MTREF","v":2026},{"$f":"LEFT(muni,(FIND(\" \",muni,1)-1))","v":"DC43"},176,{"$nulls":18},"~"]
["SA37",2026,"DC43",177,{"$nulls":18},"~"]
["SA37",2026,"DC43",178,{"$nulls":18},"~"]
["SA37",2026,"DC43",179,{"$nulls":18},"~"]
["SA37",2026,"DC43",180,{"$nulls":18},"~"]
["SA37",2026,"DC43",181,{"$nulls":18},"~"]
["SA37",2026,"DC43",182,{"$nulls":18},"~"]
["SA37",2026,"DC43",183,{"$nulls":18},"~"]
["SA37",2026,"DC43",184,{"$nulls":18},"~"]
["SA37",2026,"DC43",185,{"$nulls":18},"~"]
["SA37",2026,"DC43",186,{"$nulls":18},"~"]
["SA37",2026,"DC43",187,{"$nulls":18},"~"]
["SA37",2026,"DC43",188,{"$nulls":18},"~"]
["SA37",2026,"DC43",189,{"$nulls":18},"~"]
["SA37",2026,"DC43",190,{"$nulls":18},"~"]
["SA37",2026,"DC43",191,{"$nulls":18},"~"]
["SA37",2026,"DC43",192,{"$nulls":18},"~"]
["SA37",2026,"DC43",193,{"$nulls":18},"~"]
["SA37",2026,"DC43",194,{"$nulls":18},"~"]
["SA37",2026,"DC43",195,{"$nulls":18},"~"]
["SA37",2026,"DC43",196,{"$nulls":18},"~"]
["SA37",2026,"DC43",197,{"$nulls":18},"~"]
["SA37",2026,"DC43",198,{"$nulls":18},"~"]
["SA37",2026,"DC43",199,{"$nulls":18},"~"]
["SA37",2026,"DC43",200,{"$nulls":18},"~"]
["SA37",2026,"DC43",201,{"$nulls":18},"~"]
["SA37",2026,"DC43",202,{"$nulls":18},"~"]
["SA37",2026,"DC43",203,{"$nulls":18},"~"]
["SA37",2026,"DC43",204,{"$nulls":18},"~"]
["SA37",2026,"DC43",205,{"$nulls":18},"~"]
["SA37",2026,"DC43",206,{"$nulls":18},"~"]
["SA37",2026,"DC43",207,{"$nulls":18},"~"]
["SA37",2026,"DC43",208,{"$nulls":18},"~"]
["SA37",2026,"DC43",209,{"$nulls":18},"~"]
["SA37",2026,"DC43",210,{"$nulls":18},"~"]
["SA37",2026,"DC43",211,{"$nulls":18},"~"]
["SA37",2026,"DC43",212,{"$nulls":18},"~"]
["SA37",2026,"DC43",213,{"$nulls":18},"~"]
["SA37",2026,"DC43",214,{"$nulls":18},"~"]
["SA37",2026,"DC43",215,{"$nulls":18},"~"]
["SA37",2026,"DC43",216,{"$nulls":18},"~"]
["SA37",2026,"DC43",217,{"$nulls":18},"~"]
["SA37",2026,"DC43",218,{"$nulls":18},"~"]
["SA37",2026,"DC43",219,{"$nulls":18},"~"]
["SA37",2026,"DC43",220,{"$nulls":18},"~"]
["SA37",2026,"DC43",221,{"$nulls":18},"~"]
["SA37",2026,"DC43",222,{"$nulls":18},"~"]
["SA37",2026,"DC43",223,{"$nulls":18},"~"]
["SA37",2026,"DC43",224,{"$nulls":18},"~"]
["SA37",2026,"DC43",225,{"$nulls":18},"~"]
["SA37",2026,"DC43",226,{"$nulls":18},"~"]
["SA37",2026,"DC43",227,{"$nulls":18},"~"]
["SA37",2026,"DC43",228,{"$nulls":18},"~"]
["SA37",2026,"DC43",229,{"$nulls":18},"~"]
["SA37",2026,"DC43",230,{"$nulls":18},"~"]
["SA37",2026,"DC43",231,{"$nulls":18},"~"]
["SA37",2026,"DC43",232,{"$nulls":18},"~"]
["SA37",2026,"DC43",233,{"$nulls":18},"~"]
["SA37",2026,"DC43",234,{"$nulls":18},"~"]
["SA37",2026,"DC43",235,{"$nulls":18},"~"]
["SA37",2026,"DC43",236,{"$nulls":18},"~"]
["SA37",2026,"DC43",237,{"$nulls":18},"~"]
["SA37",2026,"DC43",238,{"$nulls":18},"~"]
["SA37",2026,"DC43",239,{"$nulls":18},"~"]
["SA37",{"$f":"+MTREF","v":2026},{"$f":"LEFT(muni,(FIND(\" \",muni,1)-1))","v":"DC43"},240,{"$nulls":18},"~"]
["SA37",2026,"DC43",241,{"$nulls":18},"~"]
["SA37",2026,"DC43",242,{"$nulls":18},"~"]
["SA37",2026,"DC43",243,{"$nulls":18},"~"]
["SA37",2026,"DC43",244,{"$nulls":18},"~"]
["SA37",2026,"DC43",245,{"$nulls":18},"~"]
["SA37",2026,"DC43",246,{"$nulls":18},"~"]
["SA37",2026,"DC43",247,{"$nulls":18},"~"]
["SA37",2026,"DC43",248,{"$nulls":18},"~"]
["SA37",2026,"DC43",249,{"$nulls":18},"~"]
["SA37",2026,"DC43",250,{"$nulls":18},"~"]
["SA37",2026,"DC43",251,{"$nulls":18},"~"]
["SA37",2026,"DC43",252,{"$nulls":18},"~"]
["SA37",2026,"DC43",253,{"$nulls":18},"~"]
["SA37",2026,"DC43",254,{"$nulls":18},"~"]
["SA37",2026,"DC43",255,{"$nulls":18},"~"]
["SA37",2026,"DC43",256,{"$nulls":18},"~"]
["SA37",2026,"DC43",257,{"$nulls":18},"~"]
["SA37",2026,"DC43",258,{"$nulls":18},"~"]
["SA37",2026,"DC43",259,{"$nulls":18},"~"]
["SA37",2026,"DC43",260,{"$nulls":18},"~"]
["SA37",2026,"DC43",261,{"$nulls":18},"~"]
["SA37",2026,"DC43",262,{"$nulls":18},"~"]
["SA37",2026,"DC43",263,{"$nulls":18},"~"]
["SA37",2026,"DC43",264,{"$nulls":18},"~"]
["SA37",2026,"DC43",265,{"$nulls":18},"~"]
["SA37",2026,"DC43",266,{"$nulls":18},"~"]
["SA37",2026,"DC43",267,{"$nulls":18},"~"]
["SA37",2026,"DC43",268,{"$nulls":18},"~"]
["SA37",2026,"DC43",269,{"$nulls":18},"~"]
["SA37",2026,"DC43",270,{"$nulls":18},"~"]
["SA37",2026,"DC43",271,{"$nulls":18},"~"]
["SA37",2026,"DC43",272,{"$nulls":18},"~"]
["SA37",2026,"DC43",273,{"$nulls":18},"~"]
["SA37",2026,"DC43",274,{"$nulls":18},"~"]
["SA37",2026,"DC43",275,{"$nulls":18},"~"]
["SA37",2026,"DC43",276,{"$nulls":18},"~"]
["SA37",2026,"DC43",277,{"$nulls":18},"~"]
["SA37",2026,"DC43",278,{"$nulls":18},"~"]
["SA37",2026,"DC43",279,{"$nulls":18},"~"]
["SA37",2026,"DC43",280,{"$nulls":18},"~"]
["SA37",2026,"DC43",281,{"$nulls":18},"~"]
["SA37",2026,"DC43",282,{"$nulls":18},"~"]
["SA37",2026,"DC43",283,{"$nulls":18},"~"]
["SA37",2026,"DC43",284,{"$nulls":18},"~"]
["SA37",2026,"DC43",285,{"$nulls":18},"~"]
["SA37",2026,"DC43",286,{"$nulls":18},"~"]
["SA37",2026,"DC43",287,{"$nulls":18},"~"]
["SA37",2026,"DC43",288,{"$nulls":18},"~"]
["SA37",2026,"DC43",289,{"$nulls":18},"~"]
["SA37",2026,"DC43",290,{"$nulls":18},"~"]
["SA37",2026,"DC43",291,{"$nulls":18},"~"]
["SA37",2026,"DC43",292,{"$nulls":18},"~"]
["SA37",2026,"DC43",293,{"$nulls":18},"~"]
["SA37",2026,"DC43",294,{"$nulls":18},"~"]
["SA37",2026,"DC43",295,{"$nulls":18},"~"]
["SA37",2026,"DC43",296,{"$nulls":18},"~"]
["SA37",2026,"DC43",297,{"$nulls":18},"~"]
["SA37",2026,"DC43",298,{"$nulls":18},"~"]
["SA37",2026,"DC43",299,{"$nulls":18},"~"]
["SA37",2026,"DC43",300,{"$nulls":18},"~"]
["SA37",2026,"DC43",301,{"$nulls":18},"~"]
["SA37",2026,"DC43",302,{"$nulls":18},"~"]
["SA37",2026,"DC43",303,{"$nulls":18},"~"]
["SA37",{"$f":"+MTREF","v":2026},{"$f":"LEFT(muni,(FIND(\" \",muni,1)-1))","v":"DC43"},304,{"$nulls":18},"~"]
["SA37",2026,"DC43",305,{"$nulls":18},"~"]
["SA37",2026,"DC43",306,{"$nulls":18},"~"]
["SA37",2026,"DC43",307,{"$nulls":18},"~"]
["SA37",2026,"DC43",308,{"$nulls":18},"~"]
["SA37",2026,"DC43",309,{"$nulls":18},"~"]
["SA37",2026,"DC43",310,{"$nulls":18},"~"]
["SA37",2026,"DC43",311,{"$nulls":18},"~"]
["SA37",2026,"DC43",312,{"$nulls":18},"~"]
["SA37",2026,"DC43",313,{"$nulls":18},"~"]
["SA37",2026,"DC43",314,{"$nulls":18},"~"]
["SA37",2026,"DC43",315,{"$nulls":18},"~"]
["SA37",2026,"DC43",316,{"$nulls":18},"~"]
["SA37",2026,"DC43",317,{"$nulls":18},"~"]
["SA37",2026,"DC43",318,{"$nulls":18},"~"]
["SA37",2026,"DC43",319,{"$nulls":18},"~"]
["SA37",2026,"DC43",320,{"$nulls":18},"~"]
["SA37",2026,"DC43",321,{"$nulls":18},"~"]
["SA37",2026,"DC43",322,{"$nulls":18},"~"]
["SA37",2026,"DC43",323,{"$nulls":18},"~"]
["SA37",2026,"DC43",324,{"$nulls":18},"~"]
["SA37",2026,"DC43",325,{"$nulls":18},"~"]
["SA37",2026,"DC43",326,{"$nulls":18},"~"]
["SA37",2026,"DC43",327,{"$nulls":18},"~"]
["SA37",2026,"DC43",328,{"$nulls":18},"~"]
["SA37",2026,"DC43",329,{"$nulls":18},"~"]
["SA37",2026,"DC43",330,{"$nulls":18},"~"]
["SA37",2026,"DC43",331,{"$nulls":18},"~"]
["SA37",2026,"DC43",332,{"$nulls":18},"~"]
["SA37",2026,"DC43",333,{"$nulls":18},"~"]
["SA37",2026,"DC43",334,{"$nulls":18},"~"]
["SA37",2026,"DC43",335,{"$nulls":18},"~"]
["SA37",2026,"DC43",336,{"$nulls":18},"~"]
["SA37",2026,"DC43",337,{"$nulls":18},"~"]
["SA37",2026,"DC43",338,{"$nulls":18},"~"]
["SA37",2026,"DC43",339,{"$nulls":18},"~"]
["SA37",2026,"DC43",340,{"$nulls":18},"~"]
["SA37",2026,"DC43",341,{"$nulls":18},"~"]
["SA37",2026,"DC43",342,{"$nulls":18},"~"]
["SA37",2026,"DC43",343,{"$nulls":18},"~"]
["SA37",2026,"DC43",344,{"$nulls":18},"~"]
["SA37",2026,"DC43",345,{"$nulls":18},"~"]
["SA37",2026,"DC43",346,{"$nulls":18},"~"]
["SA37",2026,"DC43",347,{"$nulls":18},"~"]
["SA37",2026,"DC43",348,{"$nulls":18},"~"]
["SA37",2026,"DC43",349,{"$nulls":18},"~"]
["SA37",2026,"DC43",350,{"$nulls":18},"~"]
["SA37",2026,"DC43",351,{"$nulls":18},"~"]
["SA37",2026,"DC43",352,{"$nulls":18},"~"]
["SA37",2026,"DC43",353,{"$nulls":18},"~"]
["SA37",2026,"DC43",354,{"$nulls":18},"~"]
["SA37",2026,"DC43",355,{"$nulls":18},"~"]
["SA37",2026,"DC43",356,{"$nulls":18},"~"]
["SA37",2026,"DC43",357,{"$nulls":18},"~"]
["SA37",2026,"DC43",358,{"$nulls":18},"~"]
["SA37",2026,"DC43",359,{"$nulls":18},"~"]
["SA37",2026,"DC43",360,{"$nulls":18},"~"]
["SA37",2026,"DC43",361,{"$nulls":18},"~"]
["SA37",2026,"DC43",362,{"$nulls":18},"~"]
["SA37",2026,"DC43",363,{"$nulls":18},"~"]
["SA37",2026,"DC43",364,{"$nulls":18},"~"]
["SA37",2026,"DC43",365,{"$nulls":18},"~"]
["SA37",2026,"DC43",366,{"$nulls":18},"~"]
["SA37",2026,"DC43",367,{"$nulls":18},"~"]
["SA37",{"$f":"+MTREF","v":2026},{"$f":"LEFT(muni,(FIND(\" \",muni,1)-1))","v":"DC43"},368,{"$nulls":18},"~"]
["SA37",2026,"DC43",369,{"$nulls":18},"~"]
["SA37",2026,"DC43",370,{"$nulls":18},"~"]
["SA37",2026,"DC43",371,{"$nulls":18},"~"]
["SA37",2026,"DC43",372,{"$nulls":18},"~"]
["SA37",2026,"DC43",373,{"$nulls":18},"~"]
["SA37",2026,"DC43",374,{"$nulls":18},"~"]
["SA37",2026,"DC43",375,{"$nulls":18},"~"]
["SA37",2026,"DC43",376,{"$nulls":18},"~"]
["SA37",2026,"DC43",377,{"$nulls":18},"~"]
["SA37",2026,"DC43",378,{"$nulls":18},"~"]
["SA37",2026,"DC43",379,{"$nulls":18},"~"]
["SA37",2026,"DC43",380,{"$nulls":18},"~"]
["SA37",2026,"DC43",381,{"$nulls":18},"~"]
["SA37",2026,"DC43",382,{"$nulls":18},"~"]
["SA37",2026,"DC43",383,{"$nulls":18},"~"]
["SA37",2026,"DC43",384,{"$nulls":18},"~"]
["SA37",2026,"DC43",385,{"$nulls":18},"~"]
["SA37",2026,"DC43",386,{"$nulls":18},"~"]
["SA37",2026,"DC43",387,{"$nulls":18},"~"]
["SA37",2026,"DC43",388,{"$nulls":18},"~"]
["SA37",2026,"DC43",389,{"$nulls":18},"~"]
["SA37",2026,"DC43",390,{"$nulls":18},"~"]
["SA37",2026,"DC43",391,{"$nulls":18},"~"]
["SA37",2026,"DC43",392,{"$nulls":18},"~"]
["SA37",2026,"DC43",393,{"$nulls":18},"~"]
["SA37",2026,"DC43",394,{"$nulls":18},"~"]
["SA37",2026,"DC43",395,{"$nulls":18},"~"]
["SA37",2026,"DC43",396,{"$nulls":18},"~"]
["SA37",2026,"DC43",397,{"$nulls":18},"~"]
["SA37",2026,"DC43",398,{"$nulls":18},"~"]
["SA37",2026,"DC43",399,{"$nulls":18},"~"]
["SA37",2026,"DC43",400,{"$nulls":18},"~"]
["SA37",2026,"DC43",401,{"$nulls":18},"~"]
["SA37",2026,"DC43",402,{"$nulls":18},"~"]
["SA37",2026,"DC43",403,{"$nulls":18},"~"]
["SA37",2026,"DC43",404,{"$nulls":18},"~"]
["SA37",2026,"DC43",405,{"$nulls":18},"~"]
["SA37",2026,"DC43",406,{"$nulls":18},"~"]
["SA37",2026,"DC43",407,{"$nulls":18},"~"]
["SA37",2026,"DC43",408,{"$nulls":18},"~"]
["SA37",2026,"DC43",409,{"$nulls":18},"~"]
["SA37",2026,"DC43",410,{"$nulls":18},"~"]
["SA37",2026,"DC43",411,{"$nulls":18},"~"]
["SA37",2026,"DC43",412,{"$nulls":18},"~"]
["SA37",2026,"DC43",413,{"$nulls":18},"~"]
["SA37",2026,"DC43",414,{"$nulls":18},"~"]
["SA37",2026,"DC43",415,{"$nulls":18},"~"]
["SA37",2026,"DC43",416,{"$nulls":18},"~"]
["SA37",2026,"DC43",417,{"$nulls":18},"~"]
["SA37",2026,"DC43",418,{"$nulls":18},"~"]
["SA37",2026,"DC43",419,{"$nulls":18},"~"]
["SA37",2026,"DC43",420,{"$nulls":18},"~"]
["SA37",2026,"DC43",421,{"$nulls":18},"~"]
["SA37",2026,"DC43",422,{"$nulls":18},"~"]
["SA37",2026,"DC43",423,{"$nulls":18},"~"]
["SA37",2026,"DC43",424,{"$nulls":18},"~"]
["SA37",2026,"DC43",425,{"$nulls":18},"~"]
["SA37",2026,"DC43",426,{"$nulls":18},"~"]
["SA37",2026,"DC43",427,{"$nulls":18},"~"]
["SA37",2026,"DC43",428,{"$nulls":18},"~"]
["SA37",2026,"DC43",429,{"$nulls":18},"~"]
["SA37",2026,"DC43",430,{"$nulls":18},"~"]
["SA37",2026,"DC43",431,{"$nulls":18},"~"]
["SA37",{"$f":"+MTREF","v":2026},{"$f":"LEFT(muni,(FIND(\" \",muni,1)-1))","v":"DC43"},432,{"$nulls":18},"~"]
["SA37",2026,"DC43",433,{"$nulls":18},"~"]
["SA37",2026,"DC43",434,{"$nulls":18},"~"]
["SA37",2026,"DC43",435,{"$nulls":18},"~"]
["SA37",2026,"DC43",436,{"$nulls":18},"~"]
["SA37",2026,"DC43",437,{"$nulls":18},"~"]
["SA37",2026,"DC43",438,{"$nulls":18},"~"]
["SA37",2026,"DC43",439,{"$nulls":18},"~"]
["SA37",2026,"DC43",440,{"$nulls":18},"~"]
["SA37",2026,"DC43",441,{"$nulls":18},"~"]
["SA37",2026,"DC43",442,{"$nulls":18},"~"]
["SA37",2026,"DC43",443,{"$nulls":18},"~"]
["SA37",2026,"DC43",444,{"$nulls":18},"~"]
["SA37",2026,"DC43",445,{"$nulls":18},"~"]
["SA37",2026,"DC43",446,{"$nulls":18},"~"]
["SA37",2026,"DC43",447,{"$nulls":18},"~"]
["SA37",2026,"DC43",448,{"$nulls":18},"~"]
["SA37",2026,"DC43",449,{"$nulls":18},"~"]
["SA37",2026,"DC43",450,{"$nulls":18},"~"]
["SA37",2026,"DC43",451,{"$nulls":18},"~"]
["SA37",2026,"DC43",452,{"$nulls":18},"~"]
["SA37",2026,"DC43",453,{"$nulls":18},"~"]
["SA37",2026,"DC43",454,{"$nulls":18},"~"]
["SA37",2026,"DC43",455,{"$nulls":18},"~"]
["SA37",2026,"DC43",456,{"$nulls":18},"~"]
["SA37",2026,"DC43",457,{"$nulls":18},"~"]
["SA37",2026,"DC43",458,{"$nulls":18},"~"]
["SA37",2026,"DC43",459,{"$nulls":18},"~"]
["SA37",2026,"DC43",460,{"$nulls":18},"~"]
["SA37",2026,"DC43",461,{"$nulls":18},"~"]
["SA37",2026,"DC43",462,{"$nulls":18},"~"]
["SA37",2026,"DC43",463,{"$nulls":18},"~"]
["SA37",2026,"DC43",464,{"$nulls":18},"~"]
["SA37",2026,"DC43",465,{"$nulls":18},"~"]
["SA37",2026,"DC43",466,{"$nulls":18},"~"]
["SA37",2026,"DC43",467,{"$nulls":18},"~"]
["SA37",2026,"DC43",468,{"$nulls":18},"~"]
["SA37",2026,"DC43",469,{"$nulls":18},"~"]
["SA37",2026,"DC43",470,{"$nulls":18},"~"]
["SA37",2026,"DC43",471,{"$nulls":18},"~"]
["SA37",2026,"DC43",472,{"$nulls":18},"~"]
["SA37",2026,"DC43",473,{"$nulls":18},"~"]
["SA37",2026,"DC43",474,{"$nulls":18},"~"]
["SA37",2026,"DC43",475,{"$nulls":18},"~"]
["SA37",2026,"DC43",476,{"$nulls":18},"~"]
["SA37",2026,"DC43",477,{"$nulls":18},"~"]
["SA37",2026,"DC43",478,{"$nulls":18},"~"]
["SA37",2026,"DC43",479,{"$nulls":18},"~"]
["SA37",2026,"DC43",480,{"$nulls":18},"~"]
["SA37",2026,"DC43",481,{"$nulls":18},"~"]
["SA37",2026,"DC43",482,{"$nulls":18},"~"]
["SA37",2026,"DC43",483,{"$nulls":18},"~"]
["SA37",2026,"DC43",484,{"$nulls":18},"~"]
["SA37",2026,"DC43",485,{"$nulls":18},"~"]
["SA37",2026,"DC43",486,{"$nulls":18},"~"]
["SA37",2026,"DC43",487,{"$nulls":18},"~"]
["SA37",2026,"DC43",488,{"$nulls":18},"~"]
["SA37",2026,"DC43",489,{"$nulls":18},"~"]
["SA37",2026,"DC43",490,{"$nulls":18},"~"]
["SA37",2026,"DC43",491,{"$nulls":18},"~"]
["SA37",2026,"DC43",492,{"$nulls":18},"~"]
["SA37",2026,"DC43",493,{"$nulls":18},"~"]
["SA37",2026,"DC43",494,{"$nulls":18},"~"]
["SA37",2026,"DC43",495,{"$nulls":18},"~"]
["SA37",{"$f":"+MTREF","v":2026},{"$f":"LEFT(muni,(FIND(\" \",muni,1)-1))","v":"DC43"},496,{"$nulls":18},"~"]
["SA37",2026,"DC43",497,{"$nulls":18},"~"]
["SA37",2026,"DC43",498,{"$nulls":18},"~"]
["SA37",2026,"DC43",499,{"$nulls":18},"~"]
["SA37",2026,"DC43",500,{"$nulls":18},"~"]
["SA37",2026,"DC43",501,{"$nulls":18},"~"]
["SA37",2026,"DC43",502,{"$nulls":18},"~"]
["SA37",2026,"DC43",503,{"$nulls":18},"~"]
["SA37",2026,"DC43",504,{"$nulls":18},"~"]
["SA37",2026,"DC43",505,{"$nulls":18},"~"]
["SA37",2026,"DC43",506,{"$nulls":18},"~"]
["SA37",2026,"DC43",507,{"$nulls":18},"~"]
["SA37",2026,"DC43",508,{"$nulls":18},"~"]
["SA37",2026,"DC43",509,{"$nulls":18},"~"]
["SA37",2026,"DC43",510,{"$nulls":18},"~"]
["SA37",2026,"DC43",511,{"$nulls":18},"~"]
["SA37",2026,"DC43",512,{"$nulls":18},"~"]
["SA37",2026,"DC43",513,{"$nulls":18},"~"]
["SA37",2026,"DC43",514,{"$nulls":18},"~"]
["SA37",2026,"DC43",515,{"$nulls":18},"~"]
["SA37",2026,"DC43",516,{"$nulls":18},"~"]
["SA37",2026,"DC43",517,{"$nulls":18},"~"]
["SA37",2026,"DC43",518,{"$nulls":18},"~"]
["SA37",2026,"DC43",519,{"$nulls":18},"~"]
["SA37",2026,"DC43",520,{"$nulls":18},"~"]
["SA37",2026,"DC43",521,{"$nulls":18},"~"]
["SA37",2026,"DC43",522,{"$nulls":18},"~"]
["SA37",2026,"DC43",523,{"$nulls":18},"~"]
["SA37",2026,"DC43",524,{"$nulls":18},"~"]
["SA37",2026,"DC43",525,{"$nulls":18},"~"]
["SA37",2026,"DC43",526,{"$nulls":18},"~"]
["SA37",2026,"DC43",527,{"$nulls":18},"~"]
["SA37",2026,"DC43",528,{"$nulls":18},"~"]
["SA37",2026,"DC43",529,{"$nulls":18},"~"]
["SA37",2026,"DC43",530,{"$nulls":18},"~"]
["SA37",2026,"DC43",531,{"$nulls":18},"~"]
["SA37",2026,"DC43",532,{"$nulls":18},"~"]
["SA37",2026,"DC43",533,{"$nulls":18},"~"]
["SA37",2026,"DC43",534,{"$nulls":18},"~"]
["SA37",2026,"DC43",535,{"$nulls":18},"~"]
["SA37",2026,"DC43",536,{"$nulls":18},"~"]
["SA37",2026,"DC43",537,{"$nulls":18},"~"]
["SA37",2026,"DC43",538,{"$nulls":18},"~"]
["SA37",2026,"DC43",539,{"$nulls":18},"~"]
["SA37",2026,"DC43",540,{"$nulls":18},"~"]
["SA37",2026,"DC43",541,{"$nulls":18},"~"]
["SA37",2026,"DC43",542,{"$nulls":18},"~"]
["SA37",2026,"DC43",543,{"$nulls":18},"~"]
["SA37",2026,"DC43",544,{"$nulls":18},"~"]
["SA37",2026,"DC43",545,{"$nulls":18},"~"]
["SA37",2026,"DC43",546,{"$nulls":18},"~"]
["SA37",2026,"DC43",547,{"$nulls":18},"~"]
["SA37",2026,"DC43",548,{"$nulls":18},"~"]
["SA37",2026,"DC43",549,{"$nulls":18},"~"]
["SA37",2026,"DC43",550,{"$nulls":18},"~"]
["SA37",2026,"DC43",551,{"$nulls":18},"~"]
["SA37",2026,"DC43",552,{"$nulls":18},"~"]
["SA37",2026,"DC43",553,{"$nulls":18},"~"]
["SA37",2026,"DC43",554,{"$nulls":18},"~"]
["SA37",2026,"DC43",555,{"$nulls":18},"~"]
["SA37",2026,"DC43",556,{"$nulls":18},"~"]
["SA37",2026,"DC43",557,{"$nulls":18},"~"]
["SA37",2026,"DC43",558,{"$nulls":18},"~"]
["SA37",2026,"DC43",559,{"$nulls":18},"~"]
["SA37",{"$f":"+MTREF","v":2026},{"$f":"LEFT(muni,(FIND(\" \",muni,1)-1))","v":"DC43"},560,{"$nulls":18},"~"]
["SA37",2026,"DC43",561,{"$nulls":18},"~"]
["SA37",2026,"DC43",562,{"$nulls":18},"~"]
["SA37",2026,"DC43",563,{"$nulls":18},"~"]
["SA37",2026,"DC43",564,{"$nulls":18},"~"]
["SA37",2026,"DC43",565,{"$nulls":18},"~"]
["SA37",2026,"DC43",566,{"$nulls":18},"~"]
["SA37",2026,"DC43",567,{"$nulls":18},"~"]
["SA37",2026,"DC43",568,{"$nulls":18},"~"]
["SA37",2026,"DC43",569,{"$nulls":18},"~"]
["SA37",2026,"DC43",570,{"$nulls":18},"~"]
["SA37",2026,"DC43",571,{"$nulls":18},"~"]
["SA37",2026,"DC43",572,{"$nulls":18},"~"]
["SA37",2026,"DC43",573,{"$nulls":18},"~"]
["SA37",2026,"DC43",574,{"$nulls":18},"~"]
["SA37",2026,"DC43",575,{"$nulls":18},"~"]
["SA37",2026,"DC43",576,{"$nulls":18},"~"]
["SA37",2026,"DC43",577,{"$nulls":18},"~"]
["SA37",2026,"DC43",578,{"$nulls":18},"~"]
["SA37",2026,"DC43",579,{"$nulls":18},"~"]
["SA37",2026,"DC43",580,{"$nulls":18},"~"]
["SA37",2026,"DC43",581,{"$nulls":18},"~"]
["SA37",2026,"DC43",582,{"$nulls":18},"~"]
["SA37",2026,"DC43",583,{"$nulls":18},"~"]
["SA37",2026,"DC43",584,{"$nulls":18},"~"]
["SA37",2026,"DC43",585,{"$nulls":18},"~"]
["SA37",2026,"DC43",586,{"$nulls":18},"~"]
["SA37",2026,"DC43",587,{"$nulls":18},"~"]
["SA37",2026,"DC43",588,{"$nulls":18},"~"]
["SA37",2026,"DC43",589,{"$nulls":18},"~"]
["SA37",2026,"DC43",590,{"$nulls":18},"~"]
["SA37",2026,"DC43",591,{"$nulls":18},"~"]
["SA37",2026,"DC43",592,{"$nulls":18},"~"]
["SA37",2026,"DC43",593,{"$nulls":18},"~"]
["SA37",2026,"DC43",594,{"$nulls":18},"~"]
["SA37",2026,"DC43",595,{"$nulls":18},"~"]
["SA37",2026,"DC43",596,{"$nulls":18},"~"]
["SA37",2026,"DC43",597,{"$nulls":18},"~"]
["SA37",2026,"DC43",598,{"$nulls":18},"~"]
["SA37",2026,"DC43",599,{"$nulls":18},"~"]
["SA37",2026,"DC43",600,{"$nulls":18},"~"]
["SA37",2026,"DC43",601,{"$nulls":18},"~"]
["SA37",2026,"DC43",602,{"$nulls":18},"~"]
["SA37",2026,"DC43",603,{"$nulls":18},"~"]
["SA37",2026,"DC43",604,{"$nulls":18},"~"]
["SA37",2026,"DC43",605,{"$nulls":18},"~"]
["SA37",2026,"DC43",606,{"$nulls":18},"~"]
["SA37",2026,"DC43",607,{"$nulls":18},"~"]
["SA37",2026,"DC43",608,{"$nulls":18},"~"]
["SA37",2026,"DC43",609,{"$nulls":18},"~"]
["SA37",2026,"DC43",610,{"$nulls":18},"~"]
["SA37",2026,"DC43",611,{"$nulls":18},"~"]
["SA37",2026,"DC43",612,{"$nulls":18},"~"]
["SA37",2026,"DC43",613,{"$nulls":18},"~"]
["SA37",2026,"DC43",614,{"$nulls":18},"~"]
["SA37",2026,"DC43",615,{"$nulls":18},"~"]
["SA37",2026,"DC43",616,{"$nulls":18},"~"]
["SA37",2026,"DC43",617,{"$nulls":18},"~"]
["SA37",2026,"DC43",618,{"$nulls":18},"~"]
["SA37",2026,"DC43",619,{"$nulls":18},"~"]
["SA37",2026,"DC43",620,{"$nulls":18},"~"]
["SA37",2026,"DC43",621,{"$nulls":18},"~"]
["SA37",2026,"DC43",622,{"$nulls":18},"~"]
["SA37",2026,"DC43",623,{"$nulls":18},"~"]
["SA37",{"$f":"+MTREF","v":2026},{"$f":"LEFT(muni,(FIND(\" \",muni,1)-1))","v":"DC43"},624,{"$nulls":18},"~"]
["SA37",2026,"DC43",625,{"$nulls":18},"~"]
["SA37",2026,"DC43",626,{"$nulls":18},"~"]
["SA37",2026,"DC43",627,{"$nulls":18},"~"]
["SA37",2026,"DC43",628,{"$nulls":18},"~"]
["SA37",2026,"DC43",629,{"$nulls":18},"~"]
["SA37",2026,"DC43",630,{"$nulls":18},"~"]
["SA37",2026,"DC43",631,{"$nulls":18},"~"]
["SA37",2026,"DC43",632,{"$nulls":18},"~"]
["SA37",2026,"DC43",633,{"$nulls":18},"~"]
["SA37",2026,"DC43",634,{"$nulls":18},"~"]
["SA37",2026,"DC43",635,{"$nulls":18},"~"]
["SA37",2026,"DC43",636,{"$nulls":18},"~"]
["SA37",2026,"DC43",637,{"$nulls":18},"~"]
["SA37",2026,"DC43",638,{"$nulls":18},"~"]
["SA37",2026,"DC43",639,{"$nulls":18},"~"]
["SA37",2026,"DC43",640,{"$nulls":18},"~"]
["SA37",2026,"DC43",641,{"$nulls":18},"~"]
["SA37",2026,"DC43",642,{"$nulls":18},"~"]
["SA37",2026,"DC43",643,{"$nulls":18},"~"]
["SA37",2026,"DC43",644,{"$nulls":18},"~"]
["SA37",2026,"DC43",645,{"$nulls":18},"~"]
["SA37",2026,"DC43",646,{"$nulls":18},"~"]
["SA37",2026,"DC43",647,{"$nulls":18},"~"]
["SA37",2026,"DC43",648,{"$nulls":18},"~"]
["SA37",2026,"DC43",649,{"$nulls":18},"~"]
["SA37",2026,"DC43",650,{"$nulls":18},"~"]
["SA37",2026,"DC43",651,{"$nulls":18},"~"]
["SA37",2026,"DC43",652,{"$nulls":18},"~"]
["SA37",2026,"DC43",653,{"$nulls":18},"~"]
["SA37",2026,"DC43",654,{"$nulls":18},"~"]
["SA37",2026,"DC43",655,{"$nulls":18},"~"]
["SA37",2026,"DC43",656,{"$nulls":18},"~"]
["SA37",2026,"DC43",657,{"$nulls":18},"~"]
["SA37",2026,"DC43",658,{"$nulls":18},"~"]
["SA37",2026,"DC43",659,{"$nulls":18},"~"]
["SA37",2026,"DC43",660,{"$nulls":18},"~"]
["SA37",2026,"DC43",661,{"$nulls":18},"~"]
["SA37",2026,"DC43",662,{"$nulls":18},"~"]
["SA37",2026,"DC43",663,{"$nulls":18},"~"]
["SA37",2026,"DC43",664,{"$nulls":18},"~"]
["SA37",2026,"DC43",665,{"$nulls":18},"~"]
["SA37",2026,"DC43",666,{"$nulls":18},"~"]
["SA37",2026,"DC43",667,{"$nulls":18},"~"]
["SA37",2026,"DC43",668,{"$nulls":18},"~"]
["SA37",2026,"DC43",669,{"$nulls":18},"~"]
["SA37",2026,"DC43",670,{"$nulls":18},"~"]
["SA37",2026,"DC43",671,{"$nulls":18},"~"]
["SA37",2026,"DC43",672,{"$nulls":18},"~"]
["SA37",2026,"DC43",673,{"$nulls":18},"~"]
["SA37",2026,"DC43",674,{"$nulls":18},"~"]
["SA37",2026,"DC43",675,{"$nulls":18},"~"]
["SA37",2026,"DC43",676,{"$nulls":18},"~"]
["SA37",2026,"DC43",677,{"$nulls":18},"~"]
["SA37",2026,"DC43",678,{"$nulls":18},"~"]
["SA37",2026,"DC43",679,{"$nulls":18},"~"]
["SA37",2026,"DC43",680,{"$nulls":18},"~"]
["SA37",2026,"DC43",681,{"$nulls":18},"~"]
["SA37",2026,"DC43",682,{"$nulls":18},"~"]
["SA37",2026,"DC43",683,{"$nulls":18},"~"]
["SA37",2026,"DC43",684,{"$nulls":18},"~"]
["SA37",2026,"DC43",685,{"$nulls":18},"~"]
["SA37",2026,"DC43",686,{"$nulls":18},"~"]
["SA37",2026,"DC43",687,{"$nulls":18},"~"]
["SA37",{"$f":"+MTREF","v":2026},{"$f":"LEFT(muni,(FIND(\" \",muni,1)-1))","v":"DC43"},688,{"$nulls":18},"~"]
["SA37",2026,"DC43",689,{"$nulls":18},"~"]
["SA37",2026,"DC43",690,{"$nulls":18},"~"]
["SA37",2026,"DC43",691,{"$nulls":18},"~"]
["SA37",2026,"DC43",692,{"$nulls":18},"~"]
["SA37",2026,"DC43",693,{"$nulls":18},"~"]
["SA37",2026,"DC43",694,{"$nulls":18},"~"]
["SA37",2026,"DC43",695,{"$nulls":18},"~"]
["SA37",2026,"DC43",696,{"$nulls":18},"~"]
["SA37",2026,"DC43",697,{"$nulls":18},"~"]
["SA37",2026,"DC43",698,{"$nulls":18},"~"]
["SA37",2026,"DC43",699,{"$nulls":18},"~"]
["SA37",2026,"DC43",700,{"$nulls":18},"~"]
["SA37",2026,"DC43",701,{"$nulls":18},"~"]
["SA37",2026,"DC43",702,{"$nulls":18},"~"]
["SA37",2026,"DC43",703,{"$nulls":18},"~"]
["SA37",2026,"DC43",704,{"$nulls":18},"~"]
["SA37",2026,"DC43",705,{"$nulls":18},"~"]
["SA37",2026,"DC43",706,{"$nulls":18},"~"]
["SA37",2026,"DC43",707,{"$nulls":18},"~"]
["SA37",2026,"DC43",708,{"$nulls":18},"~"]
["SA37",2026,"DC43",709,{"$nulls":18},"~"]
["SA37",2026,"DC43",710,{"$nulls":18},"~"]
["SA37",2026,"DC43",711,{"$nulls":18},"~"]
["SA37",2026,"DC43",712,{"$nulls":18},"~"]
["SA37",2026,"DC43",713,{"$nulls":18},"~"]
["SA37",2026,"DC43",714,{"$nulls":18},"~"]
["SA37",2026,"DC43",715,{"$nulls":18},"~"]
["SA37",2026,"DC43",716,{"$nulls":18},"~"]
["SA37",2026,"DC43",717,{"$nulls":18},"~"]
["SA37",2026,"DC43",718,{"$nulls":18},"~"]
["SA37",2026,"DC43",719,{"$nulls":18},"~"]
["SA37",2026,"DC43",720,{"$nulls":18},"~"]
["SA37",2026,"DC43",721,{"$nulls":18},"~"]
["SA37",2026,"DC43",722,{"$nulls":18},"~"]
["SA37",2026,"DC43",723,{"$nulls":18},"~"]
["SA37",2026,"DC43",724,{"$nulls":18},"~"]
["SA37",2026,"DC43",725,{"$nulls":18},"~"]
["SA37",2026,"DC43",726,{"$nulls":18},"~"]
["SA37",2026,"DC43",727,{"$nulls":18},"~"]
["SA37",2026,"DC43",728,{"$nulls":18},"~"]
["SA37",2026,"DC43",729,{"$nulls":18},"~"]
["SA37",2026,"DC43",730,{"$nulls":18},"~"]
["SA37",2026,"DC43",731,{"$nulls":18},"~"]
["SA37",2026,"DC43",732,{"$nulls":18},"~"]
["SA37",2026,"DC43",733,{"$nulls":18},"~"]
["SA37",2026,"DC43",734,{"$nulls":18},"~"]
["SA37",2026,"DC43",735,{"$nulls":18},"~"]
["SA37",2026,"DC43",736,{"$nulls":18},"~"]
["SA37",2026,"DC43",737,{"$nulls":18},"~"]
["SA37",2026,"DC43",738,{"$nulls":18},"~"]
["SA37",2026,"DC43",739,{"$nulls":18},"~"]
["SA37",2026,"DC43",740,{"$nulls":18},"~"]
["SA37",2026,"DC43",741,{"$nulls":18},"~"]
["SA37",2026,"DC43",742,{"$nulls":18},"~"]
["SA37",2026,"DC43",743,{"$nulls":18},"~"]
["SA37",2026,"DC43",744,{"$nulls":18},"~"]
["SA37",2026,"DC43",745,{"$nulls":18},"~"]
["SA37",2026,"DC43",746,{"$nulls":18},"~"]
["SA37",2026,"DC43",747,{"$nulls":18},"~"]
["SA37",2026,"DC43",748,{"$nulls":18},"~"]
["SA37",2026,"DC43",749,{"$nulls":18},"~"]
["SA37",2026,"DC43",750,{"$nulls":18},"~"]
["SA37",2026,"DC43",751,{"$nulls":18},"~"]
["SA37",{"$f":"+MTREF","v":2026},{"$f":"LEFT(muni,(FIND(\" \",muni,1)-1))","v":"DC43"},752,{"$nulls":18},"~"]
["SA37",2026,"DC43",753,{"$nulls":18},"~"]
["SA37",2026,"DC43",754,{"$nulls":18},"~"]
["SA37",2026,"DC43",755,{"$nulls":18},"~"]
["SA37",2026,"DC43",756,{"$nulls":18},"~"]
["SA37",2026,"DC43",757,{"$nulls":18},"~"]
["SA37",2026,"DC43",758,{"$nulls":18},"~"]
["SA37",2026,"DC43",759,{"$nulls":18},"~"]
["SA37",2026,"DC43",760,{"$nulls":18},"~"]
["SA37",2026,"DC43",761,{"$nulls":18},"~"]
["SA37",2026,"DC43",762,{"$nulls":18},"~"]
["SA37",2026,"DC43",763,{"$nulls":18},"~"]
["SA37",2026,"DC43",764,{"$nulls":18},"~"]
["SA37",2026,"DC43",765,{"$nulls":18},"~"]
["SA37",2026,"DC43",766,{"$nulls":18},"~"]
["SA37",2026,"DC43",767,{"$nulls":18},"~"]
["SA37",2026,"DC43",768,{"$nulls":18},"~"]
["SA37",2026,"DC43",769,{"$nulls":18},"~"]
["SA37",2026,"DC43",770,{"$nulls":18},"~"]
["SA37",2026,"DC43",771,{"$nulls":18},"~"]
["SA37",2026,"DC43",772,{"$nulls":18},"~"]
["SA37",2026,"DC43",773,{"$nulls":18},"~"]
["SA37",2026,"DC43",774,{"$nulls":18},"~"]
["SA37",2026,"DC43",775,{"$nulls":18},"~"]
["SA37",2026,"DC43",776,{"$nulls":18},"~"]
["SA37",2026,"DC43",777,{"$nulls":18},"~"]
["SA37",2026,"DC43",778,{"$nulls":18},"~"]
["SA37",2026,"DC43",779,{"$nulls":18},"~"]
["SA37",2026,"DC43",780,{"$nulls":18},"~"]
["SA37",2026,"DC43",781,{"$nulls":18},"~"]
["SA37",2026,"DC43",782,{"$nulls":18},"~"]
["SA37",2026,"DC43",783,{"$nulls":18},"~"]
["SA37",2026,"DC43",784,{"$nulls":18},"~"]
["SA37",2026,"DC43",785,{"$nulls":18},"~"]
["SA37",2026,"DC43",786,{"$nulls":18},"~"]
["SA37",2026,"DC43",787,{"$nulls":18},"~"]
["SA37",2026,"DC43",788,{"$nulls":18},"~"]
["SA37",2026,"DC43",789,{"$nulls":18},"~"]
["SA37",2026,"DC43",790,{"$nulls":18},"~"]
["SA37",2026,"DC43",791,{"$nulls":18},"~"]
["SA37",2026,"DC43",792,{"$nulls":18},"~"]
["SA37",2026,"DC43",793,{"$nulls":18},"~"]
["SA37",2026,"DC43",794,{"$nulls":18},"~"]
["SA37",2026,"DC43",795,{"$nulls":18},"~"]
["SA37",2026,"DC43",796,{"$nulls":18},"~"]
["SA37",2026,"DC43",797,{"$nulls":18},"~"]
["SA37",2026,"DC43",798,{"$nulls":18},"~"]
["SA37",2026,"DC43",799,{"$nulls":18},"~"]
["SA37",2026,"DC43",800,{"$nulls":18},"~"]
["SA37",2026,"DC43",801,{"$nulls":18},"~"]
["SA37",2026,"DC43",802,{"$nulls":18},"~"]
["SA37",2026,"DC43",803,{"$nulls":18},"~"]
["SA37",2026,"DC43",804,{"$nulls":18},"~"]
["SA37",2026,"DC43",805,{"$nulls":18},"~"]
["SA37",2026,"DC43",806,{"$nulls":18},"~"]
["SA37",2026,"DC43",807,{"$nulls":18},"~"]
["SA37",2026,"DC43",808,{"$nulls":18},"~"]
["SA37",2026,"DC43",809,{"$nulls":18},"~"]
["SA37",2026,"DC43",810,{"$nulls":18},"~"]
["SA37",2026,"DC43",811,{"$nulls":18},"~"]
["SA37",2026,"DC43",812,{"$nulls":18},"~"]
["SA37",2026,"DC43",813,{"$nulls":18},"~"]
["SA37",2026,"DC43",814,{"$nulls":18},"~"]
["SA37",2026,"DC43",815,{"$nulls":18},"~"]
["SA37",{"$f":"+MTREF","v":2026},{"$f":"LEFT(muni,(FIND(\" \",muni,1)-1))","v":"DC43"},816,{"$nulls":18},"~"]
["SA37",2026,"DC43",817,{"$nulls":18},"~"]
["SA37",2026,"DC43",818,{"$nulls":18},"~"]
["SA37",2026,"DC43",819,{"$nulls":18},"~"]
["SA37",2026,"DC43",820,{"$nulls":18},"~"]
["SA37",2026,"DC43",821,{"$nulls":18},"~"]
["SA37",2026,"DC43",822,{"$nulls":18},"~"]
["SA37",2026,"DC43",823,{"$nulls":18},"~"]
["SA37",2026,"DC43",824,{"$nulls":18},"~"]
["SA37",2026,"DC43",825,{"$nulls":18},"~"]
["SA37",2026,"DC43",826,{"$nulls":18},"~"]
["SA37",2026,"DC43",827,{"$nulls":18},"~"]
["SA37",2026,"DC43",828,{"$nulls":18},"~"]
["SA37",2026,"DC43",829,{"$nulls":18},"~"]
["SA37",2026,"DC43",830,{"$nulls":18},"~"]
["SA37",2026,"DC43",831,{"$nulls":18},"~"]
["SA37",2026,"DC43",832,{"$nulls":18},"~"]
["SA37",2026,"DC43",833,{"$nulls":18},"~"]
["SA37",2026,"DC43",834,{"$nulls":18},"~"]
["SA37",2026,"DC43",835,{"$nulls":18},"~"]
["SA37",2026,"DC43",836,{"$nulls":18},"~"]
["SA37",2026,"DC43",837,{"$nulls":18},"~"]
["SA37",2026,"DC43",838,{"$nulls":18},"~"]
["SA37",2026,"DC43",839,{"$nulls":18},"~"]
["SA37",2026,"DC43",840,{"$nulls":18},"~"]
["SA37",2026,"DC43",841,{"$nulls":18},"~"]
["SA37",2026,"DC43",842,{"$nulls":18},"~"]
["SA37",2026,"DC43",843,{"$nulls":18},"~"]
["SA37",2026,"DC43",844,{"$nulls":18},"~"]
["SA37",2026,"DC43",845,{"$nulls":18},"~"]
["SA37",2026,"DC43",846,{"$nulls":18},"~"]
["SA37",2026,"DC43",847,{"$nulls":18},"~"]
["SA37",2026,"DC43",848,{"$nulls":18},"~"]
["SA37",2026,"DC43",849,{"$nulls":18},"~"]
["SA37",2026,"DC43",850,{"$nulls":18},"~"]
["SA37",2026,"DC43",851,{"$nulls":18},"~"]
["SA37",2026,"DC43",852,{"$nulls":18},"~"]
["SA37",2026,"DC43",853,{"$nulls":18},"~"]
["SA37",2026,"DC43",854,{"$nulls":18},"~"]
["SA37",2026,"DC43",855,{"$nulls":18},"~"]
["SA37",2026,"DC43",856,{"$nulls":18},"~"]
["SA37",2026,"DC43",857,{"$nulls":18},"~"]
["SA37",2026,"DC43",858,{"$nulls":18},"~"]
["SA37",2026,"DC43",859,{"$nulls":18},"~"]
["SA37",2026,"DC43",860,{"$nulls":18},"~"]
["SA37",2026,"DC43",861,{"$nulls":18},"~"]
["SA37",2026,"DC43",862,{"$nulls":18},"~"]
["SA37",2026,"DC43",863,{"$nulls":18},"~"]
["SA37",2026,"DC43",864,{"$nulls":18},"~"]
["SA37",2026,"DC43",865,{"$nulls":18},"~"]
["SA37",2026,"DC43",866,{"$nulls":18},"~"]
["SA37",2026,"DC43",867,{"$nulls":18},"~"]
["SA37",2026,"DC43",868,{"$nulls":18},"~"]
["SA37",2026,"DC43",869,{"$nulls":18},"~"]
["SA37",2026,"DC43",870,{"$nulls":18},"~"]
["SA37",2026,"DC43",871,{"$nulls":18},"~"]
["SA37",2026,"DC43",872,{"$nulls":18},"~"]
["SA37",2026,"DC43",873,{"$nulls":18},"~"]
["SA37",2026,"DC43",874,{"$nulls":18},"~"]
["SA37",2026,"DC43",875,{"$nulls":18},"~"]
["SA37",2026,"DC43",876,{"$nulls":18},"~"]
["SA37",2026,"DC43",877,{"$nulls":18},"~"]
["SA37",2026,"DC43",878,{"$nulls":18},"~"]
["SA37",2026,"DC43",879,{"$nulls":18},"~"]
["SA37",{"$f":"+MTREF","v":2026},{"$f":"LEFT(muni,(FIND(\" \",muni,1)-1))","v":"DC43"},880,{"$nulls":18},"~"]
["SA37",2026,"DC43",881,{"$nulls":18},"~"]
["SA37",2026,"DC43",882,{"$nulls":18},"~"]
["SA37",2026,"DC43",883,{"$nulls":18},"~"]
["SA37",2026,"DC43",884,{"$nulls":18},"~"]
["SA37",2026,"DC43",885,{"$nulls":18},"~"]
["SA37",2026,"DC43",886,{"$nulls":18},"~"]
["SA37",2026,"DC43",887,{"$nulls":18},"~"]
["SA37",2026,"DC43",888,{"$nulls":18},"~"]
["SA37",2026,"DC43",889,{"$nulls":18},"~"]
["SA37",2026,"DC43",890,{"$nulls":18},"~"]
["SA37",2026,"DC43",891,{"$nulls":18},"~"]
["SA37",2026,"DC43",892,{"$nulls":18},"~"]
["SA37",2026,"DC43",893,{"$nulls":18},"~"]
["SA37",2026,"DC43",894,{"$nulls":18},"~"]
["SA37",2026,"DC43",895,{"$nulls":18},"~"]
["SA37",2026,"DC43",896,{"$nulls":18},"~"]
["SA37",2026,"DC43",897,{"$nulls":18},"~"]
["SA37",2026,"DC43",898,{"$nulls":18},"~"]
["SA37",2026,"DC43",899,{"$nulls":18},"~"]
["SA37",2026,"DC43",900,{"$nulls":18},"~"]
["SA37",2026,"DC43",901,{"$nulls":18},"~"]
["SA37",2026,"DC43",902,{"$nulls":18},"~"]
["SA37",2026,"DC43",903,{"$nulls":18},"~"]
["SA37",2026,"DC43",904,{"$nulls":18},"~"]
["SA37",2026,"DC43",905,{"$nulls":18},"~"]
["SA37",2026,"DC43",906,{"$nulls":18},"~"]
["SA37",2026,"DC43",907,{"$nulls":18},"~"]
["SA37",2026,"DC43",908,{"$nulls":18},"~"]
["SA37",2026,"DC43",909,{"$nulls":18},"~"]
["SA37",2026,"DC43",910,{"$nulls":18},"~"]
["SA37",2026,"DC43",911,{"$nulls":18},"~"]
["SA37",2026,"DC43",912,{"$nulls":18},"~"]
["SA37",2026,"DC43",913,{"$nulls":18},"~"]
["SA37",2026,"DC43",914,{"$nulls":18},"~"]
["SA37",2026,"DC43",915,{"$nulls":18},"~"]
["SA37",2026,"DC43",916,{"$nulls":18},"~"]
["SA37",2026,"DC43",917,{"$nulls":18},"~"]
["SA37",2026,"DC43",918,{"$nulls":18},"~"]
["SA37",2026,"DC43",919,{"$nulls":18},"~"]
["SA37",2026,"DC43",920,{"$nulls":18},"~"]
["SA37",2026,"DC43",921,{"$nulls":18},"~"]
["SA37",2026,"DC43",922,{"$nulls":18},"~"]
["SA37",2026,"DC43",923,{"$nulls":18},"~"]
["SA37",2026,"DC43",924,{"$nulls":18},"~"]
["SA37",2026,"DC43",925,{"$nulls":18},"~"]
["SA37",2026,"DC43",926,{"$nulls":18},"~"]
["SA37",2026,"DC43",927,{"$nulls":18},"~"]
["SA37",2026,"DC43",928,{"$nulls":18},"~"]
["SA37",2026,"DC43",929,{"$nulls":18},"~"]
["SA37",2026,"DC43",930,{"$nulls":18},"~"]
["SA37",2026,"DC43",931,{"$nulls":18},"~"]
["SA37",2026,"DC43",932,{"$nulls":18},"~"]
["SA37",2026,"DC43",933,{"$nulls":18},"~"]
["SA37",2026,"DC43",934,{"$nulls":18},"~"]
["SA37",2026,"DC43",935,{"$nulls":18},"~"]
["SA37",2026,"DC43",936,{"$nulls":18},"~"]
["SA37",2026,"DC43",937,{"$nulls":18},"~"]
["SA37",2026,"DC43",938,{"$nulls":18},"~"]
["SA37",2026,"DC43",939,{"$nulls":18},"~"]
["SA37",2026,"DC43",940,{"$nulls":18},"~"]
["SA37",2026,"DC43",941,{"$nulls":18},"~"]
["SA37",2026,"DC43",942,{"$nulls":18},"~"]
["SA37",2026,"DC43",943,{"$nulls":18},"~"]
["SA37",{"$f":"+MTREF","v":2026},{"$f":"LEFT(muni,(FIND(\" \",muni,1)-1))","v":"DC43"},944,{"$nulls":18},"~"]
["SA37",2026,"DC43",945,{"$nulls":18},"~"]
["SA37",2026,"DC43",946,{"$nulls":18},"~"]
["SA37",2026,"DC43",947,{"$nulls":18},"~"]
["SA37",2026,"DC43",948,{"$nulls":18},"~"]
["SA37",2026,"DC43",949,{"$nulls":18},"~"]
["SA37",2026,"DC43",950,{"$nulls":18},"~"]
["SA37",2026,"DC43",951,{"$nulls":18},"~"]
["SA37",2026,"DC43",952,{"$nulls":18},"~"]
["SA37",2026,"DC43",953,{"$nulls":18},"~"]
["SA37",2026,"DC43",954,{"$nulls":18},"~"]
["SA37",2026,"DC43",955,{"$nulls":18},"~"]
["SA37",2026,"DC43",956,{"$nulls":18},"~"]
["SA37",2026,"DC43",957,{"$nulls":18},"~"]
["SA37",2026,"DC43",958,{"$nulls":18},"~"]
["SA37",2026,"DC43",959,{"$nulls":18},"~"]
["SA37",2026,"DC43",960,{"$nulls":18},"~"]
["SA37",2026,"DC43",961,{"$nulls":18},"~"]
["SA37",2026,"DC43",962,{"$nulls":18},"~"]
["SA37",2026,"DC43",963,{"$nulls":18},"~"]
["SA37",2026,"DC43",964,{"$nulls":18},"~"]
["SA37",2026,"DC43",965,{"$nulls":18},"~"]
["SA37",2026,"DC43",966,{"$nulls":18},"~"]
["SA37",2026,"DC43",967,{"$nulls":18},"~"]
["SA37",2026,"DC43",968,{"$nulls":18},"~"]
["SA37",2026,"DC43",969,{"$nulls":18},"~"]
["SA37",2026,"DC43",970,{"$nulls":18},"~"]
["SA37",2026,"DC43",971,{"$nulls":18},"~"]
["SA37",2026,"DC43",972,{"$nulls":18},"~"]
["SA37",2026,"DC43",973,{"$nulls":18},"~"]
["SA37",2026,"DC43",974,{"$nulls":18},"~"]
["SA37",2026,"DC43",975,{"$nulls":18},"~"]
["SA37",2026,"DC43",976,{"$nulls":18},"~"]
["SA37",2026,"DC43",977,{"$nulls":18},"~"]
["SA37",2026,"DC43",978,{"$nulls":18},"~"]
["SA37",2026,"DC43",979,{"$nulls":18},"~"]
["SA37",2026,"DC43",980,{"$nulls":18},"~"]
["SA37",2026,"DC43",981,{"$nulls":18},"~"]
["SA37",2026,"DC43",982,{"$nulls":18},"~"]
["SA37",2026,"DC43",983,{"$nulls":18},"~"]
["SA37",2026,"DC43",984,{"$nulls":18},"~"]
["SA37",2026,"DC43",985,{"$nulls":18},"~"]
["SA37",2026,"DC43",986,{"$nulls":18},"~"]
["SA37",2026,"DC43",987,{"$nulls":18},"~"]
["SA37",2026,"DC43",988,{"$nulls":18},"~"]
["SA37",2026,"DC43",989,{"$nulls":18},"~"]
["SA37",2026,"DC43",990,{"$nulls":18},"~"]
["SA37",2026,"DC43",991,{"$nulls":18},"~"]
["SA37",2026,"DC43",992,{"$nulls":18},"~"]
["SA37",2026,"DC43",993,{"$nulls":18},"~"]
["SA37",2026,"DC43",994,{"$nulls":18},"~"]
["SA37",2026,"DC43",995,{"$nulls":18},"~"]
["SA37",2026,"DC43",996,{"$nulls":18},"~"]
["SA37",2026,"DC43",997,{"$nulls":18},"~"]
["SA37",2026,"DC43",998,{"$nulls":18},"~"]
["SA37",2026,"DC43",999,{"$nulls":18},"~"]
["SA37",2026,"DC43",1000,{"$nulls":18},"~"]
["CONTACT",2026,"DC43",1,{"$nulls":18},"~"]
["CONTACT",2026,"DC43",2,{"$nulls":18},"~"]
["CONTACT",2026,"DC43",3,{"$nulls":18},"~"]
["CONTACT",2026,"DC43",4,{"$nulls":18},"~"]
["CONTACT",2026,"DC43",5,{"$nulls":18},"~"]
["CONTACT",2026,"DC43",6,{"$nulls":18},"~"]
["CONTACT",2026,"DC43",7,{"$nulls":18},"~"]
["CONTACT",{"$f":"+MTREF","v":2026},{"$f":"LEFT(muni,(FIND(\" \",muni,1)-1))","v":"DC43"},8,{"$nulls":18},"~"]
["CONTACT",2026,"DC43",9,{"$nulls":18},"~"]
["CONTACT",2026,"DC43",10,{"$nulls":18},"~"]
["CONTACT",2026,"DC43",11,{"$nulls":18},"~"]
["CONTACT",2026,"DC43",12,{"$nulls":18},"~"]
["CONTACT",2026,"DC43",13,{"$nulls":18},"~"]
["CONTACT",2026,"DC43",14,{"$nulls":18},"~"]
["CONTACT",2026,"DC43",15,{"$nulls":18},"~"]
["CONTACT",2026,"DC43",16,{"$nulls":18},"~"]
["CONTACT",2026,"DC43",17,{"$nulls":18},"~"]
["CONTACT",2026,"DC43",18,{"$nulls":18},"~"]
["CONTACT",2026,"DC43",19,{"$nulls":18},"~"]
["CONTACT",2026,"DC43",20,{"$nulls":18},"~"]
["CONTACT",2026,"DC43",21,{"$nulls":18},"~"]
["CONTACT",2026,"DC43",22,{"$nulls":18},"~"]
["CONTACT",2026,"DC43",23,{"$nulls":18},"~"]
["CONTACT",2026,"DC43",24,{"$nulls":18},"~"]
["CONTACT",2026,"DC43",25,{"$nulls":18},"~"]
["CONTACT",2026,"DC43",26,{"$nulls":18},"~"]
["CONTACT",2026,"DC43",27,{"$nulls":18},"~"]
["CONTACT",2026,"DC43",28,{"$nulls":18},"~"]
["CONTACT",2026,"DC43",29,{"$nulls":18},"~"]
["CONTACT",2026,"DC43",30,{"$nulls":18},"~"]
["CONTACT",2026,"DC43",31,{"$nulls":18},"~"]
["CONTACT",2026,"DC43",32,{"$nulls":18},"~"]
["CONTACT",2026,"DC43",33,{"$nulls":18},"~"]
["CONTACT",2026,"DC43",34,{"$nulls":18},"~"]
["CONTACT",2026,"DC43",35,{"$nulls":18},"~"]
["CONTACT",2026,"DC43",36,{"$nulls":18},"~"]
["CONTACT",2026,"DC43",37,{"$nulls":18},"~"]
["CONTACT",2026,"DC43",38,{"$nulls":18},"~"]
["CONTACT",2026,"DC43",39,{"$nulls":18},"~"]
["CONTACT",2026,"DC43",40,{"$nulls":18},"~"]
["CONTACT",2026,"DC43",41,{"$nulls":18},"~"]
["CONTACT",2026,"DC43",42,{"$nulls":18},"~"]
["CONTACT",2026,"DC43",43,{"$nulls":18},"~"]
["CONTACT",2026,"DC43",44,{"$nulls":18},"~"]
["CONTACT",2026,"DC43",45,{"$nulls":18},"~"]
["CONTACT",2026,"DC43",46,{"$nulls":18},"~"]
["CONTACT",2026,"DC43",47,{"$nulls":18},"~"]
["CONTACT",2026,"DC43",48,{"$nulls":18},"~"]
["CONTACT",2026,"DC43",49,{"$nulls":18},"~"]
["CONTACT",2026,"DC43",50,{"$nulls":18},"~"]
["CONTACT",2026,"DC43",51,{"$nulls":18},"~"]
["CONTACT",2026,"DC43",52,{"$nulls":18},"~"]
["CONTACT",2026,"DC43",53,{"$nulls":18},"~"]
["CONTACT",2026,"DC43",54,{"$nulls":18},"~"]
["CONTACT",2026,"DC43",55,{"$nulls":18},"~"]
["CONTACT",2026,"DC43",56,{"$nulls":18},"~"]
["CONTACT",2026,"DC43",57,{"$nulls":18},"~"]
["CONTACT",2026,"DC43",58,{"$nulls":18},"~"]
["CONTACT",2026,"DC43",59,{"$nulls":18},"~"]
["CONTACT",2026,"DC43",60,{"$nulls":18},"~"]
["CONTACT",2026,"DC43",61,{"$nulls":18},"~"]
["CONTACT",2026,"DC43",62,{"$nulls":18},"~"]
["CONTACT",2026,"DC43",63,{"$nulls":18},"~"]
["CONTACT",2026,"DC43",64,{"$nulls":18},"~"]
["CONTACT",2026,"DC43",65,{"$nulls":18},"~"]
["CONTACT",2026,"DC43",66,{"$nulls":18},"~"]
["CONTACT",2026,"DC43",67,{"$nulls":18},"~"]
["CONTACT",2026,"DC43",68,{"$nulls":18},"~"]
["CONTACT",2026,"DC43",69,{"$nulls":18},"~"]
["CONTACT",2026,"DC43",70,{"$nulls":18},"~"]
["CONTACT",2026,"DC43",71,{"$nulls":18},"~"]
["CONTACT",{"$f":"+MTREF","v":2026},{"$f":"LEFT(muni,(FIND(\" \",muni,1)-1))","v":"DC43"},72,{"$nulls":18},"~"]
["CONTACT",2026,"DC43",73,{"$nulls":18},"~"]
["CONTACT",2026,"DC43",74,{"$nulls":18},"~"]
["CONTACT",2026,"DC43",75,{"$nulls":18},"~"]
["CONTACT",2026,"DC43",76,{"$nulls":18},"~"]
["CONTACT",2026,"DC43",77,{"$nulls":18},"~"]
["CONTACT",2026,"DC43",78,{"$nulls":18},"~"]
["CONTACT",2026,"DC43",79,{"$nulls":18},"~"]
["CONTACT",2026,"DC43",80,{"$nulls":18},"~"]
["CONTACT",2026,"DC43",81,{"$nulls":18},"~"]
["CONTACT",2026,"DC43",82,{"$nulls":18},"~"]
["CONTACT",2026,"DC43",83,{"$nulls":18},"~"]
["CONTACT",2026,"DC43",84,{"$nulls":18},"~"]
["CONTACT",2026,"DC43",85,{"$nulls":18},"~"]
["CONTACT",2026,"DC43",86,{"$nulls":18},"~"]
["CONTACT",2026,"DC43",87,{"$nulls":18},"~"]
["CONTACT",2026,"DC43",88,{"$nulls":18},"~"]
["CONTACT",2026,"DC43",89,{"$nulls":18},"~"]
["CONTACT",2026,"DC43",90,{"$nulls":18},"~"]
["CONTACT",2026,"DC43",91,{"$nulls":18},"~"]
["CONTACT",2026,"DC43",92,{"$nulls":18},"~"]
["CONTACT",2026,"DC43",93,{"$nulls":18},"~"]
["CONTACT",2026,"DC43",94,{"$nulls":18},"~"]
["CONTACT",2026,"DC43",95,{"$nulls":18},"~"]
["CONTACT",2026,"DC43",96,{"$nulls":18},"~"]
["CONTACT",2026,"DC43",97,{"$nulls":18},"~"]
["CONTACT",2026,"DC43",98,{"$nulls":18},"~"]
["CONTACT",2026,"DC43",99,{"$nulls":18},"~"]
["CONTACT",2026,"DC43",100,{"$nulls":18},"~"]
["CONTACT",2026,"DC43",101,{"$nulls":18},"~"]
["CONTACT",2026,"DC43",102,{"$nulls":18},"~"]
["CONTACT",2026,"DC43",103,{"$nulls":18},"~"]
["CONTACT",2026,"DC43",104,{"$nulls":18},"~"]
["CONTACT",2026,"DC43",105,{"$nulls":18},"~"]
["CONTACT",2026,"DC43",106,{"$nulls":18},"~"]
["CONTACT",2026,"DC43",107,{"$nulls":18},"~"]
["CONTACT",2026,"DC43",108,{"$nulls":18},"~"]
["CONTACT",2026,"DC43",109,{"$nulls":18},"~"]
["CONTACT",2026,"DC43",110,{"$nulls":18},"~"]
["CONTACT",2026,"DC43",111,{"$nulls":18},"~"]
["CONTACT",2026,"DC43",112,{"$nulls":18},"~"]
["CONTACT",2026,"DC43",113,{"$nulls":18},"~"]
["CONTACT",2026,"DC43",114,{"$nulls":18},"~"]
["CONTACT",2026,"DC43",115,{"$nulls":18},"~"]
["CONTACT",2026,"DC43",116,{"$nulls":18},"~"]
["CONTACT",2026,"DC43",117,{"$nulls":18},"~"]
["CONTACT",2026,"DC43",118,{"$nulls":18},"~"]
["CONTACT",2026,"DC43",119,{"$nulls":18},"~"]
["CONTACT",2026,"DC43",120,{"$nulls":18},"~"]
["CONTACT",2026,"DC43",121,{"$nulls":18},"~"]
["CONTACT",2026,"DC43",122,{"$nulls":18},"~"]
["CONTACT",2026,"DC43",123,{"$nulls":18},"~"]
["CONTACT",2026,"DC43",124,{"$nulls":18},"~"]
["CONTACT",2026,"DC43",125,{"$nulls":18},"~"]
["CONTACT",2026,"DC43",126,{"$nulls":18},"~"]
["CONTACT",2026,"DC43",127,{"$nulls":18},"~"]
["CONTACT",2026,"DC43",128,{"$nulls":18},"~"]
["CONTACT",2026,"DC43",129,{"$nulls":18},"~"]
["CONTACT",2026,"DC43",130,{"$nulls":18},"~"]
["CONTACT",2026,"DC43",131,{"$nulls":18},"~"]
["CONTACT",2026,"DC43",132,{"$nulls":18},"~"]
["CONTACT",2026,"DC43",133,{"$nulls":18},"~"]
["CONTACT",2026,"DC43",134,{"$nulls":18},"~"]
["CONTACT",2026,"DC43",135,{"$nulls":18},"~"]
["CONTACT",2026,"DC43",136,{"$nulls":18},"~"]
["CONTACT",2026,"DC43",137,{"$nulls":18},"~"]
["CONTACT",2026,"DC43",138,{"$nulls":18},"~"]
["SA25",2026,"DC43",0,1,"Revenue By Source",{"$nulls":16},"~"]
["SA25",2026,"DC43",0,2,"Property rates",{"$nulls":16},"~"]
["SA25",2026,"DC43",0,3,"Property rates - penalties & collection charges",{"$nulls":16},"~"]
["SA25",2026,"DC43",0,4,"Service charges - electricity revenue",{"$nulls":16},"~"]
["SA25",2026,"DC43",0,5,"Service charges - water revenue",{"$nulls":16},"~"]
["SA25",2026,"DC43",0,6,"Service charges - sanitation revenue",{"$nulls":16},"~"]
["SA25",2026,"DC43",0,7,"Service charges - refuse revenue",{"$nulls":16},"~"]
["SA25",2026,"DC43",0,8,"Service charges - other",{"$nulls":16},"~"]
["SA25",2026,"DC43",0,9,"Rental of facilities and equipment",{"$nulls":16},"~"]
["SA25",2026,"DC43",0,10,"Interest earned - external investments",{"$nulls":16},"~"]
["SA25",2026,"DC43",0,11,"Interest earned - outstanding debtors",{"$nulls":16},"~"]
["SA25",2026,"DC43",0,12,"Dividends received",{"$nulls":16},"~"]
["SA25",2026,"DC43",0,13,"Fines",{"$nulls":16},"~"]
["SA25",2026,"DC43",0,14,"Licences and permits",{"$nulls":16},"~"]
["SA25",2026,"DC43",0,15,"Agency services",{"$nulls":16},"~"]
["SA25",2026,"DC43",0,16,"Transfers recognised - operational",{"$nulls":16},"~"]
["SA25",2026,"DC43",0,17,"Other revenue",{"$nulls":16},"~"]
["SA25",2026,"DC43",0,18,"Gains on disposal of PPE",{"$nulls":16},"~"]
["SA25",2026,"DC43",0,19,"Total Revenue (excluding capital transfers and contributions)",{"$nulls":16},"~"]
["SA25",2026,"DC43",0,20,{"$nulls":17},"~"]
["SA25",2026,"DC43",0,21,"Expenditure By Type",{"$nulls":16},"~"]
["SA25",2026,"DC43",0,22,"Employee related costs",{"$nulls":16},"~"]
["SA25",2026,"DC43",0,23,"Remuneration of councillors",{"$nulls":16},"~"]
["SA25",2026,"DC43",0,24,"Debt impairment",{"$nulls":16},"~"]
["SA25",2026,"DC43",0,25,"Depreciation & asset impairment",{"$nulls":16},"~"]
["SA25",2026,"DC43",0,26,"Finance charges",{"$nulls":16},"~"]
["SA25",2026,"DC43",0,27,"Bulk purchases",{"$nulls":16},"~"]
["SA25",2026,"DC43",0,28,"Other materials",{"$nulls":16},"~"]
["SA25",2026,"DC43",0,29,"Contracted services",{"$nulls":16},"~"]
["SA25",2026,"DC43",0,30,"Transfers and grants",{"$nulls":16},"~"]
["SA25",2026,"DC43",0,31,"Other expenditure",{"$nulls":16},"~"]
["SA25",2026,"DC43",0,32,"Loss on disposal of PPE",{"$nulls":16},"~"]
["SA25",2026,"DC43",0,33,"Total Expenditure",{"$nulls":16},"~"]
["SA25",2026,"DC43",0,34,{"$nulls":17},"~"]
["SA25",2026,"DC43",0,35,"Surplus/(Deficit)",{"$nulls":16},"~"]
["SA25",{"$f":"+MTREF","v":2026},{"$f":"LEFT(muni,(FIND(\" \",muni,1)-1))","v":"DC43"},0,36,"Transfers recognised - capital",{"$nulls":16},"~"]
["SA25",2026,"DC43",0,37,"Contributions recognised - capital",{"$nulls":16},"~"]
["SA25",2026,"DC43",0,38,"Contributed assets",{"$nulls":16},"~"]
["SA25",2026,"DC43",0,39,"Surplus/(Deficit) after capital transfers & contributions",{"$nulls":16},"~"]
["SA25",2026,"DC43",0,40,"Taxation",{"$nulls":16},"~"]
["SA25",2026,"DC43",0,41,"Attributable to minorities",{"$nulls":16},"~"]
["SA25",2026,"DC43",0,44,"Share of surplus/ (deficit) of associate",{"$nulls":16},"~"]
["SA27",2026,"DC43",null,null,"Revenue - Standard",{"$nulls":16},"~"]
["SA27",2026,"DC43",null,null,"Governance and administration",{"$nulls":16},"~"]
["SA27",2026,"DC43",1,11,"Executive and council",{"$nulls":16},"~"]
["SA27",2026,"DC43",1,12,"Budget and treasury office",{"$nulls":16},"~"]
["SA27",2026,"DC43",1,13,"Corporate services",{"$nulls":16},"~"]
["SA27",2026,"DC43",null,null,"Community and public safety",{"$nulls":16},"~"]
["SA27",2026,"DC43",1,21,"Community and social services",{"$nulls":16},"~"]
["SA27",2026,"DC43",1,22,"Sport and recreation",{"$nulls":16},"~"]
["SA27",2026,"DC43",1,23,"Public safety",{"$nulls":16},"~"]
["SA27",2026,"DC43",1,24,"Housing",{"$nulls":16},"~"]
["SA27",2026,"DC43",1,25,"Health",{"$nulls":16},"~"]
["SA27",2026,"DC43",null,null,"Economic and environmental services",{"$nulls":16},"~"]
["SA27",2026,"DC43",1,31,"Planning and development",{"$nulls":16},"~"]
["SA27",2026,"DC43",1,32,"Road transport",{"$nulls":16},"~"]
["SA27",2026,"DC43",1,33,"Environmental protection",{"$nulls":16},"~"]
["SA27",2026,"DC43",null,null,"Trading services",{"$nulls":16},"~"]
["SA27",2026,"DC43",1,41,"Electricity",{"$nulls":16},"~"]
["SA27",2026,"DC43",1,42,"Water",{"$nulls":16},"~"]
["SA27",2026,"DC43",1,43,"Waste water management",{"$nulls":16},"~"]
["SA27",2026,"DC43",1,44,"Waste management",{"$nulls":16},"~"]
["SA27",2026,"DC43",1,45,"Other",{"$nulls":16},"~"]
["SA27",2026,"DC43",null,null,"Total Revenue - Standard",{"$nulls":16},"~"]
["SA27",2026,"DC43",{"$nulls":19},"~"]
["SA27",2026,"DC43",null,null,"Expenditure - Standard",{"$nulls":16},"~"]
["SA27",2026,"DC43",null,null,"Governance and administration",{"$nulls":16},"~"]
["SA27",2026,"DC43",2,11,"Executive and council",{"$nulls":16},"~"]
["SA27",2026,"DC43",2,12,"Budget and treasury office",{"$nulls":16},"~"]
["SA27",2026,"DC43",2,13,"Corporate services",{"$nulls":16},"~"]
["SA27",2026,"DC43",null,null,"Community and public safety",{"$nulls":16},"~"]
["SA27",2026,"DC43",2,21,"Community and social services",{"$nulls":16},"~"]
["SA27",2026,"DC43",2,22,"Sport and recreation",{"$nulls":16},"~"]
["SA27",2026,"DC43",2,23,"Public safety",{"$nulls":16},"~"]
["SA27",2026,"DC43",2,24,"Housing",{"$nulls":16},"~"]
["SA27",2026,"DC43",2,25,"Health",{"$nulls":16},"~"]
["SA27",2026,"DC43",null,null,"Economic and environmental services",{"$nulls":16},"~"]
["SA27",2026,"DC43",2,31,"Planning and development",{"$nulls":16},"~"]
["SA27",2026,"DC43",2,32,"Road transport",{"$nulls":16},"~"]
["SA27",2026,"DC43",2,33,"Environmental protection",{"$nulls":16},"~"]
["SA27",2026,"DC43",null,null,"Trading services",{"$nulls":16},"~"]
["SA27",2026,"DC43",2,41,"Electricity",{"$nulls":16},"~"]
["SA27",2026,"DC43",2,42,"Water",{"$nulls":16},"~"]
["SA27",2026,"DC43",2,43,"Waste water management",{"$nulls":16},"~"]
["SA27",2026,"DC43",2,44,"Waste management",{"$nulls":16},"~"]
["SA27",2026,"DC43",2,45,"Other",{"$nulls":16},"~"]
["SA27",2026,"DC43",null,null,"Total Expenditure - Standard",{"$nulls":16},"~"]
["SA29",2026,"DC43",null,null,"Capital Expenditure - Standard",{"$nulls":16},"~"]
["SA29",2026,"DC43",null,null,"Governance and administration",{"$nulls":16},"~"]
["SA29",2026,"DC43",1,11,"Executive and council",{"$nulls":16},"~"]
["SA29",2026,"DC43",1,12,"Budget and treasury office",{"$nulls":16},"~"]
["SA29",2026,"DC43",1,13,"Corporate services",{"$nulls":16},"~"]
["SA29",2026,"DC43",null,null,"Community and public safety",{"$nulls":16},"~"]
["SA29",2026,"DC43",1,21,"Community and social services",{"$nulls":16},"~"]
["SA29",2026,"DC43",1,22,"Sport and recreation",{"$nulls":16},"~"]
["SA29",2026,"DC43",1,23,"Public safety",{"$nulls":16},"~"]
["SA29",2026,"DC43",1,24,"Housing",{"$nulls":16},"~"]
["SA29",2026,"DC43",1,25,"Health",{"$nulls":16},"~"]
["SA29",2026,"DC43",null,null,"Economic and environmental services",{"$nulls":16},"~"]
["SA29",{"$f":"+MTREF","v":2026},{"$f":"LEFT(muni,(FIND(\" \",muni,1)-1))","v":"DC43"},1,31,"Planning and development",{"$nulls":16},"~"]
["SA29",2026,"DC43",1,32,"Road transport",{"$nulls":16},"~"]
["SA29",2026,"DC43",1,33,"Environmental protection",{"$nulls":16},"~"]
["SA29",2026,"DC43",null,null,"Trading services",{"$nulls":16},"~"]
["SA29",2026,"DC43",1,41,"Electricity",{"$nulls":16},"~"]
["SA29",2026,"DC43",1,42,"Water",{"$nulls":16},"~"]
["SA29",2026,"DC43",1,43,"Waste water management",{"$nulls":16},"~"]
["SA29",2026,"DC43",1,44,"Waste management",{"$nulls":16},"~"]
["SA29",2026,"DC43",1,45,"Other",{"$nulls":16},"~"]
["SA29",2026,"DC43",null,null,"Total Capital Expenditure - Standard",{"$nulls":16},"~"]
["SA29",2026,"DC43",{"$nulls":19},"~"]
["SA29",2026,"DC43",2,50,"Funded by:",{"$nulls":16},"~"]
["SA29",2026,"DC43",2,51,"National Government",{"$nulls":16},"~"]
["SA29",2026,"DC43",2,52,"Provincial Government",{"$nulls":16},"~"]
["SA29",2026,"DC43",2,53,"District Municipality",{"$nulls":16},"~"]
["SA29",2026,"DC43",2,54,"Other transfers and grants",{"$nulls":16},"~"]
["SA29",2026,"DC43",2,55,"Transfers recognised - capital",{"$nulls":16},"~"]
["SA29",2026,"DC43",2,56,"Public contributions & donations",{"$nulls":16},"~"]
["SA29",2026,"DC43",2,57,"Borrowing",{"$nulls":16},"~"]
["SA29",2026,"DC43",2,58,"Internally generated funds",{"$nulls":16},"~"]
["SA29",2026,"DC43",2,59,"Total Capital Funding",{"$nulls":16},"~"]